BEGIN:VCALENDAR
VERSION:2.0
PRODID:-//LiveMusicAsheville.com - ECPv6.15.20//NONSGML v1.0//EN
CALSCALE:GREGORIAN
METHOD:PUBLISH
X-ORIGINAL-URL:https://livemusicasheville.com
X-WR-CALDESC:Events for LiveMusicAsheville.com
REFRESH-INTERVAL;VALUE=DURATION:PT1H
X-Robots-Tag:noindex
X-PUBLISHED-TTL:PT1H
BEGIN:VTIMEZONE
TZID:America/New_York
BEGIN:DAYLIGHT
TZOFFSETFROM:-0500
TZOFFSETTO:-0400
TZNAME:EDT
DTSTART:20240310T070000
END:DAYLIGHT
BEGIN:STANDARD
TZOFFSETFROM:-0400
TZOFFSETTO:-0500
TZNAME:EST
DTSTART:20241103T060000
END:STANDARD
BEGIN:DAYLIGHT
TZOFFSETFROM:-0500
TZOFFSETTO:-0400
TZNAME:EDT
DTSTART:20250309T070000
END:DAYLIGHT
BEGIN:STANDARD
TZOFFSETFROM:-0400
TZOFFSETTO:-0500
TZNAME:EST
DTSTART:20251102T060000
END:STANDARD
BEGIN:DAYLIGHT
TZOFFSETFROM:-0500
TZOFFSETTO:-0400
TZNAME:EDT
DTSTART:20260308T070000
END:DAYLIGHT
BEGIN:STANDARD
TZOFFSETFROM:-0400
TZOFFSETTO:-0500
TZNAME:EST
DTSTART:20261101T060000
END:STANDARD
END:VTIMEZONE
BEGIN:VEVENT
DTSTART;TZID=America/New_York:20251219T220000
DTEND;TZID=America/New_York:20251220T010000
DTSTAMP:20260422T154941
CREATED:20251217T184053Z
LAST-MODIFIED:20251217T184053Z
UID:10028966-1766181600-1766192400@livemusicasheville.com
SUMMARY:Red Panda
DESCRIPTION:
URL:https://livemusicasheville.com/calendar/red-panda/
LOCATION:Asheville Music Hall\, 31 Patton Ave\, Asheville\, NC\, 28801\, United States
CATEGORIES:Asheville Area,Live Music
GEO:35.5949233;-82.5530398
X-APPLE-STRUCTURED-LOCATION;VALUE=URI;X-ADDRESS=Asheville Music Hall 31 Patton Ave Asheville NC 28801 United States;X-APPLE-RADIUS=500;X-TITLE=31 Patton Ave:geo:-82.5530398,35.5949233
END:VEVENT
BEGIN:VEVENT
DTSTART;VALUE=DATE:20251220
DTEND;VALUE=DATE:20251222
DTSTAMP:20260422T154941
CREATED:20250121T072030Z
LAST-MODIFIED:20251210T122902Z
UID:10020189-1766199600-1766285999@livemusicasheville.com
SUMMARY:Support Your Local Music Calendar
DESCRIPTION:We hope you enjoy our guide to the Asheville area’s dynamic music scene. \nIf we somehow help to brighten up your day\, please consider a $5 donation to help support our efforts in providing the area’s most complete local live music calendar. \nVenmo: click here  \nLast 4 digits – 3383 \nPayPal: click here \n \n 
URL:https://livemusicasheville.com/calendar/support-your-local-music-calendar-2/2025-12-20/
LOCATION:NC
CATEGORIES:Asheville Area
END:VEVENT
BEGIN:VEVENT
DTSTART;TZID=America/New_York:20251220T100000
DTEND;TZID=America/New_York:20251220T160000
DTSTAMP:20260422T154941
CREATED:20251203T133325Z
LAST-MODIFIED:20251219T155158Z
UID:10026455-1766224800-1766246400@livemusicasheville.com
SUMMARY:Holly Jolly Christmas Market ft. Lilah Price
DESCRIPTION:
URL:https://livemusicasheville.com/calendar/holly-jolly-christmas-market-ft-lilah-price/2025-12-20/
LOCATION:White Horse Black Mountain
CATEGORIES:Asheville Area,Black Mountain,Live Music
GEO:35.6178579;-82.3211924
END:VEVENT
BEGIN:VEVENT
DTSTART;TZID=America/New_York:20251220T110000
DTEND;TZID=America/New_York:20251221T010000
DTSTAMP:20260422T154941
CREATED:20241225T201123Z
LAST-MODIFIED:20260416T102359Z
UID:10053591-1766228400-1766278800@livemusicasheville.com
SUMMARY:Saturday Karaoke
DESCRIPTION:Ben’s Tune Up – 11am-2pm (1st & 3rd Saturdays) \nLookout Brewing Black Mountain – 7-10pm (April 18) \nThe Whale South Slope – 7-10pm (April 18) \nIce Bar Arden – 8pm-12am (April 25) \nLiondog Lounge Weaverville – 8pm-12am (every other week) \nT Birds Weaverville – 8-11pm \nThe Burger Bar – 8pm-1am \nThe Social East Asheville – 9pm-1am \n  \n  \nPlease verify times and KJ with the venue.
URL:https://livemusicasheville.com/calendar/saturday-karaoke/2025-12-20/
LOCATION:NC
CATEGORIES:Asheville Area,Karaoke
END:VEVENT
BEGIN:VEVENT
DTSTART;TZID=America/New_York:20251220T120000
DTEND;TZID=America/New_York:20251220T140000
DTSTAMP:20260422T154941
CREATED:20251206T071330Z
LAST-MODIFIED:20251206T071331Z
UID:10023742-1766232000-1766239200@livemusicasheville.com
SUMMARY:Yala Cultural Tour w/ Adama Dembele
DESCRIPTION:Visit LEAF Global Arts every Saturday for an in-house cultural exchange with Adama Dembele. Experience the Ivory Coast with our Culture Keeper from the House of Djembe.\nYala Culture Tour includes drumming\, dancing\, and stories from Ivory Coast. Drums are provided! Families are welcome.
URL:https://livemusicasheville.com/calendar/yala-cultural-tour-w-adama-dembele-3-2/2025-12-20/
LOCATION:LEAF Global Arts\, 19 Eagle St\, Asheville\, NC\, 28801
CATEGORIES:Asheville Area,Live Music
GEO:35.5938244;-82.5505196
X-APPLE-STRUCTURED-LOCATION;VALUE=URI;X-ADDRESS=LEAF Global Arts 19 Eagle St Asheville NC 28801;X-APPLE-RADIUS=500;X-TITLE=19 Eagle St:geo:-82.5505196,35.5938244
END:VEVENT
BEGIN:VEVENT
DTSTART;TZID=America/New_York:20251220T130000
DTEND;TZID=America/New_York:20251220T150000
DTSTAMP:20260422T154941
CREATED:20250918T131206Z
LAST-MODIFIED:20250918T131206Z
UID:10021408-1766235600-1766242800@livemusicasheville.com
SUMMARY:Guitar League Asheville Song Circle
DESCRIPTION:
URL:https://livemusicasheville.com/calendar/guitar-league-asheville-song-circle/2025-12-20/
LOCATION:Turgua Brewing Fairview
CATEGORIES:Asheville Area,Fairview,Live Music,Open MIc/Jam
GEO:35.5129836;-82.4095217
END:VEVENT
BEGIN:VEVENT
DTSTART;TZID=America/New_York:20251220T130000
DTEND;TZID=America/New_York:20251220T160000
DTSTAMP:20260422T154941
CREATED:20251217T145708Z
LAST-MODIFIED:20251220T134854Z
UID:10028943-1766235600-1766246400@livemusicasheville.com
SUMMARY:8th Anniversary Oyster Roast & Bluegrass Shindig w/ The Greenliners
DESCRIPTION:
URL:https://livemusicasheville.com/calendar/8th-anniversary-oyster-roast-bluegrass-shindig-w-the-greenliners/
LOCATION:The Whale :: West Asheville
CATEGORIES:Asheville Area,Live Music
GEO:35.5779408;-82.5827733
END:VEVENT
BEGIN:VEVENT
DTSTART;TZID=America/New_York:20251220T140000
DTEND;TZID=America/New_York:20251220T160000
DTSTAMP:20260422T154941
CREATED:20251217T181556Z
LAST-MODIFIED:20251217T181808Z
UID:10028956-1766239200-1766246400@livemusicasheville.com
SUMMARY:Christmas in Appalachia: A singin'\, strummin'\, family show!
DESCRIPTION:Appalachian and holiday music and storytelling!\n\n\n\nAppalachian and holiday music and storytelling\, audience participation and sing-a-longs are all on tap for Christmas in Appalachia: A singin’\, strummin’\, family show! at BMCA. Join acclaimed old time musician Travis Stuart\, actor/storyteller John Hall and friends as they share stories and songs about Appalachian Christmas traditions and memories. Learn the stories behind “Old Christmas”\, “Ruling Days”\, “Serenading” and how St. Nick began putting presents in stockings. Experience the beauty of seasonal music played on traditional Appalachian instruments\, and sing along to everyone’s favorite holiday tunes. Bring the family to enjoy Christmas in Appalachia! \n— \nTickets are $15 for adults and $10 for youth (up to age17). Event Details and Tickets \nDoors open 30 minutes prior to showtime. Seating is general admission\, first come first served. Online ticket sales end 1 hour prior to showtime. There may still be tickets available for purchase in the office after online sales have ended. Please call BMCA at 828-669-0930 for more information.
URL:https://livemusicasheville.com/calendar/christmas-in-appalachia-a-singin-strummin-family-show/2025-12-20/1/
LOCATION:Black Mountain Center for the Arts
CATEGORIES:Asheville Area,Black Mountain,Live Music
GEO:35.6161175;-82.321505
END:VEVENT
BEGIN:VEVENT
DTSTART;TZID=America/New_York:20251220T140000
DTEND;TZID=America/New_York:20251220T170000
DTSTAMP:20260422T154941
CREATED:20251208T195812Z
LAST-MODIFIED:20251208T195812Z
UID:10026922-1766239200-1766250000@livemusicasheville.com
SUMMARY:Sauce Bros (Members of Suns of Stars)
DESCRIPTION:Sauce BrosFeat. Members of Suns of StarsSaturday\, December 20Alex Bazemore\, Alex Ball\, Jackson Chisholm and Johnny Humphries have got the sauce.. nuff said. \n  \nFounded in 2005\, Pisgah is known for producing some of the most sought after craft ales in Western North Carolina. Pisgah Brewing Company currently operates the new indoor taproom & deli\, with live music several days a week\, plus an open air outdoor bar in the summer and fall months. Check out our upcoming schedule at pisgahbrewing.com/events
URL:https://livemusicasheville.com/calendar/sauce-bros-members-of-suns-of-stars/
LOCATION:Pisgah Brewing Company Black Mountain\, 2948 US-70\, Black Mountain\, NC\, 28711
CATEGORIES:Asheville Area,Black Mountain,Live Music
GEO:35.6068069;-82.3568213
X-APPLE-STRUCTURED-LOCATION;VALUE=URI;X-ADDRESS=Pisgah Brewing Company Black Mountain 2948 US-70 Black Mountain NC 28711;X-APPLE-RADIUS=500;X-TITLE=2948 US-70:geo:-82.3568213,35.6068069
END:VEVENT
BEGIN:VEVENT
DTSTART;TZID=America/New_York:20251220T140000
DTEND;TZID=America/New_York:20251220T220000
DTSTAMP:20260422T154941
CREATED:20251209T141804Z
LAST-MODIFIED:20251209T141804Z
UID:10026981-1766239200-1766268000@livemusicasheville.com
SUMMARY:Asheville Symphony: Handel’s Messiah
DESCRIPTION:Two performances\, 2 p.m. and 8 p.m. Event Details and Tickets\n\n\n\n\nDarko Butorac\, conductorJessica Beebe\, sopranoTimothy Parsons\, altoJacob Perry\, tenorKenneth Overton\, bassAsheville Symphony Chorus\n\nCelebrate the holiday season with the might and emotional weight of Handel’s iconic Messiah. One of our biggest performances of the season\, the Asheville Symphony Chorus shares the stage with four incredible soloists and your Asheville Symphony.
URL:https://livemusicasheville.com/calendar/asheville-symphony-handels-messiah/
LOCATION:First Baptist Church of Asheville
CATEGORIES:Asheville Area,Live Music
GEO:35.5988729;-82.5474388
END:VEVENT
BEGIN:VEVENT
DTSTART;TZID=America/New_York:20251220T150000
DTEND;TZID=America/New_York:20251220T180000
DTSTAMP:20260422T154941
CREATED:20251210T131502Z
LAST-MODIFIED:20251220T135255Z
UID:10027150-1766242800-1766253600@livemusicasheville.com
SUMMARY:A Very Reggie\, Bob & Blue Twilight Christmas
DESCRIPTION:Christmas music just got a whole lot funkier 🎄🎶 \nA Very Reggie\, Bob & Blue Twilight Christmas is happening Saturday\, December 20th from 3-6pm! Blue Twilight & Friends featuring Reggie Headen and Bob Strain are bringing the soul\, funk\, and holiday jam vibes. \n  \n\n\n‘The Mule’ – Tasting Room \n\n\n\n\n\nSay hello to The Mule – a full-service bar/event space in the home of Devil’s Foot Beverage’s production facility. Draft soda\, beer\, & wine – as well as delicious cocktails & mocktails featuring Devil’s Foot craft sodas and the largest collection of NC-made spirits in Asheville – all at your fingertips just outside of Biltmore Village! Open now for all of your beverage & party needs! devilsfootbrew.com/the-mule
URL:https://livemusicasheville.com/calendar/a-very-reggie-bob-blue-twilight-christmas/
LOCATION:The Mule at Devils Foot Beverages\, 131 Sweeten Creek Road\, Asheville\, NC\, 28803\, United States
CATEGORIES:Asheville Area,Live Music
GEO:35.5588369;-82.5218977
X-APPLE-STRUCTURED-LOCATION;VALUE=URI;X-ADDRESS=The Mule at Devils Foot Beverages 131 Sweeten Creek Road Asheville NC 28803 United States;X-APPLE-RADIUS=500;X-TITLE=131 Sweeten Creek Road:geo:-82.5218977,35.5588369
END:VEVENT
BEGIN:VEVENT
DTSTART;TZID=America/New_York:20251220T160000
DTEND;TZID=America/New_York:20251220T180000
DTSTAMP:20260422T154941
CREATED:20251119T190012Z
LAST-MODIFIED:20251220T192812Z
UID:10024827-1766246400-1766253600@livemusicasheville.com
SUMMARY:Schlender / Wakefield fiddle guitar duo
DESCRIPTION:
URL:https://livemusicasheville.com/calendar/schlender-wakefield-fiddle-guitar-duo/
LOCATION:Riverside Rhapsody Brewing Woodfin
CATEGORIES:Asheville Area,Live Music
GEO:35.6253887;-82.5796059
END:VEVENT
BEGIN:VEVENT
DTSTART;TZID=America/New_York:20251220T160000
DTEND;TZID=America/New_York:20251220T210000
DTSTAMP:20260422T154941
CREATED:20251113T150122Z
LAST-MODIFIED:20251113T150122Z
UID:10024544-1766246400-1766264400@livemusicasheville.com
SUMMARY:Jacob Therrien’s Melody Project
DESCRIPTION:Saturday\, December 20! The winter edition of Jacob Therrien’s Melody Project will feature TWO performances! Choose from a family-oriented traditional Christmas concert from 4-5 and a concert of festive originals from 7-9. This concert supports local grassroots artists.
URL:https://livemusicasheville.com/calendar/jacob-therriens-melody-project/
LOCATION:Trinity United Methodist Church of Asheville
CATEGORIES:Asheville Area,Live Music
END:VEVENT
BEGIN:VEVENT
DTSTART;TZID=America/New_York:20251220T170000
DTEND;TZID=America/New_York:20251220T183000
DTSTAMP:20260422T154941
CREATED:20251217T215230Z
LAST-MODIFIED:20251217T215451Z
UID:10028978-1766250000-1766255400@livemusicasheville.com
SUMMARY:The Blue Ridge Big Band's Vintage Christmas Radio Show
DESCRIPTION:A vintage Christmas radio show featuring holiday favorites from the late 40s and early 50s! It’s festive\, it’s nostalgic\, and it’s free—so gather your friends and make it a merry night out!
URL:https://livemusicasheville.com/calendar/the-blue-ridge-big-bands-vintage-christmas-radio-show/
LOCATION:St. Mary’s Episcopal Church\, 133 Charlotte St\, Asheville\, NC\, 28801
CATEGORIES:Asheville Area,Live Music
GEO:35.604094;-82.5463489
X-APPLE-STRUCTURED-LOCATION;VALUE=URI;X-ADDRESS=St. Mary’s Episcopal Church 133 Charlotte St Asheville NC 28801;X-APPLE-RADIUS=500;X-TITLE=133 Charlotte St:geo:-82.5463489,35.604094
END:VEVENT
BEGIN:VEVENT
DTSTART;TZID=America/New_York:20251220T170000
DTEND;TZID=America/New_York:20251220T200000
DTSTAMP:20260422T154941
CREATED:20250312T162709Z
LAST-MODIFIED:20251217T150612Z
UID:10009881-1766250000-1766260800@livemusicasheville.com
SUMMARY:Live music with Dan Signor
DESCRIPTION:
URL:https://livemusicasheville.com/calendar/live-music-with-dan-signor/
LOCATION:Auction House Food Hall Fletcher
CATEGORIES:Asheville Area,Live Music,South Asheville/Arden/Fletcher
GEO:35.4306652;-82.5019658
END:VEVENT
BEGIN:VEVENT
DTSTART;TZID=America/New_York:20251220T170000
DTEND;TZID=America/New_York:20251220T200000
DTSTAMP:20260422T154941
CREATED:20251217T114543Z
LAST-MODIFIED:20251217T114616Z
UID:10028930-1766250000-1766260800@livemusicasheville.com
SUMMARY:Live music: Jon Myer
DESCRIPTION:
URL:https://livemusicasheville.com/calendar/live-music-jon-myer/
LOCATION:Peri Social House Black Mountain\, 406 W State\, Black Mountain\, NC
CATEGORIES:Asheville Area,Black Mountain,Live Music
GEO:35.6148509;-82.3247138
X-APPLE-STRUCTURED-LOCATION;VALUE=URI;X-ADDRESS=Peri Social House Black Mountain 406 W State Black Mountain NC;X-APPLE-RADIUS=500;X-TITLE=406 W State:geo:-82.3247138,35.6148509
END:VEVENT
BEGIN:VEVENT
DTSTART;TZID=America/New_York:20251220T170000
DTEND;TZID=America/New_York:20251220T210000
DTSTAMP:20260422T154941
CREATED:20251219T201736Z
LAST-MODIFIED:20251220T150801Z
UID:10029094-1766250000-1766264400@livemusicasheville.com
SUMMARY:Town and Mountain Realty's Home for the Holidays FUNdraiser
DESCRIPTION:Join us and share the love as we celebrate the season by supporting local non-profits that concentrate on the homeless population and those in crisis throughout our Asheville and WNC community. *Admission is by $10 minimum donation at the door\, or you choose what you want to give!* Your gift will go a long way to help members of our community have a place to call HOME. \nEnjoy an evening full of holiday magic with Santa\, face painting\, live music with Rahm & Friends\, a silent auction\, plus free food\, drinks\, and treats! \nALL proceeds will benefit these 5 LOCAL non-profit organizations this year: Homeward Bound of WNC\, Helpmate\, Equal Plates Project\, The Asheville Buncombe Community Land Trust & Mountain Housing Opportunities.
URL:https://livemusicasheville.com/calendar/town-and-mountain-realtys-home-for-the-holidays-fundraiser/
LOCATION:The Orange Peel
CATEGORIES:Asheville Area,Live Music
GEO:35.5914061;-82.5510137
END:VEVENT
BEGIN:VEVENT
DTSTART;TZID=America/New_York:20251220T173000
DTEND;TZID=America/New_York:20251220T193000
DTSTAMP:20260422T154941
CREATED:20241224T203115Z
LAST-MODIFIED:20251223T200733Z
UID:10006523-1766251800-1766259000@livemusicasheville.com
SUMMARY:Gypsy Jazz with Dinah’s Daydream
DESCRIPTION:
URL:https://livemusicasheville.com/calendar/gypsy-jazz-with-dinahs-daydream/2025-12-20/
LOCATION:Battery Park Book Exchange & Champagne Bar
CATEGORIES:Asheville Area,Live Music
GEO:35.5951042;-82.556633
END:VEVENT
BEGIN:VEVENT
DTSTART;TZID=America/New_York:20251220T180000
DTEND;TZID=America/New_York:20251220T210000
DTSTAMP:20260422T154941
CREATED:20250726T161716Z
LAST-MODIFIED:20251219T203049Z
UID:10008776-1766253600-1766264400@livemusicasheville.com
SUMMARY:Mr Jimmy Blues
DESCRIPTION:
URL:https://livemusicasheville.com/calendar/mr-jimmy-blues-2-2-2/2025-12-20/
LOCATION:The Asheville Club
CATEGORIES:Asheville Area,Live Music
GEO:35.5952143;-82.554524
END:VEVENT
BEGIN:VEVENT
DTSTART;TZID=America/New_York:20251220T180000
DTEND;TZID=America/New_York:20251220T220000
DTSTAMP:20260422T154941
CREATED:20251007T130234Z
LAST-MODIFIED:20251116T161904Z
UID:10024592-1766253600-1766268000@livemusicasheville.com
SUMMARY:Winter Lights
DESCRIPTION:We look forward to welcoming you back for another year of Asheville’s Brightest Holiday Tradition! Winter Lights is a spectacular open-air walk-through light show made from over one million lights! Located at the North Carolina Arboretum in Asheville\, North Carolina\, this year’s event features favorites like the famously tall 50-foot lighted tree and the Quilt Garden\, along with enchanting new details designed to delight and surprise. \nTroll sightings are anticipated at this year’s Winter Lights\, as six of Dambo’s Trolls will be experiencing the show for themselves. Meet them in the gardens at Winter Lights! \nWinter Lights features live entertainment nightly and food and beverages from the Bent Creek Bistro\, the Cocoa Shack and the Cocoa Cabin! Open nightly from 6:00 – 10:00 p.m. \nTickets on Sale Now! Event Details and Tickets \nFor more than 35 years…Cultivating Connections between People\, Plants and Places…amid a 434-acre public garden\, The North Carolina Arboretum is located within the Bent Creek Experimental Forest just south of Asheville and adjacent to the Blue Ridge Parkway at Milepost 393. Surrounded and crisscrossed by forested coves and meandering creeks in the botanically diverse Southern Appalachian Mountains\, The North Carolina Arboretum is set in one of the most beautiful natural settings in America. ncarboretum.org \n  \n 
URL:https://livemusicasheville.com/calendar/winter-lights-2/2025-12-20/
LOCATION:The North Carolina Arboretum
CATEGORIES:Asheville Area,Live Music
END:VEVENT
BEGIN:VEVENT
DTSTART;TZID=America/New_York:20251220T180000
DTEND;TZID=America/New_York:20251220T230000
DTSTAMP:20260422T154941
CREATED:20250131T150536Z
LAST-MODIFIED:20251214T224624Z
UID:10007472-1766253600-1766271600@livemusicasheville.com
SUMMARY:The Depot Live Music Show
DESCRIPTION:The Original Marshall Depot washed away in the flood HELENE. Until the New Depot is up and running\, we will continue to have a live music show at the New Depot Twist Again Dance Barn at 439 Cody Road\, Marshall\, NC. A live music show featuring local bands\, dance\, cakewalk\, and fellowship. Admission is FREE\, and Donations are appreciated to help pay the light bill.
URL:https://livemusicasheville.com/calendar/the-depot-live-music-show/2025-12-20/
LOCATION:New Depot Twist Again Dance Barn\, 439 Cody Road\, Marshall\, NC
CATEGORIES:Live Music,Madison County
GEO:35.8317019;-82.6256424
X-APPLE-STRUCTURED-LOCATION;VALUE=URI;X-ADDRESS=New Depot Twist Again Dance Barn 439 Cody Road Marshall NC;X-APPLE-RADIUS=500;X-TITLE=439 Cody Road:geo:-82.6256424,35.8317019
END:VEVENT
BEGIN:VEVENT
DTSTART;TZID=America/New_York:20251220T180000
DTEND;TZID=America/New_York:20251221T020000
DTSTAMP:20260422T154941
CREATED:20241225T200257Z
LAST-MODIFIED:20260415T173722Z
UID:10004101-1766253600-1766282400@livemusicasheville.com
SUMMARY:Saturday Weekly DJ's
DESCRIPTION:Although we are primarily a Live Music Calendar\, we often come across Electronic & DJ events in the area and list them for you as we find out about them. Please verify the DJ\, times and cover charges with the venue. \nWaterstreet – 3-7pm \nLA Pizza Party Rooftop – 6-9pm \nThe Radical – 6-11pm \nPotential New Boyfriend – 7:30-11pm \nCapella On 9 – 8-11pm \nBen’s Tune Up – 8-11pm \nThe Tiki Easy Bar – 9pm-12am \nBanks Ave – 9-11:30pm \nHavana Miami – 9pm-2am \nStatic Age Loft – 9pm-2am \nWaterstreet – 9pm-2am \nNightshade – 9pm-1am \nVOWL – 9pm-1am \nLa Pizza Party South Slope – 10pm-2am \nFarməse – 10pm-1am \nThe Barksdale – 10pm-2am \nDouble Crown – 10pm-2am \nLazy Diamond – 10pm-2am \nStrange Magic Bar – 10pm-2am \nShakeys – 10pm-2am \nVerify with the venue on time\, cover charges and tonight’s DJ.
URL:https://livemusicasheville.com/calendar/saturday-weekly-dj-schedule/2025-12-20/
LOCATION:NC
CATEGORIES:Asheville Area,DJ/Electronic
END:VEVENT
BEGIN:VEVENT
DTSTART;TZID=America/New_York:20251220T183000
DTEND;TZID=America/New_York:20251220T203000
DTSTAMP:20260422T154941
CREATED:20250129T195009Z
LAST-MODIFIED:20251217T150252Z
UID:10006549-1766255400-1766262600@livemusicasheville.com
SUMMARY:Dustin Furlow
DESCRIPTION:
URL:https://livemusicasheville.com/calendar/dustin-furlow-2/2025-12-20/
LOCATION:Blue Mountain Pizza Weaverville
CATEGORIES:Asheville Area,Live Music,Weaverville
GEO:35.698228;-82.560231
END:VEVENT
BEGIN:VEVENT
DTSTART;TZID=America/New_York:20251220T183000
DTEND;TZID=America/New_York:20251220T213000
DTSTAMP:20260422T154941
CREATED:20250910T133324Z
LAST-MODIFIED:20251217T132459Z
UID:10020975-1766255400-1766266200@livemusicasheville.com
SUMMARY:Live Music: Kristen Toole & The Tooleshed Band
DESCRIPTION:
URL:https://livemusicasheville.com/calendar/live-music-kristen-toole-the-tooleshed-band/
LOCATION:Mills River Brewing Co.\, 336 Banner Farm Rd\,\, Mills River\, NC\, 28759
CATEGORIES:Asheville Area,Live Music,Mills River
GEO:35.380515;-82.5654984
X-APPLE-STRUCTURED-LOCATION;VALUE=URI;X-ADDRESS=Mills River Brewing Co. 336 Banner Farm Rd Mills River NC 28759;X-APPLE-RADIUS=500;X-TITLE=336 Banner Farm Rd\,:geo:-82.5654984,35.380515
END:VEVENT
BEGIN:VEVENT
DTSTART;TZID=America/New_York:20251220T183000
DTEND;TZID=America/New_York:20251220T220000
DTSTAMP:20260422T154941
CREATED:20251218T220215Z
LAST-MODIFIED:20251218T220215Z
UID:10029092-1766255400-1766268000@livemusicasheville.com
SUMMARY:Candlelight: Christmas Carols on Strings w/ Opal String Quartet
DESCRIPTION:2 shows 6:30 & 8:45pm
URL:https://livemusicasheville.com/calendar/candlelight-christmas-carols-on-strings-w-opal-string-quartet/
LOCATION:Asheville Masonic Temple
CATEGORIES:Asheville Area,Live Music
END:VEVENT
BEGIN:VEVENT
DTSTART;TZID=America/New_York:20251220T190000
DTEND;TZID=America/New_York:20251220T203000
DTSTAMP:20260422T154941
CREATED:20251217T221733Z
LAST-MODIFIED:20251217T221733Z
UID:10028980-1766257200-1766262600@livemusicasheville.com
SUMMARY:Asheville Vocal Ensemble Winter Concert
DESCRIPTION:
URL:https://livemusicasheville.com/calendar/asheville-vocal-ensemble-winter-concert/
LOCATION:St George’s Episcopal – West Asheville
CATEGORIES:Asheville Area,Live Music
END:VEVENT
BEGIN:VEVENT
DTSTART;TZID=America/New_York:20251220T190000
DTEND;TZID=America/New_York:20251220T210000
DTSTAMP:20260422T154941
CREATED:20251126T181412Z
LAST-MODIFIED:20260106T172318Z
UID:10030395-1766257200-1766264400@livemusicasheville.com
SUMMARY:Will Hartz
DESCRIPTION:
URL:https://livemusicasheville.com/calendar/will-hartz-3-2-2-2-2/2025-12-20/
LOCATION:5 Walnut Wine Bar
CATEGORIES:Asheville Area,Live Music
GEO:35.596654;-82.5525389
END:VEVENT
BEGIN:VEVENT
DTSTART;TZID=America/New_York:20251220T190000
DTEND;TZID=America/New_York:20251220T220000
DTSTAMP:20260422T154941
CREATED:20250111T093225Z
LAST-MODIFIED:20251202T222751Z
UID:10001932-1766257200-1766268000@livemusicasheville.com
SUMMARY:Country Music With a Little Bluegrass
DESCRIPTION:  \n 
URL:https://livemusicasheville.com/calendar/country-music-with-a-little-bluegrass-2/2025-12-20/
LOCATION:The Old Home Place Mills River
CATEGORIES:Live Music,Mills River
GEO:35.3884479;-82.566789
END:VEVENT
BEGIN:VEVENT
DTSTART;TZID=America/New_York:20251220T190000
DTEND;TZID=America/New_York:20251220T220000
DTSTAMP:20260422T154941
CREATED:20251113T005710Z
LAST-MODIFIED:20251217T191304Z
UID:10028973-1766257200-1766268000@livemusicasheville.com
SUMMARY:Solo Piano in The Great Hall w/ Jamar A. Woods
DESCRIPTION:
URL:https://livemusicasheville.com/calendar/solo-piano-in-the-great-hall-w-jamar-a-woods-2-2-2/2025-12-20/
LOCATION:The Omni Grove Park Inn
CATEGORIES:Asheville Area,Live Music
GEO:35.6206376;-82.5422977
END:VEVENT
BEGIN:VEVENT
DTSTART;TZID=America/New_York:20251220T190000
DTEND;TZID=America/New_York:20251220T233000
DTSTAMP:20260422T154941
CREATED:20250322T150845Z
LAST-MODIFIED:20251214T215054Z
UID:10010514-1766257200-1766273400@livemusicasheville.com
SUMMARY:Save Our Website to Your Home Screen 📲
DESCRIPTION:As an interactive calendar\, we often add events to our calendar as we find out about them\, sometimes even from our phone while we are out supporting local live music. By adding our website\, LiveMusicAsheville.com to your home screen\, we will always be right at your fingertips. Here’s how:\n\n\n\n\niPhone (using Safari):\n\n\n\nOpen Safari and navigate to the website: you want to add as a shortcut. \n\n\n\n\n\n\n\n\nTap the Share button: (a square with an arrow pointing out of the top). \n\n\n\n\n\n\n\n\nScroll down and tap “Add to Home Screen” . \n\n\n\n\n\n\n\n\nChoose a name for the shortcut: and tap “Add”. \n\n\n\n\n\n\n\n\nThe shortcut will appear on your home screen as an icon. \n\n\n\n\n\n\n\n\n\n\n\nAndroid (using Chrome or other browsers):\n\n\n\nOpen Chrome (or your preferred browser) and navigate to the website: you want to add.\nTap the three-dot menu icon: (usually in the top right corner).\nSelect “Add to Home Screen” .\nCustomize the name of the shortcut: if desired\, and then tap “Add”.\nThe shortcut will appear on your home screen as an icon. 
URL:https://livemusicasheville.com/calendar/add-our-website-to-your-home-screen/2025-12-20/
LOCATION:NC
CATEGORIES:Asheville Area
END:VEVENT
END:VCALENDAR