BEGIN:VCALENDAR
VERSION:2.0
PRODID:-//LiveMusicAsheville.com - ECPv6.15.20//NONSGML v1.0//EN
CALSCALE:GREGORIAN
METHOD:PUBLISH
X-WR-CALNAME:LiveMusicAsheville.com
X-ORIGINAL-URL:https://livemusicasheville.com
X-WR-CALDESC:Events for LiveMusicAsheville.com
REFRESH-INTERVAL;VALUE=DURATION:PT1H
X-Robots-Tag:noindex
X-PUBLISHED-TTL:PT1H
BEGIN:VTIMEZONE
TZID:America/New_York
BEGIN:DAYLIGHT
TZOFFSETFROM:-0500
TZOFFSETTO:-0400
TZNAME:EDT
DTSTART:20240310T070000
END:DAYLIGHT
BEGIN:STANDARD
TZOFFSETFROM:-0400
TZOFFSETTO:-0500
TZNAME:EST
DTSTART:20241103T060000
END:STANDARD
BEGIN:DAYLIGHT
TZOFFSETFROM:-0500
TZOFFSETTO:-0400
TZNAME:EDT
DTSTART:20250309T070000
END:DAYLIGHT
BEGIN:STANDARD
TZOFFSETFROM:-0400
TZOFFSETTO:-0500
TZNAME:EST
DTSTART:20251102T060000
END:STANDARD
BEGIN:DAYLIGHT
TZOFFSETFROM:-0500
TZOFFSETTO:-0400
TZNAME:EDT
DTSTART:20260308T070000
END:DAYLIGHT
BEGIN:STANDARD
TZOFFSETFROM:-0400
TZOFFSETTO:-0500
TZNAME:EST
DTSTART:20261101T060000
END:STANDARD
END:VTIMEZONE
BEGIN:VEVENT
DTSTART;TZID=America/New_York:20251215T130000
DTEND;TZID=America/New_York:20251215T150000
DTSTAMP:20260422T114502
CREATED:20251212T201152Z
LAST-MODIFIED:20251223T021621Z
UID:10027346-1765803600-1765810800@livemusicasheville.com
SUMMARY:Chaplin Classics with Jay Brown
DESCRIPTION:
URL:https://livemusicasheville.com/calendar/chaplin-classics-with-jay-brown/2025-12-15/
LOCATION:White Horse Black Mountain
CATEGORIES:Asheville Area,Black Mountain,Live Music
GEO:35.6178579;-82.3211924
END:VEVENT
BEGIN:VEVENT
DTSTART;TZID=America/New_York:20251215T173000
DTEND;TZID=America/New_York:20251215T193000
DTSTAMP:20260422T114502
CREATED:20250505T155415Z
LAST-MODIFIED:20251210T200930Z
UID:10013002-1765819800-1765827000@livemusicasheville.com
SUMMARY:2 Guys with Guitars - Bob Disney & Bob Jackson
DESCRIPTION:
URL:https://livemusicasheville.com/calendar/2-guys-with-guitars-bob-disney-bob-jackson-2-2/
LOCATION:Turgua Brewing Fairview
CATEGORIES:Asheville Area,Fairview,Live Music
GEO:35.5129836;-82.4095217
END:VEVENT
BEGIN:VEVENT
DTSTART;TZID=America/New_York:20251215T180000
DTEND;TZID=America/New_York:20251215T220000
DTSTAMP:20260422T114502
CREATED:20251007T130234Z
LAST-MODIFIED:20251116T161904Z
UID:10024587-1765821600-1765836000@livemusicasheville.com
SUMMARY:Winter Lights
DESCRIPTION:We look forward to welcoming you back for another year of Asheville’s Brightest Holiday Tradition! Winter Lights is a spectacular open-air walk-through light show made from over one million lights! Located at the North Carolina Arboretum in Asheville\, North Carolina\, this year’s event features favorites like the famously tall 50-foot lighted tree and the Quilt Garden\, along with enchanting new details designed to delight and surprise. \nTroll sightings are anticipated at this year’s Winter Lights\, as six of Dambo’s Trolls will be experiencing the show for themselves. Meet them in the gardens at Winter Lights! \nWinter Lights features live entertainment nightly and food and beverages from the Bent Creek Bistro\, the Cocoa Shack and the Cocoa Cabin! Open nightly from 6:00 – 10:00 p.m. \nTickets on Sale Now! Event Details and Tickets \nFor more than 35 years…Cultivating Connections between People\, Plants and Places…amid a 434-acre public garden\, The North Carolina Arboretum is located within the Bent Creek Experimental Forest just south of Asheville and adjacent to the Blue Ridge Parkway at Milepost 393. Surrounded and crisscrossed by forested coves and meandering creeks in the botanically diverse Southern Appalachian Mountains\, The North Carolina Arboretum is set in one of the most beautiful natural settings in America. ncarboretum.org \n  \n 
URL:https://livemusicasheville.com/calendar/winter-lights-2/2025-12-15/
LOCATION:The North Carolina Arboretum
CATEGORIES:Asheville Area,Live Music
END:VEVENT
BEGIN:VEVENT
DTSTART;TZID=America/New_York:20251215T180000
DTEND;TZID=America/New_York:20251216T020000
DTSTAMP:20260422T114502
CREATED:20241226T132023Z
LAST-MODIFIED:20260308T081314Z
UID:10019261-1765821600-1765850400@livemusicasheville.com
SUMMARY:Monday Weekly DJs
DESCRIPTION:Although we are primarily a Live Music Calendar\, we often come across Electronic & DJ events in the area and list them for you as we find out about them. Please verify the DJ\, times and cover charges with the venue. \nAntidote – 6-9pm \nCoffee Art Music Type Place (CAMP) – 7-9pm (swing) \nLazy Diamond- 10pm-2am \nCheck with the venue on tonight’s djs and cover charges.
URL:https://livemusicasheville.com/calendar/monday-djs/2025-12-15/
LOCATION:Asheville Area
CATEGORIES:Asheville Area,DJ/Electronic
END:VEVENT
BEGIN:VEVENT
DTSTART;TZID=America/New_York:20251215T190000
DTEND;TZID=America/New_York:20251215T200000
DTSTAMP:20260422T114502
CREATED:20251210T221015Z
LAST-MODIFIED:20251210T221015Z
UID:10027282-1765825200-1765828800@livemusicasheville.com
SUMMARY:PERFORMANCE: Johnny Loves Johann – Music and Dance
DESCRIPTION:With violinist Johnny Gandelsman and choreographers Melissa Toogood and John Heginbotham \nMonday\, December 15\, 2025 at 7PM \nBlack Mountain College Museum + Arts Center {120 College Street} \nTICKETS – $15 General Admission / $10 for BMCM+AC members + Students w/ID
URL:https://livemusicasheville.com/calendar/performance-johnny-loves-johann-music-and-dance/
LOCATION:Black Mountain College Museum + Arts Center Asheville\, 120 College St\, Asheville\, NC\, 28801
CATEGORIES:Asheville Area,Live Music
GEO:35.5958908;-82.5505261
X-APPLE-STRUCTURED-LOCATION;VALUE=URI;X-ADDRESS=Black Mountain College Museum + Arts Center Asheville 120 College St Asheville NC 28801;X-APPLE-RADIUS=500;X-TITLE=120 College St:geo:-82.5505261,35.5958908
END:VEVENT
BEGIN:VEVENT
DTSTART;TZID=America/New_York:20251215T190000
DTEND;TZID=America/New_York:20251215T210000
DTSTAMP:20260422T114502
CREATED:20250702T121700Z
LAST-MODIFIED:20260304T145213Z
UID:10003045-1765825200-1765832400@livemusicasheville.com
SUMMARY:Blues with Mr Jimmy & Friends
DESCRIPTION:
URL:https://livemusicasheville.com/calendar/blues-with-mr-jimmy-friends-2/2025-12-15/
LOCATION:The Joint Next Door Fairview
CATEGORIES:Asheville Area,Fairview,Live Music
GEO:35.5251372;-82.424797
END:VEVENT
BEGIN:VEVENT
DTSTART;TZID=America/New_York:20251215T190000
DTEND;TZID=America/New_York:20251215T210000
DTSTAMP:20260422T114502
CREATED:20251110T131745Z
LAST-MODIFIED:20251229T084655Z
UID:10022171-1765825200-1765832400@livemusicasheville.com
SUMMARY:Music Mondays with host Ashley Heath
DESCRIPTION:  \nCheck with the venue on Ashley’s future guests.
URL:https://livemusicasheville.com/calendar/ashley-heath-mondays-2-2-2-2-2/2025-12-15/
LOCATION:Town Pump Tavern Black Mountain
CATEGORIES:Black Mountain,Live Music
GEO:35.6162458;-82.320259
END:VEVENT
BEGIN:VEVENT
DTSTART;TZID=America/New_York:20251215T190000
DTEND;TZID=America/New_York:20251215T220000
DTSTAMP:20260422T114502
CREATED:20241226T133711Z
LAST-MODIFIED:20251207T083441Z
UID:10002834-1765825200-1765836000@livemusicasheville.com
SUMMARY:Asheville Monday Night Contra Dance
DESCRIPTION:
URL:https://livemusicasheville.com/calendar/asheville-monday-night-contra-dance-2/2025-12-15/
LOCATION:The Ivy Building at AB Tech
CATEGORIES:Asheville Area,Live Music
GEO:35.6104607;-82.5676894
END:VEVENT
BEGIN:VEVENT
DTSTART;TZID=America/New_York:20251215T190000
DTEND;TZID=America/New_York:20251216T020000
DTSTAMP:20260422T114502
CREATED:20241226T131635Z
LAST-MODIFIED:20260309T201711Z
UID:10002781-1765825200-1765850400@livemusicasheville.com
SUMMARY:Monday Karaoke
DESCRIPTION:The Social East Asheville – 7-11pm \nBen’s TuneUp – 7-10pm \nEda’a Hideaway Weaverville – 7-10pm \nIce Bar Arden – 8-11pm (March 2) \n27 Club – 9pm-2am \nFleetwood’s – 9pm-12am (7pm start on 2/2) \nDaytrip – 9pm – (verify with the venue) \nThe Double Crown – Country Karaoke- 10pm-2am \nBe sure to check times and KJ with the venue. \n 
URL:https://livemusicasheville.com/calendar/monday-karaoke/2025-12-15/
LOCATION:NC
CATEGORIES:Asheville Area,Karaoke
END:VEVENT
BEGIN:VEVENT
DTSTART;TZID=America/New_York:20251215T200000
DTEND;TZID=America/New_York:20251216T020000
DTSTAMP:20260422T114502
CREATED:20251126T223442Z
LAST-MODIFIED:20251216T131059Z
UID:10026035-1765828800-1765850400@livemusicasheville.com
SUMMARY:All Request Piano Show
DESCRIPTION:
URL:https://livemusicasheville.com/calendar/all-request-piano-show-3/2025-12-15/
LOCATION:Off the Wagon
CATEGORIES:Asheville Area,Live Music
GEO:41.4302231;-81.3909542
END:VEVENT
BEGIN:VEVENT
DTSTART;TZID=America/New_York:20251215T203000
DTEND;TZID=America/New_York:20251216T000000
DTSTAMP:20260422T114502
CREATED:20251210T190721Z
LAST-MODIFIED:20251210T190721Z
UID:10027191-1765830600-1765843200@livemusicasheville.com
SUMMARY:Avalon / McAwesome / Blithe / Headringer
DESCRIPTION:
URL:https://livemusicasheville.com/calendar/avalon-mcawesome-blithe-headringer/
LOCATION:Static Age Records
CATEGORIES:Asheville Area,Live Music
GEO:35.5985631;-82.5538043
END:VEVENT
BEGIN:VEVENT
DTSTART;VALUE=DATE:20251216
DTEND;VALUE=DATE:20251218
DTSTAMP:20260422T114502
CREATED:20250125T140528Z
LAST-MODIFIED:20251210T122935Z
UID:10017441-1765854000-1765940399@livemusicasheville.com
SUMMARY:Love What We Do?
DESCRIPTION:We hope you enjoy our guide to the Asheville area’s dynamic music scene. \nIf we somehow help to brighten up your day\, please consider a $5 donation to help support our efforts in providing the area’s most reliable local live music calendar. \nVenmo: click here  \nLast 4 digits – 3383 \nPayPal: click here \n 
URL:https://livemusicasheville.com/calendar/greetings-fellow-music-lovers-2/2025-12-16/
LOCATION:Asheville Area
CATEGORIES:Asheville Area
END:VEVENT
BEGIN:VEVENT
DTSTART;TZID=America/New_York:20251216T153000
DTEND;TZID=America/New_York:20251216T233000
DTSTAMP:20260422T114502
CREATED:20241226T154009Z
LAST-MODIFIED:20260421T161506Z
UID:10020253-1765899000-1765927800@livemusicasheville.com
SUMMARY:Tuesday Open Mics/Jams
DESCRIPTION:Irish Session @ Diatribe Brewing – 4-6pm \nModerate Old Time Jam @ Cork & Keg – 5-6:30pm (1st & 3rd Tuesdays) \nNoble Cider – 5-8pm \nAcoustic Jam @ Turgua Brewing Fairview – 5:30-7pm (1st Tuesday-Old Time\, 2nd Tuesday-Irish Session\, 3rd Tuesday-Americana\, 4th Tuesday-Gypsy Jazz) (December 30-Irish Session) \nOpen Mic with Mike & Pat @ Sweeten Creek Brewing – 6-8:30pm (open bluegrass jam Feb 10) \nBluegrass Jam with Alex Bazemore @ Eda’s Hideaway Weaverville – 6:30-10pm \nScratch Ankle Fillin’ Station Candler – 7-9pm \nBeans & Tunes Old Time Jam w/ Banjo Mitch @Mals Bar Marshall – 7-9pm \nMudpuppies – 7-10pm \nEarly Tuesday Jam @ The One Stop – 7-10pm  \nOpen Mic w/Hamza @ The Social East Asheville – 7-11pm \nThe Open Jam with The Lactones @ Sovereign Kava – 8-11pm  \nWeaverville Open Mic @ Vintage Kava Weaverville – 9-11:30pm \n\n 
URL:https://livemusicasheville.com/calendar/tuesday-open-mics-jams/2025-12-16/
LOCATION:Asheville Area
CATEGORIES:Asheville Area,Black Mountain,Fairview,Open MIc/Jam,Weaverville
ATTACH;FMTTYPE=image/jpeg:https://livemusicasheville.com/wp-content/uploads/2024/12/IMG_9400-e1743027161179.jpeg
END:VEVENT
BEGIN:VEVENT
DTSTART;TZID=America/New_York:20251216T170000
DTEND;TZID=America/New_York:20251216T200000
DTSTAMP:20260422T114502
CREATED:20250902T121445Z
LAST-MODIFIED:20251207T151823Z
UID:10026297-1765904400-1765915200@livemusicasheville.com
SUMMARY:Live Jukebox with Mike Weaver
DESCRIPTION:
URL:https://livemusicasheville.com/calendar/live-jukebox-with-mike-weaver-4/
LOCATION:Sparky’s Bardega Downtown\, 23 Broadway\, ASHEVILLE\, NC\, 28801\, United States
CATEGORIES:Asheville Area,Live Music
GEO:35.596126;-82.5523443
X-APPLE-STRUCTURED-LOCATION;VALUE=URI;X-ADDRESS=Sparky’s Bardega Downtown 23 Broadway ASHEVILLE NC 28801 United States;X-APPLE-RADIUS=500;X-TITLE=23 Broadway:geo:-82.5523443,35.596126
END:VEVENT
BEGIN:VEVENT
DTSTART;TZID=America/New_York:20251216T170000
DTEND;TZID=America/New_York:20251216T200000
DTSTAMP:20260422T114502
CREATED:20251112T021815Z
LAST-MODIFIED:20260316T114833Z
UID:10024342-1765904400-1765915200@livemusicasheville.com
SUMMARY:Acoustic Tuesday w/ Peter Townsend
DESCRIPTION:Peter Townsend is a road-tested guitarist\, mandolin player\, and solo musician blending Americana\, bluegrass\, and rock ’n’ roll into a dynamic\, roots-driven sound. Originally from Wisconsin\, he began his musical journey in Alaska in the late ’90s with The Photonz\, a jam band known for its energetic mix of bluegrass and rock. Now performing with Laron Huntley & The Gravely Brothers\, Peter brings a soulful\, expressive style shaped by years on the road and a deep love of live music.
URL:https://livemusicasheville.com/calendar/acoustic-tuesday-w-pete-townsend/2025-12-16/
LOCATION:Village Pub Biltmore Village
CATEGORIES:Asheville Area,Live Music
ATTACH;FMTTYPE=image/jpeg:https://livemusicasheville.com/wp-content/uploads/2025/11/IMG_7578-scaled-e1773661991752.jpeg
END:VEVENT
BEGIN:VEVENT
DTSTART;TZID=America/New_York:20251216T170000
DTEND;TZID=America/New_York:20251217T010000
DTSTAMP:20260422T114502
CREATED:20250114T165902Z
LAST-MODIFIED:20260422T152410Z
UID:10052365-1765904400-1765933200@livemusicasheville.com
SUMMARY:Tuesday Karaoke
DESCRIPTION:Sierra Nevada Mills River – 5-9pm (April 28) \nWild Wing Cafe – 8-11pm \nThe One Stop – 10pm-1am \n 
URL:https://livemusicasheville.com/calendar/tuesday-karaoke/2025-12-16/
LOCATION:Asheville Area
CATEGORIES:Asheville Area,Karaoke
END:VEVENT
BEGIN:VEVENT
DTSTART;TZID=America/New_York:20251216T180000
DTEND;TZID=America/New_York:20251216T200000
DTSTAMP:20260422T114502
CREATED:20251209T161037Z
LAST-MODIFIED:20251209T161039Z
UID:10015923-1765908000-1765915200@livemusicasheville.com
SUMMARY:Tuesdays w/ Ashley Heath
DESCRIPTION:
URL:https://livemusicasheville.com/calendar/ashley-heath-7-2/2025-12-16/
LOCATION:The Bush Farmhouse Black Mountain
CATEGORIES:Asheville Area,Black Mountain,Live Music
GEO:35.6171865;-82.3170606
END:VEVENT
BEGIN:VEVENT
DTSTART;TZID=America/New_York:20251216T180000
DTEND;TZID=America/New_York:20251216T220000
DTSTAMP:20260422T114502
CREATED:20251007T130234Z
LAST-MODIFIED:20251116T161904Z
UID:10024588-1765908000-1765922400@livemusicasheville.com
SUMMARY:Winter Lights
DESCRIPTION:We look forward to welcoming you back for another year of Asheville’s Brightest Holiday Tradition! Winter Lights is a spectacular open-air walk-through light show made from over one million lights! Located at the North Carolina Arboretum in Asheville\, North Carolina\, this year’s event features favorites like the famously tall 50-foot lighted tree and the Quilt Garden\, along with enchanting new details designed to delight and surprise. \nTroll sightings are anticipated at this year’s Winter Lights\, as six of Dambo’s Trolls will be experiencing the show for themselves. Meet them in the gardens at Winter Lights! \nWinter Lights features live entertainment nightly and food and beverages from the Bent Creek Bistro\, the Cocoa Shack and the Cocoa Cabin! Open nightly from 6:00 – 10:00 p.m. \nTickets on Sale Now! Event Details and Tickets \nFor more than 35 years…Cultivating Connections between People\, Plants and Places…amid a 434-acre public garden\, The North Carolina Arboretum is located within the Bent Creek Experimental Forest just south of Asheville and adjacent to the Blue Ridge Parkway at Milepost 393. Surrounded and crisscrossed by forested coves and meandering creeks in the botanically diverse Southern Appalachian Mountains\, The North Carolina Arboretum is set in one of the most beautiful natural settings in America. ncarboretum.org \n  \n 
URL:https://livemusicasheville.com/calendar/winter-lights-2/2025-12-16/
LOCATION:The North Carolina Arboretum
CATEGORIES:Asheville Area,Live Music
END:VEVENT
BEGIN:VEVENT
DTSTART;TZID=America/New_York:20251216T183000
DTEND;TZID=America/New_York:20251216T210000
DTSTAMP:20260422T114502
CREATED:20241226T154248Z
LAST-MODIFIED:20251214T220310Z
UID:10003486-1765909800-1765918800@livemusicasheville.com
SUMMARY:Mountain Shag Club
DESCRIPTION:
URL:https://livemusicasheville.com/calendar/mountain-shag-club/2025-12-16/
LOCATION:Chophouse Restaurant at the 4 Points Hotel by Sheraton
CATEGORIES:Asheville Area,DJ/Electronic
END:VEVENT
BEGIN:VEVENT
DTSTART;TZID=America/New_York:20251216T183000
DTEND;TZID=America/New_York:20251216T223000
DTSTAMP:20260422T114502
CREATED:20251210T201449Z
LAST-MODIFIED:20251210T201449Z
UID:10027198-1765909800-1765924200@livemusicasheville.com
SUMMARY:Eda's Bluegrass Christmas Jam ft. Coyote Rodeo & Suns & Stars
DESCRIPTION:
URL:https://livemusicasheville.com/calendar/edas-bluegrass-christmas-jam-ft-coyote-rodeo-suns-stars/
LOCATION:Eda’s Hide-a-Way Weaverville
CATEGORIES:Asheville Area,Live Music,Open MIc/Jam,Weaverville
GEO:35.6970547;-82.5606851
END:VEVENT
BEGIN:VEVENT
DTSTART;TZID=America/New_York:20251216T190000
DTEND;TZID=America/New_York:20251216T233000
DTSTAMP:20260422T114502
CREATED:20250322T150845Z
LAST-MODIFIED:20251214T215054Z
UID:10010512-1765911600-1765927800@livemusicasheville.com
SUMMARY:Save Our Website to Your Home Screen 📲
DESCRIPTION:As an interactive calendar\, we often add events to our calendar as we find out about them\, sometimes even from our phone while we are out supporting local live music. By adding our website\, LiveMusicAsheville.com to your home screen\, we will always be right at your fingertips. Here’s how:\n\n\n\n\niPhone (using Safari):\n\n\n\nOpen Safari and navigate to the website: you want to add as a shortcut. \n\n\n\n\n\n\n\n\nTap the Share button: (a square with an arrow pointing out of the top). \n\n\n\n\n\n\n\n\nScroll down and tap “Add to Home Screen” . \n\n\n\n\n\n\n\n\nChoose a name for the shortcut: and tap “Add”. \n\n\n\n\n\n\n\n\nThe shortcut will appear on your home screen as an icon. \n\n\n\n\n\n\n\n\n\n\n\nAndroid (using Chrome or other browsers):\n\n\n\nOpen Chrome (or your preferred browser) and navigate to the website: you want to add.\nTap the three-dot menu icon: (usually in the top right corner).\nSelect “Add to Home Screen” .\nCustomize the name of the shortcut: if desired\, and then tap “Add”.\nThe shortcut will appear on your home screen as an icon. 
URL:https://livemusicasheville.com/calendar/add-our-website-to-your-home-screen/2025-12-16/
LOCATION:NC
CATEGORIES:Asheville Area
END:VEVENT
BEGIN:VEVENT
DTSTART;TZID=America/New_York:20251216T190000
DTEND;TZID=America/New_York:20251217T020000
DTSTAMP:20260422T114502
CREATED:20241226T144543Z
LAST-MODIFIED:20260224T090529Z
UID:10046516-1765911600-1765936800@livemusicasheville.com
SUMMARY:Tuesday Weekly DJ Schedule
DESCRIPTION:Although we are primarily a Live Music Calendar\, we often come across Electronic & DJ events in the area and list them for you as we find out about them. Please verify the DJ\, times and cover charges with the venue. \nPotential New Boyfriend – 7-11pm \nThird Room (open decks) – 8pm-12am \nThe Double Crown – 10pm-2am \nLazy Diamond – 10pm-2am \nShakeys – 10pm-2am
URL:https://livemusicasheville.com/calendar/tuesday-weekly-dj-schedule/2025-12-16/
LOCATION:NC
CATEGORIES:Asheville Area,DJ/Electronic
END:VEVENT
BEGIN:VEVENT
DTSTART;TZID=America/New_York:20251216T193000
DTEND;TZID=America/New_York:20251216T213000
DTSTAMP:20260422T114502
CREATED:20251008T104510Z
LAST-MODIFIED:20260121T213118Z
UID:10022318-1765913400-1765920600@livemusicasheville.com
SUMMARY:POSTPONED | Nothin’ But the Blues Jam
DESCRIPTION:
URL:https://livemusicasheville.com/calendar/nothin-but-the-blues-jam/2025-12-16/
LOCATION:White Horse Black Mountain
CATEGORIES:Asheville Area,Black Mountain,Live Music,Open MIc/Jam
GEO:35.6178579;-82.3211924
END:VEVENT
BEGIN:VEVENT
DTSTART;TZID=America/New_York:20251216T200000
DTEND;TZID=America/New_York:20251216T220000
DTSTAMP:20260422T114502
CREATED:20251023T142458Z
LAST-MODIFIED:20260406T181605Z
UID:10054840-1765915200-1765922400@livemusicasheville.com
SUMMARY:Hot Jazz w/ The John Henrys
DESCRIPTION:
URL:https://livemusicasheville.com/calendar/hot-jazz-w-the-john-henrys-2-2/2025-12-16/
LOCATION:5 Walnut Wine Bar
CATEGORIES:Asheville Area,Live Music
GEO:35.596654;-82.5525389
END:VEVENT
BEGIN:VEVENT
DTSTART;TZID=America/New_York:20251216T200000
DTEND;TZID=America/New_York:20251216T230000
DTSTAMP:20260422T114502
CREATED:20251202T214949Z
LAST-MODIFIED:20251210T234118Z
UID:10026326-1765915200-1765926000@livemusicasheville.com
SUMMARY:The 2025 Christmas Yarn Ball Tour w/sg Cruz Contreras
DESCRIPTION:Tuesday\, December 16 | Doors: 7 pm // Show: 8 pm | from $24.60 Event Details and Tickets\n\nYarn is an Americana\, Alt-Country\, Rock and Roll band founded in 2007 by Blake Christiana. Yarn evolved from its earliest days as a bar band in New York\, NY to an outstanding roots band that’s shared stages with some of the biggest names in the business.\n\nYou might expect a band that calls itself Yarn to\, naturally\, tend to spin a yarn or two. Blake Christiana\, founding member of Yarn\, has the music in him. In fact\, you could say that Blake is the music and the music is Blake; that’s how deeply he inhabits the songs he writes and plays. You can hear him struggling with his feelings\, whether it’s on a skittering country shuffle or on a mid-tempo folk ballad or a straight-ahead rocker. His restless search for the chords and lyrics over the past 20 years has produced a plethora of memorable music\, and since 2007 he’s led Yarn\, a band that’s evolved from its earliest days as a bar band in New York City to an outstanding roots band that’s shared stages with Dwight Yoakam\, Marty Stuart\, Alison Krauss\, and Leftover Salmon\, among many others.\n\nOver the years\, musicians have rotated in and out of Yarn\, but drummer Robert Bonhomme and bassist Rick Bugel\, along with Christiana\, have remained the core of the band. Yarn has definitely brought people together with their music; their devoted followers call themselves the “Yarmy\,” and for the last 4 years the band has hosted a three-day music festival\, Yarnival\, that attracted hundreds of fans to Troy\, Virginia. Along the way\, Yarn has gathered accolades from festivals\, The Americana Music Association\, landed on the Grammy ballot four times\, and placed in the top five of the AMA album charts on more than one occasion.\n\nYarn keeps spinning their stories\, drawing audiences into their vibrant musical web\, and delivering clever and resonant lyrics in memorable songs that reverberate and linger in listeners’ hearts and souls.\n\n\n\n\n\nCruz Contreras has spent nearly thirty years forging his path through the Americana musical landscape. He’s a multi-instrumentalist\, songwriter\, bandleader\, producer\, and storyteller whose voice cuts through noise like a well-honed blade. He got his start at 15\, playing guitar behind his younger brother Billy Contreras at fiddle competitions. But it was a moment in 1993 that sealed Cruz’s fate: finding himself in a room with the Father of Bluegrass\, Bill Monroe. That room\, that sound\, that presence—it lit a fire that’s never gone out.
URL:https://livemusicasheville.com/calendar/the-2025-christmas-yarn-ball-tour-w-sg-cruz-contreras/
LOCATION:The Grey Eagle\, 185 Clingman Ave\, Asheville\, NC\, United States
CATEGORIES:Asheville Area,Live Music
GEO:35.5870871;-82.5643936
X-APPLE-STRUCTURED-LOCATION;VALUE=URI;X-ADDRESS=The Grey Eagle 185 Clingman Ave Asheville NC United States;X-APPLE-RADIUS=500;X-TITLE=185 Clingman Ave:geo:-82.5643936,35.5870871
END:VEVENT
BEGIN:VEVENT
DTSTART;TZID=America/New_York:20251216T200000
DTEND;TZID=America/New_York:20251217T000000
DTSTAMP:20260422T114502
CREATED:20251210T150719Z
LAST-MODIFIED:20251210T150719Z
UID:10027159-1765915200-1765929600@livemusicasheville.com
SUMMARY:Country Westerns // Stephanie James // Claire Whall // Full Time Night Woman
DESCRIPTION:
URL:https://livemusicasheville.com/calendar/country-westerns-stephanie-james-claire-whall-full-time-night-woman/
LOCATION:Fleetwood’s\, 496 Haywood Rd\, Asheville\, NC\, 28806\, United States
CATEGORIES:Asheville Area,Live Music
GEO:35.578126;-82.583757
X-APPLE-STRUCTURED-LOCATION;VALUE=URI;X-ADDRESS=Fleetwood’s 496 Haywood Rd Asheville NC 28806 United States;X-APPLE-RADIUS=500;X-TITLE=496 Haywood Rd:geo:-82.583757,35.578126
END:VEVENT
BEGIN:VEVENT
DTSTART;TZID=America/New_York:20251216T213000
DTEND;TZID=America/New_York:20251216T233000
DTSTAMP:20260422T114502
CREATED:20250306T145855Z
LAST-MODIFIED:20251214T220551Z
UID:10008641-1765920600-1765927800@livemusicasheville.com
SUMMARY:Feature Your Event Here
DESCRIPTION:Our Featured Listings really STAND OUT among the dozens on events on the calendar every day creating a better opportunity for a successful event.
URL:https://livemusicasheville.com/calendar/feature-your-event-here-2-2/2025-12-16/
LOCATION:NC
CATEGORIES:Asheville Area,Black Mountain,Fairview,Live Music,Madison County,Mills River,South Asheville/Arden/Fletcher,Weaverville
ATTACH;FMTTYPE=image/jpeg:https://livemusicasheville.com/wp-content/uploads/2025/01/IMG_8324-e1737476634895.jpeg
END:VEVENT
BEGIN:VEVENT
DTSTART;VALUE=DATE:20251217
DTEND;VALUE=DATE:20251219
DTSTAMP:20260422T114502
CREATED:20250121T072030Z
LAST-MODIFIED:20251210T122902Z
UID:10020188-1765940400-1766026799@livemusicasheville.com
SUMMARY:Support Your Local Music Calendar
DESCRIPTION:We hope you enjoy our guide to the Asheville area’s dynamic music scene. \nIf we somehow help to brighten up your day\, please consider a $5 donation to help support our efforts in providing the area’s most complete local live music calendar. \nVenmo: click here  \nLast 4 digits – 3383 \nPayPal: click here \n \n 
URL:https://livemusicasheville.com/calendar/support-your-local-music-calendar-2/2025-12-17/
LOCATION:NC
CATEGORIES:Asheville Area
END:VEVENT
BEGIN:VEVENT
DTSTART;VALUE=DATE:20251217
DTEND;VALUE=DATE:20251219
DTSTAMP:20260422T114502
CREATED:20250309T145031Z
LAST-MODIFIED:20260310T140019Z
UID:10009676-1765940400-1766026799@livemusicasheville.com
SUMMARY:Ask About Our Featured Listings
DESCRIPTION:Established in February 2019\, LiveMusicAsheville.com now reaches thousands of people every week actively searching for live music in the Asheville area. Roughly 60% of our traffic comes from Google Search as we dominate the top of the results for queries such as “Asheville live music” & “live music Asheville”. Meanwhile our direct traffic is experiencing explosive growth\, proving more locals are now using us as their go-to music calendar. \nOur free listings include just the basics of Who’s Playin’ Where & When. We offer Descriptive Listings at just $5 per event to help you guide viewers to your event. These listings include up to 30 words but do not include links.  \nOur Featured Listings really stand out among the dozens of events on the calendar every day. While we update every Wednesday for the following Friday thru Thursday\, these Featured Listings are published much sooner and include your picture or poster\, a description of the event and the venue\, website/ticket links and a Google map. We also share these events on our social media stories to help further promote your show. \n 
URL:https://livemusicasheville.com/calendar/ask-about-our-featured-listings/2025-12-17/
LOCATION:LiveMusicAsheville.com\, ASHEVILLE\, NC\, 28803\, United States
CATEGORIES:Asheville Area,Black Mountain,Fairview,Live Music,Madison County,Mills River,South Asheville/Arden/Fletcher,Weaverville
ATTACH;FMTTYPE=image/jpeg:https://livemusicasheville.com/wp-content/uploads/2026/02/IMG_4145-e1770855289327.jpeg
ORGANIZER;CN="LiveMusicAsheville.com":MAILTO:livemusicasheville@gmail.com
GEO:35.5671423;-82.5437614
END:VEVENT
BEGIN:VEVENT
DTSTART;TZID=America/New_York:20251217T160000
DTEND;TZID=America/New_York:20251217T230000
DTSTAMP:20260422T114502
CREATED:20241226T150904Z
LAST-MODIFIED:20260420T201126Z
UID:10018190-1765987200-1766012400@livemusicasheville.com
SUMMARY:Wednesday Open Mics/Jams
DESCRIPTION:Bluegrass/Old Time Jam @ Riverside Rhapsody Brewing – 5-8pm  \nBlunt Pretzels Swannanoa – 5-8pm \nElkhorn  Canna Co – 6-9pm (Feb 25) \nOpen Mic @ Twin Leaf Brewery – 6-8pm \nOpen Mic @ Auction House Fletcher (first Wednesdays) 6-9pm \nOpen Mic @ Camden’s Coffee House Mars Hill – 6:30-8:30pm \nOpen Mic @ Papertown Billiards Canton – 7-9pm \nWhite Horse Black Mountain – 7-9:30pm (2nd & 4th Wednesdays) \nOpen Jam w/ Hamza @ Silverados Black Mountain – 7-10pm \nOpen Mic & Decks @ Sly Grog Lounge -7-11pm \nJam Night @ Elevated Kava Lounge – 8-11pm  \nAll Genre Open Mic @ Sovereign Kava – 8:30-11pm \n 
URL:https://livemusicasheville.com/calendar/wednesday-open-mics-jams/2025-12-17/
LOCATION:Asheville Area
CATEGORIES:Asheville Area,Black Mountain,Open MIc/Jam
ATTACH;FMTTYPE=image/jpeg:https://livemusicasheville.com/wp-content/uploads/2024/12/IMG_9400-e1743027161179.jpeg
END:VEVENT
END:VCALENDAR