BEGIN:VCALENDAR
VERSION:2.0
PRODID:-//LiveMusicAsheville.com - ECPv6.15.20//NONSGML v1.0//EN
CALSCALE:GREGORIAN
METHOD:PUBLISH
X-WR-CALNAME:LiveMusicAsheville.com
X-ORIGINAL-URL:https://livemusicasheville.com
X-WR-CALDESC:Events for LiveMusicAsheville.com
REFRESH-INTERVAL;VALUE=DURATION:PT1H
X-Robots-Tag:noindex
X-PUBLISHED-TTL:PT1H
BEGIN:VTIMEZONE
TZID:America/New_York
BEGIN:DAYLIGHT
TZOFFSETFROM:-0500
TZOFFSETTO:-0400
TZNAME:EDT
DTSTART:20240310T070000
END:DAYLIGHT
BEGIN:STANDARD
TZOFFSETFROM:-0400
TZOFFSETTO:-0500
TZNAME:EST
DTSTART:20241103T060000
END:STANDARD
BEGIN:DAYLIGHT
TZOFFSETFROM:-0500
TZOFFSETTO:-0400
TZNAME:EDT
DTSTART:20250309T070000
END:DAYLIGHT
BEGIN:STANDARD
TZOFFSETFROM:-0400
TZOFFSETTO:-0500
TZNAME:EST
DTSTART:20251102T060000
END:STANDARD
BEGIN:DAYLIGHT
TZOFFSETFROM:-0500
TZOFFSETTO:-0400
TZNAME:EDT
DTSTART:20260308T070000
END:DAYLIGHT
BEGIN:STANDARD
TZOFFSETFROM:-0400
TZOFFSETTO:-0500
TZNAME:EST
DTSTART:20261101T060000
END:STANDARD
END:VTIMEZONE
BEGIN:VEVENT
DTSTART;VALUE=DATE:20251210
DTEND;VALUE=DATE:20251213
DTSTAMP:20260419T160647
CREATED:20251210T123535Z
LAST-MODIFIED:20251210T123535Z
UID:10027148-1765335600-1765508399@livemusicasheville.com
SUMMARY:COMING FRIDAY | Pocketful of Gold - Led Zeppelin Experience
DESCRIPTION:Friday\, December 12th | Doors: 7pm | Show: 8pm | Tickets: Early Bird – $12 | Day of Show – $15 Event Details and Tickets \nPocketful of Gold\, Asheville’s newest Led Zeppelin Experience\, makes their return to the stage; this time at Pisgah’s Indoor Taproom for TWO sets! Featuring Hannah Ramsey\, Alex Bazemore\, Bailey Faulkner\, Jackson Chisholm\, and Zach Jones\, these frizzy-haired folk bring their love of Led Zeppelin together to offer a musical experience that both honors their iconic sound and showcases the inspiration that it’s had on each member’s personal musicianship. With Christmas Jam just one sleep away\, this group is ready to set us all up for an exciting weekend of music! Come out to sing and dance in celebration with us Friday\, December 12th! \nFounded in 2005\, Pisgah is known for producing some of the most sought after craft ales in Western North Carolina. Pisgah Brewing Company currently operates the new indoor taproom & deli\, with live music several days a week\, plus an open air outdoor bar in the summer and fall months. Check out our upcoming schedule at pisgahbrewing.com/events
URL:https://livemusicasheville.com/calendar/coming-friday-pocketful-of-gold-led-zeppelin-experience/
LOCATION:Pisgah Brewing Company Black Mountain\, 2948 US-70\, Black Mountain\, NC\, 28711
CATEGORIES:Asheville Area,Black Mountain,Live Music
GEO:35.6068069;-82.3568213
X-APPLE-STRUCTURED-LOCATION;VALUE=URI;X-ADDRESS=Pisgah Brewing Company Black Mountain 2948 US-70 Black Mountain NC 28711;X-APPLE-RADIUS=500;X-TITLE=2948 US-70:geo:-82.3568213,35.6068069
END:VEVENT
BEGIN:VEVENT
DTSTART;VALUE=DATE:20251210
DTEND;VALUE=DATE:20251212
DTSTAMP:20260419T160647
CREATED:20250121T072030Z
LAST-MODIFIED:20251210T122902Z
UID:10020185-1765335600-1765421999@livemusicasheville.com
SUMMARY:Support Your Local Music Calendar
DESCRIPTION:We hope you enjoy our guide to the Asheville area’s dynamic music scene. \nIf we somehow help to brighten up your day\, please consider a $5 donation to help support our efforts in providing the area’s most complete local live music calendar. \nVenmo: click here  \nLast 4 digits – 3383 \nPayPal: click here \n \n 
URL:https://livemusicasheville.com/calendar/support-your-local-music-calendar-2/2025-12-10/
CATEGORIES:Asheville Area
END:VEVENT
BEGIN:VEVENT
DTSTART;VALUE=DATE:20251210
DTEND;VALUE=DATE:20251212
DTSTAMP:20260419T160647
CREATED:20250309T145031Z
LAST-MODIFIED:20260310T140019Z
UID:10009675-1765335600-1765421999@livemusicasheville.com
SUMMARY:Ask About Our Featured Listings
DESCRIPTION:Established in February 2019\, LiveMusicAsheville.com now reaches thousands of people every week actively searching for live music in the Asheville area. Roughly 60% of our traffic comes from Google Search as we dominate the top of the results for queries such as “Asheville live music” & “live music Asheville”. Meanwhile our direct traffic is experiencing explosive growth\, proving more locals are now using us as their go-to music calendar. \nOur free listings include just the basics of Who’s Playin’ Where & When. We offer Descriptive Listings at just $5 per event to help you guide viewers to your event. These listings include up to 30 words but do not include links.  \nOur Featured Listings really stand out among the dozens of events on the calendar every day. While we update every Wednesday for the following Friday thru Thursday\, these Featured Listings are published much sooner and include your picture or poster\, a description of the event and the venue\, website/ticket links and a Google map. We also share these events on our social media stories to help further promote your show. \n 
URL:https://livemusicasheville.com/calendar/ask-about-our-featured-listings/2025-12-10/
LOCATION:LiveMusicAsheville.com\, ASHEVILLE\, NC\, 28803\, United States
CATEGORIES:Asheville Area,Black Mountain,Fairview,Live Music,Madison County,Mills River,South Asheville/Arden/Fletcher,Weaverville
ATTACH;FMTTYPE=image/jpeg:https://livemusicasheville.com/wp-content/uploads/2026/02/IMG_4145-e1770855289327.jpeg
ORGANIZER;CN="LiveMusicAsheville.com":MAILTO:livemusicasheville@gmail.com
GEO:35.5671423;-82.5437614
END:VEVENT
BEGIN:VEVENT
DTSTART;TZID=America/New_York:20251210T100000
DTEND;TZID=America/New_York:20251210T120000
DTSTAMP:20260419T160647
CREATED:20250819T145356Z
LAST-MODIFIED:20251001T070334Z
UID:10021073-1765360800-1765368000@livemusicasheville.com
SUMMARY:Morning jazz w/ Sharon LaMotte duo
DESCRIPTION:
URL:https://livemusicasheville.com/calendar/sharon-lamotte-mike-holstein/2025-12-10/
LOCATION:Allgood Coffee Weaverville
CATEGORIES:Asheville Area,Live Music,Weaverville
END:VEVENT
BEGIN:VEVENT
DTSTART;TZID=America/New_York:20251210T121500
DTEND;TZID=America/New_York:20251210T124500
DTSTAMP:20260419T160647
CREATED:20251202T223415Z
LAST-MODIFIED:20251202T223415Z
UID:10026333-1765368900-1765370700@livemusicasheville.com
SUMMARY:PAN HARMONIA: Noontime Advent Concert
DESCRIPTION:Take a midday break for beautiful flute and harp music. This half-hour program explores shades of darkness and the sparkling light of the Advent season with modern and traditional works. Florence Price\, George Gershwin\, and more! This is offered as part of Trinity Episcopal Asheville’s Advent concert series. Stay after for a delicious meal\, served in Trinity’s Tuton Hall.\nwith Kate Steinbeck Flute and Jessica Schaeffer Harp\nWednesday\, December 10\, 12:15 – 12:45 pm · Trinity Episcopal Church\, Asheville\nAs ever\, PAN HARMONIA offers Donation-based\, Pay-as-You-Can Community Concerts. All are welcome!
URL:https://livemusicasheville.com/calendar/pan-harmonia-noontime-advent-concert/
LOCATION:Trinity Episcopal Church Asheville
CATEGORIES:Asheville Area,Live Music
END:VEVENT
BEGIN:VEVENT
DTSTART;TZID=America/New_York:20251210T160000
DTEND;TZID=America/New_York:20251210T230000
DTSTAMP:20260419T160647
CREATED:20241226T150904Z
LAST-MODIFIED:20260311T163311Z
UID:10018189-1765382400-1765407600@livemusicasheville.com
SUMMARY:Wednesday Open Mics/Jams
DESCRIPTION:Bluegrass/Old Time Jam @ Riverside Rhapsody Brewing – 5-8pm  \nBlunt Pretzels Swannanoa – 5-8pm \nElkhorn  Canna Co – 6-9pm (Feb 25) \nOpen Mic @ Twin Leaf Brewery – 6-8pm \nOpen Mic @ Auction House Fletcher (first Wednesdays) 6-9pm \nOpen Mic @ Camden’s Coffee House Mars Hill – 6:30-8:30pm \nOpen Mic @ Papertown Billiards Canton – 7-9pm \nWhite Horse Black Mountain – 7-9:30pm (2nd & 4th Wednesdays) – POSTPONED \nOpen Jam w/ Hamza @ Silverados Black Mountain – 7-10pm \nOpen Mic & Decks @ Sly Grog Lounge -7-11pm \nJam Night @ Elevated Kava Lounge – 8-11pm  \nAll Genre Open Mic @ Sovereign Kava – 8:30-11pm \n 
URL:https://livemusicasheville.com/calendar/wednesday-open-mics-jams/2025-12-10/
LOCATION:Asheville Area
CATEGORIES:Asheville Area,Black Mountain,Open MIc/Jam
ATTACH;FMTTYPE=image/jpeg:https://livemusicasheville.com/wp-content/uploads/2024/12/IMG_9400-e1743027161179.jpeg
END:VEVENT
BEGIN:VEVENT
DTSTART;TZID=America/New_York:20251210T170000
DTEND;TZID=America/New_York:20251210T210000
DTSTAMP:20260419T160647
CREATED:20241226T150016Z
LAST-MODIFIED:20260211T135450Z
UID:10003262-1765386000-1765400400@livemusicasheville.com
SUMMARY:Jack’s Old-Time Jam
DESCRIPTION:Grab some dinner and a pint while enjoying our long-running Old-Time Jam! Featuring many talented musicians from the local WNC area\, our traditional Appalachian mountain music jam runs from 5-9pm every Wednesday night at Jack of the Wood! \nJack Of The Wood is still a downtown hot spot for food\, brews and drink since 1997 and founders Joan and Joe Eckert who still own it\, have maintained the original lively English and Irish vibe. The old-time mountain and Irish music jams continue\, including a hot bluegrass jam Thursdays and brunch every Sunday. The venue extends a welcoming feeling to regulars and newcomers to this day. https://jackofthewood.com/
URL:https://livemusicasheville.com/calendar/jacks-old-time-jam/2025-12-10/
LOCATION:Jack Of The Wood\, 95 Patton Ave\, asheville\, NC\, United States
CATEGORIES:Asheville Area,Live Music,Open MIc/Jam
ATTACH;FMTTYPE=image/jpeg:https://livemusicasheville.com/wp-content/uploads/2024/12/IMG_8922-e1741818303811.jpeg
GEO:35.5944492;-82.5558221
X-APPLE-STRUCTURED-LOCATION;VALUE=URI;X-ADDRESS=Jack Of The Wood 95 Patton Ave asheville NC United States;X-APPLE-RADIUS=500;X-TITLE=95 Patton Ave:geo:-82.5558221,35.5944492
END:VEVENT
BEGIN:VEVENT
DTSTART;TZID=America/New_York:20251210T173000
DTEND;TZID=America/New_York:20251210T193000
DTSTAMP:20260419T160647
CREATED:20251028T130236Z
LAST-MODIFIED:20251130T173637Z
UID:10026290-1765387800-1765395000@livemusicasheville.com
SUMMARY:The Candleers
DESCRIPTION:weather dependent
URL:https://livemusicasheville.com/calendar/the-candleers-4/2025-12-10/
LOCATION:Eluvium Brewing Company Weaverville
CATEGORIES:Asheville Area,Live Music,Weaverville
END:VEVENT
BEGIN:VEVENT
DTSTART;TZID=America/New_York:20251210T180000
DTEND;TZID=America/New_York:20251210T200000
DTSTAMP:20260419T160647
CREATED:20251006T120343Z
LAST-MODIFIED:20251111T181436Z
UID:10024321-1765389600-1765396800@livemusicasheville.com
SUMMARY:The Old Marshall Jail Ballad Swap
DESCRIPTION:
URL:https://livemusicasheville.com/calendar/the-old-marshall-jail-ballad-swap-2/2025-12-10/
LOCATION:Zadies Market at The Old Marshall Jail Hotel
CATEGORIES:Live Music,Madison County
END:VEVENT
BEGIN:VEVENT
DTSTART;TZID=America/New_York:20251210T180000
DTEND;TZID=America/New_York:20251210T200000
DTSTAMP:20260419T160647
CREATED:20251118T153754Z
LAST-MODIFIED:20251210T213106Z
UID:10024676-1765389600-1765396800@livemusicasheville.com
SUMMARY:An Evening with Hunter Begley
DESCRIPTION:HUNTER BEGLEYWED. DECEMBER 10BAR: 4PM | DELI: 4PM | SHOW: 6PMHunter Begley set his heart towards writing in his hometown of Black Mountain\, NC at the turn of the 21st century. Now 37\, with many years of experience under his belt\, he is still proudly pursuing his dream of becoming a master songwriter. He has a reason for every song and memory behind each line. Songs are stories and Hunter has a ton. Listen close. \n  \nFounded in 2005\, Pisgah is known for producing some of the most sought after craft ales in Western North Carolina. Pisgah Brewing Company currently operates the new indoor taproom & deli\, with live music several days a week\, plus an open air outdoor bar in the summer and fall months. Check out our upcoming schedule at pisgahbrewing.com/events
URL:https://livemusicasheville.com/calendar/an-evening-with-hunter-begley/
LOCATION:Pisgah Brewing Company Black Mountain\, 2948 US-70\, Black Mountain\, NC\, 28711
CATEGORIES:Asheville Area,Black Mountain,Live Music
GEO:35.6068069;-82.3568213
X-APPLE-STRUCTURED-LOCATION;VALUE=URI;X-ADDRESS=Pisgah Brewing Company Black Mountain 2948 US-70 Black Mountain NC 28711;X-APPLE-RADIUS=500;X-TITLE=2948 US-70:geo:-82.3568213,35.6068069
END:VEVENT
BEGIN:VEVENT
DTSTART;TZID=America/New_York:20251210T180000
DTEND;TZID=America/New_York:20251210T210000
DTSTAMP:20260419T160647
CREATED:20250917T142755Z
LAST-MODIFIED:20251216T125559Z
UID:10022397-1765389600-1765400400@livemusicasheville.com
SUMMARY:Country Line Dance Lessons and Dancing
DESCRIPTION:
URL:https://livemusicasheville.com/calendar/country-line-dance-lessons-and-dancing/2025-12-10/
LOCATION:Eda’s Hide-a-Way Weaverville
CATEGORIES:Asheville Area,DJ/Electronic,Weaverville
GEO:35.6970547;-82.5606851
END:VEVENT
BEGIN:VEVENT
DTSTART;TZID=America/New_York:20251210T180000
DTEND;TZID=America/New_York:20251210T210000
DTSTAMP:20260419T160647
CREATED:20251119T192021Z
LAST-MODIFIED:20251208T125407Z
UID:10024830-1765389600-1765400400@livemusicasheville.com
SUMMARY:Buncombe Turnpike duo
DESCRIPTION:
URL:https://livemusicasheville.com/calendar/buncombe-turnpike-duo/
LOCATION:Asheville Yards
CATEGORIES:Asheville Area,Live Music
GEO:35.5920902;-82.55537
END:VEVENT
BEGIN:VEVENT
DTSTART;TZID=America/New_York:20251210T180000
DTEND;TZID=America/New_York:20251210T220000
DTSTAMP:20260419T160647
CREATED:20251007T130234Z
LAST-MODIFIED:20251116T161904Z
UID:10024582-1765389600-1765404000@livemusicasheville.com
SUMMARY:Winter Lights
DESCRIPTION:We look forward to welcoming you back for another year of Asheville’s Brightest Holiday Tradition! Winter Lights is a spectacular open-air walk-through light show made from over one million lights! Located at the North Carolina Arboretum in Asheville\, North Carolina\, this year’s event features favorites like the famously tall 50-foot lighted tree and the Quilt Garden\, along with enchanting new details designed to delight and surprise. \nTroll sightings are anticipated at this year’s Winter Lights\, as six of Dambo’s Trolls will be experiencing the show for themselves. Meet them in the gardens at Winter Lights! \nWinter Lights features live entertainment nightly and food and beverages from the Bent Creek Bistro\, the Cocoa Shack and the Cocoa Cabin! Open nightly from 6:00 – 10:00 p.m. \nTickets on Sale Now! Event Details and Tickets \nFor more than 35 years…Cultivating Connections between People\, Plants and Places…amid a 434-acre public garden\, The North Carolina Arboretum is located within the Bent Creek Experimental Forest just south of Asheville and adjacent to the Blue Ridge Parkway at Milepost 393. Surrounded and crisscrossed by forested coves and meandering creeks in the botanically diverse Southern Appalachian Mountains\, The North Carolina Arboretum is set in one of the most beautiful natural settings in America. ncarboretum.org \n  \n 
URL:https://livemusicasheville.com/calendar/winter-lights-2/2025-12-10/
LOCATION:The North Carolina Arboretum
CATEGORIES:Asheville Area,Live Music
END:VEVENT
BEGIN:VEVENT
DTSTART;TZID=America/New_York:20251210T190000
DTEND;TZID=America/New_York:20251210T210000
DTSTAMP:20260419T160647
CREATED:20250709T170628Z
LAST-MODIFIED:20251231T154358Z
UID:10030080-1765393200-1765400400@livemusicasheville.com
SUMMARY:Bam-A Lam with Jason Krekel & Craig Kellberg
DESCRIPTION:
URL:https://livemusicasheville.com/calendar/bam-a-lam-with-jason-krekel-craig-kellberg-2-2-2-2/2025-12-10/
LOCATION:5 Walnut Wine Bar
CATEGORIES:Asheville Area,Live Music
GEO:35.596654;-82.5525389
END:VEVENT
BEGIN:VEVENT
DTSTART;TZID=America/New_York:20251210T190000
DTEND;TZID=America/New_York:20251210T213000
DTSTAMP:20260419T160647
CREATED:20251203T182833Z
LAST-MODIFIED:20251203T182833Z
UID:10026588-1765393200-1765402200@livemusicasheville.com
SUMMARY:Arulu + Will Franke with Charlie Boss Orchestra
DESCRIPTION:
URL:https://livemusicasheville.com/calendar/arulu-will-franke-with-charlie-boss-orchestra/
LOCATION:AyurPrana Listening Room\, 312 Haywood Rd\, Asheville\, NC\, 28806
CATEGORIES:Asheville Area,Live Music
GEO:35.5775962;-82.5760261
X-APPLE-STRUCTURED-LOCATION;VALUE=URI;X-ADDRESS=AyurPrana Listening Room 312 Haywood Rd Asheville NC 28806;X-APPLE-RADIUS=500;X-TITLE=312 Haywood Rd:geo:-82.5760261,35.5775962
END:VEVENT
BEGIN:VEVENT
DTSTART;TZID=America/New_York:20251210T190000
DTEND;TZID=America/New_York:20251210T220000
DTSTAMP:20260419T160647
CREATED:20250716T160357Z
LAST-MODIFIED:20251203T144248Z
UID:10017889-1765393200-1765404000@livemusicasheville.com
SUMMARY:Drayton Aldridge w/Brie Capone
DESCRIPTION:
URL:https://livemusicasheville.com/calendar/raphael-graves-duo/
LOCATION:The Joint Next Door Fairview
CATEGORIES:Asheville Area,Fairview,Live Music
GEO:35.5251372;-82.424797
END:VEVENT
BEGIN:VEVENT
DTSTART;TZID=America/New_York:20251210T190000
DTEND;TZID=America/New_York:20251210T220000
DTSTAMP:20260419T160647
CREATED:20251125T225943Z
LAST-MODIFIED:20251207T143418Z
UID:10025887-1765393200-1765404000@livemusicasheville.com
SUMMARY:Women-Led Wednesdays w/ No Man's Band
DESCRIPTION:WOMAN-LED WEDNESDAY: No Man’s Band!\nJoin us this week for our celebrated Woman-Led Wednesday series featuring the incredible No Man’s Band!\nThis powerhouse trio—made up of Christina Chandler\, Kim Butler and Marisa Blake—brings a feel-good blend of: Blues\, Americana\, Country\, Soul\n\nExpect gorgeous harmonies\, fresh takes on classics\, and a vibrant energy that will lift your spirits every time. Come enjoy their original songs and soulful covers!\n  \nWoman-Led Wednesday | 8 PM – 11 PM: Shamrock Irons\, sophisticated weekly showcase featuring Asheville’s finest women-led talent! \nJoin us for another fantastic installment of our Woman-Led Wednesday series\, celebrating incredible talent every week! Support local\, woman-led talent and enjoy a sophisticated mid-week escape. \nShamrock Irons Irish Pub – Asheville’s newest Irish Pub experience! We’re bringing back the fun with a fresh look\, perfect pours\, and the best live music downtown. Whether you’re a regular or a first-timer\, there’s always room for one more at Shamrock Irons. shamrockirons.com
URL:https://livemusicasheville.com/calendar/women-led-wednesdays-w-no-mans-band/
LOCATION:Shamrock Irons Irish Pub\, 4 College St\, Asheville\, NC\, 28801\, United States
CATEGORIES:Asheville Area,Live Music
GEO:35.9844236;-80.0221361
X-APPLE-STRUCTURED-LOCATION;VALUE=URI;X-ADDRESS=Shamrock Irons Irish Pub 4 College St Asheville NC 28801 United States;X-APPLE-RADIUS=500;X-TITLE=4 College St:geo:-80.0221361,35.9844236
END:VEVENT
BEGIN:VEVENT
DTSTART;TZID=America/New_York:20251210T190000
DTEND;TZID=America/New_York:20251210T220000
DTSTAMP:20260419T160647
CREATED:20251207T214136Z
LAST-MODIFIED:20251208T143444Z
UID:10026915-1765393200-1765404000@livemusicasheville.com
SUMMARY:Soul Jazz with Kelle Jolly
DESCRIPTION:Vocalist Kelle Jolly is known as “The Tennessee Ukulele Lady”. Kelle expresses herself through folk traditions of the South. As an ambassador of jazz\, she has traveled to Muroran\, Japan as Knoxville’s Sister City representative at various jazz festivals and events.  Kelle Jolly is the host of  Jazz Jam with Kelle Jolly\, an hour-long show that celebrates great local\, national and international singers of jazz on WUOT 91.9FM. She is also the founder of the Women in Jazz Jam Festival. This event features Jazz & Soul\, bringing vibrant sounds and soulful experiences to Downtown Asheville. \n$10 at the door (all ticket proceeds are 100% passed to the band\, backed by a living wage guarantee from Hotel Eve) \n  \nHotel Eve is your locally rooted\, speakeasy jazz club & cocktail bar\, hidden in the heart of Downtown Asheville. Mysteriously not a hotel…check in for spirits\, souls and jazz! We’re tucked away\, on purpose. You’ll find us behind the gate nestled between Virtue Boutique and Dane Wells Gallery at 56 N Lexington Avenue in downtown Asheville. Step through\, take a left into the courtyard\, check in for Spirits\, Souls & Jazz. We’ll be waiting on the other side. hotelevejazz.com \n 
URL:https://livemusicasheville.com/calendar/soul-jazz-with-kelle-jolly/
LOCATION:Hotel Eve Jazz\, 56 N Lexington Avenue\, Asheville\, NC\, 28801\, United States
CATEGORIES:Asheville Area,Live Music
GEO:35.5967716;-82.5530826
X-APPLE-STRUCTURED-LOCATION;VALUE=URI;X-ADDRESS=Hotel Eve Jazz 56 N Lexington Avenue Asheville NC 28801 United States;X-APPLE-RADIUS=500;X-TITLE=56 N Lexington Avenue:geo:-82.5530826,35.5967716
END:VEVENT
BEGIN:VEVENT
DTSTART;TZID=America/New_York:20251210T200000
DTEND;TZID=America/New_York:20251210T230000
DTSTAMP:20260419T160647
CREATED:20251203T184753Z
LAST-MODIFIED:20251203T184753Z
UID:10026592-1765396800-1765407600@livemusicasheville.com
SUMMARY:HR (of Bad Brains) w/ The Human Rights Movement + Drowning Leo & Pleasently Wild
DESCRIPTION:
URL:https://livemusicasheville.com/calendar/hr-of-bad-brains-w-the-human-rights-movement-drowning-leo-pleasently-wild/
LOCATION:Eulogy\, 10 Buxton Ave\, Asheville\, NC\, 28801
CATEGORIES:Asheville Area,Live Music
GEO:35.5883468;-82.5539256
X-APPLE-STRUCTURED-LOCATION;VALUE=URI;X-ADDRESS=Eulogy 10 Buxton Ave Asheville NC 28801;X-APPLE-RADIUS=500;X-TITLE=10 Buxton Ave:geo:-82.5539256,35.5883468
END:VEVENT
BEGIN:VEVENT
DTSTART;TZID=America/New_York:20251210T200000
DTEND;TZID=America/New_York:20251210T230000
DTSTAMP:20260419T160647
CREATED:20251203T191844Z
LAST-MODIFIED:20251203T191844Z
UID:10026602-1765396800-1765407600@livemusicasheville.com
SUMMARY:Eilen Jewell
DESCRIPTION:
URL:https://livemusicasheville.com/calendar/eilen-jewell/
LOCATION:The Grey Eagle\, 185 Clingman Ave\, Asheville\, NC\, United States
CATEGORIES:Asheville Area,Live Music
GEO:35.5870871;-82.5643936
X-APPLE-STRUCTURED-LOCATION;VALUE=URI;X-ADDRESS=The Grey Eagle 185 Clingman Ave Asheville NC United States;X-APPLE-RADIUS=500;X-TITLE=185 Clingman Ave:geo:-82.5643936,35.5870871
END:VEVENT
BEGIN:VEVENT
DTSTART;TZID=America/New_York:20251210T200000
DTEND;TZID=America/New_York:20251211T000000
DTSTAMP:20260419T160647
CREATED:20251106T142713Z
LAST-MODIFIED:20251216T130955Z
UID:10003592-1765396800-1765411200@livemusicasheville.com
SUMMARY:Latin Night Wednesdays
DESCRIPTION:
URL:https://livemusicasheville.com/calendar/latin-night-wednesdays-2-2-2/2025-12-10/
LOCATION:One World Brewing – West\, 520 Haywood Rd\, Asheville\, North Carolina\, 28806
CATEGORIES:Asheville Area,DJ/Electronic
GEO:35.5783642;-82.5848526
X-APPLE-STRUCTURED-LOCATION;VALUE=URI;X-ADDRESS=One World Brewing – West 520 Haywood Rd Asheville North Carolina 28806;X-APPLE-RADIUS=500;X-TITLE=520 Haywood Rd:geo:-82.5848526,35.5783642
END:VEVENT
BEGIN:VEVENT
DTSTART;TZID=America/New_York:20251210T200000
DTEND;TZID=America/New_York:20251211T020000
DTSTAMP:20260419T160647
CREATED:20241226T155419Z
LAST-MODIFIED:20251216T124703Z
UID:10026976-1765396800-1765418400@livemusicasheville.com
SUMMARY:Wednesday Weekly DJs
DESCRIPTION:One World Brewing West – 8pm-12am  \nImperial – 9pm-12am  \nShakeys Dive Bar – 10pm-2am \nVerify with the venue for the DJs and cover charges. \n 
URL:https://livemusicasheville.com/calendar/wednesday-weekely-djs/2025-12-10/
LOCATION:Asheville Area
CATEGORIES:Asheville Area,DJ/Electronic
END:VEVENT
BEGIN:VEVENT
DTSTART;TZID=America/New_York:20251210T200000
DTEND;TZID=America/New_York:20251211T020000
DTSTAMP:20260419T160647
CREATED:20251126T223442Z
LAST-MODIFIED:20251216T131059Z
UID:10026032-1765396800-1765418400@livemusicasheville.com
SUMMARY:All Request Piano Show
DESCRIPTION:
URL:https://livemusicasheville.com/calendar/all-request-piano-show-3/2025-12-10/
LOCATION:Off the Wagon
CATEGORIES:Asheville Area,Live Music
GEO:41.4302231;-81.3909542
END:VEVENT
BEGIN:VEVENT
DTSTART;TZID=America/New_York:20251210T203000
DTEND;TZID=America/New_York:20251211T000000
DTSTAMP:20260419T160647
CREATED:20251203T164919Z
LAST-MODIFIED:20251203T164919Z
UID:10026527-1765398600-1765411200@livemusicasheville.com
SUMMARY:Valdrin / Weight Shift / Elseetoss
DESCRIPTION:
URL:https://livemusicasheville.com/calendar/valdrin-weight-shift-elseetoss/
LOCATION:Static Age Records
CATEGORIES:Asheville Area,Live Music
GEO:35.5985631;-82.5538043
END:VEVENT
BEGIN:VEVENT
DTSTART;TZID=America/New_York:20251210T210000
DTEND;TZID=America/New_York:20251211T000000
DTSTAMP:20260419T160647
CREATED:20250924T151850Z
LAST-MODIFIED:20251210T211123Z
UID:10021597-1765400400-1765411200@livemusicasheville.com
SUMMARY:Strictly Liquid
DESCRIPTION:
URL:https://livemusicasheville.com/calendar/strictly-liquid/2025-12-10/
LOCATION:The One Stop
CATEGORIES:Asheville Area,Live Music
END:VEVENT
BEGIN:VEVENT
DTSTART;TZID=America/New_York:20251210T210000
DTEND;TZID=America/New_York:20251211T000000
DTSTAMP:20260419T160647
CREATED:20251203T140640Z
LAST-MODIFIED:20251203T140640Z
UID:10026460-1765400400-1765411200@livemusicasheville.com
SUMMARY:The White Horse // Pharmacy // Socially Constricted
DESCRIPTION:
URL:https://livemusicasheville.com/calendar/the-white-horse-pharmacy-socially-constricted/
LOCATION:Fleetwood’s\, 496 Haywood Rd\, Asheville\, NC\, 28806\, United States
CATEGORIES:Asheville Area,Live Music
GEO:35.578126;-82.583757
X-APPLE-STRUCTURED-LOCATION;VALUE=URI;X-ADDRESS=Fleetwood’s 496 Haywood Rd Asheville NC 28806 United States;X-APPLE-RADIUS=500;X-TITLE=496 Haywood Rd:geo:-82.583757,35.578126
END:VEVENT
BEGIN:VEVENT
DTSTART;VALUE=DATE:20251211
DTEND;VALUE=DATE:20251213
DTSTAMP:20260419T160647
CREATED:20250125T140528Z
LAST-MODIFIED:20251210T122935Z
UID:10017438-1765422000-1765508399@livemusicasheville.com
SUMMARY:Love What We Do?
DESCRIPTION:We hope you enjoy our guide to the Asheville area’s dynamic music scene. \nIf we somehow help to brighten up your day\, please consider a $5 donation to help support our efforts in providing the area’s most reliable local live music calendar. \nVenmo: click here  \nLast 4 digits – 3383 \nPayPal: click here \n 
URL:https://livemusicasheville.com/calendar/greetings-fellow-music-lovers-2/2025-12-11/
LOCATION:Asheville Area
CATEGORIES:Asheville Area
END:VEVENT
BEGIN:VEVENT
DTSTART;TZID=America/New_York:20251211T170000
DTEND;TZID=America/New_York:20251211T220000
DTSTAMP:20260419T160647
CREATED:20251117T222331Z
LAST-MODIFIED:20251216T154208Z
UID:10026300-1765472400-1765490400@livemusicasheville.com
SUMMARY:Country Club Thirstdays
DESCRIPTION:Thirsty? We’ve got the cure. Join us Thursdays in The Showroom for live country music\, outlaw drink specials\, and a party that rolls after work til bed time! \n🎶 Live Country Music 5PM & 7PM\n🤠🎶 Saddle up every Thursday from 5–10 PM.\nNo cover. Just good music\, good people\, and the best drink specials in town. \n$10 espresso martinis (standard + honky Tonk peppermint stomp)\, house old fashioned & 3-beer buckets all night. 🍸🥃🍻 \nDECEMBER Lineup: \nDec 18\n5 PM: BRAELYN\n7 PM: Prime Country Band \nDownstairs The Den is open with arcade games\, board games\, and billiards.. it’s the ultimate Thirstday hangout. \n  \nFitz\, she’s the party. Wolfe\, he’s the epicure. 2 levels\, 3 vibes. 🎶 Live Music |🍸Sips & Noms 🥪 | 🕹️ Artcade | 🗝️Speakeasy | Private Events \nFitz and the Wolfe is a cocktail and music venue shaped by the spirit of improvisation\, storytelling\, and the kind of nights that feel too good to end. Here\, every night brings a new soundtrack. Jazz\, swing\, honky-tonk\, and sometimes things a little more esoteric—if it moves people\, we book it. The music fills the space like a second heartbeat\, sometimes rowdy\, sometimes intimate\, always memorable. It’s not background noise. It’s the reason you’re here. fitzandthewolfe.com
URL:https://livemusicasheville.com/calendar/country-club-thirstdays-3/2025-12-11/
LOCATION:Fitz and the Wolfe\, 1 Battery Park Ave\, Asheville\, NC\, 28801\, United States
CATEGORIES:Asheville Area,Live Music
ATTACH;FMTTYPE=image/png:https://livemusicasheville.com/wp-content/uploads/2025/11/Screenshot-2025-12-01-171819-e1764627619430.png
GEO:35.5954515;-82.5548502
X-APPLE-STRUCTURED-LOCATION;VALUE=URI;X-ADDRESS=Fitz and the Wolfe 1 Battery Park Ave Asheville NC 28801 United States;X-APPLE-RADIUS=500;X-TITLE=1 Battery Park Ave:geo:-82.5548502,35.5954515
END:VEVENT
BEGIN:VEVENT
DTSTART;TZID=America/New_York:20251211T173000
DTEND;TZID=America/New_York:20251211T210000
DTSTAMP:20260419T160647
CREATED:20241224T223942Z
LAST-MODIFIED:20251209T220150Z
UID:10000154-1765474200-1765486800@livemusicasheville.com
SUMMARY:Irish Session
DESCRIPTION:
URL:https://livemusicasheville.com/calendar/irish-session-2/2025-12-11/
LOCATION:Leveller Brewing Weaverville
CATEGORIES:Live Music,Open MIc/Jam,Weaverville
END:VEVENT
BEGIN:VEVENT
DTSTART;TZID=America/New_York:20251211T180000
DTEND;TZID=America/New_York:20251211T210000
DTSTAMP:20260419T160647
CREATED:20251028T160451Z
LAST-MODIFIED:20251211T004646Z
UID:10023104-1765476000-1765486800@livemusicasheville.com
SUMMARY:Kayden & Kevin Scanlon
DESCRIPTION:
URL:https://livemusicasheville.com/calendar/kevin-scanlon/
LOCATION:Soprana Rooftop Cucina
CATEGORIES:Asheville Area,Live Music
END:VEVENT
END:VCALENDAR