BEGIN:VCALENDAR
VERSION:2.0
PRODID:-//LiveMusicAsheville.com - ECPv6.15.20//NONSGML v1.0//EN
CALSCALE:GREGORIAN
METHOD:PUBLISH
X-ORIGINAL-URL:https://livemusicasheville.com
X-WR-CALDESC:Events for LiveMusicAsheville.com
REFRESH-INTERVAL;VALUE=DURATION:PT1H
X-Robots-Tag:noindex
X-PUBLISHED-TTL:PT1H
BEGIN:VTIMEZONE
TZID:America/New_York
BEGIN:DAYLIGHT
TZOFFSETFROM:-0500
TZOFFSETTO:-0400
TZNAME:EDT
DTSTART:20240310T070000
END:DAYLIGHT
BEGIN:STANDARD
TZOFFSETFROM:-0400
TZOFFSETTO:-0500
TZNAME:EST
DTSTART:20241103T060000
END:STANDARD
BEGIN:DAYLIGHT
TZOFFSETFROM:-0500
TZOFFSETTO:-0400
TZNAME:EDT
DTSTART:20250309T070000
END:DAYLIGHT
BEGIN:STANDARD
TZOFFSETFROM:-0400
TZOFFSETTO:-0500
TZNAME:EST
DTSTART:20251102T060000
END:STANDARD
BEGIN:DAYLIGHT
TZOFFSETFROM:-0500
TZOFFSETTO:-0400
TZNAME:EDT
DTSTART:20260308T070000
END:DAYLIGHT
BEGIN:STANDARD
TZOFFSETFROM:-0400
TZOFFSETTO:-0500
TZNAME:EST
DTSTART:20261101T060000
END:STANDARD
END:VTIMEZONE
BEGIN:VEVENT
DTSTART;TZID=America/New_York:20251206T180000
DTEND;TZID=America/New_York:20251206T210000
DTSTAMP:20260419T175135
CREATED:20250726T161716Z
LAST-MODIFIED:20251219T203049Z
UID:10008774-1765044000-1765054800@livemusicasheville.com
SUMMARY:Mr Jimmy Blues
DESCRIPTION:
URL:https://livemusicasheville.com/calendar/mr-jimmy-blues-2-2-2/2025-12-06/
LOCATION:The Asheville Club
CATEGORIES:Asheville Area,Live Music
GEO:35.5952143;-82.554524
END:VEVENT
BEGIN:VEVENT
DTSTART;TZID=America/New_York:20251206T180000
DTEND;TZID=America/New_York:20251206T210000
DTSTAMP:20260419T175135
CREATED:20251126T111013Z
LAST-MODIFIED:20251126T111013Z
UID:10025889-1765044000-1765054800@livemusicasheville.com
SUMMARY:Funkgettabouttit!
DESCRIPTION:Hailing from Asheville NC’s vibrant music scene\, this trio of groove merchants deliver funk with altitude\, no seriously\, the shortest member is 6’ 2”. Their sound blends The Meters’ grit\, Stevie Wonder’s soul\, and Vulfpeck’s playful precision into a high-energy mix of reimagined classics and spontaneous jams. With members who’ve opened for The Black Crowes\, Allman Brothers\, Leftover Salmon and Average White Band\, they channel decades of groove into one mission: to make you move. \n  \nFrench Broad River Brewery is more than just a place to enjoy a drink—it’s a community hub where great beer\, delicious pizza\, live music\, and good times come together. Just minutes from the Biltmore Estate & Downtown\, our taproom is a gathering spot for locals and visitors alike. We regularly host live music and entertainment in our taproom\, making French Broad River Brewery a lively hub of local activity. From bluegrass to reggae\, there’s always something happening. Check out our Events Page to see what’s coming up next! \nNo brewery experience is complete without great food. That’s why we offer French Broad River Pizza\, serving up hot\, hand-tossed pizzas made to order. Whether you’re here for a quick slice or a full meal\, our pizza perfectly complements our craft beers and the lively atmosphere of our taproom. frenchbroadbrewery.com/pizza
URL:https://livemusicasheville.com/calendar/funkgettabouttit/
LOCATION:French Broad River Brewery\, 101 Fairview Rd\, Asheville\, NC\, United States
CATEGORIES:Asheville Area,Live Music
GEO:35.5662722;-82.5374054
X-APPLE-STRUCTURED-LOCATION;VALUE=URI;X-ADDRESS=French Broad River Brewery 101 Fairview Rd Asheville NC United States;X-APPLE-RADIUS=500;X-TITLE=101 Fairview Rd:geo:-82.5374054,35.5662722
END:VEVENT
BEGIN:VEVENT
DTSTART;TZID=America/New_York:20251206T180000
DTEND;TZID=America/New_York:20251206T220000
DTSTAMP:20260419T175135
CREATED:20251007T130234Z
LAST-MODIFIED:20251116T161904Z
UID:10024578-1765044000-1765058400@livemusicasheville.com
SUMMARY:Winter Lights
DESCRIPTION:We look forward to welcoming you back for another year of Asheville’s Brightest Holiday Tradition! Winter Lights is a spectacular open-air walk-through light show made from over one million lights! Located at the North Carolina Arboretum in Asheville\, North Carolina\, this year’s event features favorites like the famously tall 50-foot lighted tree and the Quilt Garden\, along with enchanting new details designed to delight and surprise. \nTroll sightings are anticipated at this year’s Winter Lights\, as six of Dambo’s Trolls will be experiencing the show for themselves. Meet them in the gardens at Winter Lights! \nWinter Lights features live entertainment nightly and food and beverages from the Bent Creek Bistro\, the Cocoa Shack and the Cocoa Cabin! Open nightly from 6:00 – 10:00 p.m. \nTickets on Sale Now! Event Details and Tickets \nFor more than 35 years…Cultivating Connections between People\, Plants and Places…amid a 434-acre public garden\, The North Carolina Arboretum is located within the Bent Creek Experimental Forest just south of Asheville and adjacent to the Blue Ridge Parkway at Milepost 393. Surrounded and crisscrossed by forested coves and meandering creeks in the botanically diverse Southern Appalachian Mountains\, The North Carolina Arboretum is set in one of the most beautiful natural settings in America. ncarboretum.org \n  \n 
URL:https://livemusicasheville.com/calendar/winter-lights-2/2025-12-06/
LOCATION:The North Carolina Arboretum
CATEGORIES:Asheville Area,Live Music
END:VEVENT
BEGIN:VEVENT
DTSTART;TZID=America/New_York:20251206T180000
DTEND;TZID=America/New_York:20251206T230000
DTSTAMP:20260419T175135
CREATED:20250131T150536Z
LAST-MODIFIED:20251214T224624Z
UID:10007470-1765044000-1765062000@livemusicasheville.com
SUMMARY:The Depot Live Music Show
DESCRIPTION:The Original Marshall Depot washed away in the flood HELENE. Until the New Depot is up and running\, we will continue to have a live music show at the New Depot Twist Again Dance Barn at 439 Cody Road\, Marshall\, NC. A live music show featuring local bands\, dance\, cakewalk\, and fellowship. Admission is FREE\, and Donations are appreciated to help pay the light bill.
URL:https://livemusicasheville.com/calendar/the-depot-live-music-show/2025-12-06/
LOCATION:New Depot Twist Again Dance Barn\, 439 Cody Road\, Marshall\, NC
CATEGORIES:Live Music,Madison County
GEO:35.8317019;-82.6256424
X-APPLE-STRUCTURED-LOCATION;VALUE=URI;X-ADDRESS=New Depot Twist Again Dance Barn 439 Cody Road Marshall NC;X-APPLE-RADIUS=500;X-TITLE=439 Cody Road:geo:-82.6256424,35.8317019
END:VEVENT
BEGIN:VEVENT
DTSTART;TZID=America/New_York:20251206T180000
DTEND;TZID=America/New_York:20251207T020000
DTSTAMP:20260419T175135
CREATED:20241225T200257Z
LAST-MODIFIED:20260415T173722Z
UID:10004099-1765044000-1765072800@livemusicasheville.com
SUMMARY:Saturday Weekly DJ's
DESCRIPTION:Although we are primarily a Live Music Calendar\, we often come across Electronic & DJ events in the area and list them for you as we find out about them. Please verify the DJ\, times and cover charges with the venue. \nWaterstreet – 3-7pm \nLA Pizza Party Rooftop – 6-9pm \nThe Radical – 6-11pm \nPotential New Boyfriend – 7:30-11pm \nCapella On 9 – 8-11pm \nBen’s Tune Up – 8-11pm \nThe Tiki Easy Bar – 9pm-12am \nBanks Ave – 9-11:30pm \nHavana Miami – 9pm-2am \nStatic Age Loft – 9pm-2am \nWaterstreet – 9pm-2am \nNightshade – 9pm-1am \nVOWL – 9pm-1am \nLa Pizza Party South Slope – 10pm-2am \nFarməse – 10pm-1am \nThe Barksdale – 10pm-2am \nDouble Crown – 10pm-2am \nLazy Diamond – 10pm-2am \nStrange Magic Bar – 10pm-2am \nShakeys – 10pm-2am \nVerify with the venue on time\, cover charges and tonight’s DJ.
URL:https://livemusicasheville.com/calendar/saturday-weekly-dj-schedule/2025-12-06/
LOCATION:North Carolina
CATEGORIES:Asheville Area,DJ/Electronic
END:VEVENT
BEGIN:VEVENT
DTSTART;TZID=America/New_York:20251206T183000
DTEND;TZID=America/New_York:20251206T203000
DTSTAMP:20260419T175135
CREATED:20250219T220128Z
LAST-MODIFIED:20251231T151959Z
UID:10029970-1765045800-1765053000@livemusicasheville.com
SUMMARY:Gypsy Jazz w/ Dinah's Daydream
DESCRIPTION:
URL:https://livemusicasheville.com/calendar/gypsy-jazz-w-dinahs-daydream-3/2025-12-06/
LOCATION:The Lobster Trap
CATEGORIES:Asheville Area,Live Music
GEO:33.3427223;-118.3257271
END:VEVENT
BEGIN:VEVENT
DTSTART;TZID=America/New_York:20251206T183000
DTEND;TZID=America/New_York:20251206T213000
DTSTAMP:20260419T175135
CREATED:20250129T122552Z
LAST-MODIFIED:20251203T143625Z
UID:10007235-1765045800-1765056600@livemusicasheville.com
SUMMARY:Band of the Sky
DESCRIPTION:
URL:https://livemusicasheville.com/calendar/band-of-the-sky/
LOCATION:Mills River Brewing Co.\, 336 Banner Farm Rd\,\, Mills River\, NC\, 28759
CATEGORIES:Asheville Area,Live Music,Mills River
GEO:35.380515;-82.5654984
X-APPLE-STRUCTURED-LOCATION;VALUE=URI;X-ADDRESS=Mills River Brewing Co. 336 Banner Farm Rd Mills River NC 28759;X-APPLE-RADIUS=500;X-TITLE=336 Banner Farm Rd\,:geo:-82.5654984,35.380515
END:VEVENT
BEGIN:VEVENT
DTSTART;TZID=America/New_York:20251206T190000
DTEND;TZID=America/New_York:20251206T210000
DTSTAMP:20260419T175135
CREATED:20250731T145648Z
LAST-MODIFIED:20260204T164527Z
UID:10029945-1765047600-1765054800@livemusicasheville.com
SUMMARY:Mojo Mountain (f.k.a. Swanny\, Crowe & the Monk)
DESCRIPTION:
URL:https://livemusicasheville.com/calendar/swanny-crowe-the-monk-4/2025-12-06/
LOCATION:5 Walnut Wine Bar
CATEGORIES:Asheville Area,Live Music
GEO:35.596654;-82.5525389
END:VEVENT
BEGIN:VEVENT
DTSTART;TZID=America/New_York:20251206T190000
DTEND;TZID=America/New_York:20251206T210000
DTSTAMP:20260419T175135
CREATED:20250827T192516Z
LAST-MODIFIED:20251203T193916Z
UID:10020350-1765047600-1765054800@livemusicasheville.com
SUMMARY:Clouds of Delusion
DESCRIPTION:
URL:https://livemusicasheville.com/calendar/clouds-of-delusion-7/
LOCATION:Highland Brewing
CATEGORIES:Asheville Area,Live Music
END:VEVENT
BEGIN:VEVENT
DTSTART;TZID=America/New_York:20251206T190000
DTEND;TZID=America/New_York:20251206T210000
DTSTAMP:20260419T175135
CREATED:20251203T115705Z
LAST-MODIFIED:20251203T115705Z
UID:10026436-1765047600-1765054800@livemusicasheville.com
SUMMARY:K & P Christmas Pop Music Duo
DESCRIPTION:
URL:https://livemusicasheville.com/calendar/k-p-christmas-pop-music-duo/
LOCATION:Pillar Rooftop Bar
CATEGORIES:Asheville Area,Live Music
GEO:35.5970115;-82.5461959
END:VEVENT
BEGIN:VEVENT
DTSTART;TZID=America/New_York:20251206T190000
DTEND;TZID=America/New_York:20251206T213000
DTSTAMP:20260419T175135
CREATED:20250703T220521Z
LAST-MODIFIED:20251203T012944Z
UID:10023294-1765047600-1765056600@livemusicasheville.com
SUMMARY:Asheville Community Square Dance
DESCRIPTION:Live music\, dancing\, and community fun—no experience needed\, everyone’s welcome!\n Where: Haw Creek Commons\, 315 Old Haw Creek Rd\, Asheville\, NC 28805 When: First Saturday of the month\, September through May (no summer dances in June\, July\, or August) Schedule: Flatfoot lesson at 7:00 PM | Dance 7:30–9:30 PM Cost: $10 (kids 12 & under $5)
URL:https://livemusicasheville.com/calendar/asheville-community-square-dance-2/2025-12-06/
LOCATION:Haw Creek Commons
CATEGORIES:Asheville Area,Live Music
GEO:35.5969342;-82.5055238
END:VEVENT
BEGIN:VEVENT
DTSTART;TZID=America/New_York:20251206T190000
DTEND;TZID=America/New_York:20251206T213000
DTSTAMP:20260419T175135
CREATED:20251203T182734Z
LAST-MODIFIED:20251203T182734Z
UID:10026587-1765047600-1765056600@livemusicasheville.com
SUMMARY:Live Music for Two Historic Silent Films Performed by Min Xiao-Fen & River Guerguerian
DESCRIPTION:
URL:https://livemusicasheville.com/calendar/live-music-for-two-historic-silent-films-performed-by-min-xiao-fen-river-guerguerian/
LOCATION:AyurPrana Listening Room\, 312 Haywood Rd\, Asheville\, NC\, 28806
CATEGORIES:Asheville Area,Live Music
GEO:35.5775962;-82.5760261
X-APPLE-STRUCTURED-LOCATION;VALUE=URI;X-ADDRESS=AyurPrana Listening Room 312 Haywood Rd Asheville NC 28806;X-APPLE-RADIUS=500;X-TITLE=312 Haywood Rd:geo:-82.5760261,35.5775962
END:VEVENT
BEGIN:VEVENT
DTSTART;TZID=America/New_York:20251206T190000
DTEND;TZID=America/New_York:20251206T220000
DTSTAMP:20260419T175135
CREATED:20250111T093225Z
LAST-MODIFIED:20251202T222751Z
UID:10001930-1765047600-1765058400@livemusicasheville.com
SUMMARY:Country Music With a Little Bluegrass
DESCRIPTION:  \n 
URL:https://livemusicasheville.com/calendar/country-music-with-a-little-bluegrass-2/2025-12-06/
LOCATION:The Old Home Place Mills River
CATEGORIES:Live Music,Mills River
GEO:35.3884479;-82.566789
END:VEVENT
BEGIN:VEVENT
DTSTART;TZID=America/New_York:20251206T190000
DTEND;TZID=America/New_York:20251206T220000
DTSTAMP:20260419T175135
CREATED:20250702T105440Z
LAST-MODIFIED:20251203T120343Z
UID:10016559-1765047600-1765058400@livemusicasheville.com
SUMMARY:Sunnyside Duo
DESCRIPTION:
URL:https://livemusicasheville.com/calendar/sunnyside-duo/
LOCATION:One World Brewing Downtown\, 10 Patton Ave\, Asheville\, NC\, 28801
CATEGORIES:Asheville Area,Live Music
GEO:35.5947396;-82.5522724
X-APPLE-STRUCTURED-LOCATION;VALUE=URI;X-ADDRESS=One World Brewing Downtown 10 Patton Ave Asheville NC 28801;X-APPLE-RADIUS=500;X-TITLE=10 Patton Ave:geo:-82.5522724,35.5947396
END:VEVENT
BEGIN:VEVENT
DTSTART;TZID=America/New_York:20251206T190000
DTEND;TZID=America/New_York:20251206T220000
DTSTAMP:20260419T175135
CREATED:20251022T112143Z
LAST-MODIFIED:20251206T140933Z
UID:10012059-1765047600-1765058400@livemusicasheville.com
SUMMARY:Saturday Open Mic/Jam
DESCRIPTION:Sly Grog Open Jam – 8pm-12am
URL:https://livemusicasheville.com/calendar/saturday-open-mic-jam-2/
LOCATION:Asheville Area
CATEGORIES:Asheville Area,Open MIc/Jam
END:VEVENT
BEGIN:VEVENT
DTSTART;TZID=America/New_York:20251206T190000
DTEND;TZID=America/New_York:20251206T230000
DTSTAMP:20260419T175135
CREATED:20251203T185943Z
LAST-MODIFIED:20251203T185943Z
UID:10026595-1765047600-1765062000@livemusicasheville.com
SUMMARY:SOLD OUT | Zakk Sabbath w/ Bonfire\, Dark Chapel
DESCRIPTION:
URL:https://livemusicasheville.com/calendar/sold-out-zakk-sabbath-w-bonfire-dark-chapel/
LOCATION:The Orange Peel
CATEGORIES:Asheville Area,Live Music
GEO:35.5914061;-82.5510137
END:VEVENT
BEGIN:VEVENT
DTSTART;TZID=America/New_York:20251206T190000
DTEND;TZID=America/New_York:20251206T233000
DTSTAMP:20260419T175135
CREATED:20250322T150845Z
LAST-MODIFIED:20251214T215054Z
UID:10010506-1765047600-1765063800@livemusicasheville.com
SUMMARY:Save Our Website to Your Home Screen 📲
DESCRIPTION:As an interactive calendar\, we often add events to our calendar as we find out about them\, sometimes even from our phone while we are out supporting local live music. By adding our website\, LiveMusicAsheville.com to your home screen\, we will always be right at your fingertips. Here’s how:\n\n\n\n\niPhone (using Safari):\n\n\n\nOpen Safari and navigate to the website: you want to add as a shortcut. \n\n\n\n\n\n\n\n\nTap the Share button: (a square with an arrow pointing out of the top). \n\n\n\n\n\n\n\n\nScroll down and tap “Add to Home Screen” . \n\n\n\n\n\n\n\n\nChoose a name for the shortcut: and tap “Add”. \n\n\n\n\n\n\n\n\nThe shortcut will appear on your home screen as an icon. \n\n\n\n\n\n\n\n\n\n\n\nAndroid (using Chrome or other browsers):\n\n\n\nOpen Chrome (or your preferred browser) and navigate to the website: you want to add.\nTap the three-dot menu icon: (usually in the top right corner).\nSelect “Add to Home Screen” .\nCustomize the name of the shortcut: if desired\, and then tap “Add”.\nThe shortcut will appear on your home screen as an icon. 
URL:https://livemusicasheville.com/calendar/add-our-website-to-your-home-screen/2025-12-06/
LOCATION:North Carolina
CATEGORIES:Asheville Area
END:VEVENT
BEGIN:VEVENT
DTSTART;TZID=America/New_York:20251206T190000
DTEND;TZID=America/New_York:20251207T020000
DTSTAMP:20260419T175135
CREATED:20241225T123126Z
LAST-MODIFIED:20251122T132355Z
UID:10000624-1765047600-1765072800@livemusicasheville.com
SUMMARY:Dueling Piano Show
DESCRIPTION:
URL:https://livemusicasheville.com/calendar/dueling-piano-show/2025-12-06/
LOCATION:Off the Wagon
CATEGORIES:Asheville Area,Live Music
GEO:41.4302231;-81.3909542
END:VEVENT
BEGIN:VEVENT
DTSTART;TZID=America/New_York:20251206T193000
DTEND;TZID=America/New_York:20251206T210000
DTSTAMP:20260419T175135
CREATED:20251204T150502Z
LAST-MODIFIED:20251204T150502Z
UID:10026615-1765049400-1765054800@livemusicasheville.com
SUMMARY:Montreat College’s Christmas Concert
DESCRIPTION:Celebrate the season with Montreat College’s Christmas concert\, Experience Joy! Join us on Saturday\, December 6 at 7:30 p.m. in Anderson Auditorium (Lookout Road\, Montreat\, NC) for a festive evening featuring the Montreat College Choir\, Orchestra\, and Music Ensembles. Enjoy beautiful Christmas music that lifts the spirit and celebrates the true joy of the season.\nFree admission — all are welcome!
URL:https://livemusicasheville.com/calendar/montreat-colleges-christmas-concert/
LOCATION:Montreat College
CATEGORIES:Asheville Area,Black Mountain,Live Music
END:VEVENT
BEGIN:VEVENT
DTSTART;TZID=America/New_York:20251206T193000
DTEND;TZID=America/New_York:20251206T220000
DTSTAMP:20260419T175135
CREATED:20251202T162859Z
LAST-MODIFIED:20251202T162859Z
UID:10026323-1765049400-1765058400@livemusicasheville.com
SUMMARY:Colin Cutler and Hot Pepper Jam w/Dashawn Hickman
DESCRIPTION:
URL:https://livemusicasheville.com/calendar/colin-cutler-and-hot-pepper-jam-w-dashawn-hickman/
LOCATION:LEAF Global Arts\, 19 Eagle St\, Asheville\, NC\, 28801
CATEGORIES:Asheville Area,Live Music
GEO:35.5938244;-82.5505196
X-APPLE-STRUCTURED-LOCATION;VALUE=URI;X-ADDRESS=LEAF Global Arts 19 Eagle St Asheville NC 28801;X-APPLE-RADIUS=500;X-TITLE=19 Eagle St:geo:-82.5505196,35.5938244
END:VEVENT
BEGIN:VEVENT
DTSTART;TZID=America/New_York:20251206T200000
DTEND;TZID=America/New_York:20251206T230000
DTSTAMP:20260419T175135
CREATED:20250101T152032Z
LAST-MODIFIED:20260123T161124Z
UID:10004651-1765051200-1765062000@livemusicasheville.com
SUMMARY:Honky Tonk Saturday w/ Alma Russ Band
DESCRIPTION:
URL:https://livemusicasheville.com/calendar/alma-russ-with-the-boondockers/
LOCATION:Eda’s Hide-a-Way Weaverville
CATEGORIES:Asheville Area,Live Music,Weaverville
GEO:35.6970547;-82.5606851
END:VEVENT
BEGIN:VEVENT
DTSTART;TZID=America/New_York:20251206T200000
DTEND;TZID=America/New_York:20251206T230000
DTSTAMP:20260419T175135
CREATED:20250108T151518Z
LAST-MODIFIED:20251204T021602Z
UID:10005409-1765051200-1765062000@livemusicasheville.com
SUMMARY:An Evening With LazrLuvr
DESCRIPTION:
URL:https://livemusicasheville.com/calendar/lazr-luvr/
LOCATION:Third Room\, 46 Wall Street\, Asheville\, NC\, NC\, 28803\, United States
CATEGORIES:Asheville Area,Live Music
GEO:35.5943967;-82.5559625
X-APPLE-STRUCTURED-LOCATION;VALUE=URI;X-ADDRESS=Third Room 46 Wall Street Asheville NC NC 28803 United States;X-APPLE-RADIUS=500;X-TITLE=46 Wall Street:geo:-82.5559625,35.5943967
END:VEVENT
BEGIN:VEVENT
DTSTART;TZID=America/New_York:20251206T200000
DTEND;TZID=America/New_York:20251206T230000
DTSTAMP:20260419T175135
CREATED:20250604T204412Z
LAST-MODIFIED:20251203T182208Z
UID:10015456-1765051200-1765062000@livemusicasheville.com
SUMMARY:Jake Dwyer Band
DESCRIPTION:
URL:https://livemusicasheville.com/calendar/jake-dwyer-band-2/
LOCATION:Eda’s Hide-a-Way Weaverville
CATEGORIES:Asheville Area,Live Music,Weaverville
GEO:35.6970547;-82.5606851
END:VEVENT
BEGIN:VEVENT
DTSTART;TZID=America/New_York:20251206T200000
DTEND;TZID=America/New_York:20251206T230000
DTSTAMP:20260419T175135
CREATED:20250618T173959Z
LAST-MODIFIED:20251203T183130Z
UID:10015997-1765051200-1765062000@livemusicasheville.com
SUMMARY:SAME AS IT EVER WAS - [Tribute to Talking Heads]
DESCRIPTION:
URL:https://livemusicasheville.com/calendar/same-as-it-ever-was-tribute-to-talking-heads/
LOCATION:Revival\, 66 Asheland Avenue\, Asheville\, NC\, 28801\, United States
CATEGORIES:Asheville Area,Live Music
GEO:35.5917821;-82.555861
X-APPLE-STRUCTURED-LOCATION;VALUE=URI;X-ADDRESS=Revival 66 Asheland Avenue Asheville NC 28801 United States;X-APPLE-RADIUS=500;X-TITLE=66 Asheland Avenue:geo:-82.555861,35.5917821
END:VEVENT
BEGIN:VEVENT
DTSTART;TZID=America/New_York:20251206T200000
DTEND;TZID=America/New_York:20251206T230000
DTSTAMP:20260419T175135
CREATED:20250729T115609Z
LAST-MODIFIED:20251203T064246Z
UID:10018306-1765051200-1765062000@livemusicasheville.com
SUMMARY:Will Hartz & Y'all Oughta Know
DESCRIPTION:
URL:https://livemusicasheville.com/calendar/will-hartz-yall-oughta-know/
LOCATION:Town Pump Tavern Black Mountain
CATEGORIES:Asheville Area,Black Mountain,Live Music
GEO:35.6162458;-82.320259
END:VEVENT
BEGIN:VEVENT
DTSTART;TZID=America/New_York:20251206T200000
DTEND;TZID=America/New_York:20251206T230000
DTSTAMP:20260419T175135
CREATED:20251118T153351Z
LAST-MODIFIED:20251201T212149Z
UID:10024675-1765051200-1765062000@livemusicasheville.com
SUMMARY:Hustle Souls with Watkins
DESCRIPTION:Doors: 7pm | Show: 8pm | $12 ADV | $15 DAY OF SHOW Event Details and TicketsFOOD TRUCK: SMASHEVILLEHUSTLE SOULS:Hustle Souls\, based in Asheville\, NC\, masterfully blend Retro-Soul\, New Orleans Brass\, and Singer-Songwriter Americana into a unique and captivating sound. Lauded by American Blues Scene as a “generation-jumping mashup of new school second line funk with old school vintage soul\,” and described by Bluestown Music as “intimate soul…with a Curtis Mayfield like warmth\,” the band has earned a spot as one of Music Connection Magazine’s “Hot 100 Live Unsigned Artists & Bands” and No Treble shared the band saying “I hadn’t heard them before\, but I’m glad I have now… Must See”\n\nWATKINS:With a desire to open the mind of the modern music scene\, Watkins brings flavors of indie-folk and alt-rock. Watkins has created a grassroots following in his travels across the country\, known for his acoustic guitar picking and soul-packed vocal performance. His lyrics showcase the spiritual journey taken during the writing process\, distilled through years of living on the road. From Teton Valley to the Blue Ridge Mountains\, Watkins is bringing his music to the masses. Sophomore album Unbiased Eyes showcases these universal reflections in songs such as Lovely Scares and Sad Happy. His latest single Coyote foreshadows the upcoming release of his third record!\n  \nFounded in 2005\, Pisgah is known for producing some of the most sought after craft ales in Western North Carolina. Pisgah Brewing Company currently operates the new indoor taproom & deli\, with live music several days a week\, plus an open air outdoor bar in the summer and fall months. Check out our upcoming schedule at pisgahbrewing.com/events
URL:https://livemusicasheville.com/calendar/hustle-souls-with-watkins/
LOCATION:Pisgah Brewing Company Black Mountain\, 2948 US-70\, Black Mountain\, NC\, 28711
CATEGORIES:Asheville Area,Black Mountain,Live Music
GEO:35.6068069;-82.3568213
X-APPLE-STRUCTURED-LOCATION;VALUE=URI;X-ADDRESS=Pisgah Brewing Company Black Mountain 2948 US-70 Black Mountain NC 28711;X-APPLE-RADIUS=500;X-TITLE=2948 US-70:geo:-82.3568213,35.6068069
END:VEVENT
BEGIN:VEVENT
DTSTART;TZID=America/New_York:20251206T200000
DTEND;TZID=America/New_York:20251206T230000
DTSTAMP:20260419T175135
CREATED:20251129T153122Z
LAST-MODIFIED:20251204T140324Z
UID:10026287-1765051200-1765062000@livemusicasheville.com
SUMMARY:K A T R I N A ft. Lenny Pettinelli & Peter Dimery
DESCRIPTION:Saturday\, December 6th | 8:00pm\n\n\n\nK A T R I N A is an Asheville based vocalist and songwriter with a deep love for intimate phrasing and modern harmony. Saturday night\, she is joined by pianist Lenny Pettinelli and saxophonist Peter Dimery for an evening built around melody\, emotion\, and groove.\n\n\n\nThe trio reimagines familiar favorites in a “pop goes jazz” style\, taking well known songs and dressing them in smoky chords\, subtle reharmonizations\, and improvisations that leave plenty of space for the lyrics to breathe. You might recognize the tunes\, but they arrive with fresh swing\, cool bossa undertones\, and late night lounge energy.\n\n\n\nAlongside these reinvented standards\, K A T R I N A will share a handful of original songs that lean into storytelling\, warm tone\, and dynamic interplay with keys and sax. Expect a set that feels both nostalgic and new\, perfect for lingering over a drink\, catching every word\, and letting the band pull you into their little nighttime world.\n\n  \nHotel Eve is your locally rooted\, speakeasy jazz club & cocktail bar\, hidden in the heart of Downtown Asheville. Mysteriously not a hotel…check in for spirits\, souls and jazz! We’re tucked away\, on purpose. You’ll find us behind the gate nestled between Virtue Boutique and Dane Wells Gallery at 56 N Lexington Avenue in downtown Asheville. Step through\, take a left into the courtyard\, check in for Spirits\, Souls & Jazz. We’ll be waiting on the other side. hotelevejazz.com \n 
URL:https://livemusicasheville.com/calendar/k-a-t-r-i-n-a-ft-lenny-pettinelli-peter-dimery/
LOCATION:Hotel Eve Jazz\, 56 N Lexington Avenue\, Asheville\, NC\, 28801\, United States
CATEGORIES:Asheville Area,Live Music
GEO:35.5967716;-82.5530826
X-APPLE-STRUCTURED-LOCATION;VALUE=URI;X-ADDRESS=Hotel Eve Jazz 56 N Lexington Avenue Asheville NC 28801 United States;X-APPLE-RADIUS=500;X-TITLE=56 N Lexington Avenue:geo:-82.5530826,35.5967716
END:VEVENT
BEGIN:VEVENT
DTSTART;TZID=America/New_York:20251206T200000
DTEND;TZID=America/New_York:20251206T230000
DTSTAMP:20260419T175135
CREATED:20251203T191426Z
LAST-MODIFIED:20251203T191426Z
UID:10026599-1765051200-1765062000@livemusicasheville.com
SUMMARY:JD McPherson w/ Melissa Carper
DESCRIPTION:
URL:https://livemusicasheville.com/calendar/jd-mcpherson-w-melissa-carper/
LOCATION:The Grey Eagle\, 185 Clingman Ave\, Asheville\, NC\, United States
CATEGORIES:Asheville Area,Live Music
GEO:35.5870871;-82.5643936
X-APPLE-STRUCTURED-LOCATION;VALUE=URI;X-ADDRESS=The Grey Eagle 185 Clingman Ave Asheville NC United States;X-APPLE-RADIUS=500;X-TITLE=185 Clingman Ave:geo:-82.5643936,35.5870871
END:VEVENT
BEGIN:VEVENT
DTSTART;TZID=America/New_York:20251206T203000
DTEND;TZID=America/New_York:20251206T233000
DTSTAMP:20260419T175135
CREATED:20250416T120825Z
LAST-MODIFIED:20251203T134009Z
UID:10012595-1765053000-1765063800@livemusicasheville.com
SUMMARY:Soulful Americana w/ Ashley Heath & Her Heathens
DESCRIPTION:
URL:https://livemusicasheville.com/calendar/soulful-americana-w-ashley-heath-her-heathens/
LOCATION:Jack Of The Wood\, 95 Patton Ave\, asheville\, NC\, United States
CATEGORIES:Asheville Area,Live Music
GEO:35.5944492;-82.5558221
X-APPLE-STRUCTURED-LOCATION;VALUE=URI;X-ADDRESS=Jack Of The Wood 95 Patton Ave asheville NC United States;X-APPLE-RADIUS=500;X-TITLE=95 Patton Ave:geo:-82.5558221,35.5944492
END:VEVENT
BEGIN:VEVENT
DTSTART;TZID=America/New_York:20251206T203000
DTEND;TZID=America/New_York:20251207T010000
DTSTAMP:20260419T175135
CREATED:20241225T140756Z
LAST-MODIFIED:20251214T224332Z
UID:10001525-1765053000-1765069200@livemusicasheville.com
SUMMARY:Elaine’s Dueling Piano Bar
DESCRIPTION:
URL:https://livemusicasheville.com/calendar/elaines-dueling-piano-bar/2025-12-06/
LOCATION:The Omni Grove Park Inn
CATEGORIES:Asheville Area,Live Music
GEO:35.6206376;-82.5422977
END:VEVENT
END:VCALENDAR