BEGIN:VCALENDAR
VERSION:2.0
PRODID:-//LiveMusicAsheville.com - ECPv6.15.20//NONSGML v1.0//EN
CALSCALE:GREGORIAN
METHOD:PUBLISH
X-ORIGINAL-URL:https://livemusicasheville.com
X-WR-CALDESC:Events for LiveMusicAsheville.com
REFRESH-INTERVAL;VALUE=DURATION:PT1H
X-Robots-Tag:noindex
X-PUBLISHED-TTL:PT1H
BEGIN:VTIMEZONE
TZID:America/New_York
BEGIN:DAYLIGHT
TZOFFSETFROM:-0500
TZOFFSETTO:-0400
TZNAME:EDT
DTSTART:20240310T070000
END:DAYLIGHT
BEGIN:STANDARD
TZOFFSETFROM:-0400
TZOFFSETTO:-0500
TZNAME:EST
DTSTART:20241103T060000
END:STANDARD
BEGIN:DAYLIGHT
TZOFFSETFROM:-0500
TZOFFSETTO:-0400
TZNAME:EDT
DTSTART:20250309T070000
END:DAYLIGHT
BEGIN:STANDARD
TZOFFSETFROM:-0400
TZOFFSETTO:-0500
TZNAME:EST
DTSTART:20251102T060000
END:STANDARD
BEGIN:DAYLIGHT
TZOFFSETFROM:-0500
TZOFFSETTO:-0400
TZNAME:EDT
DTSTART:20260308T070000
END:DAYLIGHT
BEGIN:STANDARD
TZOFFSETFROM:-0400
TZOFFSETTO:-0500
TZNAME:EST
DTSTART:20261101T060000
END:STANDARD
END:VTIMEZONE
BEGIN:VEVENT
DTSTART;TZID=America/New_York:20251202T193000
DTEND;TZID=America/New_York:20251202T213000
DTSTAMP:20260419T144253
CREATED:20251008T104510Z
LAST-MODIFIED:20260121T213118Z
UID:10022316-1764703800-1764711000@livemusicasheville.com
SUMMARY:POSTPONED | Nothin’ But the Blues Jam
DESCRIPTION:
URL:https://livemusicasheville.com/calendar/nothin-but-the-blues-jam/2025-12-02/
LOCATION:White Horse Black Mountain
CATEGORIES:Asheville Area,Black Mountain,Live Music,Open MIc/Jam
GEO:35.6178579;-82.3211924
END:VEVENT
BEGIN:VEVENT
DTSTART;TZID=America/New_York:20251202T200000
DTEND;TZID=America/New_York:20251202T220000
DTSTAMP:20260419T144253
CREATED:20250728T140332Z
LAST-MODIFIED:20260202T171555Z
UID:10023470-1764705600-1764712800@livemusicasheville.com
SUMMARY:“Little Quinnsdays” w/ Quinn Sternberg's Mind Beach
DESCRIPTION:
URL:https://livemusicasheville.com/calendar/little-quinnsdays-w-quinn-sternbergs-mind-beach-2/2025-12-02/
LOCATION:Town Pump Tavern Black Mountain
CATEGORIES:Asheville Area,Black Mountain,Live Music
GEO:35.6162458;-82.320259
END:VEVENT
BEGIN:VEVENT
DTSTART;TZID=America/New_York:20251202T200000
DTEND;TZID=America/New_York:20251202T220000
DTSTAMP:20260419T144253
CREATED:20251023T142458Z
LAST-MODIFIED:20260406T181605Z
UID:10054838-1764705600-1764712800@livemusicasheville.com
SUMMARY:Hot Jazz w/ The John Henrys
DESCRIPTION:
URL:https://livemusicasheville.com/calendar/hot-jazz-w-the-john-henrys-2-2/2025-12-02/
LOCATION:5 Walnut Wine Bar
CATEGORIES:Asheville Area,Live Music
GEO:35.596654;-82.5525389
END:VEVENT
BEGIN:VEVENT
DTSTART;TZID=America/New_York:20251202T200000
DTEND;TZID=America/New_York:20251202T230000
DTSTAMP:20260419T144253
CREATED:20251126T170551Z
LAST-MODIFIED:20251202T131510Z
UID:10025950-1764705600-1764716400@livemusicasheville.com
SUMMARY:SOLD OUT | All Them Witches w/ King Buffalo
DESCRIPTION:SOLD OUT!
URL:https://livemusicasheville.com/calendar/all-them-witches-w-king-buffalo/
LOCATION:The Orange Peel
CATEGORIES:Asheville Area,Live Music
GEO:35.5914061;-82.5510137
END:VEVENT
BEGIN:VEVENT
DTSTART;TZID=America/New_York:20251202T200000
DTEND;TZID=America/New_York:20251202T230000
DTSTAMP:20260419T144253
CREATED:20251126T182824Z
LAST-MODIFIED:20251201T202625Z
UID:10025956-1764705600-1764716400@livemusicasheville.com
SUMMARY:Cancelled | Hannah Juanita w/ Resonant Rogues
DESCRIPTION:
URL:https://livemusicasheville.com/calendar/hannah-juanita-w-resonant-rogues/
LOCATION:The Grey Eagle\, 185 Clingman Ave\, Asheville\, NC\, United States
CATEGORIES:Asheville Area,Live Music
GEO:35.5870871;-82.5643936
X-APPLE-STRUCTURED-LOCATION;VALUE=URI;X-ADDRESS=The Grey Eagle 185 Clingman Ave Asheville NC United States;X-APPLE-RADIUS=500;X-TITLE=185 Clingman Ave:geo:-82.5643936,35.5870871
END:VEVENT
BEGIN:VEVENT
DTSTART;TZID=America/New_York:20251202T213000
DTEND;TZID=America/New_York:20251202T233000
DTSTAMP:20260419T144253
CREATED:20250306T145855Z
LAST-MODIFIED:20251214T220551Z
UID:10008635-1764711000-1764718200@livemusicasheville.com
SUMMARY:Feature Your Event Here
DESCRIPTION:Our Featured Listings really STAND OUT among the dozens on events on the calendar every day creating a better opportunity for a successful event.
URL:https://livemusicasheville.com/calendar/feature-your-event-here-2-2/2025-12-02/
CATEGORIES:Asheville Area,Black Mountain,Fairview,Live Music,Madison County,Mills River,South Asheville/Arden/Fletcher,Weaverville
ATTACH;FMTTYPE=image/jpeg:https://livemusicasheville.com/wp-content/uploads/2025/01/IMG_8324-e1737476634895.jpeg
END:VEVENT
BEGIN:VEVENT
DTSTART;VALUE=DATE:20251203
DTEND;VALUE=DATE:20251205
DTSTAMP:20260419T144253
CREATED:20250121T072030Z
LAST-MODIFIED:20251210T122902Z
UID:10020182-1764730800-1764817199@livemusicasheville.com
SUMMARY:Support Your Local Music Calendar
DESCRIPTION:We hope you enjoy our guide to the Asheville area’s dynamic music scene. \nIf we somehow help to brighten up your day\, please consider a $5 donation to help support our efforts in providing the area’s most complete local live music calendar. \nVenmo: click here  \nLast 4 digits – 3383 \nPayPal: click here \n \n 
URL:https://livemusicasheville.com/calendar/support-your-local-music-calendar-2/2025-12-03/
CATEGORIES:Asheville Area
END:VEVENT
BEGIN:VEVENT
DTSTART;VALUE=DATE:20251203
DTEND;VALUE=DATE:20251205
DTSTAMP:20260419T144253
CREATED:20250309T145031Z
LAST-MODIFIED:20260310T140019Z
UID:10009674-1764730800-1764817199@livemusicasheville.com
SUMMARY:Ask About Our Featured Listings
DESCRIPTION:Established in February 2019\, LiveMusicAsheville.com now reaches thousands of people every week actively searching for live music in the Asheville area. Roughly 60% of our traffic comes from Google Search as we dominate the top of the results for queries such as “Asheville live music” & “live music Asheville”. Meanwhile our direct traffic is experiencing explosive growth\, proving more locals are now using us as their go-to music calendar. \nOur free listings include just the basics of Who’s Playin’ Where & When. We offer Descriptive Listings at just $5 per event to help you guide viewers to your event. These listings include up to 30 words but do not include links.  \nOur Featured Listings really stand out among the dozens of events on the calendar every day. While we update every Wednesday for the following Friday thru Thursday\, these Featured Listings are published much sooner and include your picture or poster\, a description of the event and the venue\, website/ticket links and a Google map. We also share these events on our social media stories to help further promote your show. \n 
URL:https://livemusicasheville.com/calendar/ask-about-our-featured-listings/2025-12-03/
LOCATION:LiveMusicAsheville.com\, ASHEVILLE\, NC\, 28803\, United States
CATEGORIES:Asheville Area,Black Mountain,Fairview,Live Music,Madison County,Mills River,South Asheville/Arden/Fletcher,Weaverville
ATTACH;FMTTYPE=image/jpeg:https://livemusicasheville.com/wp-content/uploads/2026/02/IMG_4145-e1770855289327.jpeg
ORGANIZER;CN="LiveMusicAsheville.com":MAILTO:livemusicasheville@gmail.com
GEO:35.5671423;-82.5437614
END:VEVENT
BEGIN:VEVENT
DTSTART;TZID=America/New_York:20251203T100000
DTEND;TZID=America/New_York:20251203T120000
DTSTAMP:20260419T144253
CREATED:20250819T145356Z
LAST-MODIFIED:20251001T070334Z
UID:10021072-1764756000-1764763200@livemusicasheville.com
SUMMARY:Morning jazz w/ Sharon LaMotte duo
DESCRIPTION:
URL:https://livemusicasheville.com/calendar/sharon-lamotte-mike-holstein/2025-12-03/
LOCATION:Allgood Coffee Weaverville
CATEGORIES:Asheville Area,Live Music,Weaverville
END:VEVENT
BEGIN:VEVENT
DTSTART;TZID=America/New_York:20251203T160000
DTEND;TZID=America/New_York:20251203T230000
DTSTAMP:20260419T144253
CREATED:20241226T150904Z
LAST-MODIFIED:20260311T163311Z
UID:10018188-1764777600-1764802800@livemusicasheville.com
SUMMARY:Wednesday Open Mics/Jams
DESCRIPTION:Bluegrass/Old Time Jam @ Riverside Rhapsody Brewing – 5-8pm  \nBlunt Pretzels Swannanoa – 5-8pm \nElkhorn  Canna Co – 6-9pm (Feb 25) \nOpen Mic @ Twin Leaf Brewery – 6-8pm \nOpen Mic @ Auction House Fletcher (first Wednesdays) 6-9pm \nOpen Mic @ Camden’s Coffee House Mars Hill – 6:30-8:30pm \nOpen Mic @ Papertown Billiards Canton – 7-9pm \nWhite Horse Black Mountain – 7-9:30pm (2nd & 4th Wednesdays) – POSTPONED \nOpen Jam w/ Hamza @ Silverados Black Mountain – 7-10pm \nOpen Mic & Decks @ Sly Grog Lounge -7-11pm \nJam Night @ Elevated Kava Lounge – 8-11pm  \nAll Genre Open Mic @ Sovereign Kava – 8:30-11pm \n 
URL:https://livemusicasheville.com/calendar/wednesday-open-mics-jams/2025-12-03/
LOCATION:Asheville Area
CATEGORIES:Asheville Area,Black Mountain,Open MIc/Jam
ATTACH;FMTTYPE=image/jpeg:https://livemusicasheville.com/wp-content/uploads/2024/12/IMG_9400-e1743027161179.jpeg
END:VEVENT
BEGIN:VEVENT
DTSTART;TZID=America/New_York:20251203T170000
DTEND;TZID=America/New_York:20251203T210000
DTSTAMP:20260419T144253
CREATED:20241226T150016Z
LAST-MODIFIED:20260211T135450Z
UID:10003261-1764781200-1764795600@livemusicasheville.com
SUMMARY:Jack’s Old-Time Jam
DESCRIPTION:Grab some dinner and a pint while enjoying our long-running Old-Time Jam! Featuring many talented musicians from the local WNC area\, our traditional Appalachian mountain music jam runs from 5-9pm every Wednesday night at Jack of the Wood! \nJack Of The Wood is still a downtown hot spot for food\, brews and drink since 1997 and founders Joan and Joe Eckert who still own it\, have maintained the original lively English and Irish vibe. The old-time mountain and Irish music jams continue\, including a hot bluegrass jam Thursdays and brunch every Sunday. The venue extends a welcoming feeling to regulars and newcomers to this day. https://jackofthewood.com/
URL:https://livemusicasheville.com/calendar/jacks-old-time-jam/2025-12-03/
LOCATION:Jack Of The Wood\, 95 Patton Ave\, asheville\, NC\, United States
CATEGORIES:Asheville Area,Live Music,Open MIc/Jam
ATTACH;FMTTYPE=image/jpeg:https://livemusicasheville.com/wp-content/uploads/2024/12/IMG_8922-e1741818303811.jpeg
GEO:35.5944492;-82.5558221
X-APPLE-STRUCTURED-LOCATION;VALUE=URI;X-ADDRESS=Jack Of The Wood 95 Patton Ave asheville NC United States;X-APPLE-RADIUS=500;X-TITLE=95 Patton Ave:geo:-82.5558221,35.5944492
END:VEVENT
BEGIN:VEVENT
DTSTART;TZID=America/New_York:20251203T173000
DTEND;TZID=America/New_York:20251203T193000
DTSTAMP:20260419T144253
CREATED:20251028T130236Z
LAST-MODIFIED:20251130T173637Z
UID:10026289-1764783000-1764790200@livemusicasheville.com
SUMMARY:The Candleers
DESCRIPTION:weather dependent
URL:https://livemusicasheville.com/calendar/the-candleers-4/2025-12-03/
LOCATION:Eluvium Brewing Company Weaverville
CATEGORIES:Asheville Area,Live Music,Weaverville
END:VEVENT
BEGIN:VEVENT
DTSTART;TZID=America/New_York:20251203T180000
DTEND;TZID=America/New_York:20251203T200000
DTSTAMP:20260419T144253
CREATED:20251104T171012Z
LAST-MODIFIED:20251201T162040Z
UID:10004307-1764784800-1764792000@livemusicasheville.com
SUMMARY:Well Crafted Music Series with Matt Smith
DESCRIPTION:  \n12/3 – w/ Cynthia McDermott \nCheck with the venue for Matt’s upcoming guest(s).
URL:https://livemusicasheville.com/calendar/well-crafted-wednesday-with-matt-smith-2-2-2-2/2025-12-03/
LOCATION:Highland Brewing
CATEGORIES:Asheville Area,Live Music
END:VEVENT
BEGIN:VEVENT
DTSTART;TZID=America/New_York:20251203T180000
DTEND;TZID=America/New_York:20251203T210000
DTSTAMP:20260419T144253
CREATED:20250805T224118Z
LAST-MODIFIED:20260401T003407Z
UID:10003330-1764784800-1764795600@livemusicasheville.com
SUMMARY:Mills River Brewing Bluegrass Jam
DESCRIPTION:Appalachia Haze will be hosting The bluegrass Jam Session on Wednesday\, April 1st (no fooling). The band performs from 6pm – 7pm // open jam from 7pm – 9pm. All are welcom
URL:https://livemusicasheville.com/calendar/bear-creek-string-bandits-bluegrass-jam-2/2025-12-03/
LOCATION:Mills River Brewing Co.\, 336 Banner Farm Rd\,\, Mills River\, NC\, 28759
CATEGORIES:Asheville Area,Live Music,Mills River,Open MIc/Jam
GEO:35.380515;-82.5654984
X-APPLE-STRUCTURED-LOCATION;VALUE=URI;X-ADDRESS=Mills River Brewing Co. 336 Banner Farm Rd Mills River NC 28759;X-APPLE-RADIUS=500;X-TITLE=336 Banner Farm Rd\,:geo:-82.5654984,35.380515
END:VEVENT
BEGIN:VEVENT
DTSTART;TZID=America/New_York:20251203T180000
DTEND;TZID=America/New_York:20251203T210000
DTSTAMP:20260419T144253
CREATED:20250917T142755Z
LAST-MODIFIED:20251216T125559Z
UID:10022396-1764784800-1764795600@livemusicasheville.com
SUMMARY:Country Line Dance Lessons and Dancing
DESCRIPTION:
URL:https://livemusicasheville.com/calendar/country-line-dance-lessons-and-dancing/2025-12-03/
LOCATION:Eda’s Hide-a-Way Weaverville
CATEGORIES:Asheville Area,DJ/Electronic,Weaverville
GEO:35.6970547;-82.5606851
END:VEVENT
BEGIN:VEVENT
DTSTART;TZID=America/New_York:20251203T180000
DTEND;TZID=America/New_York:20251203T220000
DTSTAMP:20260419T144253
CREATED:20251007T130234Z
LAST-MODIFIED:20251116T161904Z
UID:10024575-1764784800-1764799200@livemusicasheville.com
SUMMARY:Winter Lights
DESCRIPTION:We look forward to welcoming you back for another year of Asheville’s Brightest Holiday Tradition! Winter Lights is a spectacular open-air walk-through light show made from over one million lights! Located at the North Carolina Arboretum in Asheville\, North Carolina\, this year’s event features favorites like the famously tall 50-foot lighted tree and the Quilt Garden\, along with enchanting new details designed to delight and surprise. \nTroll sightings are anticipated at this year’s Winter Lights\, as six of Dambo’s Trolls will be experiencing the show for themselves. Meet them in the gardens at Winter Lights! \nWinter Lights features live entertainment nightly and food and beverages from the Bent Creek Bistro\, the Cocoa Shack and the Cocoa Cabin! Open nightly from 6:00 – 10:00 p.m. \nTickets on Sale Now! Event Details and Tickets \nFor more than 35 years…Cultivating Connections between People\, Plants and Places…amid a 434-acre public garden\, The North Carolina Arboretum is located within the Bent Creek Experimental Forest just south of Asheville and adjacent to the Blue Ridge Parkway at Milepost 393. Surrounded and crisscrossed by forested coves and meandering creeks in the botanically diverse Southern Appalachian Mountains\, The North Carolina Arboretum is set in one of the most beautiful natural settings in America. ncarboretum.org \n  \n 
URL:https://livemusicasheville.com/calendar/winter-lights-2/2025-12-03/
LOCATION:The North Carolina Arboretum
CATEGORIES:Asheville Area,Live Music
END:VEVENT
BEGIN:VEVENT
DTSTART;TZID=America/New_York:20251203T183000
DTEND;TZID=America/New_York:20251203T213000
DTSTAMP:20260419T144253
CREATED:20251202T163428Z
LAST-MODIFIED:20251202T163429Z
UID:10024124-1764786600-1764797400@livemusicasheville.com
SUMMARY:Artist ReLeaf Jam Wednesdays
DESCRIPTION:The community is invited to listen\, explore\, and find your voice within the Jazz Idiom and all branches of the musical web. $5.00 suggested donation. Drinks available for purchase.
URL:https://livemusicasheville.com/calendar/leaf-jam-wednesdays-3/
LOCATION:LEAF Global Arts\, 19 Eagle St\, Asheville\, NC\, 28801
CATEGORIES:Asheville Area,Live Music,Open MIc/Jam
GEO:35.5938244;-82.5505196
X-APPLE-STRUCTURED-LOCATION;VALUE=URI;X-ADDRESS=LEAF Global Arts 19 Eagle St Asheville NC 28801;X-APPLE-RADIUS=500;X-TITLE=19 Eagle St:geo:-82.5505196,35.5938244
END:VEVENT
BEGIN:VEVENT
DTSTART;TZID=America/New_York:20251203T190000
DTEND;TZID=America/New_York:20251203T210000
DTSTAMP:20260419T144253
CREATED:20250709T170628Z
LAST-MODIFIED:20251231T154358Z
UID:10030079-1764788400-1764795600@livemusicasheville.com
SUMMARY:Bam-A Lam with Jason Krekel & Craig Kellberg
DESCRIPTION:
URL:https://livemusicasheville.com/calendar/bam-a-lam-with-jason-krekel-craig-kellberg-2-2-2-2/2025-12-03/
LOCATION:5 Walnut Wine Bar
CATEGORIES:Asheville Area,Live Music
GEO:35.596654;-82.5525389
END:VEVENT
BEGIN:VEVENT
DTSTART;TZID=America/New_York:20251203T200000
DTEND;TZID=America/New_York:20251203T230000
DTSTAMP:20260419T144253
CREATED:20251126T182927Z
LAST-MODIFIED:20251126T182927Z
UID:10025957-1764792000-1764802800@livemusicasheville.com
SUMMARY:Bonnie “Prince” Billy with Matt Kivel
DESCRIPTION:
URL:https://livemusicasheville.com/calendar/bonnie-prince-billy-with-matt-kivel/
LOCATION:The Grey Eagle\, 185 Clingman Ave\, Asheville\, NC\, United States
CATEGORIES:Asheville Area,Live Music
GEO:35.5870871;-82.5643936
X-APPLE-STRUCTURED-LOCATION;VALUE=URI;X-ADDRESS=The Grey Eagle 185 Clingman Ave Asheville NC United States;X-APPLE-RADIUS=500;X-TITLE=185 Clingman Ave:geo:-82.5643936,35.5870871
END:VEVENT
BEGIN:VEVENT
DTSTART;TZID=America/New_York:20251203T200000
DTEND;TZID=America/New_York:20251204T000000
DTSTAMP:20260419T144253
CREATED:20251106T142713Z
LAST-MODIFIED:20251216T130955Z
UID:10003591-1764792000-1764806400@livemusicasheville.com
SUMMARY:Latin Night Wednesdays
DESCRIPTION:
URL:https://livemusicasheville.com/calendar/latin-night-wednesdays-2-2-2/2025-12-03/
LOCATION:One World Brewing – West\, 520 Haywood Rd\, Asheville\, North Carolina\, 28806
CATEGORIES:Asheville Area,DJ/Electronic
GEO:35.5783642;-82.5848526
X-APPLE-STRUCTURED-LOCATION;VALUE=URI;X-ADDRESS=One World Brewing – West 520 Haywood Rd Asheville North Carolina 28806;X-APPLE-RADIUS=500;X-TITLE=520 Haywood Rd:geo:-82.5848526,35.5783642
END:VEVENT
BEGIN:VEVENT
DTSTART;TZID=America/New_York:20251203T200000
DTEND;TZID=America/New_York:20251204T020000
DTSTAMP:20260419T144253
CREATED:20241226T155419Z
LAST-MODIFIED:20251216T124703Z
UID:10026975-1764792000-1764813600@livemusicasheville.com
SUMMARY:Wednesday Weekly DJs
DESCRIPTION:One World Brewing West – 8pm-12am  \nImperial – 9pm-12am  \nShakeys Dive Bar – 10pm-2am \nVerify with the venue for the DJs and cover charges. \n 
URL:https://livemusicasheville.com/calendar/wednesday-weekely-djs/2025-12-03/
LOCATION:Asheville Area
CATEGORIES:Asheville Area,DJ/Electronic
END:VEVENT
BEGIN:VEVENT
DTSTART;TZID=America/New_York:20251203T200000
DTEND;TZID=America/New_York:20251204T020000
DTSTAMP:20260419T144253
CREATED:20251126T223442Z
LAST-MODIFIED:20251216T131059Z
UID:10026028-1764792000-1764813600@livemusicasheville.com
SUMMARY:All Request Piano Show
DESCRIPTION:
URL:https://livemusicasheville.com/calendar/all-request-piano-show-3/2025-12-03/
LOCATION:Off the Wagon
CATEGORIES:Asheville Area,Live Music
GEO:41.4302231;-81.3909542
END:VEVENT
BEGIN:VEVENT
DTSTART;TZID=America/New_York:20251203T210000
DTEND;TZID=America/New_York:20251203T230000
DTSTAMP:20260419T144253
CREATED:20250319T221231Z
LAST-MODIFIED:20251130T072543Z
UID:10010232-1764795600-1764802800@livemusicasheville.com
SUMMARY:Wednesday Friendsday w/ Reggie Headen & Friends
DESCRIPTION:
URL:https://livemusicasheville.com/calendar/reggie-headen-nighttime-noon/
LOCATION:Town Pump Tavern Black Mountain
CATEGORIES:Asheville Area,Black Mountain,Live Music
GEO:35.6162458;-82.320259
END:VEVENT
BEGIN:VEVENT
DTSTART;TZID=America/New_York:20251203T210000
DTEND;TZID=America/New_York:20251203T233000
DTSTAMP:20260419T144253
CREATED:20251126T170815Z
LAST-MODIFIED:20251126T170815Z
UID:10025951-1764795600-1764804600@livemusicasheville.com
SUMMARY:C.Shreve the Professor presents Shreve Got Lost (Album Release Party)
DESCRIPTION:Performances by: Mike Martinez\, DJ Jet\, Mister Burns\, Juan Holladay
URL:https://livemusicasheville.com/calendar/c-shreve-the-professor-presents-shreve-got-lost-album-release-party/
LOCATION:PULP Speakeasy and Sound Lounge\, 103 Hilliard Ave\, Asheville\, NC\, 28801
CATEGORIES:Asheville Area,DJ/Electronic,Live Music
GEO:35.5912524;-82.5510465
X-APPLE-STRUCTURED-LOCATION;VALUE=URI;X-ADDRESS=PULP Speakeasy and Sound Lounge 103 Hilliard Ave Asheville NC 28801;X-APPLE-RADIUS=500;X-TITLE=103 Hilliard Ave:geo:-82.5510465,35.5912524
END:VEVENT
BEGIN:VEVENT
DTSTART;VALUE=DATE:20251204
DTEND;VALUE=DATE:20251206
DTSTAMP:20260419T144253
CREATED:20250125T140528Z
LAST-MODIFIED:20251210T122935Z
UID:10017434-1764817200-1764903599@livemusicasheville.com
SUMMARY:Love What We Do?
DESCRIPTION:We hope you enjoy our guide to the Asheville area’s dynamic music scene. \nIf we somehow help to brighten up your day\, please consider a $5 donation to help support our efforts in providing the area’s most reliable local live music calendar. \nVenmo: click here  \nLast 4 digits – 3383 \nPayPal: click here \n 
URL:https://livemusicasheville.com/calendar/greetings-fellow-music-lovers-2/2025-12-04/
LOCATION:Asheville Area
CATEGORIES:Asheville Area
END:VEVENT
BEGIN:VEVENT
DTSTART;VALUE=DATE:20251204
DTEND;VALUE=DATE:20251206
DTSTAMP:20260419T144253
CREATED:20251202T152900Z
LAST-MODIFIED:20251202T153107Z
UID:10026322-1764817200-1764903599@livemusicasheville.com
SUMMARY:THIS SATURDAY | Hustle Souls with Watkins
DESCRIPTION:Doors: 7pm | Show: 8pm | $12 ADV | $15 DAY OF SHOW Event Details and TicketsFOOD TRUCK: SMASHEVILLEHUSTLE SOULS:Hustle Souls\, based in Asheville\, NC\, masterfully blend Retro-Soul\, New Orleans Brass\, and Singer-Songwriter Americana into a unique and captivating sound. Lauded by American Blues Scene as a “generation-jumping mashup of new school second line funk with old school vintage soul\,” and described by Bluestown Music as “intimate soul…with a Curtis Mayfield like warmth\,” the band has earned a spot as one of Music Connection Magazine’s “Hot 100 Live Unsigned Artists & Bands” and No Treble shared the band saying “I hadn’t heard them before\, but I’m glad I have now… Must See”\n\nWATKINS:With a desire to open the mind of the modern music scene\, Watkins brings flavors of indie-folk and alt-rock. Watkins has created a grassroots following in his travels across the country\, known for his acoustic guitar picking and soul-packed vocal performance. His lyrics showcase the spiritual journey taken during the writing process\, distilled through years of living on the road. From Teton Valley to the Blue Ridge Mountains\, Watkins is bringing his music to the masses. Sophomore album Unbiased Eyes showcases these universal reflections in songs such as Lovely Scares and Sad Happy. His latest single Coyote foreshadows the upcoming release of his third record!\n  \nFounded in 2005\, Pisgah is known for producing some of the most sought after craft ales in Western North Carolina. Pisgah Brewing Company currently operates the new indoor taproom & deli\, with live music several days a week\, plus an open air outdoor bar in the summer and fall months. Check out our upcoming schedule at pisgahbrewing.com/events
URL:https://livemusicasheville.com/calendar/this-saturday-hustle-souls-with-watkins/2025-12-04/
LOCATION:Pisgah Brewing Company Black Mountain\, 2948 US-70\, Black Mountain\, NC\, 28711
CATEGORIES:Asheville Area,Black Mountain,Live Music
GEO:35.6068069;-82.3568213
X-APPLE-STRUCTURED-LOCATION;VALUE=URI;X-ADDRESS=Pisgah Brewing Company Black Mountain 2948 US-70 Black Mountain NC 28711;X-APPLE-RADIUS=500;X-TITLE=2948 US-70:geo:-82.3568213,35.6068069
END:VEVENT
BEGIN:VEVENT
DTSTART;TZID=America/New_York:20251204T170000
DTEND;TZID=America/New_York:20251204T200000
DTSTAMP:20260419T144253
CREATED:20251202T012811Z
LAST-MODIFIED:20251202T012811Z
UID:10026316-1764867600-1764878400@livemusicasheville.com
SUMMARY:Community Celebration with Asheville Poverty Initiative & 12 Baskets Café!
DESCRIPTION:A night to celebrate Asheville’s creativity and generosity by supporting 12 Baskets Café through the Give!Local campaign!Join us on Thursday\, December 4th from 5–8 PM at One World Brewing West for a night of art\, music\, food\, and connection — celebrating creativity and community in Asheville!\nThis free event will feature: Readings from our community writing collective Live performances by local musicians The first edition of The Intersection street paper Delicious food from The Smokin’ Onion food truck Raffle prize Your chance to grab our limited-edition hoodie\, designed by local artist\nThis celebration also kicks off our participation in the Mountain Xpress Give!Local campaign\, supporting Asheville Poverty Initiative and 12 Baskets Café\, where everyone is welcome at the table.\n The first $7\,500 in donations will be matched\, doubling your impact!\n One World Brewing West\, 520 Haywood Rd\, Asheville\, NC Thursday\, December 4th | 5–8 PM Free and open to all!\n  \nThe West Asheville taproom hosts a wide variety of special and regular events\, from yoga to an electronic music & beer festival\, and everything in between. Check out our upcoming schedule: click here
URL:https://livemusicasheville.com/calendar/community-celebration-with-asheville-poverty-initiative-12-baskets-cafe/
LOCATION:One World Brewing – West\, 520 Haywood Rd\, Asheville\, North Carolina\, 28806
CATEGORIES:Asheville Area,Live Music
GEO:35.5783642;-82.5848526
X-APPLE-STRUCTURED-LOCATION;VALUE=URI;X-ADDRESS=One World Brewing – West 520 Haywood Rd Asheville North Carolina 28806;X-APPLE-RADIUS=500;X-TITLE=520 Haywood Rd:geo:-82.5848526,35.5783642
END:VEVENT
BEGIN:VEVENT
DTSTART;TZID=America/New_York:20251204T170000
DTEND;TZID=America/New_York:20251204T220000
DTSTAMP:20260419T144253
CREATED:20251117T222331Z
LAST-MODIFIED:20251216T154208Z
UID:10026299-1764867600-1764885600@livemusicasheville.com
SUMMARY:Country Club Thirstdays
DESCRIPTION:Thirsty? We’ve got the cure. Join us Thursdays in The Showroom for live country music\, outlaw drink specials\, and a party that rolls after work til bed time! \n🎶 Live Country Music 5PM & 7PM\n🤠🎶 Saddle up every Thursday from 5–10 PM.\nNo cover. Just good music\, good people\, and the best drink specials in town. \n$10 espresso martinis (standard + honky Tonk peppermint stomp)\, house old fashioned & 3-beer buckets all night. 🍸🥃🍻 \nDECEMBER Lineup: \nDec 18\n5 PM: BRAELYN\n7 PM: Prime Country Band \nDownstairs The Den is open with arcade games\, board games\, and billiards.. it’s the ultimate Thirstday hangout. \n  \nFitz\, she’s the party. Wolfe\, he’s the epicure. 2 levels\, 3 vibes. 🎶 Live Music |🍸Sips & Noms 🥪 | 🕹️ Artcade | 🗝️Speakeasy | Private Events \nFitz and the Wolfe is a cocktail and music venue shaped by the spirit of improvisation\, storytelling\, and the kind of nights that feel too good to end. Here\, every night brings a new soundtrack. Jazz\, swing\, honky-tonk\, and sometimes things a little more esoteric—if it moves people\, we book it. The music fills the space like a second heartbeat\, sometimes rowdy\, sometimes intimate\, always memorable. It’s not background noise. It’s the reason you’re here. fitzandthewolfe.com
URL:https://livemusicasheville.com/calendar/country-club-thirstdays-3/2025-12-04/
LOCATION:Fitz and the Wolfe\, 1 Battery Park Ave\, Asheville\, NC\, 28801\, United States
CATEGORIES:Asheville Area,Live Music
ATTACH;FMTTYPE=image/png:https://livemusicasheville.com/wp-content/uploads/2025/11/Screenshot-2025-12-01-171819-e1764627619430.png
GEO:35.5954515;-82.5548502
X-APPLE-STRUCTURED-LOCATION;VALUE=URI;X-ADDRESS=Fitz and the Wolfe 1 Battery Park Ave Asheville NC 28801 United States;X-APPLE-RADIUS=500;X-TITLE=1 Battery Park Ave:geo:-82.5548502,35.5954515
END:VEVENT
BEGIN:VEVENT
DTSTART;TZID=America/New_York:20251204T180000
DTEND;TZID=America/New_York:20251204T200000
DTSTAMP:20260419T144253
CREATED:20251112T200656Z
LAST-MODIFIED:20251203T015551Z
UID:10024486-1764871200-1764878400@livemusicasheville.com
SUMMARY:Dorothy 6 Jazz Duo
DESCRIPTION:
URL:https://livemusicasheville.com/calendar/dorothy-6-jazz-duo/
LOCATION:Wedge at Foundation
CATEGORIES:Asheville Area,Live Music
END:VEVENT
BEGIN:VEVENT
DTSTART;TZID=America/New_York:20251204T180000
DTEND;TZID=America/New_York:20251204T200000
DTSTAMP:20260419T144253
CREATED:20251204T231746Z
LAST-MODIFIED:20251204T231747Z
UID:10023629-1764871200-1764878400@livemusicasheville.com
SUMMARY:Albi Podrizki
DESCRIPTION:
URL:https://livemusicasheville.com/calendar/albi-podrizki-3-2/2025-12-04/
LOCATION:Filo Post 70 East Asheville
CATEGORIES:Asheville Area,Live Music
END:VEVENT
END:VCALENDAR