BEGIN:VCALENDAR
VERSION:2.0
PRODID:-//LiveMusicAsheville.com - ECPv6.15.20//NONSGML v1.0//EN
CALSCALE:GREGORIAN
METHOD:PUBLISH
X-ORIGINAL-URL:https://livemusicasheville.com
X-WR-CALDESC:Events for LiveMusicAsheville.com
REFRESH-INTERVAL;VALUE=DURATION:PT1H
X-Robots-Tag:noindex
X-PUBLISHED-TTL:PT1H
BEGIN:VTIMEZONE
TZID:America/New_York
BEGIN:DAYLIGHT
TZOFFSETFROM:-0500
TZOFFSETTO:-0400
TZNAME:EDT
DTSTART:20250309T070000
END:DAYLIGHT
BEGIN:STANDARD
TZOFFSETFROM:-0400
TZOFFSETTO:-0500
TZNAME:EST
DTSTART:20251102T060000
END:STANDARD
BEGIN:DAYLIGHT
TZOFFSETFROM:-0500
TZOFFSETTO:-0400
TZNAME:EDT
DTSTART:20260308T070000
END:DAYLIGHT
BEGIN:STANDARD
TZOFFSETFROM:-0400
TZOFFSETTO:-0500
TZNAME:EST
DTSTART:20261101T060000
END:STANDARD
BEGIN:DAYLIGHT
TZOFFSETFROM:-0500
TZOFFSETTO:-0400
TZNAME:EDT
DTSTART:20270314T070000
END:DAYLIGHT
BEGIN:STANDARD
TZOFFSETFROM:-0400
TZOFFSETTO:-0500
TZNAME:EST
DTSTART:20271107T060000
END:STANDARD
END:VTIMEZONE
BEGIN:VEVENT
DTSTART;TZID=America/New_York:20260425T190000
DTEND;TZID=America/New_York:20260426T020000
DTSTAMP:20260424T230438
CREATED:20241225T123126Z
LAST-MODIFIED:20251122T132355Z
UID:10025549-1777143600-1777168800@livemusicasheville.com
SUMMARY:Dueling Piano Show
DESCRIPTION:
URL:https://livemusicasheville.com/calendar/dueling-piano-show/2026-04-25/
LOCATION:Off the Wagon
CATEGORIES:Asheville Area,Live Music
GEO:41.4302231;-81.3909542
END:VEVENT
BEGIN:VEVENT
DTSTART;TZID=America/New_York:20260425T193000
DTEND;TZID=America/New_York:20260425T213000
DTSTAMP:20260424T230438
CREATED:20260422T102906Z
LAST-MODIFIED:20260422T102906Z
UID:10058408-1777145400-1777152600@livemusicasheville.com
SUMMARY:David LaMotte & Chinobay in Concert – Senderos Benefit
DESCRIPTION:
URL:https://livemusicasheville.com/calendar/david-lamotte-chinobay-in-concert-senderos-benefit/
LOCATION:White Horse Black Mountain
CATEGORIES:Asheville Area,Black Mountain,Live Music
GEO:35.6178579;-82.3211924
END:VEVENT
BEGIN:VEVENT
DTSTART;TZID=America/New_York:20260425T193000
DTEND;TZID=America/New_York:20260425T220000
DTSTAMP:20260424T230438
CREATED:20260422T184916Z
LAST-MODIFIED:20260422T184916Z
UID:10058453-1777145400-1777154400@livemusicasheville.com
SUMMARY:Shane Parish Plays Autechre Guitar w/sg Wes Tirey
DESCRIPTION:
URL:https://livemusicasheville.com/calendar/shane-parish-plays-autechre-guitar-w-sg-wes-tirey/
LOCATION:Revolve Gallery
CATEGORIES:Asheville Area,Live Music
END:VEVENT
BEGIN:VEVENT
DTSTART;TZID=America/New_York:20260425T200000
DTEND;TZID=America/New_York:20260425T220000
DTSTAMP:20260424T230438
CREATED:20250122T162843Z
LAST-MODIFIED:20260422T151420Z
UID:10004321-1777147200-1777154400@livemusicasheville.com
SUMMARY:Log's Electric Space Whistle Sound Bath
DESCRIPTION:
URL:https://livemusicasheville.com/calendar/logs-electric-space-whistle-sound-bath-2/
LOCATION:Vintage Kava Weaverville
CATEGORIES:DJ/Electronic,Live Music,Weaverville
GEO:35.6896329;-82.5585316
END:VEVENT
BEGIN:VEVENT
DTSTART;TZID=America/New_York:20260425T200000
DTEND;TZID=America/New_York:20260425T220000
DTSTAMP:20260424T230438
CREATED:20251008T170516Z
LAST-MODIFIED:20260422T155144Z
UID:10022450-1777147200-1777154400@livemusicasheville.com
SUMMARY:Kendra Penland & Friends
DESCRIPTION:
URL:https://livemusicasheville.com/calendar/will-boyd-kendra-penland/
LOCATION:Town Pump Tavern Black Mountain
CATEGORIES:Asheville Area,Black Mountain,Live Music
GEO:35.6162458;-82.320259
END:VEVENT
BEGIN:VEVENT
DTSTART;TZID=America/New_York:20260425T200000
DTEND;TZID=America/New_York:20260425T223000
DTSTAMP:20260424T230438
CREATED:20260422T132606Z
LAST-MODIFIED:20260422T132606Z
UID:10058422-1777147200-1777156200@livemusicasheville.com
SUMMARY:Zydeco Ya Ya
DESCRIPTION:
URL:https://livemusicasheville.com/calendar/zydeco-ya-ya-4/
LOCATION:Cork & Keg
CATEGORIES:Asheville Area,Live Music
END:VEVENT
BEGIN:VEVENT
DTSTART;TZID=America/New_York:20260425T200000
DTEND;TZID=America/New_York:20260425T230000
DTSTAMP:20260424T230438
CREATED:20250205T183235Z
LAST-MODIFIED:20260422T134915Z
UID:10007777-1777147200-1777158000@livemusicasheville.com
SUMMARY:Live Music with Aaron “Woody” Wood Trio
DESCRIPTION:w/ Tony Black & Mike Rhodes
URL:https://livemusicasheville.com/calendar/live-music-with-aaron-woody-wood/
LOCATION:Sovereign Kava
CATEGORIES:Asheville Area,Live Music
GEO:35.5854657;-82.5513352
END:VEVENT
BEGIN:VEVENT
DTSTART;TZID=America/New_York:20260425T200000
DTEND;TZID=America/New_York:20260425T230000
DTSTAMP:20260424T230438
CREATED:20250611T231515Z
LAST-MODIFIED:20260422T101510Z
UID:10015806-1777147200-1777158000@livemusicasheville.com
SUMMARY:The Paper Crowns
DESCRIPTION:
URL:https://livemusicasheville.com/calendar/the-paper-crowns-3/
LOCATION:One World Brewing Downtown\, 10 Patton Ave\, Asheville\, NC\, 28801
CATEGORIES:Asheville Area,Live Music
GEO:35.5947396;-82.5522724
X-APPLE-STRUCTURED-LOCATION;VALUE=URI;X-ADDRESS=One World Brewing Downtown 10 Patton Ave Asheville NC 28801;X-APPLE-RADIUS=500;X-TITLE=10 Patton Ave:geo:-82.5522724,35.5947396
END:VEVENT
BEGIN:VEVENT
DTSTART;TZID=America/New_York:20260425T200000
DTEND;TZID=America/New_York:20260425T230000
DTSTAMP:20260424T230438
CREATED:20260220T162726Z
LAST-MODIFIED:20260422T151636Z
UID:10046167-1777147200-1777158000@livemusicasheville.com
SUMMARY:SweetLife Acoustic duo
DESCRIPTION:
URL:https://livemusicasheville.com/calendar/sweetlife-acoustic-duo/
LOCATION:Wild Wing Cafe South
CATEGORIES:Asheville Area,Live Music,South Asheville/Arden/Fletcher
END:VEVENT
BEGIN:VEVENT
DTSTART;TZID=America/New_York:20260425T200000
DTEND;TZID=America/New_York:20260425T230000
DTSTAMP:20260424T230438
CREATED:20260330T151503Z
LAST-MODIFIED:20260423T144534Z
UID:10053885-1777147200-1777158000@livemusicasheville.com
SUMMARY:Jay Sanders Quartet ft. Steve Alford\, Zack Page\, and Alan Hall
DESCRIPTION:Before Jay Sanders learned to play\, he learned what playing is for. His earliest musical education came not from charts or chord books but from teachers who spoke of fundamental vibration\, sacred geometry\, and the Music of the Spheres — the ancient idea that the cosmos itself moves in patterns that sound\, at its deepest level\, is trying to describe. Later\, he absorbed a cosmology in which music is not entertainment but architecture — a way of organizing the invisible. These weren’t lessons in how to play. They were lessons in why. \nEverything that followed has been in service of that question. Sanders is a guitarist\, composer\, and bandleader whose music exists at the intersection of jazz\, rock\, blues\, metal\, and African influences — forged through decades of improvisational study and a lifelong pursuit of sound as something older and stranger than music itself. He has performed across 47 states and six countries\, composed for string quartets and symphony orchestras\, and released work the international press has called “astonishing” in its range — most recently his 2024 solo debut Evanescent\, which includes a tone poem dedicated to the Voyager spacecraft drifting through interstellar space. \nThis quartet — Another lap around the sun calls for something different. The E.Normus Trio collaborator Steve Alford — the mad scientist himself\, Jazz and Contemporary Music Department Chair at University of North Carolina School of the Arts — joins on alto clarinet and reeds\, alongside Zack Page on acoustic bass and Alan Hall on drums. This is a completely different leviathan than what gets summoned weekly at Little Jumbo. Different instrumentation. Different gravitational field. A different creature entirely. \n$15 at the door (all ticket proceeds are 100% passed to the band\, backed by a living wage guarantee from Hotel Eve) \n*Reserve a table in advance\, or join us impromptu the night of the show. Reservations/advance tickets are recommended for preferred seating\, but not required. Tickets are available at the door on a first-come\, first-served basis.  Event Details and Tickets \nHotel Eve is your locally rooted\, speakeasy jazz club & cocktail bar\, hidden in the heart of Downtown Asheville. Mysteriously not a hotel…check in for spirits\, souls and jazz! We’re tucked away\, on purpose. You’ll find us behind the gate nestled between Virtue Boutique and Dane Wells Gallery at 56 N Lexington Avenue in downtown Asheville. Step through\, take a left into the courtyard\, check in for Spirits\, Souls & Jazz. We’ll be waiting on the other side. hotelevejazz.com \n 
URL:https://livemusicasheville.com/calendar/jay-sanders-quartet-ft-will-boyd-zack-page-and-alan-hall/
LOCATION:Hotel Eve Jazz\, 56 N Lexington Avenue\, Asheville\, NC\, 28801\, United States
CATEGORIES:Asheville Area,Live Music
ATTACH;FMTTYPE=image/jpeg:https://livemusicasheville.com/wp-content/uploads/2026/03/673119754_18591542785012700_7514709103837513015_n-e1776955407831.jpg
GEO:35.5967716;-82.5530826
X-APPLE-STRUCTURED-LOCATION;VALUE=URI;X-ADDRESS=Hotel Eve Jazz 56 N Lexington Avenue Asheville NC 28801 United States;X-APPLE-RADIUS=500;X-TITLE=56 N Lexington Avenue:geo:-82.5530826,35.5967716
END:VEVENT
BEGIN:VEVENT
DTSTART;TZID=America/New_York:20260425T200000
DTEND;TZID=America/New_York:20260425T230000
DTSTAMP:20260424T230438
CREATED:20260422T181140Z
LAST-MODIFIED:20260422T181140Z
UID:10058447-1777147200-1777158000@livemusicasheville.com
SUMMARY:Noah G. Fowler
DESCRIPTION:
URL:https://livemusicasheville.com/calendar/noah-g-fowler/
LOCATION:Eda’s Hide-a-Way Weaverville
CATEGORIES:Asheville Area,Live Music,Weaverville
GEO:35.6970547;-82.5606851
END:VEVENT
BEGIN:VEVENT
DTSTART;TZID=America/New_York:20260425T200000
DTEND;TZID=America/New_York:20260425T230000
DTSTAMP:20260424T230438
CREATED:20260422T190227Z
LAST-MODIFIED:20260422T190227Z
UID:10058456-1777147200-1777158000@livemusicasheville.com
SUMMARY:Armand Hammer w/ Lord Jah - Monte Ogbon
DESCRIPTION:
URL:https://livemusicasheville.com/calendar/armand-hammer-w-lord-jah-monte-ogbon/
LOCATION:Eulogy\, 10 Buxton Ave\, Asheville\, NC\, 28801
CATEGORIES:Asheville Area,DJ/Electronic,Live Music
GEO:35.5883468;-82.5539256
X-APPLE-STRUCTURED-LOCATION;VALUE=URI;X-ADDRESS=Eulogy 10 Buxton Ave Asheville NC 28801;X-APPLE-RADIUS=500;X-TITLE=10 Buxton Ave:geo:-82.5539256,35.5883468
END:VEVENT
BEGIN:VEVENT
DTSTART;TZID=America/New_York:20260425T200000
DTEND;TZID=America/New_York:20260425T230000
DTSTAMP:20260424T230438
CREATED:20260422T192736Z
LAST-MODIFIED:20260422T192736Z
UID:10058463-1777147200-1777158000@livemusicasheville.com
SUMMARY:ERNEST w/ Rhys Rutherford
DESCRIPTION:
URL:https://livemusicasheville.com/calendar/ernest-w-rhys-rutherford/
LOCATION:The Orange Peel
CATEGORIES:Asheville Area,Live Music
GEO:35.5914061;-82.5510137
END:VEVENT
BEGIN:VEVENT
DTSTART;TZID=America/New_York:20260425T200000
DTEND;TZID=America/New_York:20260426T000000
DTSTAMP:20260424T230438
CREATED:20260331T171404Z
LAST-MODIFIED:20260331T171404Z
UID:10054037-1777147200-1777161600@livemusicasheville.com
SUMMARY:Laura Vinson | The Showroom
DESCRIPTION:Country with a little spark and a lot of personality.\nNorth Carolina native Laura Vinson brings a sound that blends country\, rock\, and pop\, shaped by the legends who inspired her growing up like Reba McEntire\, Dolly Parton\, and Shania Twain. Raised in Goldsboro\, she has been performing since childhood and has developed a style that mixes heartfelt songwriting with an energetic stage presence.\nHer music pulls together modern country tones with pop energy\, creating a show that feels both polished and down-to-earth. Expect strong vocals\, original songs\, and a few crowd-favorite moments along the way.\nMusic starts at 8PM in The Showroom. Come early\, grab a cocktail\, and settle in for a great night of live music.\n  \n$10 covers both the Showroom and Palm Room music. \nFitz\, she’s the party. Wolfe\, he’s the epicure. 2 levels\, 3 vibes. 🎶 Live Music |🍸Sips & Noms 🥪 | 🕹️ Artcade | 🗝️Speakeasy | Private Events \nFitz and the Wolfe is a cocktail and music venue shaped by the spirit of improvisation\, storytelling\, and the kind of nights that feel too good to end. Here\, every night brings a new soundtrack. Jazz\, swing\, honky-tonk\, and sometimes things a little more esoteric—if it moves people\, we book it. The music fills the space like a second heartbeat\, sometimes rowdy\, sometimes intimate\, always memorable. It’s not background noise. It’s the reason you’re here. fitzandthewolfe.com
URL:https://livemusicasheville.com/calendar/laura-vinson-the-showroom/
LOCATION:Fitz and the Wolfe\, 1 Battery Park Ave\, Asheville\, NC\, 28801\, United States
CATEGORIES:Asheville Area,Live Music
ATTACH;FMTTYPE=image/jpeg:https://livemusicasheville.com/wp-content/uploads/2026/03/660714814_1616065780164985_8157071631474474357_n-e1774977223388.jpg
GEO:35.5954515;-82.5548502
X-APPLE-STRUCTURED-LOCATION;VALUE=URI;X-ADDRESS=Fitz and the Wolfe 1 Battery Park Ave Asheville NC 28801 United States;X-APPLE-RADIUS=500;X-TITLE=1 Battery Park Ave:geo:-82.5548502,35.5954515
END:VEVENT
BEGIN:VEVENT
DTSTART;TZID=America/New_York:20260425T203000
DTEND;TZID=America/New_York:20260425T233000
DTSTAMP:20260424T230438
CREATED:20250423T213737Z
LAST-MODIFIED:20260422T205137Z
UID:10013322-1777149000-1777159800@livemusicasheville.com
SUMMARY:Kevin Daniel & The Bottom Line
DESCRIPTION:
URL:https://livemusicasheville.com/calendar/kevin-daniel/
LOCATION:Jack Of The Wood\, 95 Patton Ave\, asheville\, NC\, United States
CATEGORIES:Asheville Area,Live Music
GEO:35.5944492;-82.5558221
X-APPLE-STRUCTURED-LOCATION;VALUE=URI;X-ADDRESS=Jack Of The Wood 95 Patton Ave asheville NC United States;X-APPLE-RADIUS=500;X-TITLE=95 Patton Ave:geo:-82.5558221,35.5944492
END:VEVENT
BEGIN:VEVENT
DTSTART;TZID=America/New_York:20260425T203000
DTEND;TZID=America/New_York:20260425T233000
DTSTAMP:20260424T230438
CREATED:20260225T112445Z
LAST-MODIFIED:20260422T095931Z
UID:10046826-1777149000-1777159800@livemusicasheville.com
SUMMARY:Mr Jimmy  – Live Chicago Blues
DESCRIPTION:
URL:https://livemusicasheville.com/calendar/mr-jimmy-live-chicago-blues/
LOCATION:Shamrock Irons Irish Pub\, 4 College St\, Asheville\, NC\, 28801\, United States
CATEGORIES:Asheville Area,Live Music
GEO:35.9844236;-80.0221361
X-APPLE-STRUCTURED-LOCATION;VALUE=URI;X-ADDRESS=Shamrock Irons Irish Pub 4 College St Asheville NC 28801 United States;X-APPLE-RADIUS=500;X-TITLE=4 College St:geo:-80.0221361,35.9844236
END:VEVENT
BEGIN:VEVENT
DTSTART;TZID=America/New_York:20260425T203000
DTEND;TZID=America/New_York:20260425T233000
DTSTAMP:20260424T230438
CREATED:20260304T150509Z
LAST-MODIFIED:20260422T125428Z
UID:10044407-1777149000-1777159800@livemusicasheville.com
SUMMARY:Meschiya Lake & The Moodswingers
DESCRIPTION:
URL:https://livemusicasheville.com/calendar/meschiya-lake-the-moodswingers-2-2-2/
LOCATION:The Crow and Quill\, 106 Lexington Ave\, Asheville\, NC\, 28801
CATEGORIES:Asheville Area,Live Music
GEO:35.5984543;-82.553762
X-APPLE-STRUCTURED-LOCATION;VALUE=URI;X-ADDRESS=The Crow and Quill 106 Lexington Ave Asheville NC 28801;X-APPLE-RADIUS=500;X-TITLE=106 Lexington Ave:geo:-82.553762,35.5984543
END:VEVENT
BEGIN:VEVENT
DTSTART;TZID=America/New_York:20260425T203000
DTEND;TZID=America/New_York:20260426T010000
DTSTAMP:20260424T230438
CREATED:20251224T142533Z
LAST-MODIFIED:20251224T142535Z
UID:10028289-1777149000-1777165200@livemusicasheville.com
SUMMARY:Elaine’s Dueling Piano Bar
DESCRIPTION:
URL:https://livemusicasheville.com/calendar/elaines-dueling-piano-bar-2/2026-04-25/
LOCATION:The Omni Grove Park Inn
CATEGORIES:Asheville Area,Live Music
GEO:35.6206376;-82.5422977
END:VEVENT
BEGIN:VEVENT
DTSTART;TZID=America/New_York:20260425T203000
DTEND;TZID=America/New_York:20260426T010000
DTSTAMP:20260424T230438
CREATED:20260422T174359Z
LAST-MODIFIED:20260422T174359Z
UID:10058439-1777149000-1777165200@livemusicasheville.com
SUMMARY:Wes Parker / Slow Funeral / Hook of Moon
DESCRIPTION:
URL:https://livemusicasheville.com/calendar/wes-parker-slow-funeral-hook-of-moon/
LOCATION:Static Age Records
CATEGORIES:Asheville Area,Live Music
GEO:35.5985631;-82.5538043
END:VEVENT
BEGIN:VEVENT
DTSTART;TZID=America/New_York:20260425T210000
DTEND;TZID=America/New_York:20260426T000000
DTSTAMP:20260424T230438
CREATED:20241225T141147Z
LAST-MODIFIED:20260424T081655Z
UID:10001532-1777150800-1777161600@livemusicasheville.com
SUMMARY:Leeda “Lyric” Jones Band
DESCRIPTION:Join LYRIC for a night of Soul\, funk\, and rock at Asheville’s favorite dive! No Cover! \nWith the standout voice of Leeda Lyric Jones\, Lyric is a group made up of natural talents that will take you to a place you can’t forget. A group that uses music as an expression of pain\, joy\, and hope. Serving up a mix of original and cover songs\, don’t miss this train! Lyric is a born replica of the legends that created movements. \nShiloh & Gaines – Your neighborhood bar……no matter where you live. \nCoffee ~ Spirits ~ Pool ~ Darts ~ Live Music ~ Dog Friendly ~ Karaoke ~ \nFind our music schedule and more at shilohandgaines.com
URL:https://livemusicasheville.com/calendar/leeda-lyric-jones-band/
LOCATION:Shiloh & Gaines\, 700 Hendersonville Rd\, Asheville\, NC 28803\, NC\, 28803\, United States
CATEGORIES:Asheville Area,Live Music
ATTACH;FMTTYPE=image/jpeg:https://livemusicasheville.com/wp-content/uploads/2024/12/IMG_5020-e1777018604295.jpeg
GEO:35.5471263;-82.533941
X-APPLE-STRUCTURED-LOCATION;VALUE=URI;X-ADDRESS=Shiloh & Gaines 700 Hendersonville Rd Asheville NC 28803 NC 28803 United States;X-APPLE-RADIUS=500;X-TITLE=700 Hendersonville Rd:geo:-82.533941,35.5471263
END:VEVENT
BEGIN:VEVENT
DTSTART;TZID=America/New_York:20260425T210000
DTEND;TZID=America/New_York:20260426T000000
DTSTAMP:20260424T230438
CREATED:20241227T103630Z
LAST-MODIFIED:20260422T151858Z
UID:10003936-1777150800-1777161600@livemusicasheville.com
SUMMARY:Westsound
DESCRIPTION:
URL:https://livemusicasheville.com/calendar/westsound/
LOCATION:Silverados Black Mountain
CATEGORIES:Asheville Area,Black Mountain,Live Music
END:VEVENT
BEGIN:VEVENT
DTSTART;TZID=America/New_York:20260425T210000
DTEND;TZID=America/New_York:20260426T000000
DTSTAMP:20260424T230438
CREATED:20250723T183900Z
LAST-MODIFIED:20260422T190943Z
UID:10018266-1777150800-1777161600@livemusicasheville.com
SUMMARY:Dan Signor
DESCRIPTION:
URL:https://livemusicasheville.com/calendar/dan-signor-2/
LOCATION:Crowbar Asheville\, 92 Patton Ave\, Asheville\, NC\, 28801\, United States
CATEGORIES:Asheville Area,Live Music
GEO:35.5941004;-82.5553361
X-APPLE-STRUCTURED-LOCATION;VALUE=URI;X-ADDRESS=Crowbar Asheville 92 Patton Ave Asheville NC 28801 United States;X-APPLE-RADIUS=500;X-TITLE=92 Patton Ave:geo:-82.5553361,35.5941004
END:VEVENT
BEGIN:VEVENT
DTSTART;TZID=America/New_York:20260425T210000
DTEND;TZID=America/New_York:20260426T000000
DTSTAMP:20260424T230438
CREATED:20250816T151443Z
LAST-MODIFIED:20260422T102311Z
UID:10019208-1777150800-1777161600@livemusicasheville.com
SUMMARY:The Late Shifters
DESCRIPTION:
URL:https://livemusicasheville.com/calendar/the-late-shifters/
LOCATION:One World Brewing – West\, 520 Haywood Rd\, Asheville\, North Carolina\, 28806
CATEGORIES:Asheville Area,Live Music
GEO:35.5783642;-82.5848526
X-APPLE-STRUCTURED-LOCATION;VALUE=URI;X-ADDRESS=One World Brewing – West 520 Haywood Rd Asheville North Carolina 28806;X-APPLE-RADIUS=500;X-TITLE=520 Haywood Rd:geo:-82.5848526,35.5783642
END:VEVENT
BEGIN:VEVENT
DTSTART;TZID=America/New_York:20260425T210000
DTEND;TZID=America/New_York:20260426T000000
DTSTAMP:20260424T230438
CREATED:20260331T175020Z
LAST-MODIFIED:20260331T175020Z
UID:10054046-1777150800-1777161600@livemusicasheville.com
SUMMARY:Jazz Appreciation Month: Queen Bee and the Honeylovers | The Palm Room
DESCRIPTION:Queen Bee and the Honeylovers bring a dance-first mix of classic swing\, blues\, and Latin jazz to the Palm Room for a late-night set that’s hard to sit still through. Vocal-driven\, groove-heavy\, and effortlessly fun\, this is a band that knows how to move a room.\nThey’ve been voted Best Jazz in Mountain Xpress every year since 2019\, and their debut album Asheville put them on the map well beyond town. Expect tight musicianship\, big personality\, and songs that sneak up on your feet before your brain catches on.\nCome ready to dance\, or at least pretend you weren’t tapping along.\n  \n$10 covers both the Showroom and Palm Room music. \nFitz\, she’s the party. Wolfe\, he’s the epicure. 2 levels\, 3 vibes. 🎶 Live Music |🍸Sips & Noms 🥪 | 🕹️ Artcade | 🗝️Speakeasy | Private Events \nFitz and the Wolfe is a cocktail and music venue shaped by the spirit of improvisation\, storytelling\, and the kind of nights that feel too good to end. Here\, every night brings a new soundtrack. Jazz\, swing\, honky-tonk\, and sometimes things a little more esoteric—if it moves people\, we book it. The music fills the space like a second heartbeat\, sometimes rowdy\, sometimes intimate\, always memorable. It’s not background noise. It’s the reason you’re here. fitzandthewolfe.com
URL:https://livemusicasheville.com/calendar/jazz-appreciation-month-queen-bee-and-the-honeylovers-the-palm-room/
LOCATION:Fitz and the Wolfe\, 1 Battery Park Ave\, Asheville\, NC\, 28801\, United States
CATEGORIES:Asheville Area,Live Music
ATTACH;FMTTYPE=image/jpeg:https://livemusicasheville.com/wp-content/uploads/2026/03/653482589_1604129381358625_8372819896635703145_n-e1774979404707.jpg
GEO:35.5954515;-82.5548502
X-APPLE-STRUCTURED-LOCATION;VALUE=URI;X-ADDRESS=Fitz and the Wolfe 1 Battery Park Ave Asheville NC 28801 United States;X-APPLE-RADIUS=500;X-TITLE=1 Battery Park Ave:geo:-82.5548502,35.5954515
END:VEVENT
BEGIN:VEVENT
DTSTART;TZID=America/New_York:20260425T210000
DTEND;TZID=America/New_York:20260426T010000
DTSTAMP:20260424T230438
CREATED:20260422T115151Z
LAST-MODIFIED:20260422T115151Z
UID:10058413-1777150800-1777165200@livemusicasheville.com
SUMMARY:Cave Deco // Werewolf Hours
DESCRIPTION:
URL:https://livemusicasheville.com/calendar/cave-deco-werewolf-hours/
LOCATION:Fleetwood’s\, 496 Haywood Rd\, Asheville\, NC\, 28806\, United States
CATEGORIES:Asheville Area,Live Music
GEO:35.578126;-82.583757
X-APPLE-STRUCTURED-LOCATION;VALUE=URI;X-ADDRESS=Fleetwood’s 496 Haywood Rd Asheville NC 28806 United States;X-APPLE-RADIUS=500;X-TITLE=496 Haywood Rd:geo:-82.583757,35.578126
END:VEVENT
BEGIN:VEVENT
DTSTART;TZID=America/New_York:20260425T210000
DTEND;TZID=America/New_York:20260426T013000
DTSTAMP:20260424T230438
CREATED:20260422T155416Z
LAST-MODIFIED:20260422T155416Z
UID:10058435-1777150800-1777167000@livemusicasheville.com
SUMMARY:Punk Showcase
DESCRIPTION:Doors 8pm Show 9pmTickets $15 at DoorLive Performances ByCatch These HandsDragtonesThe CollectiblesMachine Gun EarlDunk Tank
URL:https://livemusicasheville.com/calendar/punk-showcase/
LOCATION:27 Club Asheville
CATEGORIES:Asheville Area,Live Music
GEO:35.5933012;-82.5592961
END:VEVENT
BEGIN:VEVENT
DTSTART;TZID=America/New_York:20260425T220000
DTEND;TZID=America/New_York:20260426T010000
DTSTAMP:20260424T230438
CREATED:20250924T151630Z
LAST-MODIFIED:20260422T195730Z
UID:10021595-1777154400-1777165200@livemusicasheville.com
SUMMARY:Council Ring
DESCRIPTION:
URL:https://livemusicasheville.com/calendar/council-ring/
LOCATION:The One Stop
CATEGORIES:Asheville Area,Live Music
END:VEVENT
BEGIN:VEVENT
DTSTART;VALUE=DATE:20260426
DTEND;VALUE=DATE:20260428
DTSTAMP:20260424T230438
CREATED:20260321T085425Z
LAST-MODIFIED:20260321T085427Z
UID:10050829-1777172400-1777258799@livemusicasheville.com
SUMMARY:COMING MAY 1st | Electro Lust w/ Magenta Sunshine
DESCRIPTION:Friday\, May 1 | 7:00PM Doors | 8:00PM Show | 20+ advance Event Details and Tickets \nOpener Magenta Sunshine encompasses a wide stratum of Asheville\, NC-based musicians and artists.  The group has gained popularity for high-energy live performances and is known for incorporating elements of rock\, jazz\, and world music into through-composed compositions.  Described as\, “electrifying and elegant”. magentasunshine.com \nLater\, Step into the soundwaves of Electro Lust\, and suddenly you’re whisked away\, careening from the neon-lit confines of a Miami nightclub\, drifting to the sun-soaked sands of a Brazilian beach\, and finally landing amidst the vibrant chaos of Cuban streets. All the while\, the soundtrack to this journey is an eclectic hip-hop mix tape\, a melodic manifesto that defies convention and invites you to lose yourself in the raw energy of the Electro Lust experience. Strap in and let the music guide you through this electrifying tapestry of sound and sensation. \nAt the core of Electro Lust beats the hearts of Grammy Award-winning artists from Asheville\, NC’s musical scene – Members of Yo Mama’s Big Fat Booty Band\, The Fritz\, Empire Strikes Brass\, & Marcus King Band. Their odyssey into the realms of Funk\, Latin\, Cuban\, and Afrobeat reads like a musical adventure\, spawned from encounters with diverse cultures while on the road and under the influence of vinyl treasures unearthed in record shops scattered across the nation. electrolustmusic.com \nRevival is located right in the heart of downtown Asheville’s vibrant South Slope Brewery District. You’ll find us just around the corner from local favorites like Hi-Wire Brewing and Ben’s Tune-Up.
URL:https://livemusicasheville.com/calendar/coming-may-1st-electro-lust-w-magenta-sunshine-2/2026-04-26/
LOCATION:Revival\, 66 Asheland Avenue\, Asheville\, NC\, 28801\, United States
CATEGORIES:Asheville Area,Live Music
ATTACH;FMTTYPE=image/jpeg:https://livemusicasheville.com/wp-content/uploads/2026/03/646789692_122155756064956711_7659081748932341628_n-e1772741315822.jpg
GEO:35.5917821;-82.555861
X-APPLE-STRUCTURED-LOCATION;VALUE=URI;X-ADDRESS=Revival 66 Asheland Avenue Asheville NC 28801 United States;X-APPLE-RADIUS=500;X-TITLE=66 Asheland Avenue:geo:-82.555861,35.5917821
END:VEVENT
BEGIN:VEVENT
DTSTART;VALUE=DATE:20260426
DTEND;VALUE=DATE:20260428
DTSTAMP:20260424T230438
CREATED:20260414T192815Z
LAST-MODIFIED:20260414T193104Z
UID:10056677-1777172400-1777258799@livemusicasheville.com
SUMMARY:SAVE THE DATE - Friday May 22nd | Supernova - A Tribute to Oasis w/sg Alla Prima
DESCRIPTION:Fri\, May 22nd\, 2026 || Doors 6PM || Show 7PM || From $17 Event Details and Tickets \nSupernova is an Oasis tribute band obsessed with recreating the raw energy\, intensity\, and swagger of a real Oasis gig. Most fans never got the chance to see Oasis in their prime – when they were still the scrappy Manchester lads playing clubs and theaters with something to prove. Supernova exists to deliver that experience: an intimate\, high-energy show where you can feel the music in your chest and sing every word at the top of your lungs. \nSupernova isn’t just another tribute band going through the motions. This six-piece outfit is obsessed with recreating the energy\, intensity\, and swagger of a live Oasis performance. From the opening chords of “Rock ‘n’ Roll Star” to the final notes of “Champagne Supernova\,” every show is crafted to deliver the full Oasis experience—loud\, raw\, and unapologetic rock and roll. thesupernovatribute.com \nAsheville’s local garage rock/alt-blues band Alla Prima opens the show!! allaprimaofficial.com
URL:https://livemusicasheville.com/calendar/save-the-date-friday-may-22nd-supernova-a-tribute-to-oasis-w-sg-alla-prima/
LOCATION:Eulogy\, 10 Buxton Ave\, Asheville\, NC\, 28801
CATEGORIES:Asheville Area,Live Music
ATTACH;FMTTYPE=image/png:https://livemusicasheville.com/wp-content/uploads/2026/04/THU-JULY-23-•-CROZEN-VA-•-PRO-RE-NATA-4-e1776193899603.png
GEO:35.5883468;-82.5539256
X-APPLE-STRUCTURED-LOCATION;VALUE=URI;X-ADDRESS=Eulogy 10 Buxton Ave Asheville NC 28801;X-APPLE-RADIUS=500;X-TITLE=10 Buxton Ave:geo:-82.5539256,35.5883468
END:VEVENT
BEGIN:VEVENT
DTSTART;TZID=America/New_York:20260426T110000
DTEND;TZID=America/New_York:20260426T140000
DTSTAMP:20260424T230438
CREATED:20260408T092619Z
LAST-MODIFIED:20260408T092619Z
UID:10055412-1777201200-1777212000@livemusicasheville.com
SUMMARY:Miss Dazey
DESCRIPTION:
URL:https://livemusicasheville.com/calendar/miss-dazey/2026-04-26/
LOCATION:Asheville Charcuterie Co.
CATEGORIES:Asheville Area,Live Music
END:VEVENT
END:VCALENDAR