BEGIN:VCALENDAR
VERSION:2.0
PRODID:-//LiveMusicAsheville.com - ECPv6.15.20//NONSGML v1.0//EN
CALSCALE:GREGORIAN
METHOD:PUBLISH
X-ORIGINAL-URL:https://livemusicasheville.com
X-WR-CALDESC:Events for LiveMusicAsheville.com
REFRESH-INTERVAL;VALUE=DURATION:PT1H
X-Robots-Tag:noindex
X-PUBLISHED-TTL:PT1H
BEGIN:VTIMEZONE
TZID:America/New_York
BEGIN:DAYLIGHT
TZOFFSETFROM:-0500
TZOFFSETTO:-0400
TZNAME:EDT
DTSTART:20250309T070000
END:DAYLIGHT
BEGIN:STANDARD
TZOFFSETFROM:-0400
TZOFFSETTO:-0500
TZNAME:EST
DTSTART:20251102T060000
END:STANDARD
BEGIN:DAYLIGHT
TZOFFSETFROM:-0500
TZOFFSETTO:-0400
TZNAME:EDT
DTSTART:20260308T070000
END:DAYLIGHT
BEGIN:STANDARD
TZOFFSETFROM:-0400
TZOFFSETTO:-0500
TZNAME:EST
DTSTART:20261101T060000
END:STANDARD
BEGIN:DAYLIGHT
TZOFFSETFROM:-0500
TZOFFSETTO:-0400
TZNAME:EDT
DTSTART:20270314T070000
END:DAYLIGHT
BEGIN:STANDARD
TZOFFSETFROM:-0400
TZOFFSETTO:-0500
TZNAME:EST
DTSTART:20271107T060000
END:STANDARD
END:VTIMEZONE
BEGIN:VEVENT
DTSTART;VALUE=DATE:20260403
DTEND;VALUE=DATE:20260405
DTSTAMP:20260424T230431
CREATED:20260416T121913Z
LAST-MODIFIED:20260416T122005Z
UID:10038436-1775185200-1775271599@livemusicasheville.com
SUMMARY:Support Your Local Music Calendar
DESCRIPTION:We hope you enjoy our guide to the Asheville area’s dynamic music scene. \nIf we somehow help to brighten up your day\, please consider a small donation to help support our efforts in providing the area’s most complete local live music calendar. \nVenmo: click here  \nLast 4 digits – 3383 \nPayPal: click here \n \n 
URL:https://livemusicasheville.com/calendar/support-your-local-music-calendar-2-2-2/
LOCATION:NC
CATEGORIES:Asheville Area
END:VEVENT
BEGIN:VEVENT
DTSTART;TZID=America/New_York:20260403T163000
DTEND;TZID=America/New_York:20260403T201500
DTSTAMP:20260424T230431
CREATED:20260318T173349Z
LAST-MODIFIED:20260415T224759Z
UID:10014940-1775233800-1775247300@livemusicasheville.com
SUMMARY:Live Music at the Bandstand
DESCRIPTION:April Schedule: \nFri. 4/17 – BRUCE LANG BAND\, Swing\, Light Rock \nSat. 4/18 – FREEPORT JAZZ\, Smooth Jazz \nFri. 4/24 – CLAY LUNSFORD BAND\, Americana \nSat. 4/25 – KELLEY AND THE COWBOYS\, Country Western \nTo enjoy this complimentary event\, guest must have a daytime ticket\, a Biltmore Annual Pass\, or a stay at one of the estate’s splendid overnight properties. 
URL:https://livemusicasheville.com/calendar/live-music-at-the-bandstand-5/2026-04-03/
LOCATION:Antler Hill Village\, Biltmore Estate
CATEGORIES:Asheville Area,Live Music
END:VEVENT
BEGIN:VEVENT
DTSTART;TZID=America/New_York:20260403T170000
DTEND;TZID=America/New_York:20260403T180000
DTSTAMP:20260424T230431
CREATED:20260326T135929Z
LAST-MODIFIED:20260326T140008Z
UID:10052878-1775235600-1775239200@livemusicasheville.com
SUMMARY:UNCA Music Contemporary Guitar Ensemble
DESCRIPTION:Come hear the Contemporary Guitar Ensemble lead some truly soothing Music and Meditation. Some sit and experience the resonance and healing of acoustic guitars in an intimate setting. Sessions will happen every Friday at 5:00 pm throughout the rest of March and April. Sessions will happen in the beautiful Highsmith gallery.
URL:https://livemusicasheville.com/calendar/unca-music-contemporary-guitar-ensemble/2026-04-03/
LOCATION:UNCA Highsmith Gallery
CATEGORIES:Asheville Area,Live Music
ATTACH;FMTTYPE=image/jpeg:https://livemusicasheville.com/wp-content/uploads/2026/03/657170632_1671140894385760_1932827474475969278_n-e1774533563129.jpg
END:VEVENT
BEGIN:VEVENT
DTSTART;TZID=America/New_York:20260403T170000
DTEND;TZID=America/New_York:20260403T190000
DTSTAMP:20260424T230431
CREATED:20250713T195654Z
LAST-MODIFIED:20260403T192220Z
UID:10054802-1775235600-1775242800@livemusicasheville.com
SUMMARY:Michael Corwin
DESCRIPTION:
URL:https://livemusicasheville.com/calendar/michael-corwin/2026-04-03/
LOCATION:Star Taco Marshall
CATEGORIES:Asheville Area,Live Music,Madison County
END:VEVENT
BEGIN:VEVENT
DTSTART;TZID=America/New_York:20260403T170000
DTEND;TZID=America/New_York:20260403T190000
DTSTAMP:20260424T230431
CREATED:20250814T160842Z
LAST-MODIFIED:20260331T010056Z
UID:10002854-1775235600-1775242800@livemusicasheville.com
SUMMARY:Ashley Heath
DESCRIPTION:
URL:https://livemusicasheville.com/calendar/ashley-heath-6/
LOCATION:Town Pump Tavern Black Mountain
CATEGORIES:Asheville Area,Black Mountain,Live Music
GEO:35.6162458;-82.320259
END:VEVENT
BEGIN:VEVENT
DTSTART;TZID=America/New_York:20260403T170000
DTEND;TZID=America/New_York:20260403T200000
DTSTAMP:20260424T230431
CREATED:20251029T100435Z
LAST-MODIFIED:20260401T114223Z
UID:10023122-1775235600-1775246400@livemusicasheville.com
SUMMARY:Live music: Chris Minick
DESCRIPTION:
URL:https://livemusicasheville.com/calendar/live-music-chris-minick/
LOCATION:Peri Social House Black Mountain\, 406 W State\, Black Mountain\, NC
CATEGORIES:Asheville Area,Black Mountain,Live Music
GEO:35.6148509;-82.3247138
X-APPLE-STRUCTURED-LOCATION;VALUE=URI;X-ADDRESS=Peri Social House Black Mountain 406 W State Black Mountain NC;X-APPLE-RADIUS=500;X-TITLE=406 W State:geo:-82.3247138,35.6148509
END:VEVENT
BEGIN:VEVENT
DTSTART;TZID=America/New_York:20260403T170000
DTEND;TZID=America/New_York:20260403T200000
DTSTAMP:20260424T230431
CREATED:20260331T204107Z
LAST-MODIFIED:20260331T204107Z
UID:10054048-1775235600-1775246400@livemusicasheville.com
SUMMARY:East-West Asheville Art Walk
DESCRIPTION:A new First Friday Art Walk will bring art\, music\, performance\, and community into the streets of East-West Asheville on Friday\, April 3 from 5 to 8 p.m. Twelve neighborhood businesses will host free arts-centered events\, inviting the public to stroll between locations and experience the creative energy of the district. Event Details  \nThe event is organized by Lamplight AVL and also marks the first time the organization opens the doors to its new creative home at 2 Westwood Place.
URL:https://livemusicasheville.com/calendar/east-west-asheville-art-walk/
LOCATION:Lamplight AVL\, 2 Westwood Place\, Asheville\, NC
CATEGORIES:Asheville Area,DJ/Electronic,Live Music
GEO:35.5795704;-82.5957907
X-APPLE-STRUCTURED-LOCATION;VALUE=URI;X-ADDRESS=Lamplight AVL 2 Westwood Place Asheville NC;X-APPLE-RADIUS=500;X-TITLE=2 Westwood Place:geo:-82.5957907,35.5795704
END:VEVENT
BEGIN:VEVENT
DTSTART;TZID=America/New_York:20260403T170000
DTEND;TZID=America/New_York:20260403T200000
DTSTAMP:20260424T230431
CREATED:20260401T073455Z
LAST-MODIFIED:20260401T073456Z
UID:10011902-1775235600-1775246400@livemusicasheville.com
SUMMARY:Mars Hill First Fridays
DESCRIPTION:First Fridays 5-8pm Mars Hill NC April thru December Music • Art • Food • Gifts • Prizes
URL:https://livemusicasheville.com/calendar/mars-hill-first-fridays-2/
LOCATION:NC
CATEGORIES:Asheville Area,Live Music,Madison County
ATTACH;FMTTYPE=image/jpeg:https://livemusicasheville.com/wp-content/uploads/2025/04/500761937_634522602975866_8471641799035921081_n-e1748987709766.jpg
END:VEVENT
BEGIN:VEVENT
DTSTART;TZID=America/New_York:20260403T173000
DTEND;TZID=America/New_York:20260403T193000
DTSTAMP:20260424T230431
CREATED:20260109T141021Z
LAST-MODIFIED:20260109T141022Z
UID:10028098-1775237400-1775244600@livemusicasheville.com
SUMMARY:Hank and Vollie
DESCRIPTION:
URL:https://livemusicasheville.com/calendar/hank-and-vollie-2/2026-04-03/
LOCATION:Battery Park Book Exchange & Champagne Bar
CATEGORIES:Asheville Area,Live Music
GEO:35.5951042;-82.556633
END:VEVENT
BEGIN:VEVENT
DTSTART;TZID=America/New_York:20260403T173000
DTEND;TZID=America/New_York:20260403T193000
DTSTAMP:20260424T230431
CREATED:20260401T162935Z
LAST-MODIFIED:20260401T162935Z
UID:10054526-1775237400-1775244600@livemusicasheville.com
SUMMARY:Doug Mcelvy & Friends
DESCRIPTION:
URL:https://livemusicasheville.com/calendar/doug-mcelvy-friends-3/
LOCATION:New Belgium Brewing
CATEGORIES:Asheville Area,Live Music
END:VEVENT
BEGIN:VEVENT
DTSTART;TZID=America/New_York:20260403T173000
DTEND;TZID=America/New_York:20260403T203000
DTSTAMP:20260424T230431
CREATED:20260309T151501Z
LAST-MODIFIED:20260309T151502Z
UID:10036358-1775237400-1775248200@livemusicasheville.com
SUMMARY:The Grateful Family Band!
DESCRIPTION:
URL:https://livemusicasheville.com/calendar/the-grateful-family-band-3-2-2/2026-04-03/
LOCATION:The Social East Asheville
CATEGORIES:Asheville Area,Live Music
GEO:35.5878491;-82.4909537
END:VEVENT
BEGIN:VEVENT
DTSTART;TZID=America/New_York:20260403T173000
DTEND;TZID=America/New_York:20260403T213000
DTSTAMP:20260424T230431
CREATED:20260221T134837Z
LAST-MODIFIED:20260320T181747Z
UID:10050565-1775237400-1775251800@livemusicasheville.com
SUMMARY:The Friday Drum Circle
DESCRIPTION:Weather dependent
URL:https://livemusicasheville.com/calendar/the-friday-drum-circle-3/2026-04-03/
LOCATION:Pritchard Park Downtown\, 67 Patton Avenue\, Asheville\, NC\, 28801
CATEGORIES:Asheville Area,Live Music,Open MIc/Jam
GEO:35.5947402;-82.5543431
X-APPLE-STRUCTURED-LOCATION;VALUE=URI;X-ADDRESS=Pritchard Park Downtown 67 Patton Avenue Asheville NC 28801;X-APPLE-RADIUS=500;X-TITLE=67 Patton Avenue:geo:-82.5543431,35.5947402
END:VEVENT
BEGIN:VEVENT
DTSTART;TZID=America/New_York:20260403T180000
DTEND;TZID=America/New_York:20260403T200000
DTSTAMP:20260424T230431
CREATED:20250320T194528Z
LAST-MODIFIED:20260401T143723Z
UID:10010296-1775239200-1775246400@livemusicasheville.com
SUMMARY:Frances Eliza
DESCRIPTION:
URL:https://livemusicasheville.com/calendar/frances-eliza-2/
LOCATION:Camden’s Coffee House Mars Hill
CATEGORIES:Asheville Area,Live Music,Madison County
END:VEVENT
BEGIN:VEVENT
DTSTART;TZID=America/New_York:20260403T180000
DTEND;TZID=America/New_York:20260403T200000
DTSTAMP:20260424T230431
CREATED:20250911T000205Z
LAST-MODIFIED:20260401T172700Z
UID:10021035-1775239200-1775246400@livemusicasheville.com
SUMMARY:Dan Clare Collective
DESCRIPTION:
URL:https://livemusicasheville.com/calendar/dan-clare-collective-2/
LOCATION:The One Stop
CATEGORIES:Asheville Area,Live Music
END:VEVENT
BEGIN:VEVENT
DTSTART;TZID=America/New_York:20260403T180000
DTEND;TZID=America/New_York:20260403T200000
DTSTAMP:20260424T230431
CREATED:20260401T111112Z
LAST-MODIFIED:20260401T111112Z
UID:10054116-1775239200-1775246400@livemusicasheville.com
SUMMARY:Friday Night Music Series with Old Sap Trio
DESCRIPTION:
URL:https://livemusicasheville.com/calendar/friday-night-music-series-with-old-sap-trio/
LOCATION:Lookout Brewing Company Black Mountain
CATEGORIES:Asheville Area,Black Mountain,Live Music
GEO:35.6193199;-82.3178787
END:VEVENT
BEGIN:VEVENT
DTSTART;TZID=America/New_York:20260403T180000
DTEND;TZID=America/New_York:20260403T200000
DTSTAMP:20260424T230431
CREATED:20260401T144033Z
LAST-MODIFIED:20260401T144033Z
UID:10054489-1775239200-1775246400@livemusicasheville.com
SUMMARY:The Alley Cats Quartet
DESCRIPTION:
URL:https://livemusicasheville.com/calendar/the-alley-cats-quartet/
LOCATION:Twin Willows Mars Hill
CATEGORIES:Asheville Area,Live Music,Madison County
END:VEVENT
BEGIN:VEVENT
DTSTART;TZID=America/New_York:20260403T180000
DTEND;TZID=America/New_York:20260403T200000
DTSTAMP:20260424T230431
CREATED:20260401T145217Z
LAST-MODIFIED:20260401T145217Z
UID:10054495-1775239200-1775246400@livemusicasheville.com
SUMMARY:Sit A Spell | Bluegrass Session
DESCRIPTION:
URL:https://livemusicasheville.com/calendar/sit-a-spell-bluegrass-session/
LOCATION:Ginger’s Revenge
CATEGORIES:Asheville Area,Live Music,Open MIc/Jam
END:VEVENT
BEGIN:VEVENT
DTSTART;TZID=America/New_York:20260403T180000
DTEND;TZID=America/New_York:20260403T210000
DTSTAMP:20260424T230431
CREATED:20250212T132334Z
LAST-MODIFIED:20260401T114830Z
UID:10008131-1775239200-1775250000@livemusicasheville.com
SUMMARY:Live Music: Patty M
DESCRIPTION:
URL:https://livemusicasheville.com/calendar/live-music-patty-m/
LOCATION:Bold Rock Hard Cider – Mills River
CATEGORIES:Asheville Area,Live Music,Mills River
GEO:35.3763918;-82.5592839
END:VEVENT
BEGIN:VEVENT
DTSTART;TZID=America/New_York:20260403T180000
DTEND;TZID=America/New_York:20260403T210000
DTSTAMP:20260424T230431
CREATED:20250310T195508Z
LAST-MODIFIED:20260331T182815Z
UID:10009701-1775239200-1775250000@livemusicasheville.com
SUMMARY:The Pubsters ft. Jason Whitaker
DESCRIPTION:
URL:https://livemusicasheville.com/calendar/adult-prom-night-w-the-pubsters/
LOCATION:Cultivated Cocktails Distillery Reynolds
CATEGORIES:Asheville Area,Fairview,Live Music
GEO:35.5960621;-82.556039
END:VEVENT
BEGIN:VEVENT
DTSTART;TZID=America/New_York:20260403T180000
DTEND;TZID=America/New_York:20260403T210000
DTSTAMP:20260424T230431
CREATED:20250423T125153Z
LAST-MODIFIED:20260401T142022Z
UID:10013208-1775239200-1775250000@livemusicasheville.com
SUMMARY:Circus Mutt
DESCRIPTION:
URL:https://livemusicasheville.com/calendar/circus-mutt-2/
LOCATION:Auction House Food Hall Fletcher
CATEGORIES:Asheville Area,Live Music,South Asheville/Arden/Fletcher
GEO:35.4306652;-82.5019658
END:VEVENT
BEGIN:VEVENT
DTSTART;TZID=America/New_York:20260403T180000
DTEND;TZID=America/New_York:20260403T210000
DTSTAMP:20260424T230431
CREATED:20251102T072359Z
LAST-MODIFIED:20260401T111438Z
UID:10011448-1775239200-1775250000@livemusicasheville.com
SUMMARY:Daniel Shearin
DESCRIPTION:
URL:https://livemusicasheville.com/calendar/november-residency-daniel-shearin-3/
LOCATION:Cellarest Beer Project
CATEGORIES:Asheville Area,Live Music
GEO:35.5780646;-82.5794685
END:VEVENT
BEGIN:VEVENT
DTSTART;TZID=America/New_York:20260403T180000
DTEND;TZID=America/New_York:20260403T210000
DTSTAMP:20260424T230431
CREATED:20260107T114146Z
LAST-MODIFIED:20260402T203927Z
UID:10031220-1775239200-1775250000@livemusicasheville.com
SUMMARY:Zydeco Ya Ya
DESCRIPTION:
URL:https://livemusicasheville.com/calendar/zydeco-ya-ya-3/
LOCATION:Pillar Rooftop Bar
CATEGORIES:Asheville Area,Live Music
GEO:35.5970115;-82.5461959
END:VEVENT
BEGIN:VEVENT
DTSTART;TZID=America/New_York:20260403T180000
DTEND;TZID=America/New_York:20260403T210000
DTSTAMP:20260424T230431
CREATED:20260325T103554Z
LAST-MODIFIED:20260325T103554Z
UID:10051920-1775239200-1775250000@livemusicasheville.com
SUMMARY:Mojo Mountain
DESCRIPTION:Blues\, Rock\, Country and Soul from an exciting Asheville-based trio! \nAdi the Monk- Guitar\, VocalsEric “Swanny” Swanson – Bass\, VocalsSean Crowe McKnight – Drums \n  \nFrench Broad River Brewery is more than just a place to enjoy a drink—it’s a community hub where great beer\, delicious pizza\, live music\, and good times come together. Just minutes from the Biltmore Estate & Downtown\, our taproom is a gathering spot for locals and visitors alike. We regularly host live music and entertainment in our taproom\, making French Broad River Brewery a lively hub of local activity. From bluegrass to reggae\, there’s always something happening. Check out our Events Page to see what’s coming up next! \nNo brewery experience is complete without great food. That’s why we offer French Broad River Pizza\, serving up hot\, hand-tossed pizzas made to order. Whether you’re here for a quick slice or a full meal\, our pizza perfectly complements our craft beers and the lively atmosphere of our taproom. frenchbroadbrewery.com/pizza
URL:https://livemusicasheville.com/calendar/mojo-mountain-5/
LOCATION:French Broad River Brewery\, 101 Fairview Rd\, Asheville\, NC\, United States
CATEGORIES:Asheville Area,Live Music
ATTACH;FMTTYPE=image/jpeg:https://livemusicasheville.com/wp-content/uploads/2026/03/646378342_122317521230061785_6514130262977673601_n-e1774434942931.jpg
GEO:35.5662722;-82.5374054
X-APPLE-STRUCTURED-LOCATION;VALUE=URI;X-ADDRESS=French Broad River Brewery 101 Fairview Rd Asheville NC United States;X-APPLE-RADIUS=500;X-TITLE=101 Fairview Rd:geo:-82.5374054,35.5662722
END:VEVENT
BEGIN:VEVENT
DTSTART;TZID=America/New_York:20260403T180000
DTEND;TZID=America/New_York:20260403T210000
DTSTAMP:20260424T230431
CREATED:20260401T142237Z
LAST-MODIFIED:20260401T142237Z
UID:10054484-1775239200-1775250000@livemusicasheville.com
SUMMARY:Michael Cansler
DESCRIPTION:
URL:https://livemusicasheville.com/calendar/michael-cansler/
LOCATION:Mad Co. Brew House Marshall
CATEGORIES:Asheville Area,Live Music,Madison County
END:VEVENT
BEGIN:VEVENT
DTSTART;TZID=America/New_York:20260403T180000
DTEND;TZID=America/New_York:20260403T230000
DTSTAMP:20260424T230431
CREATED:20250207T164158Z
LAST-MODIFIED:20260422T131528Z
UID:10028143-1775239200-1775257200@livemusicasheville.com
SUMMARY:Friday Open Mic/Jam
DESCRIPTION:Flora Asheville – 5:30-7:30pm (April 17) \nTurgua Brewing Fairview – 6-8pm (2nd & 4th Fridays) \nCoffee\, Art\, Music type Place – 6-8pm (First Fridays) \nWagWorld Pub Fletcher – 6:30-9:30pm \nElevated Kava Downtown – 8-11
URL:https://livemusicasheville.com/calendar/friday-open-mic-jam/2026-04-03/
LOCATION:Asheville Area
CATEGORIES:Asheville Area,Madison County,Open MIc/Jam,South Asheville/Arden/Fletcher
END:VEVENT
BEGIN:VEVENT
DTSTART;TZID=America/New_York:20260403T180000
DTEND;TZID=America/New_York:20260404T020000
DTSTAMP:20260424T230431
CREATED:20241225T134450Z
LAST-MODIFIED:20260415T173808Z
UID:10027308-1775239200-1775268000@livemusicasheville.com
SUMMARY:Friday Weekly DJ's
DESCRIPTION:Although we are primarily a Live Music Calendar\, we often come across Electronic & DJ events in the area and list them for you as we find out about them. Please verify the DJ\, times and cover charges with the venue. \nLA Pizza Party Rooftop – 6-9pm \nThe Radical – 6-11pm \nPotential New Boyfriend – 7:30-11pm \nCapella On 9 – 8-11pm \nBen’s Tune Up – 8-11pm \nAntidote – 9-11pm \nBanks Ave – 9-11:30pm \nVOWL – 9pm-1am \nDouble Crown – 9pm-2am \nHavana Miami – 9pm-2am \nStatic Age Loft – 9pm-2am \nWaterstreet – 9pm-2am \nLa Pizza Party – 10pm-2am \nThe Barksdale – 10pm-2am \nLazy Diamond – 10pm-2am \nSticks On Broadway – 10pm-2am \nStrange Magic Bar – 10pm-2am \nShakeys – 10pm-2am \n  \nVerify with the venue on times\, cover charges and tonight’s DJ.
URL:https://livemusicasheville.com/calendar/friday-weekly-dj-schedule/2026-04-03/
LOCATION:Asheville Area
CATEGORIES:Asheville Area,DJ/Electronic
END:VEVENT
BEGIN:VEVENT
DTSTART;TZID=America/New_York:20260403T181500
DTEND;TZID=America/New_York:20260403T200000
DTSTAMP:20260424T230431
CREATED:20260205T183609Z
LAST-MODIFIED:20260402T144512Z
UID:10043520-1775240100-1775246400@livemusicasheville.com
SUMMARY:First Friday Songwriters in the Round ft. Lo Wolf\, Savannah Hatfield & Soleil Ouimet
DESCRIPTION:
URL:https://livemusicasheville.com/calendar/first-friday-songwriters-in-the-round-ft-luis-dahm-zack-kardon-nathanael-jordan/
LOCATION:Flora Asheville
CATEGORIES:Asheville Area,Live Music
END:VEVENT
BEGIN:VEVENT
DTSTART;TZID=America/New_York:20260403T183000
DTEND;TZID=America/New_York:20260403T213000
DTSTAMP:20260424T230431
CREATED:20250115T225703Z
LAST-MODIFIED:20260401T113245Z
UID:10006578-1775241000-1775251800@livemusicasheville.com
SUMMARY:Peggy Ratusz and Daddy Longlegs
DESCRIPTION:
URL:https://livemusicasheville.com/calendar/peggy-ratusz-and-daddy-longlegs/
LOCATION:Mills River Brewing Co.\, 336 Banner Farm Rd\,\, Mills River\, NC\, 28759
CATEGORIES:Asheville Area,Live Music,Mills River
GEO:35.380515;-82.5654984
X-APPLE-STRUCTURED-LOCATION;VALUE=URI;X-ADDRESS=Mills River Brewing Co. 336 Banner Farm Rd Mills River NC 28759;X-APPLE-RADIUS=500;X-TITLE=336 Banner Farm Rd\,:geo:-82.5654984,35.380515
END:VEVENT
BEGIN:VEVENT
DTSTART;TZID=America/New_York:20260403T190000
DTEND;TZID=America/New_York:20260403T210000
DTSTAMP:20260424T230431
CREATED:20251029T132808Z
LAST-MODIFIED:20260415T133603Z
UID:10056851-1775242800-1775250000@livemusicasheville.com
SUMMARY:Grass Is Back!
DESCRIPTION:No Cover – Donations accepted!\n\n\n\n\nApril 17 – Lynn Goldsmith & The Jeter Mountain Band\nApril 24 – New Carolina Connection Band\nMay 1 – Harlan County Grass\nMay 8 – Mulley Holler Band\nMay 15- Travis Watts & Mountain Blessings\nMay 22 – Hit or Miss Bluegrass & Country Band
URL:https://livemusicasheville.com/calendar/grass-is-back-3/2026-04-03/
LOCATION:Feed and Seed Fletcher
CATEGORIES:Asheville Area,Live Music,South Asheville/Arden/Fletcher
END:VEVENT
BEGIN:VEVENT
DTSTART;TZID=America/New_York:20260403T190000
DTEND;TZID=America/New_York:20260403T210000
DTSTAMP:20260424T230431
CREATED:20260329T223217Z
LAST-MODIFIED:20260402T080723Z
UID:10053873-1775242800-1775250000@livemusicasheville.com
SUMMARY:Lady Kiah & The Kosmos
DESCRIPTION:
URL:https://livemusicasheville.com/calendar/lady-kiah-the-kosmos/
LOCATION:Unity of The Blue Ridge Mills River
CATEGORIES:Asheville Area,Live Music,Mills River
END:VEVENT
END:VCALENDAR