BEGIN:VCALENDAR
VERSION:2.0
PRODID:-//LiveMusicAsheville.com - ECPv6.15.20//NONSGML v1.0//EN
CALSCALE:GREGORIAN
METHOD:PUBLISH
X-ORIGINAL-URL:https://livemusicasheville.com
X-WR-CALDESC:Events for LiveMusicAsheville.com
REFRESH-INTERVAL;VALUE=DURATION:PT1H
X-Robots-Tag:noindex
X-PUBLISHED-TTL:PT1H
BEGIN:VTIMEZONE
TZID:America/New_York
BEGIN:DAYLIGHT
TZOFFSETFROM:-0500
TZOFFSETTO:-0400
TZNAME:EDT
DTSTART:20290311T070000
END:DAYLIGHT
BEGIN:STANDARD
TZOFFSETFROM:-0400
TZOFFSETTO:-0500
TZNAME:EST
DTSTART:20291104T060000
END:STANDARD
BEGIN:DAYLIGHT
TZOFFSETFROM:-0500
TZOFFSETTO:-0400
TZNAME:EDT
DTSTART:20300310T070000
END:DAYLIGHT
BEGIN:STANDARD
TZOFFSETFROM:-0400
TZOFFSETTO:-0500
TZNAME:EST
DTSTART:20301103T060000
END:STANDARD
BEGIN:DAYLIGHT
TZOFFSETFROM:-0500
TZOFFSETTO:-0400
TZNAME:EDT
DTSTART:20310309T070000
END:DAYLIGHT
BEGIN:STANDARD
TZOFFSETFROM:-0400
TZOFFSETTO:-0500
TZNAME:EST
DTSTART:20311102T060000
END:STANDARD
END:VTIMEZONE
BEGIN:VEVENT
DTSTART;TZID=America/New_York:20300119T190000
DTEND;TZID=America/New_York:20300119T210000
DTSTAMP:20260425T080814
CREATED:20260221T162039Z
LAST-MODIFIED:20260221T162041Z
UID:10041915-1895079600-1895086800@livemusicasheville.com
SUMMARY:Will Hartz
DESCRIPTION:
URL:https://livemusicasheville.com/calendar/will-hartz-3-2-2-2-2-2-2/2030-01-19/
LOCATION:5 Walnut Wine Bar
CATEGORIES:Asheville Area,Live Music
GEO:35.596654;-82.5525389
END:VEVENT
BEGIN:VEVENT
DTSTART;TZID=America/New_York:20300126T190000
DTEND;TZID=America/New_York:20300126T210000
DTSTAMP:20260425T080814
CREATED:20260221T162039Z
LAST-MODIFIED:20260221T162041Z
UID:10041916-1895684400-1895691600@livemusicasheville.com
SUMMARY:Will Hartz
DESCRIPTION:
URL:https://livemusicasheville.com/calendar/will-hartz-3-2-2-2-2-2-2/2030-01-26/
LOCATION:5 Walnut Wine Bar
CATEGORIES:Asheville Area,Live Music
GEO:35.596654;-82.5525389
END:VEVENT
BEGIN:VEVENT
DTSTART;TZID=America/New_York:20300209T190000
DTEND;TZID=America/New_York:20300209T210000
DTSTAMP:20260425T080814
CREATED:20260221T162039Z
LAST-MODIFIED:20260221T162041Z
UID:10041917-1896894000-1896901200@livemusicasheville.com
SUMMARY:Will Hartz
DESCRIPTION:
URL:https://livemusicasheville.com/calendar/will-hartz-3-2-2-2-2-2-2/2030-02-09/
LOCATION:5 Walnut Wine Bar
CATEGORIES:Asheville Area,Live Music
GEO:35.596654;-82.5525389
END:VEVENT
BEGIN:VEVENT
DTSTART;TZID=America/New_York:20300216T190000
DTEND;TZID=America/New_York:20300216T210000
DTSTAMP:20260425T080814
CREATED:20260221T162039Z
LAST-MODIFIED:20260221T162041Z
UID:10041918-1897498800-1897506000@livemusicasheville.com
SUMMARY:Will Hartz
DESCRIPTION:
URL:https://livemusicasheville.com/calendar/will-hartz-3-2-2-2-2-2-2/2030-02-16/
LOCATION:5 Walnut Wine Bar
CATEGORIES:Asheville Area,Live Music
GEO:35.596654;-82.5525389
END:VEVENT
BEGIN:VEVENT
DTSTART;TZID=America/New_York:20300223T190000
DTEND;TZID=America/New_York:20300223T210000
DTSTAMP:20260425T080814
CREATED:20260221T162039Z
LAST-MODIFIED:20260221T162041Z
UID:10041919-1898103600-1898110800@livemusicasheville.com
SUMMARY:Will Hartz
DESCRIPTION:
URL:https://livemusicasheville.com/calendar/will-hartz-3-2-2-2-2-2-2/2030-02-23/
LOCATION:5 Walnut Wine Bar
CATEGORIES:Asheville Area,Live Music
GEO:35.596654;-82.5525389
END:VEVENT
BEGIN:VEVENT
DTSTART;TZID=America/New_York:20300309T190000
DTEND;TZID=America/New_York:20300309T210000
DTSTAMP:20260425T080814
CREATED:20260221T162039Z
LAST-MODIFIED:20260221T162041Z
UID:10041920-1899313200-1899320400@livemusicasheville.com
SUMMARY:Will Hartz
DESCRIPTION:
URL:https://livemusicasheville.com/calendar/will-hartz-3-2-2-2-2-2-2/2030-03-09/
LOCATION:5 Walnut Wine Bar
CATEGORIES:Asheville Area,Live Music
GEO:35.596654;-82.5525389
END:VEVENT
BEGIN:VEVENT
DTSTART;TZID=America/New_York:20300316T190000
DTEND;TZID=America/New_York:20300316T210000
DTSTAMP:20260425T080814
CREATED:20260221T162039Z
LAST-MODIFIED:20260221T162041Z
UID:10041921-1899918000-1899925200@livemusicasheville.com
SUMMARY:Will Hartz
DESCRIPTION:
URL:https://livemusicasheville.com/calendar/will-hartz-3-2-2-2-2-2-2/2030-03-16/
LOCATION:5 Walnut Wine Bar
CATEGORIES:Asheville Area,Live Music
GEO:35.596654;-82.5525389
END:VEVENT
BEGIN:VEVENT
DTSTART;TZID=America/New_York:20300323T190000
DTEND;TZID=America/New_York:20300323T210000
DTSTAMP:20260425T080814
CREATED:20260221T162039Z
LAST-MODIFIED:20260221T162041Z
UID:10041922-1900522800-1900530000@livemusicasheville.com
SUMMARY:Will Hartz
DESCRIPTION:
URL:https://livemusicasheville.com/calendar/will-hartz-3-2-2-2-2-2-2/2030-03-23/
LOCATION:5 Walnut Wine Bar
CATEGORIES:Asheville Area,Live Music
GEO:35.596654;-82.5525389
END:VEVENT
BEGIN:VEVENT
DTSTART;TZID=America/New_York:20300330T190000
DTEND;TZID=America/New_York:20300330T210000
DTSTAMP:20260425T080814
CREATED:20260221T162039Z
LAST-MODIFIED:20260221T162041Z
UID:10041923-1901127600-1901134800@livemusicasheville.com
SUMMARY:Will Hartz
DESCRIPTION:
URL:https://livemusicasheville.com/calendar/will-hartz-3-2-2-2-2-2-2/2030-03-30/
LOCATION:5 Walnut Wine Bar
CATEGORIES:Asheville Area,Live Music
GEO:35.596654;-82.5525389
END:VEVENT
BEGIN:VEVENT
DTSTART;TZID=America/New_York:20300413T190000
DTEND;TZID=America/New_York:20300413T210000
DTSTAMP:20260425T080814
CREATED:20260221T162039Z
LAST-MODIFIED:20260221T162041Z
UID:10041924-1902337200-1902344400@livemusicasheville.com
SUMMARY:Will Hartz
DESCRIPTION:
URL:https://livemusicasheville.com/calendar/will-hartz-3-2-2-2-2-2-2/2030-04-13/
LOCATION:5 Walnut Wine Bar
CATEGORIES:Asheville Area,Live Music
GEO:35.596654;-82.5525389
END:VEVENT
BEGIN:VEVENT
DTSTART;TZID=America/New_York:20300420T190000
DTEND;TZID=America/New_York:20300420T210000
DTSTAMP:20260425T080814
CREATED:20260221T162039Z
LAST-MODIFIED:20260221T162041Z
UID:10041925-1902942000-1902949200@livemusicasheville.com
SUMMARY:Will Hartz
DESCRIPTION:
URL:https://livemusicasheville.com/calendar/will-hartz-3-2-2-2-2-2-2/2030-04-20/
LOCATION:5 Walnut Wine Bar
CATEGORIES:Asheville Area,Live Music
GEO:35.596654;-82.5525389
END:VEVENT
BEGIN:VEVENT
DTSTART;TZID=America/New_York:20300427T190000
DTEND;TZID=America/New_York:20300427T210000
DTSTAMP:20260425T080814
CREATED:20260221T162039Z
LAST-MODIFIED:20260221T162041Z
UID:10041926-1903546800-1903554000@livemusicasheville.com
SUMMARY:Will Hartz
DESCRIPTION:
URL:https://livemusicasheville.com/calendar/will-hartz-3-2-2-2-2-2-2/2030-04-27/
LOCATION:5 Walnut Wine Bar
CATEGORIES:Asheville Area,Live Music
GEO:35.596654;-82.5525389
END:VEVENT
BEGIN:VEVENT
DTSTART;TZID=America/New_York:20300511T190000
DTEND;TZID=America/New_York:20300511T210000
DTSTAMP:20260425T080814
CREATED:20260221T162039Z
LAST-MODIFIED:20260221T162041Z
UID:10041927-1904756400-1904763600@livemusicasheville.com
SUMMARY:Will Hartz
DESCRIPTION:
URL:https://livemusicasheville.com/calendar/will-hartz-3-2-2-2-2-2-2/2030-05-11/
LOCATION:5 Walnut Wine Bar
CATEGORIES:Asheville Area,Live Music
GEO:35.596654;-82.5525389
END:VEVENT
BEGIN:VEVENT
DTSTART;TZID=America/New_York:20300518T190000
DTEND;TZID=America/New_York:20300518T210000
DTSTAMP:20260425T080814
CREATED:20260221T162039Z
LAST-MODIFIED:20260221T162041Z
UID:10041928-1905361200-1905368400@livemusicasheville.com
SUMMARY:Will Hartz
DESCRIPTION:
URL:https://livemusicasheville.com/calendar/will-hartz-3-2-2-2-2-2-2/2030-05-18/
LOCATION:5 Walnut Wine Bar
CATEGORIES:Asheville Area,Live Music
GEO:35.596654;-82.5525389
END:VEVENT
BEGIN:VEVENT
DTSTART;TZID=America/New_York:20300525T190000
DTEND;TZID=America/New_York:20300525T210000
DTSTAMP:20260425T080814
CREATED:20260221T162039Z
LAST-MODIFIED:20260221T162041Z
UID:10041929-1905966000-1905973200@livemusicasheville.com
SUMMARY:Will Hartz
DESCRIPTION:
URL:https://livemusicasheville.com/calendar/will-hartz-3-2-2-2-2-2-2/2030-05-25/
LOCATION:5 Walnut Wine Bar
CATEGORIES:Asheville Area,Live Music
GEO:35.596654;-82.5525389
END:VEVENT
BEGIN:VEVENT
DTSTART;TZID=America/New_York:20300608T190000
DTEND;TZID=America/New_York:20300608T210000
DTSTAMP:20260425T080814
CREATED:20260221T162039Z
LAST-MODIFIED:20260221T162041Z
UID:10041930-1907175600-1907182800@livemusicasheville.com
SUMMARY:Will Hartz
DESCRIPTION:
URL:https://livemusicasheville.com/calendar/will-hartz-3-2-2-2-2-2-2/2030-06-08/
LOCATION:5 Walnut Wine Bar
CATEGORIES:Asheville Area,Live Music
GEO:35.596654;-82.5525389
END:VEVENT
BEGIN:VEVENT
DTSTART;TZID=America/New_York:20300615T190000
DTEND;TZID=America/New_York:20300615T210000
DTSTAMP:20260425T080814
CREATED:20260221T162039Z
LAST-MODIFIED:20260221T162041Z
UID:10041931-1907780400-1907787600@livemusicasheville.com
SUMMARY:Will Hartz
DESCRIPTION:
URL:https://livemusicasheville.com/calendar/will-hartz-3-2-2-2-2-2-2/2030-06-15/
LOCATION:5 Walnut Wine Bar
CATEGORIES:Asheville Area,Live Music
GEO:35.596654;-82.5525389
END:VEVENT
BEGIN:VEVENT
DTSTART;TZID=America/New_York:20300622T190000
DTEND;TZID=America/New_York:20300622T210000
DTSTAMP:20260425T080814
CREATED:20260221T162039Z
LAST-MODIFIED:20260221T162041Z
UID:10041932-1908385200-1908392400@livemusicasheville.com
SUMMARY:Will Hartz
DESCRIPTION:
URL:https://livemusicasheville.com/calendar/will-hartz-3-2-2-2-2-2-2/2030-06-22/
LOCATION:5 Walnut Wine Bar
CATEGORIES:Asheville Area,Live Music
GEO:35.596654;-82.5525389
END:VEVENT
BEGIN:VEVENT
DTSTART;TZID=America/New_York:20300629T190000
DTEND;TZID=America/New_York:20300629T210000
DTSTAMP:20260425T080814
CREATED:20260221T162039Z
LAST-MODIFIED:20260221T162041Z
UID:10041933-1908990000-1908997200@livemusicasheville.com
SUMMARY:Will Hartz
DESCRIPTION:
URL:https://livemusicasheville.com/calendar/will-hartz-3-2-2-2-2-2-2/2030-06-29/
LOCATION:5 Walnut Wine Bar
CATEGORIES:Asheville Area,Live Music
GEO:35.596654;-82.5525389
END:VEVENT
BEGIN:VEVENT
DTSTART;TZID=America/New_York:20300713T190000
DTEND;TZID=America/New_York:20300713T210000
DTSTAMP:20260425T080814
CREATED:20260221T162039Z
LAST-MODIFIED:20260221T162041Z
UID:10041934-1910199600-1910206800@livemusicasheville.com
SUMMARY:Will Hartz
DESCRIPTION:
URL:https://livemusicasheville.com/calendar/will-hartz-3-2-2-2-2-2-2/2030-07-13/
LOCATION:5 Walnut Wine Bar
CATEGORIES:Asheville Area,Live Music
GEO:35.596654;-82.5525389
END:VEVENT
BEGIN:VEVENT
DTSTART;TZID=America/New_York:20300720T190000
DTEND;TZID=America/New_York:20300720T210000
DTSTAMP:20260425T080814
CREATED:20260221T162039Z
LAST-MODIFIED:20260221T162041Z
UID:10041935-1910804400-1910811600@livemusicasheville.com
SUMMARY:Will Hartz
DESCRIPTION:
URL:https://livemusicasheville.com/calendar/will-hartz-3-2-2-2-2-2-2/2030-07-20/
LOCATION:5 Walnut Wine Bar
CATEGORIES:Asheville Area,Live Music
GEO:35.596654;-82.5525389
END:VEVENT
BEGIN:VEVENT
DTSTART;TZID=America/New_York:20300727T190000
DTEND;TZID=America/New_York:20300727T210000
DTSTAMP:20260425T080814
CREATED:20260221T162039Z
LAST-MODIFIED:20260221T162041Z
UID:10041936-1911409200-1911416400@livemusicasheville.com
SUMMARY:Will Hartz
DESCRIPTION:
URL:https://livemusicasheville.com/calendar/will-hartz-3-2-2-2-2-2-2/2030-07-27/
LOCATION:5 Walnut Wine Bar
CATEGORIES:Asheville Area,Live Music
GEO:35.596654;-82.5525389
END:VEVENT
BEGIN:VEVENT
DTSTART;TZID=America/New_York:20300810T190000
DTEND;TZID=America/New_York:20300810T210000
DTSTAMP:20260425T080814
CREATED:20260221T162039Z
LAST-MODIFIED:20260221T162041Z
UID:10041937-1912618800-1912626000@livemusicasheville.com
SUMMARY:Will Hartz
DESCRIPTION:
URL:https://livemusicasheville.com/calendar/will-hartz-3-2-2-2-2-2-2/2030-08-10/
LOCATION:5 Walnut Wine Bar
CATEGORIES:Asheville Area,Live Music
GEO:35.596654;-82.5525389
END:VEVENT
BEGIN:VEVENT
DTSTART;TZID=America/New_York:20300817T190000
DTEND;TZID=America/New_York:20300817T210000
DTSTAMP:20260425T080814
CREATED:20260221T162039Z
LAST-MODIFIED:20260221T162041Z
UID:10041938-1913223600-1913230800@livemusicasheville.com
SUMMARY:Will Hartz
DESCRIPTION:
URL:https://livemusicasheville.com/calendar/will-hartz-3-2-2-2-2-2-2/2030-08-17/
LOCATION:5 Walnut Wine Bar
CATEGORIES:Asheville Area,Live Music
GEO:35.596654;-82.5525389
END:VEVENT
BEGIN:VEVENT
DTSTART;TZID=America/New_York:20300824T190000
DTEND;TZID=America/New_York:20300824T210000
DTSTAMP:20260425T080814
CREATED:20260221T162039Z
LAST-MODIFIED:20260221T162041Z
UID:10041939-1913828400-1913835600@livemusicasheville.com
SUMMARY:Will Hartz
DESCRIPTION:
URL:https://livemusicasheville.com/calendar/will-hartz-3-2-2-2-2-2-2/2030-08-24/
LOCATION:5 Walnut Wine Bar
CATEGORIES:Asheville Area,Live Music
GEO:35.596654;-82.5525389
END:VEVENT
BEGIN:VEVENT
DTSTART;TZID=America/New_York:20300831T190000
DTEND;TZID=America/New_York:20300831T210000
DTSTAMP:20260425T080814
CREATED:20260221T162039Z
LAST-MODIFIED:20260221T162041Z
UID:10041940-1914433200-1914440400@livemusicasheville.com
SUMMARY:Will Hartz
DESCRIPTION:
URL:https://livemusicasheville.com/calendar/will-hartz-3-2-2-2-2-2-2/2030-08-31/
LOCATION:5 Walnut Wine Bar
CATEGORIES:Asheville Area,Live Music
GEO:35.596654;-82.5525389
END:VEVENT
BEGIN:VEVENT
DTSTART;TZID=America/New_York:20300914T190000
DTEND;TZID=America/New_York:20300914T210000
DTSTAMP:20260425T080814
CREATED:20260221T162039Z
LAST-MODIFIED:20260221T162041Z
UID:10041941-1915642800-1915650000@livemusicasheville.com
SUMMARY:Will Hartz
DESCRIPTION:
URL:https://livemusicasheville.com/calendar/will-hartz-3-2-2-2-2-2-2/2030-09-14/
LOCATION:5 Walnut Wine Bar
CATEGORIES:Asheville Area,Live Music
GEO:35.596654;-82.5525389
END:VEVENT
BEGIN:VEVENT
DTSTART;TZID=America/New_York:20300921T190000
DTEND;TZID=America/New_York:20300921T210000
DTSTAMP:20260425T080814
CREATED:20260221T162039Z
LAST-MODIFIED:20260221T162041Z
UID:10041942-1916247600-1916254800@livemusicasheville.com
SUMMARY:Will Hartz
DESCRIPTION:
URL:https://livemusicasheville.com/calendar/will-hartz-3-2-2-2-2-2-2/2030-09-21/
LOCATION:5 Walnut Wine Bar
CATEGORIES:Asheville Area,Live Music
GEO:35.596654;-82.5525389
END:VEVENT
BEGIN:VEVENT
DTSTART;TZID=America/New_York:20300928T190000
DTEND;TZID=America/New_York:20300928T210000
DTSTAMP:20260425T080814
CREATED:20260221T162039Z
LAST-MODIFIED:20260221T162041Z
UID:10041943-1916852400-1916859600@livemusicasheville.com
SUMMARY:Will Hartz
DESCRIPTION:
URL:https://livemusicasheville.com/calendar/will-hartz-3-2-2-2-2-2-2/2030-09-28/
LOCATION:5 Walnut Wine Bar
CATEGORIES:Asheville Area,Live Music
GEO:35.596654;-82.5525389
END:VEVENT
BEGIN:VEVENT
DTSTART;TZID=America/New_York:20301012T190000
DTEND;TZID=America/New_York:20301012T210000
DTSTAMP:20260425T080814
CREATED:20260221T162039Z
LAST-MODIFIED:20260221T162041Z
UID:10041944-1918062000-1918069200@livemusicasheville.com
SUMMARY:Will Hartz
DESCRIPTION:
URL:https://livemusicasheville.com/calendar/will-hartz-3-2-2-2-2-2-2/2030-10-12/
LOCATION:5 Walnut Wine Bar
CATEGORIES:Asheville Area,Live Music
GEO:35.596654;-82.5525389
END:VEVENT
END:VCALENDAR