BEGIN:VCALENDAR
VERSION:2.0
PRODID:-//LiveMusicAsheville.com - ECPv6.15.20//NONSGML v1.0//EN
CALSCALE:GREGORIAN
METHOD:PUBLISH
X-WR-CALNAME:LiveMusicAsheville.com
X-ORIGINAL-URL:https://livemusicasheville.com
X-WR-CALDESC:Events for LiveMusicAsheville.com
REFRESH-INTERVAL;VALUE=DURATION:PT1H
X-Robots-Tag:noindex
X-PUBLISHED-TTL:PT1H
BEGIN:VTIMEZONE
TZID:America/New_York
BEGIN:DAYLIGHT
TZOFFSETFROM:-0500
TZOFFSETTO:-0400
TZNAME:EDT
DTSTART:20250309T070000
END:DAYLIGHT
BEGIN:STANDARD
TZOFFSETFROM:-0400
TZOFFSETTO:-0500
TZNAME:EST
DTSTART:20251102T060000
END:STANDARD
BEGIN:DAYLIGHT
TZOFFSETFROM:-0500
TZOFFSETTO:-0400
TZNAME:EDT
DTSTART:20260308T070000
END:DAYLIGHT
BEGIN:STANDARD
TZOFFSETFROM:-0400
TZOFFSETTO:-0500
TZNAME:EST
DTSTART:20261101T060000
END:STANDARD
BEGIN:DAYLIGHT
TZOFFSETFROM:-0500
TZOFFSETTO:-0400
TZNAME:EDT
DTSTART:20270314T070000
END:DAYLIGHT
BEGIN:STANDARD
TZOFFSETFROM:-0400
TZOFFSETTO:-0500
TZNAME:EST
DTSTART:20271107T060000
END:STANDARD
END:VTIMEZONE
BEGIN:VEVENT
DTSTART;TZID=America/New_York:20260424T200000
DTEND;TZID=America/New_York:20260424T230000
DTSTAMP:20260424T230316
CREATED:20260202T150821Z
LAST-MODIFIED:20260420T180017Z
UID:10042330-1777060800-1777071600@livemusicasheville.com
SUMMARY:Soul Jazz Revival
DESCRIPTION:Soul Jazz Revival is a collection of Asheville staples paying tribute to the legends of the organ jazz movement of the 60’s such as Jimmy Smith\, George Benson\, and Stanley Turrentine\, as well as modern giants like Roy Hargrove and Jon Batiste\, to name a few. oin us for this unique installment featuring Jacob Rodriguez on saxophone\, Andy Page on guitar\, Alex Taub on organ\, Quinn Sternberg on bass\, and Joe Enright on drums. \n$15 at the door (all ticket proceeds are 100% passed to the band\, backed by a living wage guarantee from Hotel Eve) \nHotel Eve is your locally rooted\, speakeasy jazz club & cocktail bar\, hidden in the heart of Downtown Asheville. Mysteriously not a hotel…check in for spirits\, souls and jazz! We’re tucked away\, on purpose. You’ll find us behind the gate nestled between Virtue Boutique and Dane Wells Gallery at 56 N Lexington Avenue in downtown Asheville. Step through\, take a left into the courtyard\, check in for Spirits\, Souls & Jazz. We’ll be waiting on the other side. hotelevejazz.com \n 
URL:https://livemusicasheville.com/calendar/soul-jazz-revival/
LOCATION:Hotel Eve Jazz\, 56 N Lexington Avenue\, Asheville\, NC\, 28801\, United States
CATEGORIES:Asheville Area,Live Music
ATTACH;FMTTYPE=image/jpeg:https://livemusicasheville.com/wp-content/uploads/2026/02/678288947_822691450893756_7084179653595869086_n-e1776708009776.jpg
GEO:35.5967716;-82.5530826
X-APPLE-STRUCTURED-LOCATION;VALUE=URI;X-ADDRESS=Hotel Eve Jazz 56 N Lexington Avenue Asheville NC 28801 United States;X-APPLE-RADIUS=500;X-TITLE=56 N Lexington Avenue:geo:-82.5530826,35.5967716
END:VEVENT
BEGIN:VEVENT
DTSTART;TZID=America/New_York:20260424T200000
DTEND;TZID=America/New_York:20260424T230000
DTSTAMP:20260424T230317
CREATED:20260422T095753Z
LAST-MODIFIED:20260422T095753Z
UID:10058402-1777060800-1777071600@livemusicasheville.com
SUMMARY:K A T R I N A
DESCRIPTION:
URL:https://livemusicasheville.com/calendar/k-a-t-r-i-n-a/
LOCATION:Shamrock Irons Irish Pub\, 4 College St\, Asheville\, NC\, 28801\, United States
CATEGORIES:Asheville Area,Live Music
GEO:35.9844236;-80.0221361
X-APPLE-STRUCTURED-LOCATION;VALUE=URI;X-ADDRESS=Shamrock Irons Irish Pub 4 College St Asheville NC 28801 United States;X-APPLE-RADIUS=500;X-TITLE=4 College St:geo:-80.0221361,35.9844236
END:VEVENT
BEGIN:VEVENT
DTSTART;TZID=America/New_York:20260424T200000
DTEND;TZID=America/New_York:20260424T230000
DTSTAMP:20260424T230317
CREATED:20260422T134813Z
LAST-MODIFIED:20260422T134813Z
UID:10058425-1777060800-1777071600@livemusicasheville.com
SUMMARY:Mad Mike Martinez
DESCRIPTION:
URL:https://livemusicasheville.com/calendar/mad-mike-martinez/
LOCATION:Sovereign Kava
CATEGORIES:Asheville Area,Live Music
GEO:35.5854657;-82.5513352
END:VEVENT
BEGIN:VEVENT
DTSTART;TZID=America/New_York:20260424T200000
DTEND;TZID=America/New_York:20260424T230000
DTSTAMP:20260424T230317
CREATED:20260422T181032Z
LAST-MODIFIED:20260422T181032Z
UID:10058446-1777060800-1777071600@livemusicasheville.com
SUMMARY:Rooster
DESCRIPTION:
URL:https://livemusicasheville.com/calendar/rooster-3/
LOCATION:Eda’s Hide-a-Way Weaverville
CATEGORIES:Asheville Area,Live Music,Weaverville
GEO:35.6970547;-82.5606851
END:VEVENT
BEGIN:VEVENT
DTSTART;TZID=America/New_York:20260424T200000
DTEND;TZID=America/New_York:20260424T230000
DTSTAMP:20260424T230317
CREATED:20260422T184239Z
LAST-MODIFIED:20260422T184239Z
UID:10058452-1777060800-1777071600@livemusicasheville.com
SUMMARY:Roller Dogs
DESCRIPTION:
URL:https://livemusicasheville.com/calendar/roller-dogs/
LOCATION:Afterglow at The Radical
CATEGORIES:Asheville Area,Live Music
END:VEVENT
BEGIN:VEVENT
DTSTART;TZID=America/New_York:20260424T200000
DTEND;TZID=America/New_York:20260424T230000
DTSTAMP:20260424T230317
CREATED:20260422T190130Z
LAST-MODIFIED:20260422T190130Z
UID:10058455-1777060800-1777071600@livemusicasheville.com
SUMMARY:Ghostface Killah of Wu-Tang Clan
DESCRIPTION:
URL:https://livemusicasheville.com/calendar/ghostface-killah-of-wu-tang-clan/
LOCATION:Eulogy\, 10 Buxton Ave\, Asheville\, NC\, 28801
CATEGORIES:Asheville Area,DJ/Electronic,Live Music
GEO:35.5883468;-82.5539256
X-APPLE-STRUCTURED-LOCATION;VALUE=URI;X-ADDRESS=Eulogy 10 Buxton Ave Asheville NC 28801;X-APPLE-RADIUS=500;X-TITLE=10 Buxton Ave:geo:-82.5539256,35.5883468
END:VEVENT
BEGIN:VEVENT
DTSTART;TZID=America/New_York:20260424T200000
DTEND;TZID=America/New_York:20260424T230000
DTSTAMP:20260424T230317
CREATED:20260422T190827Z
LAST-MODIFIED:20260422T190827Z
UID:10058459-1777060800-1777071600@livemusicasheville.com
SUMMARY:Clarion w/ Forest and Bed
DESCRIPTION:
URL:https://livemusicasheville.com/calendar/clarion-w-forest-and-bed/
LOCATION:Revival\, 66 Asheland Avenue\, Asheville\, NC\, 28801\, United States
CATEGORIES:Asheville Area,Live Music
GEO:35.5917821;-82.555861
X-APPLE-STRUCTURED-LOCATION;VALUE=URI;X-ADDRESS=Revival 66 Asheland Avenue Asheville NC 28801 United States;X-APPLE-RADIUS=500;X-TITLE=66 Asheland Avenue:geo:-82.555861,35.5917821
END:VEVENT
BEGIN:VEVENT
DTSTART;TZID=America/New_York:20260424T200000
DTEND;TZID=America/New_York:20260424T230000
DTSTAMP:20260424T230317
CREATED:20260422T193506Z
LAST-MODIFIED:20260422T193506Z
UID:10058466-1777060800-1777071600@livemusicasheville.com
SUMMARY:Martin Sexton
DESCRIPTION:
URL:https://livemusicasheville.com/calendar/martin-sexton/
LOCATION:The Grey Eagle\, 185 Clingman Ave\, Asheville\, NC\, United States
CATEGORIES:Asheville Area,Live Music
GEO:35.5870871;-82.5643936
X-APPLE-STRUCTURED-LOCATION;VALUE=URI;X-ADDRESS=The Grey Eagle 185 Clingman Ave Asheville NC United States;X-APPLE-RADIUS=500;X-TITLE=185 Clingman Ave:geo:-82.5643936,35.5870871
END:VEVENT
BEGIN:VEVENT
DTSTART;TZID=America/New_York:20260424T200000
DTEND;TZID=America/New_York:20260424T230000
DTSTAMP:20260424T230317
CREATED:20260422T202615Z
LAST-MODIFIED:20260422T202615Z
UID:10058475-1777060800-1777071600@livemusicasheville.com
SUMMARY:Adrianne's Starlight Spectacular: Live Band Burlesque
DESCRIPTION:
URL:https://livemusicasheville.com/calendar/adriannes-starlight-spectacular-live-band-burlesque/
LOCATION:DayTrip
CATEGORIES:Asheville Area,Live Music
END:VEVENT
BEGIN:VEVENT
DTSTART;TZID=America/New_York:20260424T203000
DTEND;TZID=America/New_York:20260424T233000
DTSTAMP:20260424T230317
CREATED:20250521T123038Z
LAST-MODIFIED:20260422T125332Z
UID:10014609-1777062600-1777073400@livemusicasheville.com
SUMMARY:Resonant Rogues
DESCRIPTION:
URL:https://livemusicasheville.com/calendar/resonant-rogues/
LOCATION:Crow and Quill
CATEGORIES:Asheville Area,Live Music
GEO:35.5984495;-82.5537921
END:VEVENT
BEGIN:VEVENT
DTSTART;TZID=America/New_York:20260424T203000
DTEND;TZID=America/New_York:20260424T233000
DTSTAMP:20260424T230317
CREATED:20260422T132846Z
LAST-MODIFIED:20260422T132846Z
UID:10058423-1777062600-1777073400@livemusicasheville.com
SUMMARY:The JLloyd Mashup
DESCRIPTION:
URL:https://livemusicasheville.com/calendar/the-jlloyd-mashup/
LOCATION:Jack Of The Wood\, 95 Patton Ave\, asheville\, NC\, United States
CATEGORIES:Asheville Area,Live Music
GEO:35.5944492;-82.5558221
X-APPLE-STRUCTURED-LOCATION;VALUE=URI;X-ADDRESS=Jack Of The Wood 95 Patton Ave asheville NC United States;X-APPLE-RADIUS=500;X-TITLE=95 Patton Ave:geo:-82.5558221,35.5944492
END:VEVENT
BEGIN:VEVENT
DTSTART;TZID=America/New_York:20260424T203000
DTEND;TZID=America/New_York:20260425T010000
DTSTAMP:20260424T230317
CREATED:20251224T142533Z
LAST-MODIFIED:20251224T142535Z
UID:10028288-1777062600-1777078800@livemusicasheville.com
SUMMARY:Elaine’s Dueling Piano Bar
DESCRIPTION:
URL:https://livemusicasheville.com/calendar/elaines-dueling-piano-bar-2/2026-04-24/
LOCATION:The Omni Grove Park Inn
CATEGORIES:Asheville Area,Live Music
GEO:35.6206376;-82.5422977
END:VEVENT
BEGIN:VEVENT
DTSTART;TZID=America/New_York:20260424T203000
DTEND;TZID=America/New_York:20260425T010000
DTSTAMP:20260424T230317
CREATED:20260422T174304Z
LAST-MODIFIED:20260422T174304Z
UID:10058438-1777062600-1777078800@livemusicasheville.com
SUMMARY:Dollhaver / VRAS / Aterra / Infest Destiny
DESCRIPTION:
URL:https://livemusicasheville.com/calendar/dollhaver-vras-aterra-infest-destiny/
LOCATION:Static Age Records
CATEGORIES:Asheville Area,Live Music
GEO:35.5985631;-82.5538043
END:VEVENT
BEGIN:VEVENT
DTSTART;TZID=America/New_York:20260424T210000
DTEND;TZID=America/New_York:20260425T000000
DTSTAMP:20260424T230317
CREATED:20250827T114333Z
LAST-MODIFIED:20260421T144206Z
UID:10020290-1777064400-1777075200@livemusicasheville.com
SUMMARY:Flash Bang Mafia
DESCRIPTION:
URL:https://livemusicasheville.com/calendar/flash-bang-mafia/
LOCATION:The Social East Asheville
CATEGORIES:Asheville Area,Live Music
GEO:35.5878491;-82.4909537
END:VEVENT
BEGIN:VEVENT
DTSTART;TZID=America/New_York:20260424T210000
DTEND;TZID=America/New_York:20260425T000000
DTSTAMP:20260424T230317
CREATED:20251117T170024Z
LAST-MODIFIED:20260425T004501Z
UID:10024664-1777064400-1777075200@livemusicasheville.com
SUMMARY:Jamie Hendrickson Quartet
DESCRIPTION:Join us for a night of funky grooves with Jamie Hendrickson Quartet.\n\nShiloh & Gaines – Your neighborhood bar……no matter where you live. \nCoffee ~ Spirits ~ Pool ~ Darts ~ Live Music ~ Dog Friendly ~ Karaoke & More! Find our music schedule and more at shilohandgaines.com
URL:https://livemusicasheville.com/calendar/3-year-anniversary-w-jamie-hendrickson-quartet/
LOCATION:Shiloh & Gaines\, 700 Hendersonville Rd\, Asheville\, NC 28803\, NC\, 28803\, United States
CATEGORIES:Asheville Area,Live Music
ATTACH;FMTTYPE=image/jpeg:https://livemusicasheville.com/wp-content/uploads/2025/11/IMG_5041-e1777077890607.jpeg
GEO:35.5471263;-82.533941
X-APPLE-STRUCTURED-LOCATION;VALUE=URI;X-ADDRESS=Shiloh & Gaines 700 Hendersonville Rd Asheville NC 28803 NC 28803 United States;X-APPLE-RADIUS=500;X-TITLE=700 Hendersonville Rd:geo:-82.533941,35.5471263
END:VEVENT
BEGIN:VEVENT
DTSTART;TZID=America/New_York:20260424T210000
DTEND;TZID=America/New_York:20260425T000000
DTSTAMP:20260424T230317
CREATED:20260331T174004Z
LAST-MODIFIED:20260422T113956Z
UID:10054042-1777064400-1777075200@livemusicasheville.com
SUMMARY:Jazz Appreciation Month: Roots and Dore Band | The Palm Room
DESCRIPTION:ALL THAT JAZZ… with a twist 🎶 This Friday\, April 24th in The Palm Room speakeasy\, our month-long jazz celebration takes a turn… It’s time for some late night BLUES 🥃 \nWe’re bringing in Roots and Dore Band\, a blues\, roots\, and soul experience straight out of AVL. Known for their raw\, captivating sound\, they blend original music with timeless covers inspired by the legends of blues and soul. It’s authentic and built to move you. \n🕗 Doors: 8 PM\n🎸 Band: 9 PM \n  \n$10 covers both the Showroom and Palm Room music. \nFitz\, she’s the party. Wolfe\, he’s the epicure. 2 levels\, 3 vibes. 🎶 Live Music |🍸Sips & Noms 🥪 | 🕹️ Artcade | 🗝️Speakeasy | Private Events \nFitz and the Wolfe is a cocktail and music venue shaped by the spirit of improvisation\, storytelling\, and the kind of nights that feel too good to end. Here\, every night brings a new soundtrack. Jazz\, swing\, honky-tonk\, and sometimes things a little more esoteric—if it moves people\, we book it. The music fills the space like a second heartbeat\, sometimes rowdy\, sometimes intimate\, always memorable. It’s not background noise. It’s the reason you’re here. fitzandthewolfe.com
URL:https://livemusicasheville.com/calendar/fitz-wolf-template-2/
LOCATION:Fitz and the Wolfe\, 1 Battery Park Ave\, Asheville\, NC\, 28801\, United States
CATEGORIES:Asheville Area,Live Music
ATTACH;FMTTYPE=image/jpeg:https://livemusicasheville.com/wp-content/uploads/2026/03/670898817_1129625760224392_1025302575205249966_n-e1776857985615.jpg
GEO:35.5954515;-82.5548502
X-APPLE-STRUCTURED-LOCATION;VALUE=URI;X-ADDRESS=Fitz and the Wolfe 1 Battery Park Ave Asheville NC 28801 United States;X-APPLE-RADIUS=500;X-TITLE=1 Battery Park Ave:geo:-82.5548502,35.5954515
END:VEVENT
BEGIN:VEVENT
DTSTART;TZID=America/New_York:20260424T210000
DTEND;TZID=America/New_York:20260425T000000
DTSTAMP:20260424T230317
CREATED:20260403T153541Z
LAST-MODIFIED:20260403T153541Z
UID:10054801-1777064400-1777075200@livemusicasheville.com
SUMMARY:Sneaky Miles
DESCRIPTION:
URL:https://livemusicasheville.com/calendar/sneaky-miles-2/
LOCATION:One World Brewing – West\, 520 Haywood Rd\, Asheville\, North Carolina\, 28806
CATEGORIES:Asheville Area,Live Music
GEO:35.5783642;-82.5848526
X-APPLE-STRUCTURED-LOCATION;VALUE=URI;X-ADDRESS=One World Brewing – West 520 Haywood Rd Asheville North Carolina 28806;X-APPLE-RADIUS=500;X-TITLE=520 Haywood Rd:geo:-82.5848526,35.5783642
END:VEVENT
BEGIN:VEVENT
DTSTART;TZID=America/New_York:20260424T210000
DTEND;TZID=America/New_York:20260425T000000
DTSTAMP:20260424T230317
CREATED:20260421T163535Z
LAST-MODIFIED:20260421T163535Z
UID:10058398-1777064400-1777075200@livemusicasheville.com
SUMMARY:The Rough In-Betweeners + The Orb Weavers
DESCRIPTION:
URL:https://livemusicasheville.com/calendar/the-rough-in-betweeners-the-orb-weavers/
LOCATION:Town Pump Tavern Black Mountain
CATEGORIES:Asheville Area,Black Mountain,Live Music
GEO:35.6162458;-82.320259
END:VEVENT
BEGIN:VEVENT
DTSTART;TZID=America/New_York:20260424T210000
DTEND;TZID=America/New_York:20260425T000000
DTSTAMP:20260424T230317
CREATED:20260422T132218Z
LAST-MODIFIED:20260422T132218Z
UID:10058421-1777064400-1777075200@livemusicasheville.com
SUMMARY:Redbud Bluegrass
DESCRIPTION:
URL:https://livemusicasheville.com/calendar/redbud-bluegrass-3/
LOCATION:Daddy Mac’s Down Home Dive
CATEGORIES:Asheville Area,Live Music
END:VEVENT
BEGIN:VEVENT
DTSTART;TZID=America/New_York:20260424T210000
DTEND;TZID=America/New_York:20260425T000000
DTSTAMP:20260424T230317
CREATED:20260422T195258Z
LAST-MODIFIED:20260422T195258Z
UID:10058469-1777064400-1777075200@livemusicasheville.com
SUMMARY:Polyrhythmics w/ Cris Jacobs
DESCRIPTION:
URL:https://livemusicasheville.com/calendar/polyrhythmics-w-cris-jacobs/
LOCATION:Asheville Music Hall\, 31 Patton Ave\, Asheville\, NC\, 28801\, United States
CATEGORIES:Asheville Area,Live Music
GEO:35.5949233;-82.5530398
X-APPLE-STRUCTURED-LOCATION;VALUE=URI;X-ADDRESS=Asheville Music Hall 31 Patton Ave Asheville NC 28801 United States;X-APPLE-RADIUS=500;X-TITLE=31 Patton Ave:geo:-82.5530398,35.5949233
END:VEVENT
BEGIN:VEVENT
DTSTART;TZID=America/New_York:20260424T210000
DTEND;TZID=America/New_York:20260425T010000
DTSTAMP:20260424T230317
CREATED:20260422T114912Z
LAST-MODIFIED:20260422T115244Z
UID:10058414-1777064400-1777078800@livemusicasheville.com
SUMMARY:Bloodroot // Purser // Supaheat
DESCRIPTION:
URL:https://livemusicasheville.com/calendar/bloodroot-purser-supaheat/
LOCATION:Fleetwood’s\, 496 Haywood Rd\, Asheville\, NC\, 28806\, United States
CATEGORIES:Asheville Area,Live Music
GEO:35.578126;-82.583757
X-APPLE-STRUCTURED-LOCATION;VALUE=URI;X-ADDRESS=Fleetwood’s 496 Haywood Rd Asheville NC 28806 United States;X-APPLE-RADIUS=500;X-TITLE=496 Haywood Rd:geo:-82.583757,35.578126
END:VEVENT
BEGIN:VEVENT
DTSTART;TZID=America/New_York:20260424T220000
DTEND;TZID=America/New_York:20260425T010000
DTSTAMP:20260424T230317
CREATED:20260422T195411Z
LAST-MODIFIED:20260422T195411Z
UID:10058470-1777068000-1777078800@livemusicasheville.com
SUMMARY:The GoodFoot
DESCRIPTION:
URL:https://livemusicasheville.com/calendar/the-goodfoot/
LOCATION:The One Stop
CATEGORIES:Asheville Area,Live Music
END:VEVENT
BEGIN:VEVENT
DTSTART;VALUE=DATE:20260425
DTEND;VALUE=DATE:20260427
DTSTAMP:20260424T230317
CREATED:20260403T143003Z
LAST-MODIFIED:20260420T011322Z
UID:10054791-1777086000-1777172399@livemusicasheville.com
SUMMARY:Pisgah Palooza 2026 - (21 Years of Pisgah Brewing)
DESCRIPTION:Saturday April 25\, 2026 6:00 PM | Doors Open: 5:00 PM | Advance Tickets are on sale now – 2 for $21! Event Details and Tickets\n\nJoin us on April 25th to celebrate 21 years of Pisgah Brewing with Sqwerv\, Airshow and Pocketful of Gold.\n\nDenver’s electrifying Indie-Jam Band\, Sqwerv is a nationally touring quartet that brings elements of classic rock\, psychedelic music\, funk\, and jam fusion for an experience like no other. The band explores rich sonic realms with a depth of improvisational virtuosity. Their passion for well crafted songs and blended harmonies set this group apart in their scene. The band released 2 full length studio albums in 2024\, ‘Mirage’ and ‘Hors d’Oeuvres’ and has a new full length record on the way in 2025. They have opened for acts such as George Clinton and Parliament Funkadelic\, Pigeons Playing Ping Pong\, Eggy\, Big Something\, Spafford and many more.\n–\nAirshow is a high-flying\, Nashville-based jam band featuring a unique contrast of familiar acoustic and mind-bending electric sounds that transports listeners from a campfire picking-party to the outer reaches of the multiverse. Formed by longtime friends Cody Chelius (Mandolin / Vocals) and Steve Gallagher (Guitar / Vocals)\, the group’s lineup was completed with the addition of Bill Baker (Bass/ Vocals) and John Rodrigue (Drums/ Vocals) in 2016. While each member has different musical influences\, it is their shared passion for exploring uncharted sonic territories that has propelled their ascension to the top of Nashville’s jamband scene— and they won’t be landing anytime soon.\n–\nPocketful of Gold\, Asheville’s newest Led Zeppelin Experience\, makes their debut on Pisgah’s Outdoor Stage! Featuring Hannah Ramsey\, Alex Bazemore\, Jackson Chisholm\, and Zach Jones\, these frizzy-haired folk bring their love of Led Zeppelin together to offer a musical experience that both honors their iconic sound and showcases the inspiration that it’s had on each member’s personal musicianship.\n  \nFounded in 2005\, Pisgah is known for producing some of the most sought after craft ales in Western North Carolina. Pisgah Brewing Company currently operates the new indoor taproom & deli\, with live music several days a week\, plus an open air outdoor bar in the summer and fall months. Check out our upcoming schedule at pisgahbrewing.com/events
URL:https://livemusicasheville.com/calendar/pisgah-palooza-2026-21-years-of-pisgah-brewing/
LOCATION:Pisgah Brewing Company Black Mountain\, 2948 US-70\, Black Mountain\, NC\, 28711
CATEGORIES:Asheville Area,Black Mountain,Live Music
ATTACH;FMTTYPE=image/jpeg:https://livemusicasheville.com/wp-content/uploads/2026/01/617704239_1358962522924587_2721723407800321272_n-e1769530924423.jpg
GEO:35.6068069;-82.3568213
X-APPLE-STRUCTURED-LOCATION;VALUE=URI;X-ADDRESS=Pisgah Brewing Company Black Mountain 2948 US-70 Black Mountain NC 28711;X-APPLE-RADIUS=500;X-TITLE=2948 US-70:geo:-82.3568213,35.6068069
END:VEVENT
BEGIN:VEVENT
DTSTART;VALUE=DATE:20260425
DTEND;VALUE=DATE:20260427
DTSTAMP:20260424T230317
CREATED:20260115T155240Z
LAST-MODIFIED:20260423T154010Z
UID:10037469-1777086000-1777172399@livemusicasheville.com
SUMMARY:Love What We Do .......... Buy Us A Beer!
DESCRIPTION:We hope you enjoy our guide to the Asheville area’s dynamic music scene. \nIf we somehow help to brighten up your day\, please consider a small donation to help support our efforts in providing the area’s most reliable local live music calendar. \nVenmo: click here  \nLast 4 digits – 3383 \nPayPal: click here \n 
URL:https://livemusicasheville.com/calendar/greetings-fellow-music-lovers-2-2/2026-04-25/
LOCATION:Asheville Area
CATEGORIES:Asheville Area
ATTACH;FMTTYPE=image/jpeg:https://livemusicasheville.com/wp-content/uploads/2019/01/alcohol-alcoholic-beverages-beer-1624263-e1776958791382.jpg
END:VEVENT
BEGIN:VEVENT
DTSTART;TZID=America/New_York:20260425T080000
DTEND;TZID=America/New_York:20260425T120000
DTSTAMP:20260424T230317
CREATED:20250531T034200Z
LAST-MODIFIED:20260424T135508Z
UID:10014993-1777104000-1777118400@livemusicasheville.com
SUMMARY:Music at The Market w/ Alison
DESCRIPTION:
URL:https://livemusicasheville.com/calendar/music-at-the-market-w-pearl-street/
LOCATION:North Asheville Tailgate Market
CATEGORIES:Asheville Area,Live Music
END:VEVENT
BEGIN:VEVENT
DTSTART;TZID=America/New_York:20260425T090000
DTEND;TZID=America/New_York:20260425T120000
DTSTAMP:20260424T230317
CREATED:20250319T212816Z
LAST-MODIFIED:20260424T222816Z
UID:10010226-1777107600-1777118400@livemusicasheville.com
SUMMARY:Market Musicians: Samara
DESCRIPTION:
URL:https://livemusicasheville.com/calendar/grand-opening-w-samara-jade/
LOCATION:Asheville City Market
CATEGORIES:Asheville Area,Live Music
GEO:35.5975664;-82.5512582
END:VEVENT
BEGIN:VEVENT
DTSTART;TZID=America/New_York:20260425T090000
DTEND;TZID=America/New_York:20260425T120000
DTSTAMP:20260424T230317
CREATED:20260319T125009Z
LAST-MODIFIED:20260320T015859Z
UID:10050302-1777107600-1777118400@livemusicasheville.com
SUMMARY:Adi the Monk
DESCRIPTION:
URL:https://livemusicasheville.com/calendar/adi-the-monk-7/2026-04-25/
LOCATION:Sunny Point Café
CATEGORIES:Asheville Area,Live Music
END:VEVENT
BEGIN:VEVENT
DTSTART;TZID=America/New_York:20260425T100000
DTEND;TZID=America/New_York:20260425T140000
DTSTAMP:20260424T230317
CREATED:20260423T151422Z
LAST-MODIFIED:20260423T151422Z
UID:10058944-1777111200-1777125600@livemusicasheville.com
SUMMARY:David and Sonny
DESCRIPTION:
URL:https://livemusicasheville.com/calendar/david-and-sonny/
LOCATION:Black Mountain Tailgate Market at Old Town District
CATEGORIES:Asheville Area,Black Mountain,Live Music
END:VEVENT
BEGIN:VEVENT
DTSTART;TZID=America/New_York:20260425T100000
DTEND;TZID=America/New_York:20260425T160000
DTSTAMP:20260424T230317
CREATED:20260422T204852Z
LAST-MODIFIED:20260422T204852Z
UID:10058479-1777111200-1777132800@livemusicasheville.com
SUMMARY:Earth Day Celebration ft. Sal Landers\, Samara Jade\, Luna Ray\, and Madelyn Ilana.
DESCRIPTION:
URL:https://livemusicasheville.com/calendar/earth-day-celebration-ft-sal-landers-samara-jade-luna-ray-and-madelyn-ilana/
LOCATION:Medicine Wheel Way Fairview
CATEGORIES:Asheville Area,Fairview,Live Music
END:VEVENT
BEGIN:VEVENT
DTSTART;TZID=America/New_York:20260425T110000
DTEND;TZID=America/New_York:20260425T160000
DTSTAMP:20260424T230317
CREATED:20260422T175521Z
LAST-MODIFIED:20260422T175521Z
UID:10058442-1777114800-1777132800@livemusicasheville.com
SUMMARY:FiberFestival ft. Swannanoa Sweethearts
DESCRIPTION:
URL:https://livemusicasheville.com/calendar/fiberfestival-ft-swannanoa-sweethearts/
LOCATION:Hickory Nut Gap Farm Fairview
CATEGORIES:Asheville Area,Fairview,Live Music
END:VEVENT
END:VCALENDAR