BEGIN:VCALENDAR
VERSION:2.0
PRODID:-//LiveMusicAsheville.com - ECPv6.15.20//NONSGML v1.0//EN
CALSCALE:GREGORIAN
METHOD:PUBLISH
X-WR-CALNAME:LiveMusicAsheville.com
X-ORIGINAL-URL:https://livemusicasheville.com
X-WR-CALDESC:Events for LiveMusicAsheville.com
REFRESH-INTERVAL;VALUE=DURATION:PT1H
X-Robots-Tag:noindex
X-PUBLISHED-TTL:PT1H
BEGIN:VTIMEZONE
TZID:America/New_York
BEGIN:DAYLIGHT
TZOFFSETFROM:-0500
TZOFFSETTO:-0400
TZNAME:EDT
DTSTART:20250309T070000
END:DAYLIGHT
BEGIN:STANDARD
TZOFFSETFROM:-0400
TZOFFSETTO:-0500
TZNAME:EST
DTSTART:20251102T060000
END:STANDARD
BEGIN:DAYLIGHT
TZOFFSETFROM:-0500
TZOFFSETTO:-0400
TZNAME:EDT
DTSTART:20260308T070000
END:DAYLIGHT
BEGIN:STANDARD
TZOFFSETFROM:-0400
TZOFFSETTO:-0500
TZNAME:EST
DTSTART:20261101T060000
END:STANDARD
BEGIN:DAYLIGHT
TZOFFSETFROM:-0500
TZOFFSETTO:-0400
TZNAME:EDT
DTSTART:20270314T070000
END:DAYLIGHT
BEGIN:STANDARD
TZOFFSETFROM:-0400
TZOFFSETTO:-0500
TZNAME:EST
DTSTART:20271107T060000
END:STANDARD
END:VTIMEZONE
BEGIN:VEVENT
DTSTART;TZID=America/New_York:20260417T190000
DTEND;TZID=America/New_York:20260417T220000
DTSTAMP:20260424T231435
CREATED:20260415T190054Z
LAST-MODIFIED:20260415T190054Z
UID:10057410-1776452400-1776463200@livemusicasheville.com
SUMMARY:MARIS with McKinney
DESCRIPTION:
URL:https://livemusicasheville.com/calendar/maris-with-mckinney/
LOCATION:Revival\, 66 Asheland Avenue\, Asheville\, NC\, 28801\, United States
CATEGORIES:Asheville Area,Live Music
GEO:35.5917821;-82.555861
X-APPLE-STRUCTURED-LOCATION;VALUE=URI;X-ADDRESS=Revival 66 Asheland Avenue Asheville NC 28801 United States;X-APPLE-RADIUS=500;X-TITLE=66 Asheland Avenue:geo:-82.555861,35.5917821
END:VEVENT
BEGIN:VEVENT
DTSTART;TZID=America/New_York:20260417T190000
DTEND;TZID=America/New_York:20260418T010000
DTSTAMP:20260424T231435
CREATED:20241225T141623Z
LAST-MODIFIED:20260416T110217Z
UID:10056336-1776452400-1776474000@livemusicasheville.com
SUMMARY:Friday Karaoke
DESCRIPTION:  \n7-10pm – Mal’s Bar Marshall (February 20) \n7-10pm- Noble Cider (April 10) \n8pm-12am – Silverados Black Mountain \n8-11pm – Dalton Distillery (April 17) \n8-11pm – T Birds Weaverville \n8:30-11pm – The Village Porch Woodfin (April 17) \n8pm-1am – Fleetwoods (Feb 27) \n9pm-12am – Brewskies Fairview   \n9pm-12am – Little Creek Tavern Fletcher  \n9pm-1am – Handlebar & Grill \n9pm- 1am – O’Henrys \n9:30pm-1:30am – The Crowbar Downtown \n10pm – 2am – Shakeys \nVerify time and KJ with The Venue. \n  \n  \n\n 
URL:https://livemusicasheville.com/calendar/friday-weekly-karaoke/2026-04-17/
LOCATION:Asheville Area
CATEGORIES:Asheville Area,Black Mountain,Fairview,Karaoke,Madison County,Weaverville
END:VEVENT
BEGIN:VEVENT
DTSTART;TZID=America/New_York:20260417T190000
DTEND;TZID=America/New_York:20260418T020000
DTSTAMP:20260424T231435
CREATED:20241225T123126Z
LAST-MODIFIED:20251122T132355Z
UID:10025546-1776452400-1776477600@livemusicasheville.com
SUMMARY:Dueling Piano Show
DESCRIPTION:
URL:https://livemusicasheville.com/calendar/dueling-piano-show/2026-04-17/
LOCATION:Off the Wagon
CATEGORIES:Asheville Area,Live Music
GEO:41.4302231;-81.3909542
END:VEVENT
BEGIN:VEVENT
DTSTART;TZID=America/New_York:20260417T193000
DTEND;TZID=America/New_York:20260417T223000
DTSTAMP:20260424T231435
CREATED:20260415T163855Z
LAST-MODIFIED:20260415T163855Z
UID:10057123-1776454200-1776465000@livemusicasheville.com
SUMMARY:Alabama Shakes
DESCRIPTION:
URL:https://livemusicasheville.com/calendar/alabama-shakes/
LOCATION:Harrah’s Cherokee Center – Asheville
CATEGORIES:Asheville Area,Live Music
GEO:35.5975104;-82.5460563
END:VEVENT
BEGIN:VEVENT
DTSTART;TZID=America/New_York:20260417T200000
DTEND;TZID=America/New_York:20260417T220000
DTSTAMP:20260424T231435
CREATED:20241226T143754Z
LAST-MODIFIED:20260331T121545Z
UID:10053899-1776456000-1776463200@livemusicasheville.com
SUMMARY:Jump Blues w/ Virginia and The Slims
DESCRIPTION:
URL:https://livemusicasheville.com/calendar/virginia-and-the-slims/2026-04-17/
LOCATION:5 Walnut Wine Bar
CATEGORIES:Asheville Area,Live Music
GEO:35.596654;-82.5525389
END:VEVENT
BEGIN:VEVENT
DTSTART;TZID=America/New_York:20260417T200000
DTEND;TZID=America/New_York:20260417T220000
DTSTAMP:20260424T231435
CREATED:20250212T152622Z
LAST-MODIFIED:20260401T141115Z
UID:10054352-1776456000-1776463200@livemusicasheville.com
SUMMARY:Will Hartz
DESCRIPTION:
URL:https://livemusicasheville.com/calendar/will-hartz-4/2026-04-17/
LOCATION:The Whale Outpost Haw Creek
CATEGORIES:Asheville Area,Live Music
GEO:35.5919991;-82.5054695
END:VEVENT
BEGIN:VEVENT
DTSTART;TZID=America/New_York:20260417T200000
DTEND;TZID=America/New_York:20260417T220000
DTSTAMP:20260424T231435
CREATED:20260324T193226Z
LAST-MODIFIED:20260415T193048Z
UID:10051395-1776456000-1776463200@livemusicasheville.com
SUMMARY:Bridget Gossett/Bryce Robertson duo
DESCRIPTION:
URL:https://livemusicasheville.com/calendar/bridget-gossett-bryce-robertson-duo/
LOCATION:Mudpuppies Arden
CATEGORIES:Asheville Area,Live Music,South Asheville/Arden/Fletcher
GEO:35.4440387;-82.5322387
END:VEVENT
BEGIN:VEVENT
DTSTART;TZID=America/New_York:20260417T200000
DTEND;TZID=America/New_York:20260417T223000
DTSTAMP:20260424T231435
CREATED:20250319T150754Z
LAST-MODIFIED:20260414T195225Z
UID:10010195-1776456000-1776465000@livemusicasheville.com
SUMMARY:Gypsy Jazz w/ One Leg Up
DESCRIPTION:
URL:https://livemusicasheville.com/calendar/one-leg-up/
LOCATION:Cork & Keg
CATEGORIES:Asheville Area,Live Music
END:VEVENT
BEGIN:VEVENT
DTSTART;TZID=America/New_York:20260417T200000
DTEND;TZID=America/New_York:20260417T230000
DTSTAMP:20260424T231435
CREATED:20250115T145532Z
LAST-MODIFIED:20260416T141645Z
UID:10006405-1776456000-1776466800@livemusicasheville.com
SUMMARY:FUN SIZE! w/ Christina Chandler & Roddy Wilder
DESCRIPTION:
URL:https://livemusicasheville.com/calendar/fun-size-w-christina-chandler-roddy-wilder/
LOCATION:Afterglow at The Radical
CATEGORIES:Asheville Area,Live Music
END:VEVENT
BEGIN:VEVENT
DTSTART;TZID=America/New_York:20260417T200000
DTEND;TZID=America/New_York:20260417T230000
DTSTAMP:20260424T231435
CREATED:20250702T162647Z
LAST-MODIFIED:20260415T102349Z
UID:10016701-1776456000-1776466800@livemusicasheville.com
SUMMARY:Long Way Ramblers
DESCRIPTION:
URL:https://livemusicasheville.com/calendar/long-way-ramblers/
LOCATION:Shamrock Irons Irish Pub\, 4 College St\, Asheville\, NC\, 28801\, United States
CATEGORIES:Asheville Area,Live Music
GEO:35.9844236;-80.0221361
X-APPLE-STRUCTURED-LOCATION;VALUE=URI;X-ADDRESS=Shamrock Irons Irish Pub 4 College St Asheville NC 28801 United States;X-APPLE-RADIUS=500;X-TITLE=4 College St:geo:-80.0221361,35.9844236
END:VEVENT
BEGIN:VEVENT
DTSTART;TZID=America/New_York:20260417T200000
DTEND;TZID=America/New_York:20260417T230000
DTSTAMP:20260424T231435
CREATED:20250711T192233Z
LAST-MODIFIED:20260116T152048Z
UID:10028220-1776456000-1776466800@livemusicasheville.com
SUMMARY:Commodore Fox Band
DESCRIPTION:
URL:https://livemusicasheville.com/calendar/commodore-fox-band-2/2026-04-17/
LOCATION:Wild Wing Cafe South
CATEGORIES:Live Music,South Asheville/Arden/Fletcher
END:VEVENT
BEGIN:VEVENT
DTSTART;TZID=America/New_York:20260417T200000
DTEND;TZID=America/New_York:20260417T230000
DTSTAMP:20260424T231435
CREATED:20260415T172518Z
LAST-MODIFIED:20260415T172518Z
UID:10057137-1776456000-1776466800@livemusicasheville.com
SUMMARY:Tina & Her Pony
DESCRIPTION:
URL:https://livemusicasheville.com/calendar/tina-her-pony/
LOCATION:Eda’s Hide-a-Way Weaverville
CATEGORIES:Asheville Area,Live Music,Weaverville
GEO:35.6970547;-82.5606851
END:VEVENT
BEGIN:VEVENT
DTSTART;TZID=America/New_York:20260417T200000
DTEND;TZID=America/New_York:20260417T230000
DTSTAMP:20260424T231435
CREATED:20260415T191720Z
LAST-MODIFIED:20260415T191720Z
UID:10057419-1776456000-1776466800@livemusicasheville.com
SUMMARY:West 22nd w/ Dipsea Flower
DESCRIPTION:
URL:https://livemusicasheville.com/calendar/west-22nd-w-dipsea-flower/
LOCATION:The Grey Eagle\, 185 Clingman Ave\, Asheville\, NC\, United States
CATEGORIES:Asheville Area,Live Music
GEO:35.5870871;-82.5643936
X-APPLE-STRUCTURED-LOCATION;VALUE=URI;X-ADDRESS=The Grey Eagle 185 Clingman Ave Asheville NC United States;X-APPLE-RADIUS=500;X-TITLE=185 Clingman Ave:geo:-82.5643936,35.5870871
END:VEVENT
BEGIN:VEVENT
DTSTART;TZID=America/New_York:20260417T200000
DTEND;TZID=America/New_York:20260417T233000
DTSTAMP:20260424T231435
CREATED:20260415T144248Z
LAST-MODIFIED:20260415T144248Z
UID:10057117-1776456000-1776468600@livemusicasheville.com
SUMMARY:Residual Groove w/ Pocket Full of Gold & Yesterday’s Clothes
DESCRIPTION:
URL:https://livemusicasheville.com/calendar/residual-groove-w-pocket-full-of-gold-yesterdays-clothes/
LOCATION:Third Room\, 46 Wall Street\, Asheville\, NC\, NC\, 28803\, United States
CATEGORIES:Asheville Area,Live Music
GEO:35.5943967;-82.5559625
X-APPLE-STRUCTURED-LOCATION;VALUE=URI;X-ADDRESS=Third Room 46 Wall Street Asheville NC NC 28803 United States;X-APPLE-RADIUS=500;X-TITLE=46 Wall Street:geo:-82.5559625,35.5943967
END:VEVENT
BEGIN:VEVENT
DTSTART;TZID=America/New_York:20260417T200000
DTEND;TZID=America/New_York:20260418T000000
DTSTAMP:20260424T231435
CREATED:20260415T110818Z
LAST-MODIFIED:20260415T110818Z
UID:10056761-1776456000-1776470400@livemusicasheville.com
SUMMARY:A.G. Hammond & Ovadya
DESCRIPTION:
URL:https://livemusicasheville.com/calendar/a-g-hammond-ovadya/
LOCATION:One World Brewing – West\, 520 Haywood Rd\, Asheville\, North Carolina\, 28806
CATEGORIES:Asheville Area,Live Music
GEO:35.5783642;-82.5848526
X-APPLE-STRUCTURED-LOCATION;VALUE=URI;X-ADDRESS=One World Brewing – West 520 Haywood Rd Asheville North Carolina 28806;X-APPLE-RADIUS=500;X-TITLE=520 Haywood Rd:geo:-82.5848526,35.5783642
END:VEVENT
BEGIN:VEVENT
DTSTART;TZID=America/New_York:20260417T200000
DTEND;TZID=America/New_York:20260418T010000
DTSTAMP:20260424T231435
CREATED:20260330T154444Z
LAST-MODIFIED:20260415T101928Z
UID:10053890-1776456000-1776474000@livemusicasheville.com
SUMMARY:Official Downtown After 5 After Party: Saving Shirley + Aden Webb
DESCRIPTION:Some bands play songs. Saving Shirley throws a full-blown party.\nBorn in the mountains of Western North Carolina\, this high-energy crew has built a reputation for turning rooms upside down with a setlist packed with pop\, rock\, and dance anthems from the 90s through the 2010s. Think Green Day\, The Killers\, Blink-182\, Rihanna\, Bruno Mars\, and plenty more. One minute the crowd is belting out Mr. Brightside\, the next the dance floor is packed and nobody remembers where they left their drink.\nSingalongs\, call-and-response chaos\, and the kind of energy that pulls people out of their seats and up to the stage. It is less of a concert and more of a “how did it get this wild in here” kind of night.\n\n\nSaving Shirley runs from 8pm to 11pm. Grab a cocktail\, keep the Downtown After 5 momentum going\, and don’t call it a night just yet.\n\nFrom 11pm to 1am\, Chris Vita takes it late with an acoustic set that trades the chaos for something a little more dialed-in. A Nashville-based singer-songwriter with roots in South Carolina\, Chris brings a mix of country influence and heartfelt storytelling shaped by years of writing and performing in Music City. The kind of set where you actually feel the songs.\nTwo vibes\, one night. Start loud\, end strong\n\n\n\nFitz\, she’s the party. Wolfe\, he’s the epicure. 2 levels\, 3 vibes. 🎶 Live Music |🍸Sips & Noms 🥪 | 🕹️ Artcade | 🗝️Speakeasy | Private Events \nFitz and the Wolfe is a cocktail and music venue shaped by the spirit of improvisation\, storytelling\, and the kind of nights that feel too good to end. Here\, every night brings a new soundtrack. Jazz\, swing\, honky-tonk\, and sometimes things a little more esoteric—if it moves people\, we book it. The music fills the space like a second heartbeat\, sometimes rowdy\, sometimes intimate\, always memorable. It’s not background noise. It’s the reason you’re here. fitzandthewolfe.com
URL:https://livemusicasheville.com/calendar/saving-shirley-the-showroom/
LOCATION:Fitz and the Wolfe\, 1 Battery Park Ave\, Asheville\, NC\, 28801\, United States
CATEGORIES:Asheville Area,Live Music
ATTACH;FMTTYPE=image/jpeg:https://livemusicasheville.com/wp-content/uploads/2026/03/669647182_1628747408896822_1940679808414869032_n-e1776248271471.jpg
GEO:35.5954515;-82.5548502
X-APPLE-STRUCTURED-LOCATION;VALUE=URI;X-ADDRESS=Fitz and the Wolfe 1 Battery Park Ave Asheville NC 28801 United States;X-APPLE-RADIUS=500;X-TITLE=1 Battery Park Ave:geo:-82.5548502,35.5954515
END:VEVENT
BEGIN:VEVENT
DTSTART;TZID=America/New_York:20260417T203000
DTEND;TZID=America/New_York:20260417T230000
DTSTAMP:20260424T231435
CREATED:20260415T164341Z
LAST-MODIFIED:20260415T164341Z
UID:10057126-1776457800-1776466800@livemusicasheville.com
SUMMARY:Evil Sword w/ Secret Shame
DESCRIPTION:
URL:https://livemusicasheville.com/calendar/evil-sword-w-secret-shame/
LOCATION:Revolve Gallery
CATEGORIES:Asheville Area,Live Music
END:VEVENT
BEGIN:VEVENT
DTSTART;TZID=America/New_York:20260417T203000
DTEND;TZID=America/New_York:20260417T233000
DTSTAMP:20260424T231435
CREATED:20250528T124150Z
LAST-MODIFIED:20260415T131014Z
UID:10014851-1776457800-1776468600@livemusicasheville.com
SUMMARY:Las Montañitas
DESCRIPTION:
URL:https://livemusicasheville.com/calendar/las-montanitas-3/
LOCATION:Crow and Quill
CATEGORIES:Asheville Area,Live Music
GEO:35.5984495;-82.5537921
END:VEVENT
BEGIN:VEVENT
DTSTART;TZID=America/New_York:20260417T203000
DTEND;TZID=America/New_York:20260417T233000
DTSTAMP:20260424T231435
CREATED:20251007T134048Z
LAST-MODIFIED:20260415T133715Z
UID:10022178-1776457800-1776468600@livemusicasheville.com
SUMMARY:Rock-N-Soul w/ Lenny Pettinelli & Friends
DESCRIPTION:
URL:https://livemusicasheville.com/calendar/rock-n-soul-w-lenny-pettinelli-friends-2/
LOCATION:Jack Of The Wood\, 95 Patton Ave\, asheville\, NC\, United States
CATEGORIES:Asheville Area,Live Music
GEO:35.5944492;-82.5558221
X-APPLE-STRUCTURED-LOCATION;VALUE=URI;X-ADDRESS=Jack Of The Wood 95 Patton Ave asheville NC United States;X-APPLE-RADIUS=500;X-TITLE=95 Patton Ave:geo:-82.5558221,35.5944492
END:VEVENT
BEGIN:VEVENT
DTSTART;TZID=America/New_York:20260417T203000
DTEND;TZID=America/New_York:20260417T233000
DTSTAMP:20260424T231435
CREATED:20260415T164513Z
LAST-MODIFIED:20260415T164513Z
UID:10057127-1776457800-1776468600@livemusicasheville.com
SUMMARY:PAKG / Bum Monk / Fashion Bath
DESCRIPTION:
URL:https://livemusicasheville.com/calendar/pakg-bum-monk-fashion-bath/
LOCATION:Static Age Records
CATEGORIES:Asheville Area,Live Music
GEO:35.5985631;-82.5538043
END:VEVENT
BEGIN:VEVENT
DTSTART;TZID=America/New_York:20260417T203000
DTEND;TZID=America/New_York:20260418T010000
DTSTAMP:20260424T231435
CREATED:20251224T142533Z
LAST-MODIFIED:20251224T142535Z
UID:10028286-1776457800-1776474000@livemusicasheville.com
SUMMARY:Elaine’s Dueling Piano Bar
DESCRIPTION:
URL:https://livemusicasheville.com/calendar/elaines-dueling-piano-bar-2/2026-04-17/
LOCATION:The Omni Grove Park Inn
CATEGORIES:Asheville Area,Live Music
GEO:35.6206376;-82.5422977
END:VEVENT
BEGIN:VEVENT
DTSTART;TZID=America/New_York:20260417T210000
DTEND;TZID=America/New_York:20260418T000000
DTSTAMP:20260424T231435
CREATED:20250129T191636Z
LAST-MODIFIED:20260415T164955Z
UID:10007340-1776459600-1776470400@livemusicasheville.com
SUMMARY:5j Barrow Band
DESCRIPTION:
URL:https://livemusicasheville.com/calendar/5j-barrow-ben-balmer/
LOCATION:The Draftsman Asheville
CATEGORIES:Asheville Area,Live Music
END:VEVENT
BEGIN:VEVENT
DTSTART;TZID=America/New_York:20260417T210000
DTEND;TZID=America/New_York:20260418T000000
DTSTAMP:20260424T231435
CREATED:20260410T150138Z
LAST-MODIFIED:20260410T151155Z
UID:10056219-1776459600-1776470400@livemusicasheville.com
SUMMARY:Mojarra
DESCRIPTION:Mojarra is a Shoegaze band from Western North Carolina. The band is defined by their giant guitar sounds\, stacked vocal harmonies\, and a dreamlike quality to their songwriting. Mojarra has two full-length albums released with a third on the way\, and will play mainly original music\, with a few covers in their signature style. \nShiloh & Gaines – Your neighborhood bar……no matter where you live. \nCoffee ~ Spirits ~ Pool ~ Darts ~ Live Music ~ Dog Friendly ~ Karaoke & More! Find our music schedule and more at shilohandgaines.com
URL:https://livemusicasheville.com/calendar/mojarra/
LOCATION:Shiloh & Gaines\, 700 Hendersonville Rd\, Asheville\, NC 28803\, NC\, 28803\, United States
CATEGORIES:Asheville Area,Live Music
ATTACH;FMTTYPE=image/jpeg:https://livemusicasheville.com/wp-content/uploads/2026/04/660068099_18003786818882869_6697010478067270694_n-e1775833909685.jpg
GEO:35.5471263;-82.533941
X-APPLE-STRUCTURED-LOCATION;VALUE=URI;X-ADDRESS=Shiloh & Gaines 700 Hendersonville Rd Asheville NC 28803 NC 28803 United States;X-APPLE-RADIUS=500;X-TITLE=700 Hendersonville Rd:geo:-82.533941,35.5471263
END:VEVENT
BEGIN:VEVENT
DTSTART;TZID=America/New_York:20260417T210000
DTEND;TZID=America/New_York:20260418T000000
DTSTAMP:20260424T231435
CREATED:20260415T113204Z
LAST-MODIFIED:20260415T113204Z
UID:10056827-1776459600-1776470400@livemusicasheville.com
SUMMARY:Tyler Pressley
DESCRIPTION:
URL:https://livemusicasheville.com/calendar/tyler-pressley/
LOCATION:The Social East Asheville
CATEGORIES:Asheville Area,Live Music
GEO:35.5878491;-82.4909537
END:VEVENT
BEGIN:VEVENT
DTSTART;TZID=America/New_York:20260417T210000
DTEND;TZID=America/New_York:20260418T000000
DTSTAMP:20260424T231435
CREATED:20260415T193912Z
LAST-MODIFIED:20260415T193912Z
UID:10057429-1776459600-1776470400@livemusicasheville.com
SUMMARY:Start Making Sense
DESCRIPTION:
URL:https://livemusicasheville.com/calendar/start-making-sense/
LOCATION:Asheville Music Hall\, 31 Patton Ave\, Asheville\, NC\, 28801\, United States
CATEGORIES:Asheville Area,Live Music
GEO:35.5949233;-82.5530398
X-APPLE-STRUCTURED-LOCATION;VALUE=URI;X-ADDRESS=Asheville Music Hall 31 Patton Ave Asheville NC 28801 United States;X-APPLE-RADIUS=500;X-TITLE=31 Patton Ave:geo:-82.5530398,35.5949233
END:VEVENT
BEGIN:VEVENT
DTSTART;TZID=America/New_York:20260417T210000
DTEND;TZID=America/New_York:20260418T000000
DTSTAMP:20260424T231435
CREATED:20260417T140518Z
LAST-MODIFIED:20260417T140518Z
UID:10057811-1776459600-1776470400@livemusicasheville.com
SUMMARY:Reeko A Tribute to NOFX w/ Madder Max & What a Waste
DESCRIPTION:
URL:https://livemusicasheville.com/calendar/reeko-a-tribute-to-nofx-w-madder-max-what-a-waste/
LOCATION:The Odd
CATEGORIES:Asheville Area,Live Music
END:VEVENT
BEGIN:VEVENT
DTSTART;TZID=America/New_York:20260417T210000
DTEND;TZID=America/New_York:20260418T010000
DTSTAMP:20260424T231435
CREATED:20260415T115817Z
LAST-MODIFIED:20260415T115817Z
UID:10056828-1776459600-1776474000@livemusicasheville.com
SUMMARY:The Inhibitors // Seismic Sutra // Blistering Dissonance
DESCRIPTION:
URL:https://livemusicasheville.com/calendar/the-inhibitors-seismic-sutra-blistering-dissonance/
LOCATION:Fleetwood’s\, 496 Haywood Rd\, Asheville\, NC\, 28806\, United States
CATEGORIES:Asheville Area,Live Music
GEO:35.578126;-82.583757
X-APPLE-STRUCTURED-LOCATION;VALUE=URI;X-ADDRESS=Fleetwood’s 496 Haywood Rd Asheville NC 28806 United States;X-APPLE-RADIUS=500;X-TITLE=496 Haywood Rd:geo:-82.583757,35.578126
END:VEVENT
BEGIN:VEVENT
DTSTART;TZID=America/New_York:20260417T220000
DTEND;TZID=America/New_York:20260418T010000
DTSTAMP:20260424T231435
CREATED:20250226T213004Z
LAST-MODIFIED:20260415T194000Z
UID:10009152-1776463200-1776474000@livemusicasheville.com
SUMMARY:Ajeva
DESCRIPTION:
URL:https://livemusicasheville.com/calendar/ajeva/
LOCATION:The One Stop
CATEGORIES:Asheville Area,Live Music
END:VEVENT
BEGIN:VEVENT
DTSTART;TZID=America/New_York:20260417T220000
DTEND;TZID=America/New_York:20260418T010000
DTSTAMP:20260424T231435
CREATED:20260406T175937Z
LAST-MODIFIED:20260406T180206Z
UID:10054832-1776463200-1776474000@livemusicasheville.com
SUMMARY:Soul Nite with The Monterio Experience
DESCRIPTION:The Monterio Experience: A Soundtrack for Every Soul \n\nIn a city known for its vibrant culture and close-knit music community\, one band continues to rise above the rest with its electrifying performances and genre-defying setlists: The Monterio Experience. This dynamic cover band has carved out a reputation as the ultimate live act in eastern North Carolina\, bringing a level of passion\, polish\, and versatility that few can match.\n\n\n\nAt the heart of the band’s success is frontman Eric Monterio\, whose commanding stage presence and astonishing vocal range have earned him a loyal following. Monterio isn’t just a singer—he’s a vocal chameleon\, effortlessly shifting from silky R&B tones to gritty rock growls\, from soulful ballads to upbeat pop anthems. His ability to interpret a song\, inject emotion\, and make it his own is the cornerstone of the band’s appeal.\n\n\n\nWhether it’s a classic Stevie Wonder tune\, a high-energy Bruno Mars hit\, or a country favorite from Chris Stapleton\, The Monterio Experience delivers every performance with authenticity and flair.\n\n\n\n10pm | $10 \nThe Double Crown – Great vibes\, great bourbon\, and great music! (21+ only\, dog friendly) A West Asheville institution\, the Double Crown hosts Western Wednesdays\, karaoke\, DJ’s and rousing Gospel & Soul night’s each month. It’s a great place for an intimate evening of dancing\, drinks and fun\, especially if you love a good dive bar.
URL:https://livemusicasheville.com/calendar/soul-nite-with-the-monterio-experience/
LOCATION:The Double Crown West Asheville\, 375 West Haywood Rd\, Asheville\, NC\, 28806
CATEGORIES:Asheville Area,Live Music
ATTACH;FMTTYPE=image/jpeg:https://livemusicasheville.com/wp-content/uploads/2026/04/IMG_0314-scaled-e1775498357453.jpeg
GEO:35.5780389;-82.5787972
X-APPLE-STRUCTURED-LOCATION;VALUE=URI;X-ADDRESS=The Double Crown West Asheville 375 West Haywood Rd Asheville NC 28806;X-APPLE-RADIUS=500;X-TITLE=375 West Haywood Rd:geo:-82.5787972,35.5780389
END:VEVENT
BEGIN:VEVENT
DTSTART;VALUE=DATE:20260418
DTEND;VALUE=DATE:20260420
DTSTAMP:20260424T231435
CREATED:20260115T155240Z
LAST-MODIFIED:20260423T154010Z
UID:10037467-1776481200-1776567599@livemusicasheville.com
SUMMARY:Love What We Do .......... Buy Us A Beer!
DESCRIPTION:We hope you enjoy our guide to the Asheville area’s dynamic music scene. \nIf we somehow help to brighten up your day\, please consider a small donation to help support our efforts in providing the area’s most reliable local live music calendar. \nVenmo: click here  \nLast 4 digits – 3383 \nPayPal: click here \n 
URL:https://livemusicasheville.com/calendar/greetings-fellow-music-lovers-2-2/2026-04-18/
LOCATION:Asheville Area
CATEGORIES:Asheville Area
ATTACH;FMTTYPE=image/jpeg:https://livemusicasheville.com/wp-content/uploads/2019/01/alcohol-alcoholic-beverages-beer-1624263-e1776958791382.jpg
END:VEVENT
END:VCALENDAR