BEGIN:VCALENDAR
VERSION:2.0
PRODID:-//LiveMusicAsheville.com - ECPv6.15.20//NONSGML v1.0//EN
CALSCALE:GREGORIAN
METHOD:PUBLISH
X-WR-CALNAME:LiveMusicAsheville.com
X-ORIGINAL-URL:https://livemusicasheville.com
X-WR-CALDESC:Events for LiveMusicAsheville.com
REFRESH-INTERVAL;VALUE=DURATION:PT1H
X-Robots-Tag:noindex
X-PUBLISHED-TTL:PT1H
BEGIN:VTIMEZONE
TZID:America/New_York
BEGIN:DAYLIGHT
TZOFFSETFROM:-0500
TZOFFSETTO:-0400
TZNAME:EDT
DTSTART:20250309T070000
END:DAYLIGHT
BEGIN:STANDARD
TZOFFSETFROM:-0400
TZOFFSETTO:-0500
TZNAME:EST
DTSTART:20251102T060000
END:STANDARD
BEGIN:DAYLIGHT
TZOFFSETFROM:-0500
TZOFFSETTO:-0400
TZNAME:EDT
DTSTART:20260308T070000
END:DAYLIGHT
BEGIN:STANDARD
TZOFFSETFROM:-0400
TZOFFSETTO:-0500
TZNAME:EST
DTSTART:20261101T060000
END:STANDARD
BEGIN:DAYLIGHT
TZOFFSETFROM:-0500
TZOFFSETTO:-0400
TZNAME:EDT
DTSTART:20270314T070000
END:DAYLIGHT
BEGIN:STANDARD
TZOFFSETFROM:-0400
TZOFFSETTO:-0500
TZNAME:EST
DTSTART:20271107T060000
END:STANDARD
END:VTIMEZONE
BEGIN:VEVENT
DTSTART;TZID=America/New_York:20260414T180000
DTEND;TZID=America/New_York:20260414T200000
DTSTAMP:20260424T122150
CREATED:20260317T214747Z
LAST-MODIFIED:20260317T214748Z
UID:10015941-1776189600-1776196800@livemusicasheville.com
SUMMARY:Tuesdays w/ Ashley Heath
DESCRIPTION:
URL:https://livemusicasheville.com/calendar/ashley-heath-7-2-2-2/2026-04-14/
LOCATION:The Bush Farmhouse Black Mountain
CATEGORIES:Asheville Area,Black Mountain,Live Music
GEO:35.6171865;-82.3170606
END:VEVENT
BEGIN:VEVENT
DTSTART;TZID=America/New_York:20260414T180000
DTEND;TZID=America/New_York:20260414T200000
DTSTAMP:20260424T122150
CREATED:20260304T182634Z
LAST-MODIFIED:20260304T182634Z
UID:10048259-1776189600-1776196800@livemusicasheville.com
SUMMARY:Black Mountain Bluegrass Jam "unplugged"
DESCRIPTION:Pisgah Brewing’s unplugged bluegrass jam is hosted on Tuesdays at 6pm in the taproom. Bring your instruments and join in. It’ll be held on the patio on nicer days.\nAll levels welcome.\n\n\nFounded in 2005\, Pisgah is known for producing some of the most sought after craft ales in Western North Carolina. Pisgah Brewing Company currently operates the new indoor taproom & deli\, with live music several days a week\, plus an open air outdoor bar in the summer and fall months. Check out our upcoming schedule at pisgahbrewing.com/events
URL:https://livemusicasheville.com/calendar/black-mountain-bluegrass-jam-unplugged/2026-04-14/
LOCATION:Pisgah Brewing Company Black Mountain\, 2948 US-70\, Black Mountain\, NC\, 28711
CATEGORIES:Asheville Area,Black Mountain,Live Music
ATTACH;FMTTYPE=image/jpeg:https://livemusicasheville.com/wp-content/uploads/2026/03/645631663_1394670986020407_5217295838333578307_n-e1773067467855.jpg
GEO:35.6068069;-82.3568213
X-APPLE-STRUCTURED-LOCATION;VALUE=URI;X-ADDRESS=Pisgah Brewing Company Black Mountain 2948 US-70 Black Mountain NC 28711;X-APPLE-RADIUS=500;X-TITLE=2948 US-70:geo:-82.3568213,35.6068069
END:VEVENT
BEGIN:VEVENT
DTSTART;TZID=America/New_York:20260414T173000
DTEND;TZID=America/New_York:20260414T220000
DTSTAMP:20260424T122150
CREATED:20250115T172742Z
LAST-MODIFIED:20260414T152620Z
UID:10006530-1776187800-1776204000@livemusicasheville.com
SUMMARY:More Tuesday DJ/ Electronic Events
DESCRIPTION:Although we are primarily a Live Music Calendar\, we often come across Electronic & DJ events in the area and list them for you as we find out about them. Please verify the DJ\, times and cover charges with the venue. \nWildwood Still – 5:30-8:30pm (Takeover Tuesday) \nBen & Jerry’s – 6-8pm \n 
URL:https://livemusicasheville.com/calendar/more-tuesday-dj-electronic-events/
LOCATION:Asheville Area
CATEGORIES:Asheville Area,DJ/Electronic
END:VEVENT
BEGIN:VEVENT
DTSTART;TZID=America/New_York:20260414T170000
DTEND;TZID=America/New_York:20260415T010000
DTSTAMP:20260424T122150
CREATED:20250114T165902Z
LAST-MODIFIED:20260422T152410Z
UID:10052382-1776186000-1776214800@livemusicasheville.com
SUMMARY:Tuesday Karaoke
DESCRIPTION:Sierra Nevada Mills River – 5-9pm (April 28) \nWild Wing Cafe – 8-11pm \nThe One Stop – 10pm-1am \n 
URL:https://livemusicasheville.com/calendar/tuesday-karaoke/2026-04-14/
LOCATION:Asheville Area
CATEGORIES:Asheville Area,Karaoke
END:VEVENT
BEGIN:VEVENT
DTSTART;TZID=America/New_York:20260414T170000
DTEND;TZID=America/New_York:20260414T193000
DTSTAMP:20260424T122150
CREATED:20260324T141721Z
LAST-MODIFIED:20260407T121153Z
UID:10055120-1776186000-1776195000@livemusicasheville.com
SUMMARY:Daniel Shearin
DESCRIPTION:
URL:https://livemusicasheville.com/calendar/april-residency-daniel-shearin-3/2026-04-14/
LOCATION:New Belgium Brewing
CATEGORIES:Asheville Area,Live Music
END:VEVENT
BEGIN:VEVENT
DTSTART;TZID=America/New_York:20260414T153000
DTEND;TZID=America/New_York:20260414T233000
DTSTAMP:20260424T122150
CREATED:20241226T154009Z
LAST-MODIFIED:20260421T161506Z
UID:10027680-1776180600-1776209400@livemusicasheville.com
SUMMARY:Tuesday Open Mics/Jams
DESCRIPTION:Irish Session @ Diatribe Brewing – 4-6pm \nModerate Old Time Jam @ Cork & Keg – 5-6:30pm (1st & 3rd Tuesdays) \nNoble Cider – 5-8pm \nAcoustic Jam @ Turgua Brewing Fairview – 5:30-7pm (1st Tuesday-Old Time\, 2nd Tuesday-Irish Session\, 3rd Tuesday-Americana\, 4th Tuesday-Gypsy Jazz) (December 30-Irish Session) \nOpen Mic with Mike & Pat @ Sweeten Creek Brewing – 6-8:30pm (open bluegrass jam Feb 10) \nBluegrass Jam with Alex Bazemore @ Eda’s Hideaway Weaverville – 6:30-10pm \nScratch Ankle Fillin’ Station Candler – 7-9pm \nBeans & Tunes Old Time Jam w/ Banjo Mitch @Mals Bar Marshall – 7-9pm \nMudpuppies – 7-10pm \nEarly Tuesday Jam @ The One Stop – 7-10pm  \nOpen Mic w/Hamza @ The Social East Asheville – 7-11pm \nThe Open Jam with The Lactones @ Sovereign Kava – 8-11pm  \nWeaverville Open Mic @ Vintage Kava Weaverville – 9-11:30pm \n\n 
URL:https://livemusicasheville.com/calendar/tuesday-open-mics-jams/2026-04-14/
LOCATION:Asheville Area
CATEGORIES:Asheville Area,Black Mountain,Fairview,Open MIc/Jam,Weaverville
ATTACH;FMTTYPE=image/jpeg:https://livemusicasheville.com/wp-content/uploads/2024/12/IMG_9400-e1743027161179.jpeg
END:VEVENT
BEGIN:VEVENT
DTSTART;TZID=America/New_York:20260414T153000
DTEND;TZID=America/New_York:20260414T183000
DTSTAMP:20260424T122150
CREATED:20260406T170531Z
LAST-MODIFIED:20260406T170531Z
UID:10054817-1776180600-1776191400@livemusicasheville.com
SUMMARY:Live Music at The Market
DESCRIPTION:Every Tuesday afternoon\, enjoy live music while stocking up on fresh produce and goodies from local favorites.
URL:https://livemusicasheville.com/calendar/live-music-at-the-market/2026-04-14/
LOCATION:West Asheville Tailgate Market.\, 718 Haywood Rd\, Asheville\, NC\, United States
CATEGORIES:Asheville Area,Live Music
ATTACH;FMTTYPE=image/jpeg:https://livemusicasheville.com/wp-content/uploads/2026/04/658860598_18577196326005885_7368238720050299296_n-e1775495083903.jpg
GEO:35.5770686;-82.5923882
X-APPLE-STRUCTURED-LOCATION;VALUE=URI;X-ADDRESS=West Asheville Tailgate Market. 718 Haywood Rd Asheville NC United States;X-APPLE-RADIUS=500;X-TITLE=718 Haywood Rd:geo:-82.5923882,35.5770686
END:VEVENT
BEGIN:VEVENT
DTSTART;TZID=America/New_York:20260414T140000
DTEND;TZID=America/New_York:20260414T170000
DTSTAMP:20260424T122150
CREATED:20251016T155042Z
LAST-MODIFIED:20260413T144245Z
UID:10021802-1776175200-1776186000@livemusicasheville.com
SUMMARY:The Sawtooth Troubadours
DESCRIPTION:
URL:https://livemusicasheville.com/calendar/the-sawtooth-troubadours-4-3-2/
LOCATION:Sparky’s Bardega Downtown\, 23 Broadway\, ASHEVILLE\, NC\, 28801\, United States
CATEGORIES:Asheville Area,Live Music
GEO:35.596126;-82.5523443
X-APPLE-STRUCTURED-LOCATION;VALUE=URI;X-ADDRESS=Sparky’s Bardega Downtown 23 Broadway ASHEVILLE NC 28801 United States;X-APPLE-RADIUS=500;X-TITLE=23 Broadway:geo:-82.5523443,35.596126
END:VEVENT
BEGIN:VEVENT
DTSTART;TZID=America/New_York:20260414T140000
DTEND;TZID=America/New_York:20260414T150000
DTSTAMP:20260424T122150
CREATED:20260414T152457Z
LAST-MODIFIED:20260414T152457Z
UID:10056673-1776175200-1776178800@livemusicasheville.com
SUMMARY:Free Cone Day benefit for Save the Woods w/ Jackson Chisolm & Luke Shriver (bluegrass)
DESCRIPTION:
URL:https://livemusicasheville.com/calendar/free-cone-day-benefit-for-save-the-woods-w-jackson-chisolm-luke-shriver-bluegrass/
LOCATION:Ben & Jerry’s Downtown
CATEGORIES:Asheville Area,Live Music
END:VEVENT
BEGIN:VEVENT
DTSTART;VALUE=DATE:20260414
DTEND;VALUE=DATE:20260416
DTSTAMP:20260424T122150
CREATED:20260411T144316Z
LAST-MODIFIED:20260411T144317Z
UID:10053546-1776135600-1776221999@livemusicasheville.com
SUMMARY:COMING Saturday May 9th | You Can Call Me Paul (A Paul Simon Tribute)
DESCRIPTION:You Can Call Me Paul | May 9\, 2026 7:00 PM | $31+ Event Details and Tickets\nBenjamin Falcon formed a love of the Simon & Garfunkel songbook while growing up outside of DC\, in Alexandria\, VA\, through his parents fondness and nostalgia for Simon’s early work\, as well as Falcon’s frequent exposure to the music in radio and media. In college\, Falcon began to explore the larger catalogue of both Simon’s early and solo material.\n“You can call me Paul” has since sold out venues and attracted the collaboration of nationally touring musicians of note\, including Jason Hann (The String Cheese Incident)\, Justin Ray (Michael Bublé)\, Justin Stanton (Snarky Puppy).\nThis twelve-member band was assembled to authentically recreate the experience of seeing Simon’s solo work through the eras\, in a live setting\, with all the power and emotion that drew you to start.\n  \nFounded in 2005\, Pisgah is known for producing some of the most sought after craft ales in Western North Carolina. Pisgah Brewing Company currently operates the new indoor taproom & deli\, with live music several days a week\, plus an open air outdoor bar in the summer and fall months. Check out our upcoming schedule at pisgahbrewing.com/events
URL:https://livemusicasheville.com/calendar/coming-saturday-may-9th-you-can-call-me-paul-a-paul-simon-tribute-2/2026-04-14/
LOCATION:Pisgah Brewing Company Black Mountain\, 2948 US-70\, Black Mountain\, NC\, 28711
CATEGORIES:Asheville Area,Black Mountain,Live Music
ATTACH;FMTTYPE=image/jpeg:https://livemusicasheville.com/wp-content/uploads/2026/03/657258735_1413883220765850_5372182365295250927_n-e1774645194201.jpg
GEO:35.6068069;-82.3568213
X-APPLE-STRUCTURED-LOCATION;VALUE=URI;X-ADDRESS=Pisgah Brewing Company Black Mountain 2948 US-70 Black Mountain NC 28711;X-APPLE-RADIUS=500;X-TITLE=2948 US-70:geo:-82.3568213,35.6068069
END:VEVENT
BEGIN:VEVENT
DTSTART;TZID=America/New_York:20260413T200000
DTEND;TZID=America/New_York:20260413T233000
DTSTAMP:20260424T122151
CREATED:20251203T140514Z
LAST-MODIFIED:20260413T163658Z
UID:10026459-1776110400-1776123000@livemusicasheville.com
SUMMARY:Singer/Songwriter Night w/ Jojo Harnish\, Mark Mac and Prairie Smoke
DESCRIPTION:
URL:https://livemusicasheville.com/calendar/singer-songwriter-night-w-jojo-harnish-johnny-elkins-and-jackie-kelsh/
LOCATION:Shakey’s Dive Bar
CATEGORIES:Asheville Area,Live Music
END:VEVENT
BEGIN:VEVENT
DTSTART;TZID=America/New_York:20260413T200000
DTEND;TZID=America/New_York:20260413T231500
DTSTAMP:20260424T122151
CREATED:20241228T134620Z
LAST-MODIFIED:20260410T130718Z
UID:10004109-1776110400-1776122100@livemusicasheville.com
SUMMARY:The JLloyd Monday Mashup: w/sg Matt Williams & Patrick Armitage!
DESCRIPTION:Multi instrumentalist\, Matt Williams\, joins the night on vocals\, guitar and violin!! Plus Patrick Armitage is back to hold down the drums!\nGet ready for an explosion of different music rooted in rock\, soul and more!\n\n\n\n\n\n\n\n\n\n\n\nEvent starts at 8.Music starts at 8:30.Going until 11:15ish.\n\n\n\n\n\n\n\n\n\n$10. Thank you for the continued support!\n\n\n\n\n\n\n\n\n\n\nMashup Mondays every Monday at One World Brewing West with special guests and different music every week!!\n\n\n\n\n\n\n\n\n\n\n\n\n\n\n\n\n\n\n\n\n\nThe JLloyd MashUp explores different genres of music including Acid Jazz\, Funk\, Soul\, Afro Beat\, Reggae\, Break Beat\, and Latin. Led and curated by Jonathan Lloyd (The Fritz/Dubconscious/Cadillac Jones)\, the band is made up of some of Asheville’s busiest and hardest working musicians on the scene.
URL:https://livemusicasheville.com/calendar/jloyd-mashup-mondays-w-sg/
LOCATION:One World Brewing – West\, 520 Haywood Rd\, Asheville\, North Carolina\, 28806
CATEGORIES:Asheville Area,Live Music
ATTACH;FMTTYPE=image/jpeg:https://livemusicasheville.com/wp-content/uploads/2024/12/667866638_1277075721188930_6990603681638788841_n-e1775826426532.jpg
GEO:35.5783642;-82.5848526
X-APPLE-STRUCTURED-LOCATION;VALUE=URI;X-ADDRESS=One World Brewing – West 520 Haywood Rd Asheville North Carolina 28806;X-APPLE-RADIUS=500;X-TITLE=520 Haywood Rd:geo:-82.5848526,35.5783642
END:VEVENT
BEGIN:VEVENT
DTSTART;TZID=America/New_York:20260413T200000
DTEND;TZID=America/New_York:20260413T230000
DTSTAMP:20260424T122151
CREATED:20260408T171301Z
LAST-MODIFIED:20260408T171301Z
UID:10055725-1776110400-1776121200@livemusicasheville.com
SUMMARY:Crowbar & Eyehategod w/ Weight Shift
DESCRIPTION:
URL:https://livemusicasheville.com/calendar/crowbar-eyehategod-w-weight-shift/
LOCATION:Eulogy\, 10 Buxton Ave\, Asheville\, NC\, 28801
CATEGORIES:Asheville Area,Live Music
GEO:35.5883468;-82.5539256
X-APPLE-STRUCTURED-LOCATION;VALUE=URI;X-ADDRESS=Eulogy 10 Buxton Ave Asheville NC 28801;X-APPLE-RADIUS=500;X-TITLE=10 Buxton Ave:geo:-82.5539256,35.5883468
END:VEVENT
BEGIN:VEVENT
DTSTART;TZID=America/New_York:20260413T190000
DTEND;TZID=America/New_York:20260414T020000
DTSTAMP:20260424T122151
CREATED:20241226T131635Z
LAST-MODIFIED:20260309T201711Z
UID:10024700-1776106800-1776132000@livemusicasheville.com
SUMMARY:Monday Karaoke
DESCRIPTION:The Social East Asheville – 7-11pm \nBen’s TuneUp – 7-10pm \nEda’a Hideaway Weaverville – 7-10pm \nIce Bar Arden – 8-11pm (March 2) \n27 Club – 9pm-2am \nFleetwood’s – 9pm-12am (7pm start on 2/2) \nDaytrip – 9pm – (verify with the venue) \nThe Double Crown – Country Karaoke- 10pm-2am \nBe sure to check times and KJ with the venue. \n 
URL:https://livemusicasheville.com/calendar/monday-karaoke/2026-04-13/
LOCATION:NC
CATEGORIES:Asheville Area,Karaoke
END:VEVENT
BEGIN:VEVENT
DTSTART;TZID=America/New_York:20260413T190000
DTEND;TZID=America/New_York:20260413T220000
DTSTAMP:20260424T122151
CREATED:20260223T193302Z
LAST-MODIFIED:20260223T193303Z
UID:10026826-1776106800-1776117600@livemusicasheville.com
SUMMARY:Asheville Monday Night Contra Dance
DESCRIPTION:
URL:https://livemusicasheville.com/calendar/asheville-monday-night-contra-dance-2-2-2/2026-04-13/
LOCATION:The Ivy Building at AB Tech
CATEGORIES:Asheville Area,Live Music
GEO:35.6104607;-82.5676894
END:VEVENT
BEGIN:VEVENT
DTSTART;TZID=America/New_York:20260413T190000
DTEND;TZID=America/New_York:20260413T220000
DTSTAMP:20260424T122151
CREATED:20241226T142951Z
LAST-MODIFIED:20260408T130708Z
UID:10002890-1776106800-1776117600@livemusicasheville.com
SUMMARY:Free Jazz Monday w/ The CORE
DESCRIPTION:
URL:https://livemusicasheville.com/calendar/free-live-jazz/
LOCATION:Little Jumbo\, 241 Broadway St\, Asheville\, NC\, 28801
CATEGORIES:Asheville Area,Live Music
GEO:35.6024336;-82.5568463
X-APPLE-STRUCTURED-LOCATION;VALUE=URI;X-ADDRESS=Little Jumbo 241 Broadway St Asheville NC 28801;X-APPLE-RADIUS=500;X-TITLE=241 Broadway St:geo:-82.5568463,35.6024336
END:VEVENT
BEGIN:VEVENT
DTSTART;TZID=America/New_York:20260413T190000
DTEND;TZID=America/New_York:20260413T210000
DTSTAMP:20260424T122151
CREATED:20260316T200227Z
LAST-MODIFIED:20260316T200227Z
UID:10034614-1776106800-1776114000@livemusicasheville.com
SUMMARY:Traditional Bluegrass w/ The Asheville Mountain Boys
DESCRIPTION:
URL:https://livemusicasheville.com/calendar/bluegrass-w-the-asheville-mountain-boys-3-2-2/2026-04-13/
LOCATION:5 Walnut Wine Bar
CATEGORIES:Asheville Area,Live Music
GEO:35.596654;-82.5525389
END:VEVENT
BEGIN:VEVENT
DTSTART;TZID=America/New_York:20260413T190000
DTEND;TZID=America/New_York:20260413T210000
DTSTAMP:20260424T122151
CREATED:20260126T214751Z
LAST-MODIFIED:20260418T133814Z
UID:10029741-1776106800-1776114000@livemusicasheville.com
SUMMARY:Music Mondays with host Ashley Heath
DESCRIPTION:  \n\n\n\n\n\n\n\n\n\n\n\n\n\n\n\n\n\n\n\n\n\n\n\n\nCheck with the venue on Ashley’s future guests.
URL:https://livemusicasheville.com/calendar/ashley-heath-mondays-2-2-2-2-2-2-2/2026-04-13/
LOCATION:Town Pump Tavern Black Mountain
CATEGORIES:Asheville Area,Black Mountain,Live Music
GEO:35.6162458;-82.320259
END:VEVENT
BEGIN:VEVENT
DTSTART;TZID=America/New_York:20260413T190000
DTEND;TZID=America/New_York:20260413T210000
DTSTAMP:20260424T122151
CREATED:20250702T121700Z
LAST-MODIFIED:20260304T145213Z
UID:10028522-1776106800-1776114000@livemusicasheville.com
SUMMARY:Blues with Mr Jimmy & Friends
DESCRIPTION:
URL:https://livemusicasheville.com/calendar/blues-with-mr-jimmy-friends-2/2026-04-13/
LOCATION:The Joint Next Door Fairview
CATEGORIES:Asheville Area,Fairview,Live Music
GEO:35.5251372;-82.424797
END:VEVENT
BEGIN:VEVENT
DTSTART;TZID=America/New_York:20260413T180000
DTEND;TZID=America/New_York:20260414T020000
DTSTAMP:20260424T122151
CREATED:20241226T132023Z
LAST-MODIFIED:20260308T081314Z
UID:10027629-1776103200-1776132000@livemusicasheville.com
SUMMARY:Monday Weekly DJs
DESCRIPTION:Although we are primarily a Live Music Calendar\, we often come across Electronic & DJ events in the area and list them for you as we find out about them. Please verify the DJ\, times and cover charges with the venue. \nAntidote – 6-9pm \nCoffee Art Music Type Place (CAMP) – 7-9pm (swing) \nLazy Diamond- 10pm-2am \nCheck with the venue on tonight’s djs and cover charges.
URL:https://livemusicasheville.com/calendar/monday-djs/2026-04-13/
LOCATION:Asheville Area
CATEGORIES:Asheville Area,DJ/Electronic
END:VEVENT
BEGIN:VEVENT
DTSTART;TZID=America/New_York:20260413T180000
DTEND;TZID=America/New_York:20260413T203000
DTSTAMP:20260424T122151
CREATED:20260413T203448Z
LAST-MODIFIED:20260413T203449Z
UID:10014513-1776103200-1776112200@livemusicasheville.com
SUMMARY:Alex Bazemore and Friends w/sg Amabel Lee Perri
DESCRIPTION:Join Alex Bazemore and Friends for a Monday night residency at French Broad River Brewery. The bluegrass/ Jamgrass group is a mash up of local Asheville “all star” musicians set to explore new musical frontiers together and melt faces. Alex and his rotating cast of local musicians play sets with ranging genres and styles influenced by everything from bluegrass to folk\, jam \, funk\, and blues. Free show\, pet and family friendly! \nFrench Broad River Brewery is more than just a place to enjoy a drink—it’s a community hub where great beer\, delicious pizza\, live music\, and good times come together. Just minutes from the Biltmore Estate & Downtown\, our taproom is a gathering spot for locals and visitors alike. We regularly host live music and entertainment in our taproom\, making French Broad River Brewery a lively hub of local activity. From bluegrass to reggae\, there’s always something happening. Check out our Events Page to see what’s coming up next! \nNo brewery experience is complete without great food. That’s why we offer French Broad River Pizza\, serving up hot\, hand-tossed pizzas made to order. Whether you’re here for a quick slice or a full meal\, our pizza perfectly complements our craft beers and the lively atmosphere of our taproom. frenchbroadbrewery.com/pizza \n 
URL:https://livemusicasheville.com/calendar/alex-bazemore-and-friends-2-2-2-2-2-2-2-2-2-3/
LOCATION:French Broad River Brewery\, 101 Fairview Rd\, Asheville\, NC\, United States
CATEGORIES:Asheville Area,Live Music
ATTACH;FMTTYPE=image/jpeg:https://livemusicasheville.com/wp-content/uploads/2026/03/3748C40B-D52C-48B6-833D-BE97AA2BF4DE-e1773349369508.jpeg
GEO:35.5662722;-82.5374054
X-APPLE-STRUCTURED-LOCATION;VALUE=URI;X-ADDRESS=French Broad River Brewery 101 Fairview Rd Asheville NC United States;X-APPLE-RADIUS=500;X-TITLE=101 Fairview Rd:geo:-82.5374054,35.5662722
END:VEVENT
BEGIN:VEVENT
DTSTART;TZID=America/New_York:20260413T180000
DTEND;TZID=America/New_York:20260413T200000
DTSTAMP:20260424T122151
CREATED:20251209T024030Z
LAST-MODIFIED:20260321T173441Z
UID:10050832-1776103200-1776110400@livemusicasheville.com
SUMMARY:Jazz/Blues Jam hosted by Paul Helou
DESCRIPTION:
URL:https://livemusicasheville.com/calendar/jazz-night-2/2026-04-13/
LOCATION:Zillicoah Beer Company
CATEGORIES:Asheville Area,Live Music
END:VEVENT
BEGIN:VEVENT
DTSTART;TZID=America/New_York:20260413T170000
DTEND;TZID=America/New_York:20260413T223000
DTSTAMP:20260424T122151
CREATED:20251216T174756Z
LAST-MODIFIED:20260321T173633Z
UID:10030211-1776099600-1776119400@livemusicasheville.com
SUMMARY:Monday Open Mics/Jams
DESCRIPTION:Musicians In The Round @Urban Orchard South Slope – 6-8:30pm (5:30 sign up) (exclude 2/2) \nOld Time Jam @Dirty Jack’s – 5:30-9pm \nJazz/Blues Jam @ Zillacoah Brewing – 6-8pm \nBlue Mountain Pizza Weaverville – 6-9pm (last Thursday of the month excluding December) \nMarshall Bluegrass Jam @ Mals’ Bar – 6:30-9pm \nHaywood Country Club – 7-10:30pm  \nOne World Brewing Downtown – 7:30-10:30pm \n  \n  \n\n 
URL:https://livemusicasheville.com/calendar/monday-open-mics-jams-2-2/2026-04-13/
LOCATION:Asheville Area
CATEGORIES:Asheville Area,Open MIc/Jam
END:VEVENT
BEGIN:VEVENT
DTSTART;VALUE=DATE:20260413
DTEND;VALUE=DATE:20260415
DTSTAMP:20260424T122151
CREATED:20260127T162323Z
LAST-MODIFIED:20260420T011548Z
UID:10057855-1776049200-1776135599@livemusicasheville.com
SUMMARY:COMING SATURDAY April 25 | Pisgah Palooza 2026 - (21 Years of Pisgah Brewing)
DESCRIPTION:Saturday April 25\, 2026 6:00 PM | Doors Open: 5:00 PM | Advance Tickets are on sale now – 2 for $21! Event Details and Tickets\nJoin us on April 25th to celebrate 21 years of Pisgah Brewing with Sqwerv\, Airshow and Pocketful of Gold.\n\nDenver’s electrifying Indie-Jam Band\, Sqwerv is a nationally touring quartet that brings elements of classic rock\, psychedelic music\, funk\, and jam fusion for an experience like no other. The band explores rich sonic realms with a depth of improvisational virtuosity. Their passion for well crafted songs and blended harmonies set this group apart in their scene. The band released 2 full length studio albums in 2024\, ‘Mirage’ and ‘Hors d’Oeuvres’ and has a new full length record on the way in 2025. They have opened for acts such as George Clinton and Parliament Funkadelic\, Pigeons Playing Ping Pong\, Eggy\, Big Something\, Spafford and many more.\n–\nAirshow is a high-flying\, Nashville-based jam band featuring a unique contrast of familiar acoustic and mind-bending electric sounds that transports listeners from a campfire picking-party to the outer reaches of the multiverse. Formed by longtime friends Cody Chelius (Mandolin / Vocals) and Steve Gallagher (Guitar / Vocals)\, the group’s lineup was completed with the addition of Bill Baker (Bass/ Vocals) and John Rodrigue (Drums/ Vocals) in 2016. While each member has different musical influences\, it is their shared passion for exploring uncharted sonic territories that has propelled their ascension to the top of Nashville’s jamband scene— and they won’t be landing anytime soon.\n–\nPocketful of Gold\, Asheville’s newest Led Zeppelin Experience\, makes their debut on Pisgah’s Outdoor Stage! Featuring Hannah Ramsey\, Alex Bazemore\, Jackson Chisholm\, and Zach Jones\, these frizzy-haired folk bring their love of Led Zeppelin together to offer a musical experience that both honors their iconic sound and showcases the inspiration that it’s had on each member’s personal musicianship.\n  \nFounded in 2005\, Pisgah is known for producing some of the most sought after craft ales in Western North Carolina. Pisgah Brewing Company currently operates the new indoor taproom & deli\, with live music several days a week\, plus an open air outdoor bar in the summer and fall months. Check out our upcoming schedule at pisgahbrewing.com/events
URL:https://livemusicasheville.com/calendar/pisgah-palooza-2026/2026-04-13/
LOCATION:Pisgah Brewing Company Black Mountain\, 2948 US-70\, Black Mountain\, NC\, 28711
CATEGORIES:Asheville Area,Black Mountain,Live Music
ATTACH;FMTTYPE=image/jpeg:https://livemusicasheville.com/wp-content/uploads/2026/01/617704239_1358962522924587_2721723407800321272_n-e1769530924423.jpg
GEO:35.6068069;-82.3568213
X-APPLE-STRUCTURED-LOCATION;VALUE=URI;X-ADDRESS=Pisgah Brewing Company Black Mountain 2948 US-70 Black Mountain NC 28711;X-APPLE-RADIUS=500;X-TITLE=2948 US-70:geo:-82.3568213,35.6068069
END:VEVENT
BEGIN:VEVENT
DTSTART;VALUE=DATE:20260413
DTEND;VALUE=DATE:20260415
DTSTAMP:20260424T122151
CREATED:20260115T155240Z
LAST-MODIFIED:20260423T154010Z
UID:10057542-1776049200-1776135599@livemusicasheville.com
SUMMARY:Love What We Do .......... Buy Us A Beer!
DESCRIPTION:We hope you enjoy our guide to the Asheville area’s dynamic music scene. \nIf we somehow help to brighten up your day\, please consider a small donation to help support our efforts in providing the area’s most reliable local live music calendar. \nVenmo: click here  \nLast 4 digits – 3383 \nPayPal: click here \n 
URL:https://livemusicasheville.com/calendar/greetings-fellow-music-lovers-2-2/2026-04-13/
LOCATION:Asheville Area
CATEGORIES:Asheville Area
ATTACH;FMTTYPE=image/jpeg:https://livemusicasheville.com/wp-content/uploads/2019/01/alcohol-alcoholic-beverages-beer-1624263-e1776958791382.jpg
END:VEVENT
BEGIN:VEVENT
DTSTART;TZID=America/New_York:20260412T210000
DTEND;TZID=America/New_York:20260413T000000
DTSTAMP:20260424T122151
CREATED:20260104T055429Z
LAST-MODIFIED:20260107T184413Z
UID:10032603-1776027600-1776038400@livemusicasheville.com
SUMMARY:Shakedown Sunday
DESCRIPTION:
URL:https://livemusicasheville.com/calendar/shakedown-sunday-2-2-2-2-2/2026-04-12/
LOCATION:The One Stop
CATEGORIES:Asheville Area,Live Music,Open MIc/Jam
END:VEVENT
BEGIN:VEVENT
DTSTART;TZID=America/New_York:20260412T203000
DTEND;TZID=America/New_York:20260412T233000
DTSTAMP:20260424T122151
CREATED:20260408T110630Z
LAST-MODIFIED:20260408T204617Z
UID:10055692-1776025800-1776036600@livemusicasheville.com
SUMMARY:The Sleeveens/Designer/Glue Sniffin Squish Heads
DESCRIPTION:
URL:https://livemusicasheville.com/calendar/the-sleeveens/
LOCATION:Fleetwood’s\, 496 Haywood Rd\, Asheville\, NC\, 28806\, United States
CATEGORIES:Asheville Area,Live Music
GEO:35.578126;-82.583757
X-APPLE-STRUCTURED-LOCATION;VALUE=URI;X-ADDRESS=Fleetwood’s 496 Haywood Rd Asheville NC 28806 United States;X-APPLE-RADIUS=500;X-TITLE=496 Haywood Rd:geo:-82.583757,35.578126
END:VEVENT
BEGIN:VEVENT
DTSTART;TZID=America/New_York:20260412T200000
DTEND;TZID=America/New_York:20260413T020000
DTSTAMP:20260424T122151
CREATED:20260208T155221Z
LAST-MODIFIED:20260208T155221Z
UID:10043619-1776024000-1776045600@livemusicasheville.com
SUMMARY:All Request Piano Show
DESCRIPTION:
URL:https://livemusicasheville.com/calendar/all-request-piano-show-2/2026-04-12/
LOCATION:Off the Wagon
CATEGORIES:Asheville Area,Live Music
GEO:41.4302231;-81.3909542
END:VEVENT
BEGIN:VEVENT
DTSTART;TZID=America/New_York:20260412T200000
DTEND;TZID=America/New_York:20260413T000000
DTSTAMP:20260424T122151
CREATED:20260408T130924Z
LAST-MODIFIED:20260408T130924Z
UID:10055699-1776024000-1776038400@livemusicasheville.com
SUMMARY:CAM GIRL\, Flora & The Fauna\, Ton of a Bitch\, Angeloclast
DESCRIPTION:
URL:https://livemusicasheville.com/calendar/cam-girl-flora-the-fauna-ton-of-a-bitch-angeloclast/
LOCATION:The Odd
CATEGORIES:Asheville Area,Live Music
END:VEVENT
BEGIN:VEVENT
DTSTART;TZID=America/New_York:20260412T200000
DTEND;TZID=America/New_York:20260412T223000
DTSTAMP:20260424T122151
CREATED:20260121T182910Z
LAST-MODIFIED:20260124T141511Z
UID:10040077-1776024000-1776033000@livemusicasheville.com
SUMMARY:Willis Alan Ramsey
DESCRIPTION:
URL:https://livemusicasheville.com/calendar/willis-alan-ramsey/
LOCATION:The Grey Eagle\, 185 Clingman Ave\, Asheville\, NC\, United States
CATEGORIES:Asheville Area,Live Music
GEO:35.5870871;-82.5643936
X-APPLE-STRUCTURED-LOCATION;VALUE=URI;X-ADDRESS=The Grey Eagle 185 Clingman Ave Asheville NC United States;X-APPLE-RADIUS=500;X-TITLE=185 Clingman Ave:geo:-82.5643936,35.5870871
END:VEVENT
END:VCALENDAR