BEGIN:VCALENDAR
VERSION:2.0
PRODID:-//LiveMusicAsheville.com - ECPv6.15.20//NONSGML v1.0//EN
CALSCALE:GREGORIAN
METHOD:PUBLISH
X-WR-CALNAME:LiveMusicAsheville.com
X-ORIGINAL-URL:https://livemusicasheville.com
X-WR-CALDESC:Events for LiveMusicAsheville.com
REFRESH-INTERVAL;VALUE=DURATION:PT1H
X-Robots-Tag:noindex
X-PUBLISHED-TTL:PT1H
BEGIN:VTIMEZONE
TZID:America/New_York
BEGIN:DAYLIGHT
TZOFFSETFROM:-0500
TZOFFSETTO:-0400
TZNAME:EDT
DTSTART:20240310T070000
END:DAYLIGHT
BEGIN:STANDARD
TZOFFSETFROM:-0400
TZOFFSETTO:-0500
TZNAME:EST
DTSTART:20241103T060000
END:STANDARD
BEGIN:DAYLIGHT
TZOFFSETFROM:-0500
TZOFFSETTO:-0400
TZNAME:EDT
DTSTART:20250309T070000
END:DAYLIGHT
BEGIN:STANDARD
TZOFFSETFROM:-0400
TZOFFSETTO:-0500
TZNAME:EST
DTSTART:20251102T060000
END:STANDARD
BEGIN:DAYLIGHT
TZOFFSETFROM:-0500
TZOFFSETTO:-0400
TZNAME:EDT
DTSTART:20260308T070000
END:DAYLIGHT
BEGIN:STANDARD
TZOFFSETFROM:-0400
TZOFFSETTO:-0500
TZNAME:EST
DTSTART:20261101T060000
END:STANDARD
END:VTIMEZONE
BEGIN:VEVENT
DTSTART;TZID=America/New_York:20251213T180000
DTEND;TZID=America/New_York:20251213T233000
DTSTAMP:20260425T121026
CREATED:20251210T204550Z
LAST-MODIFIED:20251210T204550Z
UID:10027261-1765648800-1765668600@livemusicasheville.com
SUMMARY:SOLD OUT | Whitechapel w/ Bodysnatcher\, AngelMaker\, Disembodied Tyrant
DESCRIPTION:
URL:https://livemusicasheville.com/calendar/sold-out-whitechapel-w-bodysnatcher-angelmaker-disembodied-tyrant/
LOCATION:The Orange Peel
CATEGORIES:Asheville Area,Live Music
GEO:35.5914061;-82.5510137
END:VEVENT
BEGIN:VEVENT
DTSTART;TZID=America/New_York:20251213T180000
DTEND;TZID=America/New_York:20251214T020000
DTSTAMP:20260425T121026
CREATED:20241225T200257Z
LAST-MODIFIED:20260415T173722Z
UID:10004100-1765648800-1765677600@livemusicasheville.com
SUMMARY:Saturday Weekly DJ's
DESCRIPTION:Although we are primarily a Live Music Calendar\, we often come across Electronic & DJ events in the area and list them for you as we find out about them. Please verify the DJ\, times and cover charges with the venue. \nWaterstreet – 3-7pm \nLA Pizza Party Rooftop – 6-9pm \nThe Radical – 6-11pm \nPotential New Boyfriend – 7:30-11pm \nCapella On 9 – 8-11pm \nBen’s Tune Up – 8-11pm \nThe Tiki Easy Bar – 9pm-12am \nBanks Ave – 9-11:30pm \nHavana Miami – 9pm-2am \nStatic Age Loft – 9pm-2am \nWaterstreet – 9pm-2am \nNightshade – 9pm-1am \nVOWL – 9pm-1am \nLa Pizza Party South Slope – 10pm-2am \nFarməse – 10pm-1am \nThe Barksdale – 10pm-2am \nDouble Crown – 10pm-2am \nLazy Diamond – 10pm-2am \nStrange Magic Bar – 10pm-2am \nShakeys – 10pm-2am \nVerify with the venue on time\, cover charges and tonight’s DJ.
URL:https://livemusicasheville.com/calendar/saturday-weekly-dj-schedule/2025-12-13/
LOCATION:North Carolina
CATEGORIES:Asheville Area,DJ/Electronic
END:VEVENT
BEGIN:VEVENT
DTSTART;TZID=America/New_York:20251213T183000
DTEND;TZID=America/New_York:20251213T203000
DTSTAMP:20260425T121026
CREATED:20250806T204603Z
LAST-MODIFIED:20251210T183551Z
UID:10027184-1765650600-1765657800@livemusicasheville.com
SUMMARY:Carolina Bluegrass Style
DESCRIPTION:
URL:https://livemusicasheville.com/calendar/carolina-bluegrass-style-2-2-2/2025-12-13/
LOCATION:Blue Mountain Pizza Weaverville
CATEGORIES:Asheville Area,Live Music,Weaverville
GEO:35.698228;-82.560231
END:VEVENT
BEGIN:VEVENT
DTSTART;TZID=America/New_York:20251213T190000
DTEND;TZID=America/New_York:20251213T210000
DTSTAMP:20260425T121026
CREATED:20251126T181412Z
LAST-MODIFIED:20260106T172318Z
UID:10030394-1765652400-1765659600@livemusicasheville.com
SUMMARY:Will Hartz
DESCRIPTION:
URL:https://livemusicasheville.com/calendar/will-hartz-3-2-2-2-2/2025-12-13/
LOCATION:5 Walnut Wine Bar
CATEGORIES:Asheville Area,Live Music
GEO:35.596654;-82.5525389
END:VEVENT
BEGIN:VEVENT
DTSTART;TZID=America/New_York:20251213T190000
DTEND;TZID=America/New_York:20251213T213000
DTSTAMP:20260425T121026
CREATED:20250402T150600Z
LAST-MODIFIED:20251210T154803Z
UID:10011903-1765652400-1765661400@livemusicasheville.com
SUMMARY:Toe River Bandits
DESCRIPTION:
URL:https://livemusicasheville.com/calendar/toe-river-bandits/
LOCATION:Mars Theatre Brewing Company Mars Hill
CATEGORIES:Asheville Area,Live Music,Madison County
GEO:35.8279363;-82.5483211
END:VEVENT
BEGIN:VEVENT
DTSTART;TZID=America/New_York:20251213T190000
DTEND;TZID=America/New_York:20251213T213000
DTSTAMP:20260425T121026
CREATED:20251210T202323Z
LAST-MODIFIED:20251210T202323Z
UID:10027253-1765652400-1765661400@livemusicasheville.com
SUMMARY:Dean Johnson & Esther Rose
DESCRIPTION:
URL:https://livemusicasheville.com/calendar/dean-johnson-esther-rose/
LOCATION:AyurPrana Listening Room\, 312 Haywood Rd\, Asheville\, NC\, 28806
CATEGORIES:Asheville Area,Live Music
GEO:35.5775962;-82.5760261
X-APPLE-STRUCTURED-LOCATION;VALUE=URI;X-ADDRESS=AyurPrana Listening Room 312 Haywood Rd Asheville NC 28806;X-APPLE-RADIUS=500;X-TITLE=312 Haywood Rd:geo:-82.5760261,35.5775962
END:VEVENT
BEGIN:VEVENT
DTSTART;TZID=America/New_York:20251213T190000
DTEND;TZID=America/New_York:20251213T220000
DTSTAMP:20260425T121026
CREATED:20250111T093225Z
LAST-MODIFIED:20251202T222751Z
UID:10001931-1765652400-1765663200@livemusicasheville.com
SUMMARY:Country Music With a Little Bluegrass
DESCRIPTION:  \n 
URL:https://livemusicasheville.com/calendar/country-music-with-a-little-bluegrass-2/2025-12-13/
LOCATION:The Old Home Place Mills River
CATEGORIES:Live Music,Mills River
GEO:35.3884479;-82.566789
END:VEVENT
BEGIN:VEVENT
DTSTART;TZID=America/New_York:20251213T190000
DTEND;TZID=America/New_York:20251213T230000
DTSTAMP:20260425T121026
CREATED:20251208T201704Z
LAST-MODIFIED:20251213T074815Z
UID:10026923-1765652400-1765666800@livemusicasheville.com
SUMMARY:Chris Vita (Nashville) | Honky Tonk & Barn Burners
DESCRIPTION:Live in The Showroom$10 cover gets you into The Showroom and The Palm Room\nChris Vita chased the country dream straight to Nashville\, learning the ropes on stages like Tootsies where late nights and neon signs teach you everything you need to know. His sound blends the ease of classic country with a modern edge\, grounded in stories about love\, loss\, and the kind of small-town moments that stick with you. You can hear traces of George Strait\, Merle Haggard\, and George Jones in the way he phrases a line\, but the heart behind it is unmistakably his. Tonight he brings that mix of grit and charm to The Showroom\n\n\n\n\n\n\n\nFitz\, she’s the party. Wolfe\, he’s the epicure. 2 levels\, 3 vibes. 🎶 Live Music |🍸Sips & Noms 🥪 | 🕹️ Artcade | 🗝️Speakeasy | Private Events \nFitz and the Wolfe is a cocktail and music venue shaped by the spirit of improvisation\, storytelling\, and the kind of nights that feel too good to end. Here\, every night brings a new soundtrack. Jazz\, swing\, honky-tonk\, and sometimes things a little more esoteric—if it moves people\, we book it. The music fills the space like a second heartbeat\, sometimes rowdy\, sometimes intimate\, always memorable. It’s not background noise. It’s the reason you’re here. fitzandthewolfe.com
URL:https://livemusicasheville.com/calendar/chris-vita-nashville-honky-tonk-barn-burners/
LOCATION:Fitz and the Wolfe\, 1 Battery Park Ave\, Asheville\, NC\, 28801\, United States
CATEGORIES:Asheville Area,Live Music
GEO:35.5954515;-82.5548502
X-APPLE-STRUCTURED-LOCATION;VALUE=URI;X-ADDRESS=Fitz and the Wolfe 1 Battery Park Ave Asheville NC 28801 United States;X-APPLE-RADIUS=500;X-TITLE=1 Battery Park Ave:geo:-82.5548502,35.5954515
END:VEVENT
BEGIN:VEVENT
DTSTART;TZID=America/New_York:20251213T190000
DTEND;TZID=America/New_York:20251213T233000
DTSTAMP:20260425T121026
CREATED:20250322T150845Z
LAST-MODIFIED:20251214T215054Z
UID:10010510-1765652400-1765668600@livemusicasheville.com
SUMMARY:Save Our Website to Your Home Screen 📲
DESCRIPTION:As an interactive calendar\, we often add events to our calendar as we find out about them\, sometimes even from our phone while we are out supporting local live music. By adding our website\, LiveMusicAsheville.com to your home screen\, we will always be right at your fingertips. Here’s how:\n\n\n\n\niPhone (using Safari):\n\n\n\nOpen Safari and navigate to the website: you want to add as a shortcut. \n\n\n\n\n\n\n\n\nTap the Share button: (a square with an arrow pointing out of the top). \n\n\n\n\n\n\n\n\nScroll down and tap “Add to Home Screen” . \n\n\n\n\n\n\n\n\nChoose a name for the shortcut: and tap “Add”. \n\n\n\n\n\n\n\n\nThe shortcut will appear on your home screen as an icon. \n\n\n\n\n\n\n\n\n\n\n\nAndroid (using Chrome or other browsers):\n\n\n\nOpen Chrome (or your preferred browser) and navigate to the website: you want to add.\nTap the three-dot menu icon: (usually in the top right corner).\nSelect “Add to Home Screen” .\nCustomize the name of the shortcut: if desired\, and then tap “Add”.\nThe shortcut will appear on your home screen as an icon. 
URL:https://livemusicasheville.com/calendar/add-our-website-to-your-home-screen/2025-12-13/
LOCATION:North Carolina
CATEGORIES:Asheville Area
END:VEVENT
BEGIN:VEVENT
DTSTART;TZID=America/New_York:20251213T190000
DTEND;TZID=America/New_York:20251213T233000
DTSTAMP:20260425T121026
CREATED:20251021T165922Z
LAST-MODIFIED:20251208T064757Z
UID:10022876-1765652400-1765668600@livemusicasheville.com
SUMMARY:Christmas Jam 2025
DESCRIPTION:
URL:https://livemusicasheville.com/calendar/christmas-jam-2025/
LOCATION:Harrah’s Cherokee Center – Asheville
CATEGORIES:Asheville Area,Live Music
GEO:35.5975104;-82.5460563
END:VEVENT
BEGIN:VEVENT
DTSTART;TZID=America/New_York:20251213T190000
DTEND;TZID=America/New_York:20251214T020000
DTSTAMP:20260425T121026
CREATED:20241225T123126Z
LAST-MODIFIED:20251122T132355Z
UID:10000626-1765652400-1765677600@livemusicasheville.com
SUMMARY:Dueling Piano Show
DESCRIPTION:
URL:https://livemusicasheville.com/calendar/dueling-piano-show/2025-12-13/
LOCATION:Off the Wagon
CATEGORIES:Asheville Area,Live Music
GEO:41.4302231;-81.3909542
END:VEVENT
BEGIN:VEVENT
DTSTART;TZID=America/New_York:20251213T193000
DTEND;TZID=America/New_York:20251213T213000
DTSTAMP:20260425T121026
CREATED:20251210T143435Z
LAST-MODIFIED:20251210T143435Z
UID:10027156-1765654200-1765661400@livemusicasheville.com
SUMMARY:Josh Goforth
DESCRIPTION:
URL:https://livemusicasheville.com/calendar/josh-goforth/
LOCATION:White Horse Black Mountain
CATEGORIES:Asheville Area,Black Mountain,Live Music
GEO:35.6178579;-82.3211924
END:VEVENT
BEGIN:VEVENT
DTSTART;TZID=America/New_York:20251213T193000
DTEND;TZID=America/New_York:20251213T213000
DTSTAMP:20260425T121026
CREATED:20251210T192216Z
LAST-MODIFIED:20251210T192216Z
UID:10027194-1765654200-1765661400@livemusicasheville.com
SUMMARY:Kellin Watson & Friends' Holiday Special ft Aaron Price
DESCRIPTION:Ring in the holiday season with a myriad of musicians! Kellin Watson and some talented friends will be taking the BMCA stage. Featured musicians are Ashley Heath\, Sarah Siskind\, and Casey Driessen.
URL:https://livemusicasheville.com/calendar/kellin-watson-friends-holiday-special-ft-aaron-price/
LOCATION:Black Mountain Center for the Arts
CATEGORIES:Asheville Area,Black Mountain,Live Music
GEO:35.6161175;-82.321505
END:VEVENT
BEGIN:VEVENT
DTSTART;TZID=America/New_York:20251213T200000
DTEND;TZID=America/New_York:20251213T230000
DTSTAMP:20260425T121026
CREATED:20251207T220855Z
LAST-MODIFIED:20251208T221703Z
UID:10026918-1765656000-1765666800@livemusicasheville.com
SUMMARY:Spiro Nicolopoulos & Friends
DESCRIPTION:Led by Spiro Nicolopoulos\, this ensemble brings together an all-star lineup of Asheville musicians for a night rooted in jazz\, funk and improvisation. \nFeaturing:\nJ. Lloyd (JLloyd Mash Up)\nJC Mears (Random Animals)\nMatt Pike (Purple / Jesse Velvet)\nBrad Curtioff (The Business)\nDylan Hannan 🎷 \n$15 at the door (all ticket proceeds are 100% passed to the band\, backed by a living wage guarantee from Hotel Eve) \nHotel Eve is your locally rooted\, speakeasy jazz club & cocktail bar\, hidden in the heart of Downtown Asheville. Mysteriously not a hotel…check in for spirits\, souls and jazz! We’re tucked away\, on purpose. You’ll find us behind the gate nestled between Virtue Boutique and Dane Wells Gallery at 56 N Lexington Avenue in downtown Asheville. Step through\, take a left into the courtyard\, check in for Spirits\, Souls & Jazz. We’ll be waiting on the other side. hotelevejazz.com \n 
URL:https://livemusicasheville.com/calendar/spiro-nicolopoulos-friends/
LOCATION:Hotel Eve Jazz\, 56 N Lexington Avenue\, Asheville\, NC\, 28801\, United States
CATEGORIES:Asheville Area,Live Music
GEO:35.5967716;-82.5530826
X-APPLE-STRUCTURED-LOCATION;VALUE=URI;X-ADDRESS=Hotel Eve Jazz 56 N Lexington Avenue Asheville NC 28801 United States;X-APPLE-RADIUS=500;X-TITLE=56 N Lexington Avenue:geo:-82.5530826,35.5967716
END:VEVENT
BEGIN:VEVENT
DTSTART;TZID=America/New_York:20251213T200000
DTEND;TZID=America/New_York:20251213T230000
DTSTAMP:20260425T121026
CREATED:20251210T201234Z
LAST-MODIFIED:20251210T201234Z
UID:10027197-1765656000-1765666800@livemusicasheville.com
SUMMARY:Logan Ledger w/ Liliana Hudgens
DESCRIPTION:
URL:https://livemusicasheville.com/calendar/logan-ledger-w-liliana-hudgens/
LOCATION:Eda’s Hide-a-Way Weaverville
CATEGORIES:Asheville Area,Live Music,Weaverville
GEO:35.6970547;-82.5606851
END:VEVENT
BEGIN:VEVENT
DTSTART;TZID=America/New_York:20251213T200000
DTEND;TZID=America/New_York:20251213T230000
DTSTAMP:20260425T121026
CREATED:20251210T203917Z
LAST-MODIFIED:20251210T203917Z
UID:10027259-1765656000-1765666800@livemusicasheville.com
SUMMARY:The Creekers
DESCRIPTION:
URL:https://livemusicasheville.com/calendar/the-creekers/
LOCATION:Revival\, 66 Asheland Avenue\, Asheville\, NC\, 28801\, United States
CATEGORIES:Asheville Area,Live Music
GEO:35.5917821;-82.555861
X-APPLE-STRUCTURED-LOCATION;VALUE=URI;X-ADDRESS=Revival 66 Asheland Avenue Asheville NC 28801 United States;X-APPLE-RADIUS=500;X-TITLE=66 Asheland Avenue:geo:-82.555861,35.5917821
END:VEVENT
BEGIN:VEVENT
DTSTART;TZID=America/New_York:20251213T200000
DTEND;TZID=America/New_York:20251213T233000
DTSTAMP:20260425T121026
CREATED:20251210T203251Z
LAST-MODIFIED:20251210T203251Z
UID:10027256-1765656000-1765668600@livemusicasheville.com
SUMMARY:Whores w/ Rickshaw Billie's Burger Patrol & Hempire
DESCRIPTION:
URL:https://livemusicasheville.com/calendar/whores-w-rickshaw-billies-burger-patrol-hempire/
LOCATION:Eulogy\, 10 Buxton Ave\, Asheville\, NC\, 28801
CATEGORIES:Asheville Area,Live Music
GEO:35.5883468;-82.5539256
X-APPLE-STRUCTURED-LOCATION;VALUE=URI;X-ADDRESS=Eulogy 10 Buxton Ave Asheville NC 28801;X-APPLE-RADIUS=500;X-TITLE=10 Buxton Ave:geo:-82.5539256,35.5883468
END:VEVENT
BEGIN:VEVENT
DTSTART;TZID=America/New_York:20251213T203000
DTEND;TZID=America/New_York:20251213T233000
DTSTAMP:20260425T121026
CREATED:20241227T101918Z
LAST-MODIFIED:20251211T145712Z
UID:10003930-1765657800-1765668600@livemusicasheville.com
SUMMARY:Fancy and Friends
DESCRIPTION:
URL:https://livemusicasheville.com/calendar/fancy-and-friends/
LOCATION:Jack Of The Wood\, 95 Patton Ave\, asheville\, NC\, United States
CATEGORIES:Asheville Area,Live Music
GEO:35.5944492;-82.5558221
X-APPLE-STRUCTURED-LOCATION;VALUE=URI;X-ADDRESS=Jack Of The Wood 95 Patton Ave asheville NC United States;X-APPLE-RADIUS=500;X-TITLE=95 Patton Ave:geo:-82.5558221,35.5944492
END:VEVENT
BEGIN:VEVENT
DTSTART;TZID=America/New_York:20251213T203000
DTEND;TZID=America/New_York:20251214T000000
DTSTAMP:20260425T121026
CREATED:20251210T185458Z
LAST-MODIFIED:20251210T185458Z
UID:10027187-1765657800-1765670400@livemusicasheville.com
SUMMARY:Silver Kyrie / Love Handles / The Midnight Still / Black Diamond Empress
DESCRIPTION:
URL:https://livemusicasheville.com/calendar/silver-kyrie-love-handles-the-midnight-still-black-diamond-empress/
LOCATION:27 Club Asheville
CATEGORIES:Asheville Area,Live Music
GEO:35.5933012;-82.5592961
END:VEVENT
BEGIN:VEVENT
DTSTART;TZID=America/New_York:20251213T203000
DTEND;TZID=America/New_York:20251214T010000
DTSTAMP:20260425T121026
CREATED:20241225T140756Z
LAST-MODIFIED:20251214T224332Z
UID:10001527-1765657800-1765674000@livemusicasheville.com
SUMMARY:Elaine’s Dueling Piano Bar
DESCRIPTION:
URL:https://livemusicasheville.com/calendar/elaines-dueling-piano-bar/2025-12-13/
LOCATION:The Omni Grove Park Inn
CATEGORIES:Asheville Area,Live Music
GEO:35.6206376;-82.5422977
END:VEVENT
BEGIN:VEVENT
DTSTART;TZID=America/New_York:20251213T210000
DTEND;TZID=America/New_York:20251214T000000
DTSTAMP:20260425T121026
CREATED:20251201T225526Z
LAST-MODIFIED:20251222T152312Z
UID:10026311-1765659600-1765670400@livemusicasheville.com
SUMMARY:The Cool Yule Club: Jazz Club Nights
DESCRIPTION:Step into our ’70s-inspired COOL YULE CLUB holiday pop-up as the Palm Room transforms into a retro Christmas lounge dripping with shimmer\, kitsch\, and groove. ✨🎄🪩 \nThe new cocktail menu debuts\, featuring:\n• Smoke-show cocktails 🔥\n• Holiday riffs on timeless favorites 🎁\n• Revived 1970s classics with attitude 🍸 \n\n\n\nJAZZ Lineup: \nDec 27 – The Swingin’ Poppies \n\n\n\n$10 covers both the Showroom and Palm Room music.\n  \nFitz\, she’s the party. Wolfe\, he’s the epicure. 2 levels\, 3 vibes. 🎶 Live Music |🍸Sips & Noms 🥪 | 🕹️ Artcade | 🗝️Speakeasy | Private Events \nFitz and the Wolfe is a cocktail and music venue shaped by the spirit of improvisation\, storytelling\, and the kind of nights that feel too good to end. Here\, every night brings a new soundtrack. Jazz\, swing\, honky-tonk\, and sometimes things a little more esoteric—if it moves people\, we book it. The music fills the space like a second heartbeat\, sometimes rowdy\, sometimes intimate\, always memorable. It’s not background noise. It’s the reason you’re here. fitzandthewolfe.com
URL:https://livemusicasheville.com/calendar/the-cool-yule-club-jazz-club-nights/2025-12-13/
LOCATION:Fitz and the Wolfe\, 1 Battery Park Ave\, Asheville\, NC\, 28801\, United States
CATEGORIES:Asheville Area,Live Music
GEO:35.5954515;-82.5548502
X-APPLE-STRUCTURED-LOCATION;VALUE=URI;X-ADDRESS=Fitz and the Wolfe 1 Battery Park Ave Asheville NC 28801 United States;X-APPLE-RADIUS=500;X-TITLE=1 Battery Park Ave:geo:-82.5548502,35.5954515
END:VEVENT
BEGIN:VEVENT
DTSTART;TZID=America/New_York:20251213T210000
DTEND;TZID=America/New_York:20251214T000000
DTSTAMP:20260425T121026
CREATED:20251210T190515Z
LAST-MODIFIED:20251210T190515Z
UID:10027189-1765659600-1765670400@livemusicasheville.com
SUMMARY:Glyders / Cheeks / Two Planes
DESCRIPTION:
URL:https://livemusicasheville.com/calendar/glyders-cheeks-two-planes/
LOCATION:Static Age Records
CATEGORIES:Asheville Area,Live Music
GEO:35.5985631;-82.5538043
END:VEVENT
BEGIN:VEVENT
DTSTART;VALUE=DATE:20251214
DTEND;VALUE=DATE:20251216
DTSTAMP:20260425T121026
CREATED:20250125T140528Z
LAST-MODIFIED:20251210T122935Z
UID:10017440-1765681200-1765767599@livemusicasheville.com
SUMMARY:Love What We Do?
DESCRIPTION:We hope you enjoy our guide to the Asheville area’s dynamic music scene. \nIf we somehow help to brighten up your day\, please consider a $5 donation to help support our efforts in providing the area’s most reliable local live music calendar. \nVenmo: click here  \nLast 4 digits – 3383 \nPayPal: click here \n 
URL:https://livemusicasheville.com/calendar/greetings-fellow-music-lovers-2/2025-12-14/
LOCATION:Asheville Area
CATEGORIES:Asheville Area
END:VEVENT
BEGIN:VEVENT
DTSTART;VALUE=DATE:20251214
DTEND;VALUE=DATE:20251216
DTSTAMP:20260425T121026
CREATED:20251202T220349Z
LAST-MODIFIED:20251210T234021Z
UID:10026329-1765681200-1765767599@livemusicasheville.com
SUMMARY:COMING TUESDAY DEC 16th | The 2025 Christmas Yarn Ball Tour w/sg Cruz Contreras
DESCRIPTION:Tuesday\, December 16 | Doors: 7 pm // Show: 8 pm | from $24.60 Event Details and Tickets\n\nYarn is an Americana\, Alt-Country\, Rock and Roll band founded in 2007 by Blake Christiana. Yarn evolved from its earliest days as a bar band in New York\, NY to an outstanding roots band that’s shared stages with some of the biggest names in the business.\n\nYou might expect a band that calls itself Yarn to\, naturally\, tend to spin a yarn or two. Blake Christiana\, founding member of Yarn\, has the music in him. In fact\, you could say that Blake is the music and the music is Blake; that’s how deeply he inhabits the songs he writes and plays. You can hear him struggling with his feelings\, whether it’s on a skittering country shuffle or on a mid-tempo folk ballad or a straight-ahead rocker. His restless search for the chords and lyrics over the past 20 years has produced a plethora of memorable music\, and since 2007 he’s led Yarn\, a band that’s evolved from its earliest days as a bar band in New York City to an outstanding roots band that’s shared stages with Dwight Yoakam\, Marty Stuart\, Alison Krauss\, and Leftover Salmon\, among many others.\n\nOver the years\, musicians have rotated in and out of Yarn\, but drummer Robert Bonhomme and bassist Rick Bugel\, along with Christiana\, have remained the core of the band. Yarn has definitely brought people together with their music; their devoted followers call themselves the “Yarmy\,” and for the last 4 years the band has hosted a three-day music festival\, Yarnival\, that attracted hundreds of fans to Troy\, Virginia. Along the way\, Yarn has gathered accolades from festivals\, The Americana Music Association\, landed on the Grammy ballot four times\, and placed in the top five of the AMA album charts on more than one occasion.\n\nYarn keeps spinning their stories\, drawing audiences into their vibrant musical web\, and delivering clever and resonant lyrics in memorable songs that reverberate and linger in listeners’ hearts and souls.\n\n\n\n\n\nCruz Contreras has spent nearly thirty years forging his path through the Americana musical landscape. He’s a multi-instrumentalist\, songwriter\, bandleader\, producer\, and storyteller whose voice cuts through noise like a well-honed blade. He got his start at 15\, playing guitar behind his younger brother Billy Contreras at fiddle competitions. But it was a moment in 1993 that sealed Cruz’s fate: finding himself in a room with the Father of Bluegrass\, Bill Monroe. That room\, that sound\, that presence—it lit a fire that’s never gone out.
URL:https://livemusicasheville.com/calendar/coming-tuesday-dec-16th-the-2025-christmas-yarn-ball-tour-w-sg-cruz-contreras/2025-12-14/
LOCATION:The Grey Eagle\, 185 Clingman Ave\, Asheville\, NC\, United States
CATEGORIES:Asheville Area,Live Music
GEO:35.5870871;-82.5643936
X-APPLE-STRUCTURED-LOCATION;VALUE=URI;X-ADDRESS=The Grey Eagle 185 Clingman Ave Asheville NC United States;X-APPLE-RADIUS=500;X-TITLE=185 Clingman Ave:geo:-82.5643936,35.5870871
END:VEVENT
BEGIN:VEVENT
DTSTART;TZID=America/New_York:20251214T110000
DTEND;TZID=America/New_York:20251214T140000
DTSTAMP:20260425T121026
CREATED:20251210T205718Z
LAST-MODIFIED:20251210T205718Z
UID:10027265-1765710000-1765720800@livemusicasheville.com
SUMMARY:Country Brunch w/ JoJo Harnish
DESCRIPTION:
URL:https://livemusicasheville.com/calendar/country-brunch-w-jojo-harnish/
LOCATION:The Grey Eagle\, 185 Clingman Ave\, Asheville\, NC\, United States
CATEGORIES:Asheville Area,Live Music
GEO:35.5870871;-82.5643936
X-APPLE-STRUCTURED-LOCATION;VALUE=URI;X-ADDRESS=The Grey Eagle 185 Clingman Ave Asheville NC United States;X-APPLE-RADIUS=500;X-TITLE=185 Clingman Ave:geo:-82.5643936,35.5870871
END:VEVENT
BEGIN:VEVENT
DTSTART;TZID=America/New_York:20251214T110000
DTEND;TZID=America/New_York:20251215T020000
DTSTAMP:20260425T121026
CREATED:20241225T203202Z
LAST-MODIFIED:20260415T173939Z
UID:10017878-1765710000-1765764000@livemusicasheville.com
SUMMARY:Sunday Weekly DJ Events
DESCRIPTION:Bens Tune Up – 11am-3pm \nWaterstreet – 3-7pm \nLA Pizza Party Rooftop – 6-9pm \nVOWL – 7-11pm \nCheck with the venue for the DJ and cover charges.
URL:https://livemusicasheville.com/calendar/sunday-weekly-dj/2025-12-14/
LOCATION:Asheville Area
CATEGORIES:Asheville Area,DJ/Electronic
END:VEVENT
BEGIN:VEVENT
DTSTART;TZID=America/New_York:20251214T120000
DTEND;TZID=America/New_York:20251214T140000
DTSTAMP:20260425T121026
CREATED:20241225T201729Z
LAST-MODIFIED:20250914T152731Z
UID:10021164-1765713600-1765720800@livemusicasheville.com
SUMMARY:Adam Rose Jazz Duo
DESCRIPTION:
URL:https://livemusicasheville.com/calendar/adam-rose-jazz-duo/2025-12-14/
LOCATION:Battery Park Book Exchange & Champagne Bar
CATEGORIES:Asheville Area,Live Music
GEO:35.5951042;-82.556633
END:VEVENT
BEGIN:VEVENT
DTSTART;TZID=America/New_York:20251214T120000
DTEND;TZID=America/New_York:20251214T150000
DTSTAMP:20260425T121026
CREATED:20241225T153845Z
LAST-MODIFIED:20251203T153146Z
UID:10001711-1765713600-1765724400@livemusicasheville.com
SUMMARY:Bluegrass Brunch Is Back!!
DESCRIPTION:Y’ALL! The best dang BLUEGRASS BRUNCH in town is BACK AT JACK — with our own BLUEGRASS BRUNCH BOYS taking the stage at NOON! 🎻🍳 \nWhether you’re in the mood for a FRIED CHICKEN BISCUIT topped with our house-made blackberry jam or spicy SHRIMP & CHEDDAR GRITS with a side of collards or that perfect BURGER (beef OR veggie) with hand-cut pub fries\, you’ll find exactly what you’re craving at — and did we mention our brunch beverage specials from the bar? 🥂🍊 \nBrunch is served until 3pm (or until we run out!)\, with our pub fare menu starting immediately after. \nAnd to round out your SUNDAY FUNDAY\, our TRADITIONAL IRISH MUSIC SESSION starts at 3:30 — and goes until close! 🍺🍀\n \n\nJack Of The Wood still a downtown hot spot for food\, brews and drink since 1997 and founders Joan and Joe Eckert who still own it\, have maintained the original lively English and Irish vibe. The old-time mountain and Irish music jams continue\, including a hot bluegrass jam Thursdays and brunch every Sunday. The venue extends a welcoming feeling to regulars and newcomers to this day. https://jackofthewood.com/
URL:https://livemusicasheville.com/calendar/the-bluegrass-boys/2025-12-14/
LOCATION:Jack Of The Wood\, 95 Patton Ave\, asheville\, NC\, United States
CATEGORIES:Asheville Area,Live Music
ATTACH;FMTTYPE=image/jpeg:https://livemusicasheville.com/wp-content/uploads/2024/12/521057437_1508890810466928_6057889169935657981_n-e1754136196712.jpg
GEO:35.5944492;-82.5558221
X-APPLE-STRUCTURED-LOCATION;VALUE=URI;X-ADDRESS=Jack Of The Wood 95 Patton Ave asheville NC United States;X-APPLE-RADIUS=500;X-TITLE=95 Patton Ave:geo:-82.5558221,35.5944492
END:VEVENT
BEGIN:VEVENT
DTSTART;TZID=America/New_York:20251214T130000
DTEND;TZID=America/New_York:20251215T000000
DTSTAMP:20260425T121026
CREATED:20241225T204249Z
LAST-MODIFIED:20260118T214741Z
UID:10012149-1765717200-1765756800@livemusicasheville.com
SUMMARY:Sunday Open Mic/Jams
DESCRIPTION:Open Jam @ T-Birds Weaverville 1-4 \nBluegrass & Jam @ Zillacoah Beer Co –  4:30-7:30pm (every other Sunday) Jan 11\, 25 Feb 8\, 22 March 8\, 22 \nOpen Bluegrass Circle @ The Hound Lounge – 6-9pm (discontinued til spring) \nStory Parlor – 6-9pm (1st Sundays of the month) \nPisgah Brewing Sunday Jam 6:30-9pm \nEda’s Hideaway Weaverville – 7-9pm \nPlant Bar South Slope – 7-9pm (last Sunday of the month) \nElevated Kava Lounge – 8-11pm \n 
URL:https://livemusicasheville.com/calendar/sunday-open-mic/2025-12-14/
LOCATION:Asheville Area
CATEGORIES:Asheville Area,Black Mountain,Madison County,Open MIc/Jam,Weaverville
END:VEVENT
BEGIN:VEVENT
DTSTART;TZID=America/New_York:20251214T140000
DTEND;TZID=America/New_York:20251214T170000
DTSTAMP:20260425T121026
CREATED:20250612T142912Z
LAST-MODIFIED:20251210T155506Z
UID:10015853-1765720800-1765731600@livemusicasheville.com
SUMMARY:Marley's Chain
DESCRIPTION:
URL:https://livemusicasheville.com/calendar/reopening-reception-w-marleys-chain/
LOCATION:Mills River Brewing Co.\, 336 Banner Farm Rd\,\, Mills River\, NC\, 28759
CATEGORIES:Asheville Area,Live Music,Mills River
GEO:35.380515;-82.5654984
X-APPLE-STRUCTURED-LOCATION;VALUE=URI;X-ADDRESS=Mills River Brewing Co. 336 Banner Farm Rd Mills River NC 28759;X-APPLE-RADIUS=500;X-TITLE=336 Banner Farm Rd\,:geo:-82.5654984,35.380515
END:VEVENT
END:VCALENDAR