BEGIN:VCALENDAR
VERSION:2.0
PRODID:-//LiveMusicAsheville.com - ECPv6.15.20//NONSGML v1.0//EN
CALSCALE:GREGORIAN
METHOD:PUBLISH
X-WR-CALNAME:LiveMusicAsheville.com
X-ORIGINAL-URL:https://livemusicasheville.com
X-WR-CALDESC:Events for LiveMusicAsheville.com
REFRESH-INTERVAL;VALUE=DURATION:PT1H
X-Robots-Tag:noindex
X-PUBLISHED-TTL:PT1H
BEGIN:VTIMEZONE
TZID:America/New_York
BEGIN:DAYLIGHT
TZOFFSETFROM:-0500
TZOFFSETTO:-0400
TZNAME:EDT
DTSTART:20240310T070000
END:DAYLIGHT
BEGIN:STANDARD
TZOFFSETFROM:-0400
TZOFFSETTO:-0500
TZNAME:EST
DTSTART:20241103T060000
END:STANDARD
BEGIN:DAYLIGHT
TZOFFSETFROM:-0500
TZOFFSETTO:-0400
TZNAME:EDT
DTSTART:20250309T070000
END:DAYLIGHT
BEGIN:STANDARD
TZOFFSETFROM:-0400
TZOFFSETTO:-0500
TZNAME:EST
DTSTART:20251102T060000
END:STANDARD
BEGIN:DAYLIGHT
TZOFFSETFROM:-0500
TZOFFSETTO:-0400
TZNAME:EDT
DTSTART:20260308T070000
END:DAYLIGHT
BEGIN:STANDARD
TZOFFSETFROM:-0400
TZOFFSETTO:-0500
TZNAME:EST
DTSTART:20261101T060000
END:STANDARD
END:VTIMEZONE
BEGIN:VEVENT
DTSTART;TZID=America/New_York:20251211T190000
DTEND;TZID=America/New_York:20251211T210000
DTSTAMP:20260425T100525
CREATED:20251121T203926Z
LAST-MODIFIED:20251216T065445Z
UID:10003810-1765479600-1765486800@livemusicasheville.com
SUMMARY:Americano Sessions with Billy Presnell & Friends
DESCRIPTION:
URL:https://livemusicasheville.com/calendar/americano-sessions-with-billy-presnell-friends-2-2-2-2/2025-12-11/
LOCATION:Old Town District Black Mountain\, 110 Black Mountain Ave\, Black Mountain\, NC\, 28711\, United States
CATEGORIES:Black Mountain,Live Music
GEO:35.6144382;-82.320515
X-APPLE-STRUCTURED-LOCATION;VALUE=URI;X-ADDRESS=Old Town District Black Mountain 110 Black Mountain Ave Black Mountain NC 28711 United States;X-APPLE-RADIUS=500;X-TITLE=110 Black Mountain Ave:geo:-82.320515,35.6144382
END:VEVENT
BEGIN:VEVENT
DTSTART;TZID=America/New_York:20251211T190000
DTEND;TZID=America/New_York:20251211T210000
DTSTAMP:20260425T100525
CREATED:20251203T172048Z
LAST-MODIFIED:20251203T172400Z
UID:10026529-1765479600-1765486800@livemusicasheville.com
SUMMARY:Daniel Shearin
DESCRIPTION:
URL:https://livemusicasheville.com/calendar/asheville-recovery-celebration-w-daniel-shearin-friends-2-2/2025-12-11/
LOCATION:Moxy Asheville\, 61 Biltmore Avenue\, Asheville\, NC
CATEGORIES:Asheville Area,Live Music
GEO:35.5927169;-82.5514897
X-APPLE-STRUCTURED-LOCATION;VALUE=URI;X-ADDRESS=Moxy Asheville 61 Biltmore Avenue Asheville NC;X-APPLE-RADIUS=500;X-TITLE=61 Biltmore Avenue:geo:-82.5514897,35.5927169
END:VEVENT
BEGIN:VEVENT
DTSTART;TZID=America/New_York:20251211T190000
DTEND;TZID=America/New_York:20251211T213000
DTSTAMP:20260425T100525
CREATED:20251118T154012Z
LAST-MODIFIED:20251118T154333Z
UID:10024677-1765479600-1765488600@livemusicasheville.com
SUMMARY:The Log Noggins
DESCRIPTION:THE LOG NOGGINSTHUR. DECEMBER 11BAR: 4PM | DELI: 4PM | SHOW: 7PMThe Log Noggins are a 3 piece progressive southern rock band based in Asheville\, NC. Embedded in their southern roots are strains of fusion\, blues\, progressive rock\, and much more. Their take on composition\, melody\, and chord structure contains hints of everything from The Allman Brothers to John Scofield.\nThe Log Noggins’ dynamic\, high-energy performances spotlight each players strengths; chicken pickin’ electric guitar\, melodic bass\, thunderous drums\, soulful keys\, and screaming harmonica bring audiences to their feet!\n  \nFounded in 2005\, Pisgah is known for producing some of the most sought after craft ales in Western North Carolina. Pisgah Brewing Company currently operates the new indoor taproom & deli\, with live music several days a week\, plus an open air outdoor bar in the summer and fall months. Check out our upcoming schedule at pisgahbrewing.com/events
URL:https://livemusicasheville.com/calendar/the-log-noggins-3/
LOCATION:Pisgah Brewing Company Black Mountain\, 2948 US-70\, Black Mountain\, NC\, 28711
CATEGORIES:Asheville Area,Black Mountain,Live Music
GEO:35.6068069;-82.3568213
X-APPLE-STRUCTURED-LOCATION;VALUE=URI;X-ADDRESS=Pisgah Brewing Company Black Mountain 2948 US-70 Black Mountain NC 28711;X-APPLE-RADIUS=500;X-TITLE=2948 US-70:geo:-82.3568213,35.6068069
END:VEVENT
BEGIN:VEVENT
DTSTART;TZID=America/New_York:20251211T190000
DTEND;TZID=America/New_York:20251211T220000
DTSTAMP:20260425T100525
CREATED:20250109T094721Z
LAST-MODIFIED:20251210T165025Z
UID:10005588-1765479600-1765490400@livemusicasheville.com
SUMMARY:Django Jazz Jam
DESCRIPTION:
URL:https://livemusicasheville.com/calendar/django-jazz-jam/2025-12-11/
LOCATION:Sovereign Kava
CATEGORIES:Asheville Area,Open MIc/Jam
GEO:35.5854657;-82.5513352
END:VEVENT
BEGIN:VEVENT
DTSTART;TZID=America/New_York:20251211T190000
DTEND;TZID=America/New_York:20251211T220000
DTSTAMP:20260425T100525
CREATED:20250612T012411Z
LAST-MODIFIED:20251204T153043Z
UID:10026721-1765479600-1765490400@livemusicasheville.com
SUMMARY:The Passing Tones
DESCRIPTION:
URL:https://livemusicasheville.com/calendar/the-passing-tones/2025-12-11/
LOCATION:District 42
CATEGORIES:Asheville Area,Live Music
END:VEVENT
BEGIN:VEVENT
DTSTART;TZID=America/New_York:20251211T190000
DTEND;TZID=America/New_York:20251211T220000
DTSTAMP:20260425T100525
CREATED:20250818T145953Z
LAST-MODIFIED:20251112T125841Z
UID:10019541-1765479600-1765490400@livemusicasheville.com
SUMMARY:Jazz Showcase & Jam
DESCRIPTION:Thursdays\, 7 PM – 10 PM: An evening of smooth sounds and great vibes at Shamrock Irons with live Jazz performances followed by an Open Jam Session!\n\nJoin us every Thursday for our Jazz Showcase — an evening of smooth sounds\, great vibes\, and unbeatable specials.\nSip on a rich Espresso Martini or grab a $5 Draft beer while the music takes you away.\nPlus\, don’t miss our delicious daily food specials!\nThe music kicks off at 7 PM and rolls through until 10 PM\, with an open jam session lighting up the second half. Come for the cocktails\, stay for the jazz.\n\n\n\n\nShamrock Irons Irish Pub – \nShamrock Irons Irish Pub – Asheville’s newest Irish Pub experience! We’re bringing back the fun with a fresh look\, perfect pours\, and the best live music downtown. Whether you’re a regular or a first-timer\, there’s always room for one more at Shamrock Irons. shamrockirons.com
URL:https://livemusicasheville.com/calendar/jazz-showcase-jam-curated-by-steven-alvarez/2025-12-11/
LOCATION:Shamrock Irons Irish Pub\, 4 College St\, Asheville\, NC\, 28801\, United States
CATEGORIES:Asheville Area,Live Music,Open MIc/Jam
ATTACH;FMTTYPE=image/jpeg:https://livemusicasheville.com/wp-content/uploads/2025/08/IMG_2950-e1762311638292.jpeg
GEO:35.9844236;-80.0221361
X-APPLE-STRUCTURED-LOCATION;VALUE=URI;X-ADDRESS=Shamrock Irons Irish Pub 4 College St Asheville NC 28801 United States;X-APPLE-RADIUS=500;X-TITLE=4 College St:geo:-80.0221361,35.9844236
END:VEVENT
BEGIN:VEVENT
DTSTART;TZID=America/New_York:20251211T190000
DTEND;TZID=America/New_York:20251211T220000
DTSTAMP:20260425T100525
CREATED:20251207T220032Z
LAST-MODIFIED:20251208T221443Z
UID:10026916-1765479600-1765490400@livemusicasheville.com
SUMMARY:Drayton & The Dreamboats
DESCRIPTION:Drayton & The Dreamboats play vintage classics from the golden age of radio. Their sound mixes swing and straight-ahead jazz with latin grooves\, boogie woogie\, and ‘50s rock n roll.  The band’s unique instrumentation consists of bandleader Drayton Aldridge on violin and vocals\, backed up by a hard-driving rhythm section of piano\, upright bass\, and drums. \n$10 at the door (all ticket proceeds are 100% passed to the band\, backed by a living wage guarantee from Hotel Eve) \nHotel Eve is your locally rooted\, speakeasy jazz club & cocktail bar\, hidden in the heart of Downtown Asheville. Mysteriously not a hotel…check in for spirits\, souls and jazz! We’re tucked away\, on purpose. You’ll find us behind the gate nestled between Virtue Boutique and Dane Wells Gallery at 56 N Lexington Avenue in downtown Asheville. Step through\, take a left into the courtyard\, check in for Spirits\, Souls & Jazz. We’ll be waiting on the other side. hotelevejazz.com \n 
URL:https://livemusicasheville.com/calendar/drayton-the-dreamboats-3/
LOCATION:Hotel Eve Jazz\, 56 N Lexington Avenue\, Asheville\, NC\, 28801\, United States
CATEGORIES:Asheville Area,Live Music
GEO:35.5967716;-82.5530826
X-APPLE-STRUCTURED-LOCATION;VALUE=URI;X-ADDRESS=Hotel Eve Jazz 56 N Lexington Avenue Asheville NC 28801 United States;X-APPLE-RADIUS=500;X-TITLE=56 N Lexington Avenue:geo:-82.5530826,35.5967716
END:VEVENT
BEGIN:VEVENT
DTSTART;TZID=America/New_York:20251211T190000
DTEND;TZID=America/New_York:20251211T223000
DTSTAMP:20260425T100525
CREATED:20251203T192000Z
LAST-MODIFIED:20251203T192000Z
UID:10026603-1765479600-1765492200@livemusicasheville.com
SUMMARY:NewSong Music Performance & Songwriting Competition
DESCRIPTION:
URL:https://livemusicasheville.com/calendar/newsong-music-performance-songwriting-competition/
LOCATION:The Grey Eagle\, 185 Clingman Ave\, Asheville\, NC\, United States
CATEGORIES:Asheville Area,Live Music
GEO:35.5870871;-82.5643936
X-APPLE-STRUCTURED-LOCATION;VALUE=URI;X-ADDRESS=The Grey Eagle 185 Clingman Ave Asheville NC United States;X-APPLE-RADIUS=500;X-TITLE=185 Clingman Ave:geo:-82.5643936,35.5870871
END:VEVENT
BEGIN:VEVENT
DTSTART;TZID=America/New_York:20251211T190000
DTEND;TZID=America/New_York:20251211T233000
DTSTAMP:20260425T100525
CREATED:20250322T150845Z
LAST-MODIFIED:20251214T215054Z
UID:10010509-1765479600-1765495800@livemusicasheville.com
SUMMARY:Save Our Website to Your Home Screen 📲
DESCRIPTION:As an interactive calendar\, we often add events to our calendar as we find out about them\, sometimes even from our phone while we are out supporting local live music. By adding our website\, LiveMusicAsheville.com to your home screen\, we will always be right at your fingertips. Here’s how:\n\n\n\n\niPhone (using Safari):\n\n\n\nOpen Safari and navigate to the website: you want to add as a shortcut. \n\n\n\n\n\n\n\n\nTap the Share button: (a square with an arrow pointing out of the top). \n\n\n\n\n\n\n\n\nScroll down and tap “Add to Home Screen” . \n\n\n\n\n\n\n\n\nChoose a name for the shortcut: and tap “Add”. \n\n\n\n\n\n\n\n\nThe shortcut will appear on your home screen as an icon. \n\n\n\n\n\n\n\n\n\n\n\nAndroid (using Chrome or other browsers):\n\n\n\nOpen Chrome (or your preferred browser) and navigate to the website: you want to add.\nTap the three-dot menu icon: (usually in the top right corner).\nSelect “Add to Home Screen” .\nCustomize the name of the shortcut: if desired\, and then tap “Add”.\nThe shortcut will appear on your home screen as an icon. 
URL:https://livemusicasheville.com/calendar/add-our-website-to-your-home-screen/2025-12-11/
CATEGORIES:Asheville Area
END:VEVENT
BEGIN:VEVENT
DTSTART;TZID=America/New_York:20251211T190000
DTEND;TZID=America/New_York:20251211T233000
DTSTAMP:20260425T100525
CREATED:20251203T134145Z
LAST-MODIFIED:20251203T134147Z
UID:10000681-1765479600-1765495800@livemusicasheville.com
SUMMARY:The Thursday Bluegrass Jam hosted by Drew Matulich
DESCRIPTION:Our amazing Thursday BlueGrass jam curated by the talented Drew Matulich! Don’t miss your chance to check out some of the best pickers from all over WNC! A real show-stopping performance only at Jack of the Wood! The Bluegrass Jam will start after the host band at 9:30 and go to 11:30pm. Pickers bring your instruments! Enjoy $1 OFF all our bourbons every Thursday \nJack Of The Wood is still a downtown hot spot for food\, brews and drink since 1997 and founders Joan and Joe Eckert who still own it\, have maintained the original lively English and Irish vibe. The old-time mountain and Irish music jams continue\, including a hot bluegrass jam Thursdays and brunch every Sunday. The venue extends a welcoming feeling to regulars and newcomers to this day. https://jackofthewood.com/
URL:https://livemusicasheville.com/calendar/the-thursday-bluegrass-jam-hosted-by-drew-matulich-2-2-2-2-2/2025-12-11/
LOCATION:Jack Of The Wood\, 95 Patton Ave\, asheville\, NC\, United States
CATEGORIES:Asheville Area,Live Music,Open MIc/Jam
ATTACH;FMTTYPE=image/jpeg:https://livemusicasheville.com/wp-content/uploads/2025/04/IMG_0947-e1750964014171.jpeg
GEO:35.5944492;-82.5558221
X-APPLE-STRUCTURED-LOCATION;VALUE=URI;X-ADDRESS=Jack Of The Wood 95 Patton Ave asheville NC United States;X-APPLE-RADIUS=500;X-TITLE=95 Patton Ave:geo:-82.5558221,35.5944492
END:VEVENT
BEGIN:VEVENT
DTSTART;TZID=America/New_York:20251211T190000
DTEND;TZID=America/New_York:20251212T000000
DTSTAMP:20260425T100525
CREATED:20251203T140018Z
LAST-MODIFIED:20251203T140018Z
UID:10026458-1765479600-1765497600@livemusicasheville.com
SUMMARY:The Social Asheville's Annual Charity Formal!
DESCRIPTION:You are cordially invited to dress to impress and join us for a night of singing\, dancing\, and giving! Grab your dresses and tuxedos and hit the dance floor like it’s prom night!No fee to enter\, $25 suggested donation in cash or toy.All proceeds go to The Blessing Project and their Holiday Shop! See you on the dance floor!
URL:https://livemusicasheville.com/calendar/the-social-ashevilles-annual-charity-formal/
CATEGORIES:Asheville Area,Karaoke
END:VEVENT
BEGIN:VEVENT
DTSTART;TZID=America/New_York:20251211T190000
DTEND;TZID=America/New_York:20251212T020000
DTSTAMP:20260425T100525
CREATED:20251121T203604Z
LAST-MODIFIED:20260422T115043Z
UID:10033293-1765479600-1765504800@livemusicasheville.com
SUMMARY:Thursday Karaoke
DESCRIPTION:Please verify times and KJ with the venue! \n  \nTurgua Brewing Fairview – 6-8pm (April 16) \nAsheville Sports Club – 7-10pm \nThe Social East Asheville – 7-11pm \nDaddy Mac’s Downhome Dive – 8-11pm \nShiloh and Gaines – 8-11pm \nVOWL – 8-11pm  \nFleetwoods – 8pm-12am (April 23 indie/punk) \nStatic Age Loft 10pm-2am \nShakeys Dive Bar 9pm-2am
URL:https://livemusicasheville.com/calendar/thursday-weekly-karaoke-2/2025-12-11/
LOCATION:Asheville Area
CATEGORIES:Asheville Area,Karaoke,Madison County,South Asheville/Arden/Fletcher
END:VEVENT
BEGIN:VEVENT
DTSTART;TZID=America/New_York:20251211T193000
DTEND;TZID=America/New_York:20251211T213000
DTSTAMP:20260425T100525
CREATED:20250423T193633Z
LAST-MODIFIED:20251211T161000Z
UID:10013281-1765481400-1765488600@livemusicasheville.com
SUMMARY:High Water w/sg Kyle Travers
DESCRIPTION:
URL:https://livemusicasheville.com/calendar/broken-sound/
LOCATION:White Horse Black Mountain
CATEGORIES:Asheville Area,Black Mountain,Live Music
GEO:35.6178579;-82.3211924
END:VEVENT
BEGIN:VEVENT
DTSTART;TZID=America/New_York:20251211T193000
DTEND;TZID=America/New_York:20251211T230000
DTSTAMP:20260425T100525
CREATED:20241225T130550Z
LAST-MODIFIED:20251210T201947Z
UID:10000735-1765481400-1765494000@livemusicasheville.com
SUMMARY:Old Farmers Ball Contra Dance
DESCRIPTION:
URL:https://livemusicasheville.com/calendar/old-farmers-ball-contra-dance/2025-12-11/
LOCATION:Warren Wilson College Swannanoa\, 701 Warren Wilson Road\, Swannanoa\, NC
CATEGORIES:Asheville Area,Live Music
GEO:35.611126;-82.4422791
X-APPLE-STRUCTURED-LOCATION;VALUE=URI;X-ADDRESS=Warren Wilson College Swannanoa 701 Warren Wilson Road Swannanoa NC;X-APPLE-RADIUS=500;X-TITLE=701 Warren Wilson Road:geo:-82.4422791,35.611126
END:VEVENT
BEGIN:VEVENT
DTSTART;TZID=America/New_York:20251211T200000
DTEND;TZID=America/New_York:20251211T220000
DTSTAMP:20260425T100525
CREATED:20251121T204118Z
LAST-MODIFIED:20251121T204119Z
UID:10009539-1765483200-1765490400@livemusicasheville.com
SUMMARY:Rock n Soul with Pleasure Chest
DESCRIPTION:
URL:https://livemusicasheville.com/calendar/rock-n-soul-with-pleasure-chest-2-2-2-2-2/2025-12-11/
LOCATION:5 Walnut Wine Bar
CATEGORIES:Asheville Area,Live Music
GEO:35.596654;-82.5525389
END:VEVENT
BEGIN:VEVENT
DTSTART;TZID=America/New_York:20251211T200000
DTEND;TZID=America/New_York:20251211T230000
DTSTAMP:20260425T100525
CREATED:20251203T190233Z
LAST-MODIFIED:20251203T190233Z
UID:10026597-1765483200-1765494000@livemusicasheville.com
SUMMARY:Futurebirds w/ Patton Magee
DESCRIPTION:
URL:https://livemusicasheville.com/calendar/futurebirds-w-patton-magee/
LOCATION:The Orange Peel
CATEGORIES:Asheville Area,Live Music
GEO:35.5914061;-82.5510137
END:VEVENT
BEGIN:VEVENT
DTSTART;TZID=America/New_York:20251211T200000
DTEND;TZID=America/New_York:20251211T233000
DTSTAMP:20260425T100525
CREATED:20251121T204234Z
LAST-MODIFIED:20251121T204235Z
UID:10020377-1765483200-1765495800@livemusicasheville.com
SUMMARY:Fee Fi PHaux fISH
DESCRIPTION:
URL:https://livemusicasheville.com/calendar/fee-fi-phaux-fish-4-2-2/2025-12-11/
LOCATION:One World Brewing – West\, 520 Haywood Rd\, Asheville\, North Carolina\, 28806
CATEGORIES:Asheville Area,Live Music
GEO:35.5783642;-82.5848526
X-APPLE-STRUCTURED-LOCATION;VALUE=URI;X-ADDRESS=One World Brewing – West 520 Haywood Rd Asheville North Carolina 28806;X-APPLE-RADIUS=500;X-TITLE=520 Haywood Rd:geo:-82.5848526,35.5783642
END:VEVENT
BEGIN:VEVENT
DTSTART;TZID=America/New_York:20251211T200000
DTEND;TZID=America/New_York:20251211T233000
DTSTAMP:20260425T100525
CREATED:20251203T185015Z
LAST-MODIFIED:20251203T185015Z
UID:10026593-1765483200-1765495800@livemusicasheville.com
SUMMARY:Hip Hop for Housing 2.0
DESCRIPTION:Performances by: \nDJ Jet \nResoNate \nHunter \nPeter.The.Poet \nNateR & Friends \nNo Lag Click \nColston \nSpecial Performance by Eaze Dogg.
URL:https://livemusicasheville.com/calendar/hip-hop-for-housing-2-0/
LOCATION:Eulogy\, 10 Buxton Ave\, Asheville\, NC\, 28801
CATEGORIES:Asheville Area,DJ/Electronic,Live Music
GEO:35.5883468;-82.5539256
X-APPLE-STRUCTURED-LOCATION;VALUE=URI;X-ADDRESS=Eulogy 10 Buxton Ave Asheville NC 28801;X-APPLE-RADIUS=500;X-TITLE=10 Buxton Ave:geo:-82.5539256,35.5883468
END:VEVENT
BEGIN:VEVENT
DTSTART;TZID=America/New_York:20251211T200000
DTEND;TZID=America/New_York:20251212T000000
DTSTAMP:20260425T100525
CREATED:20251203T155804Z
LAST-MODIFIED:20251203T155804Z
UID:10026521-1765483200-1765497600@livemusicasheville.com
SUMMARY:For the Cows\, The Exploding Pods\, Eggshell Emily\, Mike Andersen
DESCRIPTION:
URL:https://livemusicasheville.com/calendar/for-the-cows-the-exploding-pods-eggshell-emily-mike-andersen/
LOCATION:The Odd
CATEGORIES:Asheville Area,Live Music
END:VEVENT
BEGIN:VEVENT
DTSTART;TZID=America/New_York:20251211T200000
DTEND;TZID=America/New_York:20251212T020000
DTSTAMP:20260425T100525
CREATED:20251126T223442Z
LAST-MODIFIED:20251216T131059Z
UID:10026033-1765483200-1765504800@livemusicasheville.com
SUMMARY:All Request Piano Show
DESCRIPTION:
URL:https://livemusicasheville.com/calendar/all-request-piano-show-3/2025-12-11/
LOCATION:Off the Wagon
CATEGORIES:Asheville Area,Live Music
GEO:41.4302231;-81.3909542
END:VEVENT
BEGIN:VEVENT
DTSTART;TZID=America/New_York:20251211T203000
DTEND;TZID=America/New_York:20251212T000000
DTSTAMP:20260425T100525
CREATED:20251121T204451Z
LAST-MODIFIED:20251121T204452Z
UID:10003756-1765485000-1765497600@livemusicasheville.com
SUMMARY:Bachata Thursday
DESCRIPTION:
URL:https://livemusicasheville.com/calendar/bachata-thursday-2/2025-12-11/
LOCATION:Urban Orchard Cider Co
CATEGORIES:Asheville Area,DJ/Electronic
END:VEVENT
BEGIN:VEVENT
DTSTART;TZID=America/New_York:20251211T203000
DTEND;TZID=America/New_York:20251212T000000
DTSTAMP:20260425T100525
CREATED:20251203T165050Z
LAST-MODIFIED:20251203T165050Z
UID:10026528-1765485000-1765497600@livemusicasheville.com
SUMMARY:Crocodylidae w/ Amethyst Pendant (duo) / Aningmal / Polarbear xcvi
DESCRIPTION:
URL:https://livemusicasheville.com/calendar/crocodylidae-w-amethyst-pendant-duo-aningmal-polarbear-xcvi/
LOCATION:Static Age Records
CATEGORIES:Asheville Area,Live Music
GEO:35.5985631;-82.5538043
END:VEVENT
BEGIN:VEVENT
DTSTART;TZID=America/New_York:20251211T203000
DTEND;TZID=America/New_York:20251212T010000
DTSTAMP:20260425T100525
CREATED:20241225T140756Z
LAST-MODIFIED:20251214T224332Z
UID:10028406-1765485000-1765501200@livemusicasheville.com
SUMMARY:Elaine’s Dueling Piano Bar
DESCRIPTION:
URL:https://livemusicasheville.com/calendar/elaines-dueling-piano-bar/2025-12-11/
LOCATION:The Omni Grove Park Inn
CATEGORIES:Asheville Area,Live Music
GEO:35.6206376;-82.5422977
END:VEVENT
BEGIN:VEVENT
DTSTART;TZID=America/New_York:20251211T210000
DTEND;TZID=America/New_York:20251212T000000
DTSTAMP:20260425T100525
CREATED:20251203T140945Z
LAST-MODIFIED:20251203T140945Z
UID:10026462-1765486800-1765497600@livemusicasheville.com
SUMMARY:Scott Hall and The Aliens // Doll Tones
DESCRIPTION:
URL:https://livemusicasheville.com/calendar/scott-hall-and-the-aliens-doll-tones/
LOCATION:Fleetwood’s\, 496 Haywood Rd\, Asheville\, NC\, 28806\, United States
CATEGORIES:Asheville Area,Live Music
GEO:35.578126;-82.583757
X-APPLE-STRUCTURED-LOCATION;VALUE=URI;X-ADDRESS=Fleetwood’s 496 Haywood Rd Asheville NC 28806 United States;X-APPLE-RADIUS=500;X-TITLE=496 Haywood Rd:geo:-82.583757,35.578126
END:VEVENT
BEGIN:VEVENT
DTSTART;TZID=America/New_York:20251211T210000
DTEND;TZID=America/New_York:20251212T000000
DTSTAMP:20260425T100525
CREATED:20251203T193624Z
LAST-MODIFIED:20251210T193140Z
UID:10026607-1765486800-1765497600@livemusicasheville.com
SUMMARY:League of Sound Disciples ft. Jason Hann\, JP Miller\, Marcus White\, Josh Blake w/ Cpt. Hyperdrive
DESCRIPTION:
URL:https://livemusicasheville.com/calendar/league-of-sound-disciples-ft-jason-hann-jp-miller-marcus-white-josh-blake-w-cpt-hyperdrive/
LOCATION:Asheville Music Hall\, 31 Patton Ave\, Asheville\, NC\, 28801\, United States
CATEGORIES:Asheville Area,DJ/Electronic,Live Music
GEO:35.5949233;-82.5530398
X-APPLE-STRUCTURED-LOCATION;VALUE=URI;X-ADDRESS=Asheville Music Hall 31 Patton Ave Asheville NC 28801 United States;X-APPLE-RADIUS=500;X-TITLE=31 Patton Ave:geo:-82.5530398,35.5949233
END:VEVENT
BEGIN:VEVENT
DTSTART;TZID=America/New_York:20251211T210000
DTEND;TZID=America/New_York:20251212T000000
DTSTAMP:20260425T100525
CREATED:20251210T193358Z
LAST-MODIFIED:20251210T193358Z
UID:10027195-1765486800-1765497600@livemusicasheville.com
SUMMARY:Uncle Lenny’s Funky Xmas
DESCRIPTION:
URL:https://livemusicasheville.com/calendar/uncle-lennys-funky-xmas/
LOCATION:The One Stop
CATEGORIES:Asheville Area,Live Music
END:VEVENT
BEGIN:VEVENT
DTSTART;VALUE=DATE:20251212
DTEND;VALUE=DATE:20251214
DTSTAMP:20260425T100525
CREATED:20250125T140528Z
LAST-MODIFIED:20251210T122935Z
UID:10017439-1765508400-1765594799@livemusicasheville.com
SUMMARY:Love What We Do?
DESCRIPTION:We hope you enjoy our guide to the Asheville area’s dynamic music scene. \nIf we somehow help to brighten up your day\, please consider a $5 donation to help support our efforts in providing the area’s most reliable local live music calendar. \nVenmo: click here  \nLast 4 digits – 3383 \nPayPal: click here \n 
URL:https://livemusicasheville.com/calendar/greetings-fellow-music-lovers-2/2025-12-12/
LOCATION:Asheville Area
CATEGORIES:Asheville Area
END:VEVENT
BEGIN:VEVENT
DTSTART;TZID=America/New_York:20251212T160000
DTEND;TZID=America/New_York:20251212T210000
DTSTAMP:20260425T100525
CREATED:20251211T150809Z
LAST-MODIFIED:20251211T150809Z
UID:10027285-1765555200-1765573200@livemusicasheville.com
SUMMARY:Jingle Mingle on Main
DESCRIPTION:Get ready for a magical evening full of music\, makers\, treats\, and small-town holiday cheer!\n\n\nLive Music & Performances:\nBrush Creek Elementary School Choir performing on the courthouse steps at 5:45 PM.\nMad Co. Brew House – Kevin Dolan & Paul Koptak at 6PM!\nMal’s Bar – Jim Hampton music at 7PM!
URL:https://livemusicasheville.com/calendar/jingle-mingle-on-main/
LOCATION:Downtown Marshall
CATEGORIES:Asheville Area,Live Music,Madison County
END:VEVENT
BEGIN:VEVENT
DTSTART;TZID=America/New_York:20251212T173000
DTEND;TZID=America/New_York:20251212T193000
DTSTAMP:20260425T100525
CREATED:20250115T170305Z
LAST-MODIFIED:20251214T223120Z
UID:10006469-1765560600-1765567800@livemusicasheville.com
SUMMARY:Hank and Vollie
DESCRIPTION:
URL:https://livemusicasheville.com/calendar/hank-and-vollie/2025-12-12/
LOCATION:Battery Park Book Exchange & Champagne Bar
CATEGORIES:Asheville Area,Live Music
GEO:35.5951042;-82.556633
END:VEVENT
BEGIN:VEVENT
DTSTART;TZID=America/New_York:20251212T180000
DTEND;TZID=America/New_York:20251212T200000
DTSTAMP:20260425T100525
CREATED:20250521T105721Z
LAST-MODIFIED:20251210T144216Z
UID:10014589-1765562400-1765569600@livemusicasheville.com
SUMMARY:Friday Music Series w/ The Saylor Brothers
DESCRIPTION:
URL:https://livemusicasheville.com/calendar/friday-music-series-w-the-saylor-brothers/
LOCATION:Lookout Brewing Company Black Mountain
CATEGORIES:Asheville Area,Black Mountain,Live Music
GEO:35.6193199;-82.3178787
END:VEVENT
END:VCALENDAR