BEGIN:VCALENDAR
VERSION:2.0
PRODID:-//LiveMusicAsheville.com - ECPv6.15.20//NONSGML v1.0//EN
CALSCALE:GREGORIAN
METHOD:PUBLISH
X-ORIGINAL-URL:https://livemusicasheville.com
X-WR-CALDESC:Events for LiveMusicAsheville.com
REFRESH-INTERVAL;VALUE=DURATION:PT1H
X-Robots-Tag:noindex
X-PUBLISHED-TTL:PT1H
BEGIN:VTIMEZONE
TZID:America/New_York
BEGIN:DAYLIGHT
TZOFFSETFROM:-0500
TZOFFSETTO:-0400
TZNAME:EDT
DTSTART:20250309T070000
END:DAYLIGHT
BEGIN:STANDARD
TZOFFSETFROM:-0400
TZOFFSETTO:-0500
TZNAME:EST
DTSTART:20251102T060000
END:STANDARD
BEGIN:DAYLIGHT
TZOFFSETFROM:-0500
TZOFFSETTO:-0400
TZNAME:EDT
DTSTART:20260308T070000
END:DAYLIGHT
BEGIN:STANDARD
TZOFFSETFROM:-0400
TZOFFSETTO:-0500
TZNAME:EST
DTSTART:20261101T060000
END:STANDARD
BEGIN:DAYLIGHT
TZOFFSETFROM:-0500
TZOFFSETTO:-0400
TZNAME:EDT
DTSTART:20270314T070000
END:DAYLIGHT
BEGIN:STANDARD
TZOFFSETFROM:-0400
TZOFFSETTO:-0500
TZNAME:EST
DTSTART:20271107T060000
END:STANDARD
END:VTIMEZONE
BEGIN:VEVENT
DTSTART;TZID=America/New_York:20260410T210000
DTEND;TZID=America/New_York:20260411T010000
DTSTAMP:20260424T230404
CREATED:20260408T144916Z
LAST-MODIFIED:20260408T145011Z
UID:10055705-1775854800-1775869200@livemusicasheville.com
SUMMARY:Dirty Holly\, Dead Kenny Darko Duran\, Ray Gun Sally
DESCRIPTION:
URL:https://livemusicasheville.com/calendar/dirty-holly-dead-kenny-darko-duran-ray-gun-sally/
LOCATION:27 Club Asheville
CATEGORIES:Asheville Area,Live Music
GEO:35.5933012;-82.5592961
END:VEVENT
BEGIN:VEVENT
DTSTART;TZID=America/New_York:20260410T220000
DTEND;TZID=America/New_York:20260411T010000
DTSTAMP:20260424T230404
CREATED:20260131T222333Z
LAST-MODIFIED:20260408T184016Z
UID:10023991-1775858400-1775869200@livemusicasheville.com
SUMMARY:Coyote Rodeo
DESCRIPTION:
URL:https://livemusicasheville.com/calendar/coyote-rodeo-3/
LOCATION:The One Stop
CATEGORIES:Asheville Area,Live Music
END:VEVENT
BEGIN:VEVENT
DTSTART;TZID=America/New_York:20260410T230000
DTEND;TZID=America/New_York:20260411T013000
DTSTAMP:20260424T230404
CREATED:20260312T154111Z
LAST-MODIFIED:20260312T154112Z
UID:10049641-1775862000-1775871000@livemusicasheville.com
SUMMARY:Auspicious Golden Fish - Goose After Party (w/sg Tommy Maher)
DESCRIPTION:Doors: April 10\, 2026 10:00 PM | Music at 11:00PM | $20 + Event Details and Tickets \nSwimming in an ocean of sound\, Auspicious Golden Fish weaves together searing guitar riffs\, hypnotic synth textures\, and deep funk grooves into a transcendent musical experience. American guitarist/producer Jamie Hendrickson (The Fritz/ElectroLust) assembles a revolving lineup of all-star musicians that bring his compositions to life. The result is a sonic journey- one that invites listeners to dissolve the ego\, embrace the present moment\, and dance into higher states of consciousness.
URL:https://livemusicasheville.com/calendar/auspicious-golden-fish-goose-after-party-w-sg-tommy-maher/
LOCATION:Asheville Music Hall\, 31 Patton Ave\, Asheville\, NC\, 28801\, United States
CATEGORIES:Asheville Area,Live Music
GEO:35.5949233;-82.5530398
X-APPLE-STRUCTURED-LOCATION;VALUE=URI;X-ADDRESS=Asheville Music Hall 31 Patton Ave Asheville NC 28801 United States;X-APPLE-RADIUS=500;X-TITLE=31 Patton Ave:geo:-82.5530398,35.5949233
END:VEVENT
BEGIN:VEVENT
DTSTART;TZID=America/New_York:20260410T230000
DTEND;TZID=America/New_York:20260411T020000
DTSTAMP:20260424T230404
CREATED:20260131T222605Z
LAST-MODIFIED:20260410T125730Z
UID:10042253-1775862000-1775872800@livemusicasheville.com
SUMMARY:Suns of Stars- Goose After Party
DESCRIPTION:Suns of Stars Goose After Party @ One World Brewing Downtown!\n\nOrbiting around Asheville’s grateful music scene since late 2023\, Suns Of Stars blends contemporary and traditional bluegrass with a high energy jam style. At its core lies the trio of Alex Bazemore (guitar)\, and Asheville’s own Jackson Chisholm (upright bass) and Johnny Humphries (mandolin)\, son of local Bluegrass legend Don Humphries. As Suns Of Stars has been gathering momentum they’ve picked up Alex Ball (fiddle/violin) and Gabe Epstein (banjo)\, both graduates of the ETSU Bluegrass program. Suns Of Stars members are all hometown heros in various musical projects around town which has led to great turnout at their shows. That\, along with a massive song repertoire and growing list of original music make for a unique performance each time.\n\n$10 Cover\n\n\nWith two unique locations\, built inside buildings that were previously cast aside\, One World brews with the intention of fostering nourishing interaction and artistic cultural experiences. From live music to art shows\, “One World Brewing” is born from the magic that happens when the whole becomes greater than the sum of its parts. Our taprooms are intersections for people of all walks of life and different corners of the globe\, enjoying this time and place together.  Check out our upcoming schedule: click here
URL:https://livemusicasheville.com/calendar/suns-of-stars-6/
LOCATION:One World Brewing Downtown\, 10 Patton Ave\, Asheville\, NC\, 28801
CATEGORIES:Asheville Area,Live Music
GEO:35.5947396;-82.5522724
X-APPLE-STRUCTURED-LOCATION;VALUE=URI;X-ADDRESS=One World Brewing Downtown 10 Patton Ave Asheville NC 28801;X-APPLE-RADIUS=500;X-TITLE=10 Patton Ave:geo:-82.5522724,35.5947396
END:VEVENT
BEGIN:VEVENT
DTSTART;TZID=America/New_York:20260410T230000
DTEND;TZID=America/New_York:20260411T020000
DTSTAMP:20260424T230404
CREATED:20260408T153425Z
LAST-MODIFIED:20260408T153425Z
UID:10055718-1775862000-1775872800@livemusicasheville.com
SUMMARY:Healyside Trio
DESCRIPTION:
URL:https://livemusicasheville.com/calendar/healyside-trio/
LOCATION:Revival\, 66 Asheland Avenue\, Asheville\, NC\, 28801\, United States
CATEGORIES:Asheville Area,Live Music
GEO:35.5917821;-82.555861
X-APPLE-STRUCTURED-LOCATION;VALUE=URI;X-ADDRESS=Revival 66 Asheland Avenue Asheville NC 28801 United States;X-APPLE-RADIUS=500;X-TITLE=66 Asheland Avenue:geo:-82.555861,35.5917821
END:VEVENT
BEGIN:VEVENT
DTSTART;TZID=America/New_York:20260410T233000
DTEND;TZID=America/New_York:20260411T020000
DTSTAMP:20260424T230404
CREATED:20260408T132514Z
LAST-MODIFIED:20260408T132514Z
UID:10055702-1775863800-1775872800@livemusicasheville.com
SUMMARY:Frute
DESCRIPTION:
URL:https://livemusicasheville.com/calendar/frute/
LOCATION:Third Room\, 46 Wall Street\, Asheville\, NC\, NC\, 28803\, United States
CATEGORIES:Asheville Area,Live Music
GEO:35.5943967;-82.5559625
X-APPLE-STRUCTURED-LOCATION;VALUE=URI;X-ADDRESS=Third Room 46 Wall Street Asheville NC NC 28803 United States;X-APPLE-RADIUS=500;X-TITLE=46 Wall Street:geo:-82.5559625,35.5943967
END:VEVENT
BEGIN:VEVENT
DTSTART;VALUE=DATE:20260411
DTEND;VALUE=DATE:20260413
DTSTAMP:20260424T230404
CREATED:20260115T155240Z
LAST-MODIFIED:20260423T154010Z
UID:10037465-1775876400-1775962799@livemusicasheville.com
SUMMARY:Love What We Do .......... Buy Us A Beer!
DESCRIPTION:We hope you enjoy our guide to the Asheville area’s dynamic music scene. \nIf we somehow help to brighten up your day\, please consider a small donation to help support our efforts in providing the area’s most reliable local live music calendar. \nVenmo: click here  \nLast 4 digits – 3383 \nPayPal: click here \n 
URL:https://livemusicasheville.com/calendar/greetings-fellow-music-lovers-2-2/2026-04-11/
LOCATION:Asheville Area
CATEGORIES:Asheville Area
ATTACH;FMTTYPE=image/jpeg:https://livemusicasheville.com/wp-content/uploads/2019/01/alcohol-alcoholic-beverages-beer-1624263-e1776958791382.jpg
END:VEVENT
BEGIN:VEVENT
DTSTART;TZID=America/New_York:20260411T080000
DTEND;TZID=America/New_York:20260411T120000
DTSTAMP:20260424T230404
CREATED:20250102T222130Z
LAST-MODIFIED:20260411T144928Z
UID:10004863-1775894400-1775908800@livemusicasheville.com
SUMMARY:The Hillclimbers
DESCRIPTION:The Hillclimbers are an Appalachian Fusion band from Asheville\, NC via Cincinnati\, Ohio\, consisting of brothers Conner and Blake Nagel\, playing their innovative blend of folk-\, bluegrass-\, jazz-\, and classic rock-inspired originals & covers along with their pickin’ and grinnin’ friends\n\n 
URL:https://livemusicasheville.com/calendar/the-hillclimbers/
LOCATION:North Asheville Tailgate Market
CATEGORIES:Asheville Area,Live Music
END:VEVENT
BEGIN:VEVENT
DTSTART;TZID=America/New_York:20260411T090000
DTEND;TZID=America/New_York:20260411T120000
DTSTAMP:20260424T230404
CREATED:20250606T161945Z
LAST-MODIFIED:20260410T192223Z
UID:10015561-1775898000-1775908800@livemusicasheville.com
SUMMARY:Music at The Market w/ Fancy Marie
DESCRIPTION:
URL:https://livemusicasheville.com/calendar/music-at-the-market-w-the-asheville-junction-duo/
LOCATION:Asheville City Market
CATEGORIES:Asheville Area,Live Music
GEO:35.5975664;-82.5512582
END:VEVENT
BEGIN:VEVENT
DTSTART;TZID=America/New_York:20260411T090000
DTEND;TZID=America/New_York:20260411T120000
DTSTAMP:20260424T230404
CREATED:20260319T125009Z
LAST-MODIFIED:20260320T015859Z
UID:10050300-1775898000-1775908800@livemusicasheville.com
SUMMARY:Adi the Monk
DESCRIPTION:
URL:https://livemusicasheville.com/calendar/adi-the-monk-7/2026-04-11/
LOCATION:Sunny Point Café
CATEGORIES:Asheville Area,Live Music
END:VEVENT
BEGIN:VEVENT
DTSTART;TZID=America/New_York:20260411T100000
DTEND;TZID=America/New_York:20260411T140000
DTSTAMP:20260424T230404
CREATED:20260406T191003Z
LAST-MODIFIED:20260406T191003Z
UID:10055118-1775901600-1775916000@livemusicasheville.com
SUMMARY:Wyndham Baird
DESCRIPTION:
URL:https://livemusicasheville.com/calendar/wyndham-baird/
LOCATION:Black Mountain Tailgate Market at Old Town District
CATEGORIES:Asheville Area,Black Mountain,Live Music
END:VEVENT
BEGIN:VEVENT
DTSTART;TZID=America/New_York:20260411T110000
DTEND;TZID=America/New_York:20260412T010000
DTSTAMP:20260424T230404
CREATED:20241225T201123Z
LAST-MODIFIED:20260422T210726Z
UID:10053607-1775905200-1775955600@livemusicasheville.com
SUMMARY:Saturday Karaoke
DESCRIPTION:Ben’s Tune Up – 11am-2pm (1st & 3rd Saturdays) \nWagworld Pub – 6-9pm (April 25) \nLookout Brewing Black Mountain – 7-10pm (April 18) \nThe Whale South Slope – 7-10pm (April 18) \nIce Bar Arden – 8pm-12am (April 25) \nLiondog Lounge Weaverville – 8pm-12am (every other week) \nT Birds Weaverville – 8-11pm \nThe Burger Bar – 8pm-1am \nThe Social East Asheville – 9pm-1am \n  \n  \nPlease verify times and KJ with the venue.
URL:https://livemusicasheville.com/calendar/saturday-karaoke/2026-04-11/
LOCATION:NC
CATEGORIES:Asheville Area,Karaoke
END:VEVENT
BEGIN:VEVENT
DTSTART;TZID=America/New_York:20260411T120000
DTEND;TZID=America/New_York:20260411T140000
DTSTAMP:20260424T230404
CREATED:20260123T211132Z
LAST-MODIFIED:20260123T211133Z
UID:10023758-1775908800-1775916000@livemusicasheville.com
SUMMARY:Yala Cultural Tour w/ Adama Dembele
DESCRIPTION:Visit LEAF Global Arts every Saturday for an in-house cultural exchange with Adama Dembele. Experience the Ivory Coast with our Culture Keeper from the House of Djembe.\nYala Culture Tour includes drumming\, dancing\, and stories from Ivory Coast. Drums are provided! Families are welcome.
URL:https://livemusicasheville.com/calendar/yala-cultural-tour-w-adama-dembele-3-2-2/2026-04-11/
LOCATION:LEAF Global Arts\, 19 Eagle St\, Asheville\, NC\, 28801
CATEGORIES:Asheville Area,Live Music
GEO:35.5938244;-82.5505196
X-APPLE-STRUCTURED-LOCATION;VALUE=URI;X-ADDRESS=LEAF Global Arts 19 Eagle St Asheville NC 28801;X-APPLE-RADIUS=500;X-TITLE=19 Eagle St:geo:-82.5505196,35.5938244
END:VEVENT
BEGIN:VEVENT
DTSTART;TZID=America/New_York:20260411T120000
DTEND;TZID=America/New_York:20260411T170000
DTSTAMP:20260424T230404
CREATED:20260407T144855Z
LAST-MODIFIED:20260407T144855Z
UID:10055124-1775908800-1775926800@livemusicasheville.com
SUMMARY:Emergency Preparedness Fair
DESCRIPTION:The Swannanoa Grassroots Alliance is bringing the community together for a FREE Emergency Preparedness Fair on Saturday\, April 11th\, and it’s not just informational\, it’s actually useful.\nFree supplies available while they last.\n Drop in anytime from 12–5 216 Whitson Ave\, Swannanoa\nHere’s what you’ll walk away with: Free water filter kits Raffles (solar power bank + panel\, emergency radio\, first aid kits) Free take-home meals from Food Connection Fresh meals from Defiance Cafe (sponsored by FCC Environmental)\nAnd it’s not all tables and pamphlets: CERT demos at 1PM and 3PM Live bluegrass with an open jam to follow\n Spanish interpretation available\nThis is about being ready\, yes\, but also about knowing your neighbors and building something stronger together.
URL:https://livemusicasheville.com/calendar/emergency-preparedness-fair/
LOCATION:216 Whitson Ave\, Swannanoa
CATEGORIES:Asheville Area,Black Mountain,Live Music
END:VEVENT
BEGIN:VEVENT
DTSTART;TZID=America/New_York:20260411T120000
DTEND;TZID=America/New_York:20260411T170000
DTSTAMP:20260424T230404
CREATED:20260408T222229Z
LAST-MODIFIED:20260408T222229Z
UID:10055971-1775908800-1775926800@livemusicasheville.com
SUMMARY:Fiddles & Folklife
DESCRIPTION:Please join us for Fiddles & Folklife 2026! This event is free and open to the public. It takes place at Bryson Gym\, the Formal Gardens and the Pavilion at Warren Wilson College. Event Details
URL:https://livemusicasheville.com/calendar/fiddles-folklife/
LOCATION:Warren Wilson College Swannanoa\, 701 Warren Wilson Road\, Swannanoa\, NC
CATEGORIES:Asheville Area,Black Mountain,Live Music
GEO:35.611126;-82.4422791
X-APPLE-STRUCTURED-LOCATION;VALUE=URI;X-ADDRESS=Warren Wilson College Swannanoa 701 Warren Wilson Road Swannanoa NC;X-APPLE-RADIUS=500;X-TITLE=701 Warren Wilson Road:geo:-82.4422791,35.611126
END:VEVENT
BEGIN:VEVENT
DTSTART;TZID=America/New_York:20260411T120000
DTEND;TZID=America/New_York:20260411T200000
DTSTAMP:20260424T230404
CREATED:20260406T220740Z
LAST-MODIFIED:20260406T220740Z
UID:10055119-1775908800-1775937600@livemusicasheville.com
SUMMARY:9th Anniversary Party
DESCRIPTION:We brewed up something special—Nueve Vidas Mexican Lager—crisp\, easy\, and made for celebrating. \n🎶 Live music:\n12–3 Jeff Honeycutt\n4–7 Tanya & The Roadrunnerz \nAnniversary tees will be up for grabs too! \nWhether you’ve been with us since day one or just found your way here\, you’re part of what makes this place what it is—come celebrate with us. Cheers to many more years🍺
URL:https://livemusicasheville.com/calendar/9th-anniversary-party/
LOCATION:Hillman Beer – Asheville/Biltmore Village
CATEGORIES:Asheville Area,Live Music
END:VEVENT
BEGIN:VEVENT
DTSTART;TZID=America/New_York:20260411T140000
DTEND;TZID=America/New_York:20260411T153000
DTSTAMP:20260424T230404
CREATED:20260408T221348Z
LAST-MODIFIED:20260408T221408Z
UID:10055970-1775916000-1775921400@livemusicasheville.com
SUMMARY:PERFORMANCE: UNCA Experimental Ensemble
DESCRIPTION:
URL:https://livemusicasheville.com/calendar/performance-unca-experimental-ensemble/
LOCATION:Black Mountain College Museum + Arts Center Asheville\, 120 College St\, Asheville\, NC\, 28801
CATEGORIES:Asheville Area,DJ/Electronic,Live Music
GEO:35.5958908;-82.5505261
X-APPLE-STRUCTURED-LOCATION;VALUE=URI;X-ADDRESS=Black Mountain College Museum + Arts Center Asheville 120 College St Asheville NC 28801;X-APPLE-RADIUS=500;X-TITLE=120 College St:geo:-82.5505261,35.5958908
END:VEVENT
BEGIN:VEVENT
DTSTART;TZID=America/New_York:20260411T140000
DTEND;TZID=America/New_York:20260411T160000
DTSTAMP:20260424T230404
CREATED:20250115T171247Z
LAST-MODIFIED:20260408T152616Z
UID:10006528-1775916000-1775923200@livemusicasheville.com
SUMMARY:The Right Fit - Jennifer Allsbrook and Rick Reles
DESCRIPTION:
URL:https://livemusicasheville.com/calendar/the-right-fit-jennifer-allsbrook-and-rick-reles/
LOCATION:Wagbar Weaverville
CATEGORIES:Asheville Area,Live Music,Weaverville
END:VEVENT
BEGIN:VEVENT
DTSTART;TZID=America/New_York:20260411T140000
DTEND;TZID=America/New_York:20260411T160000
DTSTAMP:20260424T230404
CREATED:20260408T172516Z
LAST-MODIFIED:20260408T172516Z
UID:10055734-1775916000-1775923200@livemusicasheville.com
SUMMARY:FREE PATIO SHOW: Osprey Orchestra
DESCRIPTION:
URL:https://livemusicasheville.com/calendar/free-patio-show-osprey-orchestra/
LOCATION:The Grey Eagle\, 185 Clingman Ave\, Asheville\, NC\, United States
CATEGORIES:Asheville Area,Live Music
GEO:35.5870871;-82.5643936
X-APPLE-STRUCTURED-LOCATION;VALUE=URI;X-ADDRESS=The Grey Eagle 185 Clingman Ave Asheville NC United States;X-APPLE-RADIUS=500;X-TITLE=185 Clingman Ave:geo:-82.5643936,35.5870871
END:VEVENT
BEGIN:VEVENT
DTSTART;TZID=America/New_York:20260411T140000
DTEND;TZID=America/New_York:20260411T170000
DTSTAMP:20260424T230404
CREATED:20250122T195905Z
LAST-MODIFIED:20260408T125458Z
UID:10006860-1775916000-1775926800@livemusicasheville.com
SUMMARY:Seth & Sara
DESCRIPTION:
URL:https://livemusicasheville.com/calendar/seth-sara-2/
LOCATION:Souther Williams Vineyard Fletcher
CATEGORIES:Asheville Area,Live Music,South Asheville/Arden/Fletcher
GEO:35.4412197;-82.4387393
END:VEVENT
BEGIN:VEVENT
DTSTART;TZID=America/New_York:20260411T140000
DTEND;TZID=America/New_York:20260411T170000
DTSTAMP:20260424T230404
CREATED:20250813T135803Z
LAST-MODIFIED:20260408T111610Z
UID:10019067-1775916000-1775926800@livemusicasheville.com
SUMMARY:Three Shades of Gray
DESCRIPTION:
URL:https://livemusicasheville.com/calendar/three-shades-of-gray/
LOCATION:Mills River Brewing Co.\, 336 Banner Farm Rd\,\, Mills River\, NC\, 28759
CATEGORIES:Asheville Area,Live Music,Mills River
GEO:35.380515;-82.5654984
X-APPLE-STRUCTURED-LOCATION;VALUE=URI;X-ADDRESS=Mills River Brewing Co. 336 Banner Farm Rd Mills River NC 28759;X-APPLE-RADIUS=500;X-TITLE=336 Banner Farm Rd\,:geo:-82.5654984,35.380515
END:VEVENT
BEGIN:VEVENT
DTSTART;TZID=America/New_York:20260411T140000
DTEND;TZID=America/New_York:20260411T170000
DTSTAMP:20260424T230404
CREATED:20251119T195858Z
LAST-MODIFIED:20260411T005439Z
UID:10024842-1775916000-1775926800@livemusicasheville.com
SUMMARY:Julianna Jade Quartet
DESCRIPTION:
URL:https://livemusicasheville.com/calendar/julianna-jade-2/
LOCATION:Sierra Nevada Mills River\, 100 Sierra Nevada Way\, Mills River\, NC\, 28732
CATEGORIES:Asheville Area,Live Music
GEO:35.4308568;-82.5535594
X-APPLE-STRUCTURED-LOCATION;VALUE=URI;X-ADDRESS=Sierra Nevada Mills River 100 Sierra Nevada Way Mills River NC 28732;X-APPLE-RADIUS=500;X-TITLE=100 Sierra Nevada Way:geo:-82.5535594,35.4308568
END:VEVENT
BEGIN:VEVENT
DTSTART;TZID=America/New_York:20260411T140000
DTEND;TZID=America/New_York:20260411T170000
DTSTAMP:20260424T230404
CREATED:20260409T104828Z
LAST-MODIFIED:20260409T104950Z
UID:10056197-1775916000-1775926800@livemusicasheville.com
SUMMARY:Ken Johnson Classic Rock Guitar
DESCRIPTION:
URL:https://livemusicasheville.com/calendar/ken-johnson-classic-rock-guitar/
LOCATION:Addison Farms Vineyard Leicester\, 4005 New Leicester Hwy\, Leicester\, NC\, 28748\, United States
CATEGORIES:Asheville Area,Live Music
GEO:35.7051943;-82.7444696
X-APPLE-STRUCTURED-LOCATION;VALUE=URI;X-ADDRESS=Addison Farms Vineyard Leicester 4005 New Leicester Hwy Leicester NC 28748 United States;X-APPLE-RADIUS=500;X-TITLE=4005 New Leicester Hwy:geo:-82.7444696,35.7051943
END:VEVENT
BEGIN:VEVENT
DTSTART;TZID=America/New_York:20260411T150000
DTEND;TZID=America/New_York:20260411T170000
DTSTAMP:20260424T230404
CREATED:20260408T154359Z
LAST-MODIFIED:20260408T154359Z
UID:10055722-1775919600-1775926800@livemusicasheville.com
SUMMARY:Ronnie Cruz- Album Release
DESCRIPTION:
URL:https://livemusicasheville.com/calendar/ronnie-cruz-album-release/
LOCATION:Wheelhouse South Slope
CATEGORIES:Asheville Area,Live Music
END:VEVENT
BEGIN:VEVENT
DTSTART;TZID=America/New_York:20260411T160000
DTEND;TZID=America/New_York:20260411T180000
DTSTAMP:20260424T230404
CREATED:20260124T152951Z
LAST-MODIFIED:20260124T152952Z
UID:10036670-1775923200-1775930400@livemusicasheville.com
SUMMARY:Nobody’s Darling String Band
DESCRIPTION:Nobody’s Darling String Band is a group of five ladies who are seasoned Old Time musicians\, that play lively Mountain Music every Saturday from 4 to 6 at Jack of the Wood. A fiddle\, guitars\, standup bass and banjo uke round out this engaging and energetic group\, playing in the traditional style of Appalachian roots music. \nJack Of The Wood is still a downtown hot spot for food\, brews and drink since 1997 and founders Joan and Joe Eckert who still own it\, have maintained the original lively English and Irish vibe. The old-time mountain and Irish music jams continue\, including a hot bluegrass jam Thursdays and brunch every Sunday. The venue extends a welcoming feeling to regulars and newcomers to this day. https://jackofthewood.com/
URL:https://livemusicasheville.com/calendar/nobodys-darling-string-band-3-2/2026-04-11/
LOCATION:Jack Of The Wood\, 95 Patton Ave\, asheville\, NC\, United States
CATEGORIES:Asheville Area,Live Music
ATTACH;FMTTYPE=image/jpeg:https://livemusicasheville.com/wp-content/uploads/2024/12/523978150_1214912560437765_7917422461527545901_n-e1754135504539.jpg
GEO:35.5944492;-82.5558221
X-APPLE-STRUCTURED-LOCATION;VALUE=URI;X-ADDRESS=Jack Of The Wood 95 Patton Ave asheville NC United States;X-APPLE-RADIUS=500;X-TITLE=95 Patton Ave:geo:-82.5558221,35.5944492
END:VEVENT
BEGIN:VEVENT
DTSTART;TZID=America/New_York:20260411T160000
DTEND;TZID=America/New_York:20260411T190000
DTSTAMP:20260424T230404
CREATED:20250813T184652Z
LAST-MODIFIED:20260408T102005Z
UID:10019151-1775923200-1775934000@livemusicasheville.com
SUMMARY:A Different Thread
DESCRIPTION:
URL:https://livemusicasheville.com/calendar/patio-a-different-thread/
LOCATION:One World Brewing – West\, 520 Haywood Rd\, Asheville\, North Carolina\, 28806
CATEGORIES:Asheville Area,Live Music
GEO:35.5783642;-82.5848526
X-APPLE-STRUCTURED-LOCATION;VALUE=URI;X-ADDRESS=One World Brewing – West 520 Haywood Rd Asheville North Carolina 28806;X-APPLE-RADIUS=500;X-TITLE=520 Haywood Rd:geo:-82.5848526,35.5783642
END:VEVENT
BEGIN:VEVENT
DTSTART;TZID=America/New_York:20260411T163000
DTEND;TZID=America/New_York:20260411T201500
DTSTAMP:20260424T230404
CREATED:20260318T173349Z
LAST-MODIFIED:20260415T224759Z
UID:10054543-1775925000-1775938500@livemusicasheville.com
SUMMARY:Live Music at the Bandstand
DESCRIPTION:April Schedule: \nFri. 4/17 – BRUCE LANG BAND\, Swing\, Light Rock \nSat. 4/18 – FREEPORT JAZZ\, Smooth Jazz \nFri. 4/24 – CLAY LUNSFORD BAND\, Americana \nSat. 4/25 – KELLEY AND THE COWBOYS\, Country Western \nTo enjoy this complimentary event\, guest must have a daytime ticket\, a Biltmore Annual Pass\, or a stay at one of the estate’s splendid overnight properties. 
URL:https://livemusicasheville.com/calendar/live-music-at-the-bandstand-5/2026-04-11/
LOCATION:Antler Hill Village\, Biltmore Estate
CATEGORIES:Asheville Area,Live Music
END:VEVENT
BEGIN:VEVENT
DTSTART;TZID=America/New_York:20260411T170000
DTEND;TZID=America/New_York:20260411T190000
DTSTAMP:20260424T230404
CREATED:20251223T162247Z
LAST-MODIFIED:20260408T150846Z
UID:10029544-1775926800-1775934000@livemusicasheville.com
SUMMARY:Rocky Collin
DESCRIPTION:
URL:https://livemusicasheville.com/calendar/rocky-collin-3/
LOCATION:Turgua Brewing Fairview
CATEGORIES:Asheville Area,Fairview,Live Music
GEO:35.5129836;-82.4095217
END:VEVENT
BEGIN:VEVENT
DTSTART;TZID=America/New_York:20260411T170000
DTEND;TZID=America/New_York:20260411T200000
DTSTAMP:20260424T230404
CREATED:20250429T145357Z
LAST-MODIFIED:20260408T095958Z
UID:10013431-1775926800-1775937600@livemusicasheville.com
SUMMARY:Live Music: Koehn Manthei
DESCRIPTION:
URL:https://livemusicasheville.com/calendar/kentucky-derby-party/
LOCATION:Peri Social House Black Mountain\, 406 W State\, Black Mountain\, NC
CATEGORIES:Asheville Area,Black Mountain,Live Music
GEO:35.6148509;-82.3247138
X-APPLE-STRUCTURED-LOCATION;VALUE=URI;X-ADDRESS=Peri Social House Black Mountain 406 W State Black Mountain NC;X-APPLE-RADIUS=500;X-TITLE=406 W State:geo:-82.3247138,35.6148509
END:VEVENT
BEGIN:VEVENT
DTSTART;TZID=America/New_York:20260411T170000
DTEND;TZID=America/New_York:20260411T200000
DTSTAMP:20260424T230404
CREATED:20250515T011616Z
LAST-MODIFIED:20260408T134056Z
UID:10014319-1775926800-1775937600@livemusicasheville.com
SUMMARY:Eric & The Estradas
DESCRIPTION:
URL:https://livemusicasheville.com/calendar/eric-congdon/
LOCATION:Auction House Food Hall Fletcher
CATEGORIES:Asheville Area,Live Music,South Asheville/Arden/Fletcher
GEO:35.4306652;-82.5019658
END:VEVENT
END:VCALENDAR