BEGIN:VCALENDAR
VERSION:2.0
PRODID:-//LiveMusicAsheville.com - ECPv6.15.20//NONSGML v1.0//EN
CALSCALE:GREGORIAN
METHOD:PUBLISH
X-WR-CALNAME:LiveMusicAsheville.com
X-ORIGINAL-URL:https://livemusicasheville.com
X-WR-CALDESC:Events for LiveMusicAsheville.com
REFRESH-INTERVAL;VALUE=DURATION:PT1H
X-Robots-Tag:noindex
X-PUBLISHED-TTL:PT1H
BEGIN:VTIMEZONE
TZID:America/New_York
BEGIN:DAYLIGHT
TZOFFSETFROM:-0500
TZOFFSETTO:-0400
TZNAME:EDT
DTSTART:20250309T070000
END:DAYLIGHT
BEGIN:STANDARD
TZOFFSETFROM:-0400
TZOFFSETTO:-0500
TZNAME:EST
DTSTART:20251102T060000
END:STANDARD
BEGIN:DAYLIGHT
TZOFFSETFROM:-0500
TZOFFSETTO:-0400
TZNAME:EDT
DTSTART:20260308T070000
END:DAYLIGHT
BEGIN:STANDARD
TZOFFSETFROM:-0400
TZOFFSETTO:-0500
TZNAME:EST
DTSTART:20261101T060000
END:STANDARD
BEGIN:DAYLIGHT
TZOFFSETFROM:-0500
TZOFFSETTO:-0400
TZNAME:EDT
DTSTART:20270314T070000
END:DAYLIGHT
BEGIN:STANDARD
TZOFFSETFROM:-0400
TZOFFSETTO:-0500
TZNAME:EST
DTSTART:20271107T060000
END:STANDARD
END:VTIMEZONE
BEGIN:VEVENT
DTSTART;TZID=America/New_York:20260418T200000
DTEND;TZID=America/New_York:20260418T230000
DTSTAMP:20260424T073651
CREATED:20250115T220215Z
LAST-MODIFIED:20260415T172555Z
UID:10006562-1776542400-1776553200@livemusicasheville.com
SUMMARY:The Old Chevrolette Set
DESCRIPTION:
URL:https://livemusicasheville.com/calendar/honky-tonk-against-hate-benefit-w-hearts-gone-south-the-old-chevrolette-set/
LOCATION:Eda’s Hide-a-Way Weaverville
CATEGORIES:Asheville Area,Live Music,Weaverville
GEO:35.6970547;-82.5606851
END:VEVENT
BEGIN:VEVENT
DTSTART;TZID=America/New_York:20260418T200000
DTEND;TZID=America/New_York:20260418T230000
DTSTAMP:20260424T073651
CREATED:20260330T150538Z
LAST-MODIFIED:20260413T145815Z
UID:10053882-1776542400-1776553200@livemusicasheville.com
SUMMARY:Sugar Bomb Featuring Reggie Headen
DESCRIPTION:Sugar Bomb is an instrumental groove jazz trio known for their dynamic range in taste and performance\, the group is often described as modern\, playful\, and refreshing. The trio (Jacob Bruner\, Eli Kahn\, and Joe Enright) draws from a wide range of influences spanning classical and jazz to fusion\, hip-hop\, and electronic music. For this special performance\, the trio is joined by featured vocalist Reggie Headen\, a beloved presence across Asheville’s music scene. \n$15 at the door (all ticket proceeds are 100% passed to the band\, backed by a living wage guarantee from Hotel Eve) \n*Reserve a table in advance\, or join us impromptu the night of the show. Reservations/advance tickets are recommended for preferred seating\, but not required. Tickets are available at the door on a first-come\, first-served basis.  Event Details and Tickets \nHotel Eve is your locally rooted\, speakeasy jazz club & cocktail bar\, hidden in the heart of Downtown Asheville. Mysteriously not a hotel…check in for spirits\, souls and jazz! We’re tucked away\, on purpose. You’ll find us behind the gate nestled between Virtue Boutique and Dane Wells Gallery at 56 N Lexington Avenue in downtown Asheville. Step through\, take a left into the courtyard\, check in for Spirits\, Souls & Jazz. We’ll be waiting on the other side. hotelevejazz.com \n 
URL:https://livemusicasheville.com/calendar/sugar-bomb-featuring-reggie-headen/
LOCATION:Hotel Eve Jazz\, 56 N Lexington Avenue\, Asheville\, NC\, 28801\, United States
CATEGORIES:Asheville Area,Live Music
ATTACH;FMTTYPE=image/jpeg:https://livemusicasheville.com/wp-content/uploads/2026/03/668666190_122127624507134797_1492032792749166023_n-e1776092254896.jpg
GEO:35.5967716;-82.5530826
X-APPLE-STRUCTURED-LOCATION;VALUE=URI;X-ADDRESS=Hotel Eve Jazz 56 N Lexington Avenue Asheville NC 28801 United States;X-APPLE-RADIUS=500;X-TITLE=56 N Lexington Avenue:geo:-82.5530826,35.5967716
END:VEVENT
BEGIN:VEVENT
DTSTART;TZID=America/New_York:20260418T200000
DTEND;TZID=America/New_York:20260418T230000
DTSTAMP:20260424T073651
CREATED:20260415T190525Z
LAST-MODIFIED:20260415T190537Z
UID:10057412-1776542400-1776553200@livemusicasheville.com
SUMMARY:St. Paul & The Broken Bones w/ Brother Wallace
DESCRIPTION:Sold Out
URL:https://livemusicasheville.com/calendar/st-paul-the-broken-bones-brother-wallace/
LOCATION:The Orange Peel
CATEGORIES:Asheville Area,Live Music
GEO:35.5914061;-82.5510137
END:VEVENT
BEGIN:VEVENT
DTSTART;TZID=America/New_York:20260418T200000
DTEND;TZID=America/New_York:20260418T230000
DTSTAMP:20260424T073651
CREATED:20260415T191956Z
LAST-MODIFIED:20260415T191956Z
UID:10057421-1776542400-1776553200@livemusicasheville.com
SUMMARY:Delicate Steve w/ See Night
DESCRIPTION:
URL:https://livemusicasheville.com/calendar/delicate-steve-w-see-night/
LOCATION:The Grey Eagle\, 185 Clingman Ave\, Asheville\, NC\, United States
CATEGORIES:Asheville Area,Live Music
GEO:35.5870871;-82.5643936
X-APPLE-STRUCTURED-LOCATION;VALUE=URI;X-ADDRESS=The Grey Eagle 185 Clingman Ave Asheville NC United States;X-APPLE-RADIUS=500;X-TITLE=185 Clingman Ave:geo:-82.5643936,35.5870871
END:VEVENT
BEGIN:VEVENT
DTSTART;TZID=America/New_York:20260418T200000
DTEND;TZID=America/New_York:20260418T230000
DTSTAMP:20260424T073651
CREATED:20260415T194142Z
LAST-MODIFIED:20260415T194142Z
UID:10057430-1776542400-1776553200@livemusicasheville.com
SUMMARY:Shakedown Citi with Hype Machine
DESCRIPTION:
URL:https://livemusicasheville.com/calendar/shakedown-citi-with-hype-machine/
LOCATION:Asheville Music Hall\, 31 Patton Ave\, Asheville\, NC\, 28801\, United States
CATEGORIES:Asheville Area,Live Music
GEO:35.5949233;-82.5530398
X-APPLE-STRUCTURED-LOCATION;VALUE=URI;X-ADDRESS=Asheville Music Hall 31 Patton Ave Asheville NC 28801 United States;X-APPLE-RADIUS=500;X-TITLE=31 Patton Ave:geo:-82.5530398,35.5949233
END:VEVENT
BEGIN:VEVENT
DTSTART;TZID=America/New_York:20260418T200000
DTEND;TZID=America/New_York:20260418T233000
DTSTAMP:20260424T073651
CREATED:20260415T151004Z
LAST-MODIFIED:20260415T151004Z
UID:10057119-1776542400-1776555000@livemusicasheville.com
SUMMARY:Zombii\, The Rufftons\, Socially Constricted
DESCRIPTION:
URL:https://livemusicasheville.com/calendar/zombii-the-rufftons-socially-constricted/
LOCATION:27 Club Asheville
CATEGORIES:Asheville Area,Live Music
GEO:35.5933012;-82.5592961
END:VEVENT
BEGIN:VEVENT
DTSTART;TZID=America/New_York:20260418T203000
DTEND;TZID=America/New_York:20260418T233000
DTSTAMP:20260424T073651
CREATED:20250430T162604Z
LAST-MODIFIED:20260415T133911Z
UID:10013464-1776544200-1776555000@livemusicasheville.com
SUMMARY:Chris McGinnis & Mamaw's Angels
DESCRIPTION:
URL:https://livemusicasheville.com/calendar/chris-mcginnis-mamaws-angels/
LOCATION:Jack Of The Wood\, 95 Patton Ave\, asheville\, NC\, United States
CATEGORIES:Asheville Area,Live Music
GEO:35.5944492;-82.5558221
X-APPLE-STRUCTURED-LOCATION;VALUE=URI;X-ADDRESS=Jack Of The Wood 95 Patton Ave asheville NC United States;X-APPLE-RADIUS=500;X-TITLE=95 Patton Ave:geo:-82.5558221,35.5944492
END:VEVENT
BEGIN:VEVENT
DTSTART;TZID=America/New_York:20260418T203000
DTEND;TZID=America/New_York:20260418T233000
DTSTAMP:20260424T073651
CREATED:20251022T223735Z
LAST-MODIFIED:20260415T131156Z
UID:10023019-1776544200-1776555000@livemusicasheville.com
SUMMARY:Adrianne Blanks & The Oracles
DESCRIPTION:
URL:https://livemusicasheville.com/calendar/adrianne-blanks-the-oracles-2/
LOCATION:Crow and Quill
CATEGORIES:Asheville Area,Live Music
GEO:35.5984495;-82.5537921
END:VEVENT
BEGIN:VEVENT
DTSTART;TZID=America/New_York:20260418T203000
DTEND;TZID=America/New_York:20260419T010000
DTSTAMP:20260424T073651
CREATED:20251224T142533Z
LAST-MODIFIED:20251224T142535Z
UID:10028287-1776544200-1776560400@livemusicasheville.com
SUMMARY:Elaine’s Dueling Piano Bar
DESCRIPTION:
URL:https://livemusicasheville.com/calendar/elaines-dueling-piano-bar-2/2026-04-18/
LOCATION:The Omni Grove Park Inn
CATEGORIES:Asheville Area,Live Music
GEO:35.6206376;-82.5422977
END:VEVENT
BEGIN:VEVENT
DTSTART;TZID=America/New_York:20260418T210000
DTEND;TZID=America/New_York:20260419T000000
DTSTAMP:20260424T073651
CREATED:20241227T160141Z
LAST-MODIFIED:20260415T165045Z
UID:10004026-1776546000-1776556800@livemusicasheville.com
SUMMARY:Commodore Fox Band
DESCRIPTION:
URL:https://livemusicasheville.com/calendar/nye-at-the-wing-w-commodore-fox/
LOCATION:The Draftsman Asheville
CATEGORIES:Asheville Area,Live Music
END:VEVENT
BEGIN:VEVENT
DTSTART;TZID=America/New_York:20260418T210000
DTEND;TZID=America/New_York:20260419T000000
DTSTAMP:20260424T073651
CREATED:20250116T034559Z
LAST-MODIFIED:20260415T143200Z
UID:10006582-1776546000-1776556800@livemusicasheville.com
SUMMARY:Blackwater Station
DESCRIPTION:
URL:https://livemusicasheville.com/calendar/blackwater-station/
LOCATION:T Birds Weaverville
CATEGORIES:Asheville Area,Live Music,Weaverville
END:VEVENT
BEGIN:VEVENT
DTSTART;TZID=America/New_York:20260418T210000
DTEND;TZID=America/New_York:20260419T000000
DTSTAMP:20260424T073651
CREATED:20250813T190335Z
LAST-MODIFIED:20260416T113418Z
UID:10019158-1776546000-1776556800@livemusicasheville.com
SUMMARY:Zach Jones & Friends
DESCRIPTION:
URL:https://livemusicasheville.com/calendar/string-pong/
LOCATION:Sovereign Kava
CATEGORIES:Asheville Area,Live Music
GEO:35.5854657;-82.5513352
END:VEVENT
BEGIN:VEVENT
DTSTART;TZID=America/New_York:20260418T210000
DTEND;TZID=America/New_York:20260419T000000
DTSTAMP:20260424T073651
CREATED:20250915T155834Z
LAST-MODIFIED:20260415T110104Z
UID:10021170-1776546000-1776556800@livemusicasheville.com
SUMMARY:Parker Zelter
DESCRIPTION:
URL:https://livemusicasheville.com/calendar/parker-zelter/
LOCATION:Crowbar Asheville\, 92 Patton Ave\, Asheville\, NC\, 28801\, United States
CATEGORIES:Asheville Area,Live Music
GEO:35.5941004;-82.5553361
X-APPLE-STRUCTURED-LOCATION;VALUE=URI;X-ADDRESS=Crowbar Asheville 92 Patton Ave Asheville NC 28801 United States;X-APPLE-RADIUS=500;X-TITLE=92 Patton Ave:geo:-82.5553361,35.5941004
END:VEVENT
BEGIN:VEVENT
DTSTART;TZID=America/New_York:20260418T210000
DTEND;TZID=America/New_York:20260419T000000
DTSTAMP:20260424T073651
CREATED:20260327T130916Z
LAST-MODIFIED:20260404T072523Z
UID:10054044-1776546000-1776556800@livemusicasheville.com
SUMMARY:Jazz Appreciation Month: Meschiya Lake & The Speakeasy Three | The Palm Room
DESCRIPTION:The Palm Room goes full velvet noir with a late-night set from Meschiya Lake & the Speakeasy 3—bringing sultry swing\, vintage sass\, and serious jazz club energy.\nWith a voice that can haunt or howl and a band that grooves like it’s 1939\, Meschiya Lake turns every set into a smoky\, soulful\, time-warped thrill ride. It’s cabaret meets cocktail culture\, and you’re invited to stay out late and lean in close.\n\n\n$10 covers both the Showroom and Palm Room music.\n\nFitz\, she’s the party. Wolfe\, he’s the epicure. 2 levels\, 3 vibes. 🎶 Live Music |🍸Sips & Noms 🥪 | 🕹️ Artcade | 🗝️Speakeasy | Private Events 🍽️\n\nFitz and the Wolfe is a cocktail and music venue shaped by the spirit of improvisation\, storytelling\, and the kind of nights that feel too good to end. Here\, every night brings a new soundtrack. Jazz\, swing\, honky-tonk\, and sometimes things a little more esoteric—if it moves people\, we book it. The music fills the space like a second heartbeat\, sometimes rowdy\, sometimes intimate\, always memorable. It’s not background noise. It’s the reason you’re here. fitzandthewolfe.com
URL:https://livemusicasheville.com/calendar/j-a-m-meschiya-lake-the-speakeasy-3-jazz-appreciation-month-series-the-palm-room/2026-04-18/
LOCATION:Fitz and the Wolfe\, 1 Battery Park Ave\, Asheville\, NC\, 28801\, United States
CATEGORIES:Asheville Area,Live Music
ATTACH;FMTTYPE=image/jpeg:https://livemusicasheville.com/wp-content/uploads/2025/06/531562811_1408190377619194_3378871246891109304_n-e1757964274280.jpg
GEO:35.5954515;-82.5548502
X-APPLE-STRUCTURED-LOCATION;VALUE=URI;X-ADDRESS=Fitz and the Wolfe 1 Battery Park Ave Asheville NC 28801 United States;X-APPLE-RADIUS=500;X-TITLE=1 Battery Park Ave:geo:-82.5548502,35.5954515
END:VEVENT
BEGIN:VEVENT
DTSTART;TZID=America/New_York:20260418T210000
DTEND;TZID=America/New_York:20260419T000000
DTSTAMP:20260424T073651
CREATED:20260410T150517Z
LAST-MODIFIED:20260410T151640Z
UID:10056220-1776546000-1776556800@livemusicasheville.com
SUMMARY:Tuff Sol
DESCRIPTION:Please join us for a night of reggae music and high times with Asheville’s Tuff Sol which features Jake Burns and Buffalo Brown on Guitar/Vocals\, Roddy Wilder on Bass/Vocals\, Taylor Pierson on Keys & Jonathan Lloyd on Drums/Vocals! \nShiloh & Gaines – Your neighborhood bar……no matter where you live. \nCoffee ~ Spirits ~ Pool ~ Darts ~ Live Music ~ Dog Friendly ~ Karaoke & More! Find our music schedule and more at shilohandgaines.com
URL:https://livemusicasheville.com/calendar/tuff-sol-3/
LOCATION:Shiloh & Gaines\, 700 Hendersonville Rd\, Asheville\, NC 28803\, NC\, 28803\, United States
CATEGORIES:Asheville Area,Live Music
ATTACH;FMTTYPE=image/jpeg:https://livemusicasheville.com/wp-content/uploads/2026/04/img_0184-scaled-1-e1775834193480.jpeg
GEO:35.5471263;-82.533941
X-APPLE-STRUCTURED-LOCATION;VALUE=URI;X-ADDRESS=Shiloh & Gaines 700 Hendersonville Rd Asheville NC 28803 NC 28803 United States;X-APPLE-RADIUS=500;X-TITLE=700 Hendersonville Rd:geo:-82.533941,35.5471263
END:VEVENT
BEGIN:VEVENT
DTSTART;TZID=America/New_York:20260418T210000
DTEND;TZID=America/New_York:20260419T000000
DTSTAMP:20260424T073651
CREATED:20260413T184321Z
LAST-MODIFIED:20260413T184321Z
UID:10056669-1776546000-1776556800@livemusicasheville.com
SUMMARY:Karma Mechanics / Indelible Sauce / The Rough In-Betweeners
DESCRIPTION:
URL:https://livemusicasheville.com/calendar/karma-mechanics-indelible-sauce-the-rough-in-betweeners/
LOCATION:Silverados Black Mountain
END:VEVENT
BEGIN:VEVENT
DTSTART;TZID=America/New_York:20260418T210000
DTEND;TZID=America/New_York:20260419T000000
DTSTAMP:20260424T073651
CREATED:20260417T172629Z
LAST-MODIFIED:20260417T173637Z
UID:10057824-1776546000-1776556800@livemusicasheville.com
SUMMARY:Pickety Split
DESCRIPTION:Based in Charlotte\, North Carolina\, Pickety Split is a lively acoustic band led by multi-instrumentalist and songwriter Cooper Eades. They offer a fresh take on traditional bluegrass\, blending classic standards with jamgrass-infused originals. Known for their unique perspective in the acoustic realm\, they bring high-energy performances to audiences across the Southeast.\n\nhttps://picketysplitmusic.com/\n\n$5 Cover\n\nWith two unique locations\, built inside buildings that were previously cast aside\, One World brews with the intention of fostering nourishing interaction and artistic cultural experiences. From live music to art shows\, “One World Brewing” is born from the magic that happens when the whole becomes greater than the sum of its parts. Our taprooms are intersections for people of all walks of life and different corners of the globe\, enjoying this time and place together.  Check out our upcoming schedule: click here
URL:https://livemusicasheville.com/calendar/pickety-split-2/
LOCATION:One World Brewing – West\, 520 Haywood Rd\, Asheville\, North Carolina\, 28806
CATEGORIES:Asheville Area,Live Music
ATTACH;FMTTYPE=image/jpeg:https://livemusicasheville.com/wp-content/uploads/2026/04/670343902_1613564526588989_8858706952684372862_n-e1776447387172.jpg
GEO:35.5783642;-82.5848526
X-APPLE-STRUCTURED-LOCATION;VALUE=URI;X-ADDRESS=One World Brewing – West 520 Haywood Rd Asheville North Carolina 28806;X-APPLE-RADIUS=500;X-TITLE=520 Haywood Rd:geo:-82.5848526,35.5783642
END:VEVENT
BEGIN:VEVENT
DTSTART;TZID=America/New_York:20260418T210000
DTEND;TZID=America/New_York:20260419T010000
DTSTAMP:20260424T073651
CREATED:20260415T115904Z
LAST-MODIFIED:20260415T115904Z
UID:10056829-1776546000-1776560400@livemusicasheville.com
SUMMARY:Naked Eye // Powder Horns // Garden Apartments
DESCRIPTION:
URL:https://livemusicasheville.com/calendar/naked-eye-powder-horns-garden-apartments/
LOCATION:Fleetwood’s\, 496 Haywood Rd\, Asheville\, NC\, 28806\, United States
CATEGORIES:Asheville Area,Live Music
GEO:35.578126;-82.583757
X-APPLE-STRUCTURED-LOCATION;VALUE=URI;X-ADDRESS=Fleetwood’s 496 Haywood Rd Asheville NC 28806 United States;X-APPLE-RADIUS=500;X-TITLE=496 Haywood Rd:geo:-82.583757,35.578126
END:VEVENT
BEGIN:VEVENT
DTSTART;TZID=America/New_York:20260418T210000
DTEND;TZID=America/New_York:20260419T010000
DTSTAMP:20260424T073651
CREATED:20260415T164606Z
LAST-MODIFIED:20260415T164606Z
UID:10057128-1776546000-1776560400@livemusicasheville.com
SUMMARY:Yes Dear / Scoby / Convalescent / Paper Pills
DESCRIPTION:
URL:https://livemusicasheville.com/calendar/yes-dear-scoby-convalescent-paper-pills/
LOCATION:Static Age Records
CATEGORIES:Asheville Area,Live Music
GEO:35.5985631;-82.5538043
END:VEVENT
BEGIN:VEVENT
DTSTART;TZID=America/New_York:20260418T220000
DTEND;TZID=America/New_York:20260419T010000
DTSTAMP:20260424T073651
CREATED:20260415T194309Z
LAST-MODIFIED:20260415T194309Z
UID:10057431-1776549600-1776560400@livemusicasheville.com
SUMMARY:Peach Candy Nut Boys
DESCRIPTION:
URL:https://livemusicasheville.com/calendar/peach-candy-nut-boys/
LOCATION:The One Stop
CATEGORIES:Asheville Area,Live Music
END:VEVENT
BEGIN:VEVENT
DTSTART;VALUE=DATE:20260419
DTEND;VALUE=DATE:20260421
DTSTAMP:20260424T073651
CREATED:20260403T153423Z
LAST-MODIFIED:20260403T153423Z
UID:10054799-1776567600-1776653999@livemusicasheville.com
SUMMARY:COMING FRIDAY April 24th | Sneaky Miles
DESCRIPTION:Friday\, Apr 24\, 9pm-12am | $10 Cover Event Details and Tickets \nSneaky Miles is an indie folk band formed through open mic nights at the University of New Hampshire in the fall of 2019. Since forming\, Sneaky Miles has quickly become a local powerhouse in the New Hampshire Seacoast music scene.\n\nWhile the band began as a stripped-down trio\, Sneaky Miles has since expanded their live sound by teaming up with additional members on drums\, bass\, and pedal steel. The result is a high-energy performance and a sound that feels bigger than the sum of its parts\, blending heartfelt storytelling with driving folk-rock arrangements.\n\nFor fans of Caamp\, Noah Kahan\, The Lumineers\, Mumford & Sons\, and The Head and the Heart\, Sneaky Miles delivers a sound rooted in community\, connection\, and cathartic live shows. sneakymiles.com\n\nWith two unique locations\, built inside buildings that were previously cast aside\, One World brews with the intention of fostering nourishing interaction and artistic cultural experiences. From live music to art shows\, “One World Brewing” is born from the magic that happens when the whole becomes greater than the sum of its parts. Our taprooms are intersections for people of all walks of life and different corners of the globe\, enjoying this time and place together.  Check out our upcoming schedule: click here
URL:https://livemusicasheville.com/calendar/coming-friday-april-24th-sneaky-miles/2026-04-19/
LOCATION:One World Brewing – West\, 520 Haywood Rd\, Asheville\, North Carolina\, 28806
CATEGORIES:Asheville Area,Live Music
ATTACH;FMTTYPE=image/jpeg:https://livemusicasheville.com/wp-content/uploads/2026/04/637779410_1494734775994733_3750430347465596623_n-e1775229958454.jpg
GEO:35.5783642;-82.5848526
X-APPLE-STRUCTURED-LOCATION;VALUE=URI;X-ADDRESS=One World Brewing – West 520 Haywood Rd Asheville North Carolina 28806;X-APPLE-RADIUS=500;X-TITLE=520 Haywood Rd:geo:-82.5848526,35.5783642
END:VEVENT
BEGIN:VEVENT
DTSTART;TZID=America/New_York:20260419T100000
DTEND;TZID=America/New_York:20260419T233000
DTSTAMP:20260424T073651
CREATED:20250102T141753Z
LAST-MODIFIED:20260415T195742Z
UID:10004846-1776592800-1776641400@livemusicasheville.com
SUMMARY:More Sunday Electronic/DJ's
DESCRIPTION:Although we are primarily a Live Music Calendar\, we often come across Electronic & DJ events in the area and list them for you as we find out about them. Please verify the DJ\, times and cover charges with the venue. \nCooperative Coffee Roasters – 10am-2pm \nEda’s Hideaway Weaverville – 11am-5pm \nVisuals Rooftop – 2-5pm \nHighland Brewing Rooftop – 5-8pm \nFleetwoods – 8:30pm-12am \nCheck with the venue on tonight’s DJs and cover charges.
URL:https://livemusicasheville.com/calendar/more-sunday-electronic-dj-events/
LOCATION:Asheville Area
CATEGORIES:Asheville Area,DJ/Electronic
END:VEVENT
BEGIN:VEVENT
DTSTART;TZID=America/New_York:20260419T110000
DTEND;TZID=America/New_York:20260419T140000
DTSTAMP:20260424T073651
CREATED:20260408T092619Z
LAST-MODIFIED:20260408T092619Z
UID:10055411-1776596400-1776607200@livemusicasheville.com
SUMMARY:Miss Dazey
DESCRIPTION:
URL:https://livemusicasheville.com/calendar/miss-dazey/2026-04-19/
LOCATION:Asheville Charcuterie Co.
CATEGORIES:Asheville Area,Live Music
END:VEVENT
BEGIN:VEVENT
DTSTART;TZID=America/New_York:20260419T110000
DTEND;TZID=America/New_York:20260420T020000
DTSTAMP:20260424T073651
CREATED:20241225T203202Z
LAST-MODIFIED:20260415T173939Z
UID:10055143-1776596400-1776650400@livemusicasheville.com
SUMMARY:Sunday Weekly DJ Events
DESCRIPTION:Bens Tune Up – 11am-3pm \nWaterstreet – 3-7pm \nLA Pizza Party Rooftop – 6-9pm \nVOWL – 7-11pm \nCheck with the venue for the DJ and cover charges.
URL:https://livemusicasheville.com/calendar/sunday-weekly-dj/2026-04-19/
LOCATION:Asheville Area
CATEGORIES:Asheville Area,DJ/Electronic
END:VEVENT
BEGIN:VEVENT
DTSTART;TZID=America/New_York:20260419T120000
DTEND;TZID=America/New_York:20260419T150000
DTSTAMP:20260424T073651
CREATED:20260125T153435Z
LAST-MODIFIED:20260125T153436Z
UID:10026483-1776600000-1776610800@livemusicasheville.com
SUMMARY:Bluegrass Brunch Is Back!!
DESCRIPTION:Y’ALL! The best dang BLUEGRASS BRUNCH in town is BACK AT JACK — with our own BLUEGRASS BRUNCH BOYS taking the stage at NOON! 🎻🍳 \nWhether you’re in the mood for a FRIED CHICKEN BISCUIT topped with our house-made blackberry jam or spicy SHRIMP & CHEDDAR GRITS with a side of collards or that perfect BURGER (beef OR veggie) with hand-cut pub fries\, you’ll find exactly what you’re craving at — and did we mention our brunch beverage specials from the bar? 🥂🍊 \nBrunch is served until 3pm (or until we run out!)\, with our pub fare menu starting immediately after. \nAnd to round out your SUNDAY FUNDAY\, our TRADITIONAL IRISH MUSIC SESSION starts at 3:30 — and goes until close! 🍺🍀\n \n\nJack Of The Wood still a downtown hot spot for food\, brews and drink since 1997 and founders Joan and Joe Eckert who still own it\, have maintained the original lively English and Irish vibe. The old-time mountain and Irish music jams continue\, including a hot bluegrass jam Thursdays and brunch every Sunday. The venue extends a welcoming feeling to regulars and newcomers to this day. https://jackofthewood.com/
URL:https://livemusicasheville.com/calendar/the-bluegrass-boys-2/2026-04-19/
LOCATION:Jack Of The Wood\, 95 Patton Ave\, asheville\, NC\, United States
CATEGORIES:Asheville Area,Live Music
ATTACH;FMTTYPE=image/jpeg:https://livemusicasheville.com/wp-content/uploads/2024/12/521057437_1508890810466928_6057889169935657981_n-e1754136196712.jpg
GEO:35.5944492;-82.5558221
X-APPLE-STRUCTURED-LOCATION;VALUE=URI;X-ADDRESS=Jack Of The Wood 95 Patton Ave asheville NC United States;X-APPLE-RADIUS=500;X-TITLE=95 Patton Ave:geo:-82.5558221,35.5944492
END:VEVENT
BEGIN:VEVENT
DTSTART;TZID=America/New_York:20260419T123000
DTEND;TZID=America/New_York:20260419T143000
DTSTAMP:20260424T073651
CREATED:20260411T170052Z
LAST-MODIFIED:20260411T170053Z
UID:10021165-1776601800-1776609000@livemusicasheville.com
SUMMARY:Adam Rose Jazz Duo
DESCRIPTION:
URL:https://livemusicasheville.com/calendar/adam-rose-jazz-duo-3/
LOCATION:Battery Park Book Exchange & Champagne Bar
CATEGORIES:Asheville Area,Live Music
GEO:35.5951042;-82.556633
END:VEVENT
BEGIN:VEVENT
DTSTART;TZID=America/New_York:20260419T123000
DTEND;TZID=America/New_York:20260419T153000
DTSTAMP:20260424T073651
CREATED:20260318T191948Z
LAST-MODIFIED:20260418T154543Z
UID:10049986-1776601800-1776612600@livemusicasheville.com
SUMMARY:io trio
DESCRIPTION:
URL:https://livemusicasheville.com/calendar/io-trio/
LOCATION:Riverside Rhapsody Brewing Woodfin
CATEGORIES:Asheville Area,Live Music
GEO:35.6253887;-82.5796059
END:VEVENT
BEGIN:VEVENT
DTSTART;TZID=America/New_York:20260419T130000
DTEND;TZID=America/New_York:20260419T150000
DTSTAMP:20260424T073651
CREATED:20250905T234707Z
LAST-MODIFIED:20260415T121041Z
UID:10020721-1776603600-1776610800@livemusicasheville.com
SUMMARY:The Grass Owls
DESCRIPTION:
URL:https://livemusicasheville.com/calendar/the-grass-owls-duo/
LOCATION:Sweeten Creek Brewing
CATEGORIES:Asheville Area,Live Music
GEO:35.5425588;-82.5221629
END:VEVENT
BEGIN:VEVENT
DTSTART;TZID=America/New_York:20260419T130000
DTEND;TZID=America/New_York:20260419T160000
DTSTAMP:20260424T073651
CREATED:20260311T110302Z
LAST-MODIFIED:20260415T102546Z
UID:10048842-1776603600-1776614400@livemusicasheville.com
SUMMARY:Celtic and Irish Tunes w/ Trippin’ Up the Stairs
DESCRIPTION:
URL:https://livemusicasheville.com/calendar/trippin-up-the-stairs-%f0%9f%8d%80/
LOCATION:Shamrock Irons Irish Pub\, 4 College St\, Asheville\, NC\, 28801\, United States
CATEGORIES:Asheville Area,Live Music
GEO:35.9844236;-80.0221361
X-APPLE-STRUCTURED-LOCATION;VALUE=URI;X-ADDRESS=Shamrock Irons Irish Pub 4 College St Asheville NC 28801 United States;X-APPLE-RADIUS=500;X-TITLE=4 College St:geo:-80.0221361,35.9844236
END:VEVENT
BEGIN:VEVENT
DTSTART;TZID=America/New_York:20260419T130000
DTEND;TZID=America/New_York:20260419T160000
DTSTAMP:20260424T073651
CREATED:20260415T131726Z
LAST-MODIFIED:20260415T131726Z
UID:10056832-1776603600-1776614400@livemusicasheville.com
SUMMARY:Abbey Winters
DESCRIPTION:
URL:https://livemusicasheville.com/calendar/abbey-winters/
LOCATION:Wicked Weed Funkatorium\, 147 Coxe Avenue\, Asheville\, NC\, 28801\, United States
CATEGORIES:Asheville Area,Live Music
GEO:35.5892462;-82.5552092
X-APPLE-STRUCTURED-LOCATION;VALUE=URI;X-ADDRESS=Wicked Weed Funkatorium 147 Coxe Avenue Asheville NC 28801 United States;X-APPLE-RADIUS=500;X-TITLE=147 Coxe Avenue:geo:-82.5552092,35.5892462
END:VEVENT
END:VCALENDAR