BEGIN:VCALENDAR
VERSION:2.0
PRODID:-//LiveMusicAsheville.com - ECPv6.15.20//NONSGML v1.0//EN
CALSCALE:GREGORIAN
METHOD:PUBLISH
X-WR-CALNAME:LiveMusicAsheville.com
X-ORIGINAL-URL:https://livemusicasheville.com
X-WR-CALDESC:Events for LiveMusicAsheville.com
REFRESH-INTERVAL;VALUE=DURATION:PT1H
X-Robots-Tag:noindex
X-PUBLISHED-TTL:PT1H
BEGIN:VTIMEZONE
TZID:America/New_York
BEGIN:DAYLIGHT
TZOFFSETFROM:-0500
TZOFFSETTO:-0400
TZNAME:EDT
DTSTART:20260308T070000
END:DAYLIGHT
BEGIN:STANDARD
TZOFFSETFROM:-0400
TZOFFSETTO:-0500
TZNAME:EST
DTSTART:20261101T060000
END:STANDARD
BEGIN:DAYLIGHT
TZOFFSETFROM:-0500
TZOFFSETTO:-0400
TZNAME:EDT
DTSTART:20270314T070000
END:DAYLIGHT
BEGIN:STANDARD
TZOFFSETFROM:-0400
TZOFFSETTO:-0500
TZNAME:EST
DTSTART:20271107T060000
END:STANDARD
BEGIN:DAYLIGHT
TZOFFSETFROM:-0500
TZOFFSETTO:-0400
TZNAME:EDT
DTSTART:20280312T070000
END:DAYLIGHT
BEGIN:STANDARD
TZOFFSETFROM:-0400
TZOFFSETTO:-0500
TZNAME:EST
DTSTART:20281105T060000
END:STANDARD
BEGIN:DAYLIGHT
TZOFFSETFROM:-0500
TZOFFSETTO:-0400
TZNAME:EDT
DTSTART:20290311T070000
END:DAYLIGHT
BEGIN:STANDARD
TZOFFSETFROM:-0400
TZOFFSETTO:-0500
TZNAME:EST
DTSTART:20291104T060000
END:STANDARD
END:VTIMEZONE
BEGIN:VEVENT
DTSTART;TZID=America/New_York:20270618T190000
DTEND;TZID=America/New_York:20270618T220000
DTSTAMP:20260422T114145
CREATED:20251113T101742Z
LAST-MODIFIED:20260327T002508Z
UID:10053050-1813345200-1813356000@livemusicasheville.com
SUMMARY:Blues with Mr Jimmy
DESCRIPTION:
URL:https://livemusicasheville.com/calendar/blues-with-mr-jimmy-2-2-2/2027-06-18/
LOCATION:The Station Black Mountain
CATEGORIES:Asheville Area,Black Mountain,Live Music
END:VEVENT
BEGIN:VEVENT
DTSTART;TZID=America/New_York:20270625T190000
DTEND;TZID=America/New_York:20270625T220000
DTSTAMP:20260422T114145
CREATED:20251113T101742Z
LAST-MODIFIED:20260327T002508Z
UID:10053051-1813950000-1813960800@livemusicasheville.com
SUMMARY:Blues with Mr Jimmy
DESCRIPTION:
URL:https://livemusicasheville.com/calendar/blues-with-mr-jimmy-2-2-2/2027-06-25/
LOCATION:The Station Black Mountain
CATEGORIES:Asheville Area,Black Mountain,Live Music
END:VEVENT
BEGIN:VEVENT
DTSTART;TZID=America/New_York:20270702T190000
DTEND;TZID=America/New_York:20270702T220000
DTSTAMP:20260422T114145
CREATED:20251113T101742Z
LAST-MODIFIED:20260327T002508Z
UID:10053052-1814554800-1814565600@livemusicasheville.com
SUMMARY:Blues with Mr Jimmy
DESCRIPTION:
URL:https://livemusicasheville.com/calendar/blues-with-mr-jimmy-2-2-2/2027-07-02/
LOCATION:The Station Black Mountain
CATEGORIES:Asheville Area,Black Mountain,Live Music
END:VEVENT
BEGIN:VEVENT
DTSTART;TZID=America/New_York:20270709T190000
DTEND;TZID=America/New_York:20270709T220000
DTSTAMP:20260422T114145
CREATED:20251113T101742Z
LAST-MODIFIED:20260327T002508Z
UID:10053053-1815159600-1815170400@livemusicasheville.com
SUMMARY:Blues with Mr Jimmy
DESCRIPTION:
URL:https://livemusicasheville.com/calendar/blues-with-mr-jimmy-2-2-2/2027-07-09/
LOCATION:The Station Black Mountain
CATEGORIES:Asheville Area,Black Mountain,Live Music
END:VEVENT
BEGIN:VEVENT
DTSTART;TZID=America/New_York:20270716T190000
DTEND;TZID=America/New_York:20270716T220000
DTSTAMP:20260422T114145
CREATED:20251113T101742Z
LAST-MODIFIED:20260327T002508Z
UID:10053054-1815764400-1815775200@livemusicasheville.com
SUMMARY:Blues with Mr Jimmy
DESCRIPTION:
URL:https://livemusicasheville.com/calendar/blues-with-mr-jimmy-2-2-2/2027-07-16/
LOCATION:The Station Black Mountain
CATEGORIES:Asheville Area,Black Mountain,Live Music
END:VEVENT
BEGIN:VEVENT
DTSTART;TZID=America/New_York:20270723T190000
DTEND;TZID=America/New_York:20270723T220000
DTSTAMP:20260422T114145
CREATED:20251113T101742Z
LAST-MODIFIED:20260327T002508Z
UID:10053055-1816369200-1816380000@livemusicasheville.com
SUMMARY:Blues with Mr Jimmy
DESCRIPTION:
URL:https://livemusicasheville.com/calendar/blues-with-mr-jimmy-2-2-2/2027-07-23/
LOCATION:The Station Black Mountain
CATEGORIES:Asheville Area,Black Mountain,Live Music
END:VEVENT
BEGIN:VEVENT
DTSTART;TZID=America/New_York:20270730T190000
DTEND;TZID=America/New_York:20270730T220000
DTSTAMP:20260422T114145
CREATED:20251113T101742Z
LAST-MODIFIED:20260327T002508Z
UID:10053056-1816974000-1816984800@livemusicasheville.com
SUMMARY:Blues with Mr Jimmy
DESCRIPTION:
URL:https://livemusicasheville.com/calendar/blues-with-mr-jimmy-2-2-2/2027-07-30/
LOCATION:The Station Black Mountain
CATEGORIES:Asheville Area,Black Mountain,Live Music
END:VEVENT
BEGIN:VEVENT
DTSTART;TZID=America/New_York:20270806T190000
DTEND;TZID=America/New_York:20270806T220000
DTSTAMP:20260422T114145
CREATED:20251113T101742Z
LAST-MODIFIED:20260327T002508Z
UID:10053057-1817578800-1817589600@livemusicasheville.com
SUMMARY:Blues with Mr Jimmy
DESCRIPTION:
URL:https://livemusicasheville.com/calendar/blues-with-mr-jimmy-2-2-2/2027-08-06/
LOCATION:The Station Black Mountain
CATEGORIES:Asheville Area,Black Mountain,Live Music
END:VEVENT
BEGIN:VEVENT
DTSTART;TZID=America/New_York:20270813T190000
DTEND;TZID=America/New_York:20270813T220000
DTSTAMP:20260422T114145
CREATED:20251113T101742Z
LAST-MODIFIED:20260327T002508Z
UID:10053058-1818183600-1818194400@livemusicasheville.com
SUMMARY:Blues with Mr Jimmy
DESCRIPTION:
URL:https://livemusicasheville.com/calendar/blues-with-mr-jimmy-2-2-2/2027-08-13/
LOCATION:The Station Black Mountain
CATEGORIES:Asheville Area,Black Mountain,Live Music
END:VEVENT
BEGIN:VEVENT
DTSTART;TZID=America/New_York:20270820T190000
DTEND;TZID=America/New_York:20270820T220000
DTSTAMP:20260422T114145
CREATED:20251113T101742Z
LAST-MODIFIED:20260327T002508Z
UID:10053059-1818788400-1818799200@livemusicasheville.com
SUMMARY:Blues with Mr Jimmy
DESCRIPTION:
URL:https://livemusicasheville.com/calendar/blues-with-mr-jimmy-2-2-2/2027-08-20/
LOCATION:The Station Black Mountain
CATEGORIES:Asheville Area,Black Mountain,Live Music
END:VEVENT
BEGIN:VEVENT
DTSTART;TZID=America/New_York:20270827T190000
DTEND;TZID=America/New_York:20270827T220000
DTSTAMP:20260422T114145
CREATED:20251113T101742Z
LAST-MODIFIED:20260327T002508Z
UID:10053060-1819393200-1819404000@livemusicasheville.com
SUMMARY:Blues with Mr Jimmy
DESCRIPTION:
URL:https://livemusicasheville.com/calendar/blues-with-mr-jimmy-2-2-2/2027-08-27/
LOCATION:The Station Black Mountain
CATEGORIES:Asheville Area,Black Mountain,Live Music
END:VEVENT
BEGIN:VEVENT
DTSTART;TZID=America/New_York:20270903T190000
DTEND;TZID=America/New_York:20270903T220000
DTSTAMP:20260422T114145
CREATED:20251113T101742Z
LAST-MODIFIED:20260327T002508Z
UID:10053061-1819998000-1820008800@livemusicasheville.com
SUMMARY:Blues with Mr Jimmy
DESCRIPTION:
URL:https://livemusicasheville.com/calendar/blues-with-mr-jimmy-2-2-2/2027-09-03/
LOCATION:The Station Black Mountain
CATEGORIES:Asheville Area,Black Mountain,Live Music
END:VEVENT
BEGIN:VEVENT
DTSTART;TZID=America/New_York:20270910T190000
DTEND;TZID=America/New_York:20270910T220000
DTSTAMP:20260422T114145
CREATED:20251113T101742Z
LAST-MODIFIED:20260327T002508Z
UID:10053062-1820602800-1820613600@livemusicasheville.com
SUMMARY:Blues with Mr Jimmy
DESCRIPTION:
URL:https://livemusicasheville.com/calendar/blues-with-mr-jimmy-2-2-2/2027-09-10/
LOCATION:The Station Black Mountain
CATEGORIES:Asheville Area,Black Mountain,Live Music
END:VEVENT
BEGIN:VEVENT
DTSTART;TZID=America/New_York:20270917T190000
DTEND;TZID=America/New_York:20270917T220000
DTSTAMP:20260422T114145
CREATED:20251113T101742Z
LAST-MODIFIED:20260327T002508Z
UID:10053063-1821207600-1821218400@livemusicasheville.com
SUMMARY:Blues with Mr Jimmy
DESCRIPTION:
URL:https://livemusicasheville.com/calendar/blues-with-mr-jimmy-2-2-2/2027-09-17/
LOCATION:The Station Black Mountain
CATEGORIES:Asheville Area,Black Mountain,Live Music
END:VEVENT
BEGIN:VEVENT
DTSTART;TZID=America/New_York:20270924T190000
DTEND;TZID=America/New_York:20270924T220000
DTSTAMP:20260422T114145
CREATED:20251113T101742Z
LAST-MODIFIED:20260327T002508Z
UID:10053064-1821812400-1821823200@livemusicasheville.com
SUMMARY:Blues with Mr Jimmy
DESCRIPTION:
URL:https://livemusicasheville.com/calendar/blues-with-mr-jimmy-2-2-2/2027-09-24/
LOCATION:The Station Black Mountain
CATEGORIES:Asheville Area,Black Mountain,Live Music
END:VEVENT
BEGIN:VEVENT
DTSTART;TZID=America/New_York:20271001T190000
DTEND;TZID=America/New_York:20271001T220000
DTSTAMP:20260422T114145
CREATED:20251113T101742Z
LAST-MODIFIED:20260327T002508Z
UID:10053065-1822417200-1822428000@livemusicasheville.com
SUMMARY:Blues with Mr Jimmy
DESCRIPTION:
URL:https://livemusicasheville.com/calendar/blues-with-mr-jimmy-2-2-2/2027-10-01/
LOCATION:The Station Black Mountain
CATEGORIES:Asheville Area,Black Mountain,Live Music
END:VEVENT
BEGIN:VEVENT
DTSTART;TZID=America/New_York:20271008T190000
DTEND;TZID=America/New_York:20271008T220000
DTSTAMP:20260422T114145
CREATED:20251113T101742Z
LAST-MODIFIED:20260327T002508Z
UID:10053066-1823022000-1823032800@livemusicasheville.com
SUMMARY:Blues with Mr Jimmy
DESCRIPTION:
URL:https://livemusicasheville.com/calendar/blues-with-mr-jimmy-2-2-2/2027-10-08/
LOCATION:The Station Black Mountain
CATEGORIES:Asheville Area,Black Mountain,Live Music
END:VEVENT
BEGIN:VEVENT
DTSTART;TZID=America/New_York:20271015T190000
DTEND;TZID=America/New_York:20271015T220000
DTSTAMP:20260422T114145
CREATED:20251113T101742Z
LAST-MODIFIED:20260327T002508Z
UID:10053067-1823626800-1823637600@livemusicasheville.com
SUMMARY:Blues with Mr Jimmy
DESCRIPTION:
URL:https://livemusicasheville.com/calendar/blues-with-mr-jimmy-2-2-2/2027-10-15/
LOCATION:The Station Black Mountain
CATEGORIES:Asheville Area,Black Mountain,Live Music
END:VEVENT
BEGIN:VEVENT
DTSTART;TZID=America/New_York:20271022T190000
DTEND;TZID=America/New_York:20271022T220000
DTSTAMP:20260422T114145
CREATED:20251113T101742Z
LAST-MODIFIED:20260327T002508Z
UID:10053068-1824231600-1824242400@livemusicasheville.com
SUMMARY:Blues with Mr Jimmy
DESCRIPTION:
URL:https://livemusicasheville.com/calendar/blues-with-mr-jimmy-2-2-2/2027-10-22/
LOCATION:The Station Black Mountain
CATEGORIES:Asheville Area,Black Mountain,Live Music
END:VEVENT
BEGIN:VEVENT
DTSTART;TZID=America/New_York:20271029T190000
DTEND;TZID=America/New_York:20271029T220000
DTSTAMP:20260422T114145
CREATED:20251113T101742Z
LAST-MODIFIED:20260327T002508Z
UID:10053069-1824836400-1824847200@livemusicasheville.com
SUMMARY:Blues with Mr Jimmy
DESCRIPTION:
URL:https://livemusicasheville.com/calendar/blues-with-mr-jimmy-2-2-2/2027-10-29/
LOCATION:The Station Black Mountain
CATEGORIES:Asheville Area,Black Mountain,Live Music
END:VEVENT
BEGIN:VEVENT
DTSTART;TZID=America/New_York:20271105T190000
DTEND;TZID=America/New_York:20271105T220000
DTSTAMP:20260422T114145
CREATED:20251113T101742Z
LAST-MODIFIED:20260327T002508Z
UID:10053070-1825441200-1825452000@livemusicasheville.com
SUMMARY:Blues with Mr Jimmy
DESCRIPTION:
URL:https://livemusicasheville.com/calendar/blues-with-mr-jimmy-2-2-2/2027-11-05/
LOCATION:The Station Black Mountain
CATEGORIES:Asheville Area,Black Mountain,Live Music
END:VEVENT
BEGIN:VEVENT
DTSTART;TZID=America/New_York:20271112T190000
DTEND;TZID=America/New_York:20271112T220000
DTSTAMP:20260422T114145
CREATED:20251113T101742Z
LAST-MODIFIED:20260327T002508Z
UID:10053071-1826046000-1826056800@livemusicasheville.com
SUMMARY:Blues with Mr Jimmy
DESCRIPTION:
URL:https://livemusicasheville.com/calendar/blues-with-mr-jimmy-2-2-2/2027-11-12/
LOCATION:The Station Black Mountain
CATEGORIES:Asheville Area,Black Mountain,Live Music
END:VEVENT
BEGIN:VEVENT
DTSTART;TZID=America/New_York:20271119T190000
DTEND;TZID=America/New_York:20271119T220000
DTSTAMP:20260422T114145
CREATED:20251113T101742Z
LAST-MODIFIED:20260327T002508Z
UID:10053072-1826650800-1826661600@livemusicasheville.com
SUMMARY:Blues with Mr Jimmy
DESCRIPTION:
URL:https://livemusicasheville.com/calendar/blues-with-mr-jimmy-2-2-2/2027-11-19/
LOCATION:The Station Black Mountain
CATEGORIES:Asheville Area,Black Mountain,Live Music
END:VEVENT
BEGIN:VEVENT
DTSTART;TZID=America/New_York:20271126T190000
DTEND;TZID=America/New_York:20271126T220000
DTSTAMP:20260422T114145
CREATED:20251113T101742Z
LAST-MODIFIED:20260327T002508Z
UID:10053073-1827255600-1827266400@livemusicasheville.com
SUMMARY:Blues with Mr Jimmy
DESCRIPTION:
URL:https://livemusicasheville.com/calendar/blues-with-mr-jimmy-2-2-2/2027-11-26/
LOCATION:The Station Black Mountain
CATEGORIES:Asheville Area,Black Mountain,Live Music
END:VEVENT
BEGIN:VEVENT
DTSTART;TZID=America/New_York:20271203T190000
DTEND;TZID=America/New_York:20271203T220000
DTSTAMP:20260422T114145
CREATED:20251113T101742Z
LAST-MODIFIED:20260327T002508Z
UID:10053074-1827860400-1827871200@livemusicasheville.com
SUMMARY:Blues with Mr Jimmy
DESCRIPTION:
URL:https://livemusicasheville.com/calendar/blues-with-mr-jimmy-2-2-2/2027-12-03/
LOCATION:The Station Black Mountain
CATEGORIES:Asheville Area,Black Mountain,Live Music
END:VEVENT
BEGIN:VEVENT
DTSTART;TZID=America/New_York:20271210T190000
DTEND;TZID=America/New_York:20271210T220000
DTSTAMP:20260422T114145
CREATED:20251113T101742Z
LAST-MODIFIED:20260327T002508Z
UID:10053075-1828465200-1828476000@livemusicasheville.com
SUMMARY:Blues with Mr Jimmy
DESCRIPTION:
URL:https://livemusicasheville.com/calendar/blues-with-mr-jimmy-2-2-2/2027-12-10/
LOCATION:The Station Black Mountain
CATEGORIES:Asheville Area,Black Mountain,Live Music
END:VEVENT
BEGIN:VEVENT
DTSTART;TZID=America/New_York:20271217T190000
DTEND;TZID=America/New_York:20271217T220000
DTSTAMP:20260422T114145
CREATED:20251113T101742Z
LAST-MODIFIED:20260327T002508Z
UID:10053076-1829070000-1829080800@livemusicasheville.com
SUMMARY:Blues with Mr Jimmy
DESCRIPTION:
URL:https://livemusicasheville.com/calendar/blues-with-mr-jimmy-2-2-2/2027-12-17/
LOCATION:The Station Black Mountain
CATEGORIES:Asheville Area,Black Mountain,Live Music
END:VEVENT
BEGIN:VEVENT
DTSTART;TZID=America/New_York:20271224T190000
DTEND;TZID=America/New_York:20271224T220000
DTSTAMP:20260422T114145
CREATED:20251113T101742Z
LAST-MODIFIED:20260327T002508Z
UID:10053077-1829674800-1829685600@livemusicasheville.com
SUMMARY:Blues with Mr Jimmy
DESCRIPTION:
URL:https://livemusicasheville.com/calendar/blues-with-mr-jimmy-2-2-2/2027-12-24/
LOCATION:The Station Black Mountain
CATEGORIES:Asheville Area,Black Mountain,Live Music
END:VEVENT
BEGIN:VEVENT
DTSTART;TZID=America/New_York:20271231T190000
DTEND;TZID=America/New_York:20271231T220000
DTSTAMP:20260422T114145
CREATED:20251113T101742Z
LAST-MODIFIED:20260327T002508Z
UID:10053078-1830279600-1830290400@livemusicasheville.com
SUMMARY:Blues with Mr Jimmy
DESCRIPTION:
URL:https://livemusicasheville.com/calendar/blues-with-mr-jimmy-2-2-2/2027-12-31/
LOCATION:The Station Black Mountain
CATEGORIES:Asheville Area,Black Mountain,Live Music
END:VEVENT
BEGIN:VEVENT
DTSTART;TZID=America/New_York:20280107T190000
DTEND;TZID=America/New_York:20280107T220000
DTSTAMP:20260422T114145
CREATED:20251113T101742Z
LAST-MODIFIED:20260327T002508Z
UID:10053079-1830884400-1830895200@livemusicasheville.com
SUMMARY:Blues with Mr Jimmy
DESCRIPTION:
URL:https://livemusicasheville.com/calendar/blues-with-mr-jimmy-2-2-2/2028-01-07/
LOCATION:The Station Black Mountain
CATEGORIES:Asheville Area,Black Mountain,Live Music
END:VEVENT
END:VCALENDAR