BEGIN:VCALENDAR
VERSION:2.0
PRODID:-//LiveMusicAsheville.com - ECPv6.15.20//NONSGML v1.0//EN
CALSCALE:GREGORIAN
METHOD:PUBLISH
X-ORIGINAL-URL:https://livemusicasheville.com
X-WR-CALDESC:Events for LiveMusicAsheville.com
REFRESH-INTERVAL;VALUE=DURATION:PT1H
X-Robots-Tag:noindex
X-PUBLISHED-TTL:PT1H
BEGIN:VTIMEZONE
TZID:America/New_York
BEGIN:DAYLIGHT
TZOFFSETFROM:-0500
TZOFFSETTO:-0400
TZNAME:EDT
DTSTART:20250309T070000
END:DAYLIGHT
BEGIN:STANDARD
TZOFFSETFROM:-0400
TZOFFSETTO:-0500
TZNAME:EST
DTSTART:20251102T060000
END:STANDARD
BEGIN:DAYLIGHT
TZOFFSETFROM:-0500
TZOFFSETTO:-0400
TZNAME:EDT
DTSTART:20260308T070000
END:DAYLIGHT
BEGIN:STANDARD
TZOFFSETFROM:-0400
TZOFFSETTO:-0500
TZNAME:EST
DTSTART:20261101T060000
END:STANDARD
BEGIN:DAYLIGHT
TZOFFSETFROM:-0500
TZOFFSETTO:-0400
TZNAME:EDT
DTSTART:20270314T070000
END:DAYLIGHT
BEGIN:STANDARD
TZOFFSETFROM:-0400
TZOFFSETTO:-0500
TZNAME:EST
DTSTART:20271107T060000
END:STANDARD
END:VTIMEZONE
BEGIN:VEVENT
DTSTART;VALUE=DATE:20260308
DTEND;VALUE=DATE:20260310
DTSTAMP:20260424T162204
CREATED:20260305T202118Z
LAST-MODIFIED:20260305T202248Z
UID:10048555-1772938800-1773025199@livemusicasheville.com
SUMMARY:COMING MAY 1st | Electro Lust w/ Magenta Sunshine
DESCRIPTION:Friday\, May 1 | 7:00PM Doors | 8:00PM Show | 20+ advance Event Details and Tickets \nOpener Magenta Sunshine encompasses a wide stratum of Asheville\, NC-based musicians and artists.  The group has gained popularity for high-energy live performances and is known for incorporating elements of rock\, jazz\, and world music into through-composed compositions.  Described as\, “electrifying and elegant”. magentasunshine.com \nLater\, Step into the soundwaves of Electro Lust\, and suddenly you’re whisked away\, careening from the neon-lit confines of a Miami nightclub\, drifting to the sun-soaked sands of a Brazilian beach\, and finally landing amidst the vibrant chaos of Cuban streets. All the while\, the soundtrack to this journey is an eclectic hip-hop mix tape\, a melodic manifesto that defies convention and invites you to lose yourself in the raw energy of the Electro Lust experience. Strap in and let the music guide you through this electrifying tapestry of sound and sensation. \nAt the core of Electro Lust beats the hearts of Grammy Award-winning artists from Asheville\, NC’s musical scene – Members of Yo Mama’s Big Fat Booty Band\, The Fritz\, Empire Strikes Brass\, & Marcus King Band. Their odyssey into the realms of Funk\, Latin\, Cuban\, and Afrobeat reads like a musical adventure\, spawned from encounters with diverse cultures while on the road and under the influence of vinyl treasures unearthed in record shops scattered across the nation. electrolustmusic.com \nRevival is located right in the heart of downtown Asheville’s vibrant South Slope Brewery District. You’ll find us just around the corner from local favorites like Hi-Wire Brewing and Ben’s Tune-Up.
URL:https://livemusicasheville.com/calendar/coming-may-1st-electro-lust-w-magenta-sunshine/
LOCATION:Revival\, 66 Asheland Avenue\, Asheville\, NC\, 28801\, United States
CATEGORIES:Asheville Area,Live Music
ATTACH;FMTTYPE=image/jpeg:https://livemusicasheville.com/wp-content/uploads/2026/03/646789692_122155756064956711_7659081748932341628_n-e1772741315822.jpg
GEO:35.5917821;-82.555861
X-APPLE-STRUCTURED-LOCATION;VALUE=URI;X-ADDRESS=Revival 66 Asheland Avenue Asheville NC 28801 United States;X-APPLE-RADIUS=500;X-TITLE=66 Asheland Avenue:geo:-82.555861,35.5917821
END:VEVENT
BEGIN:VEVENT
DTSTART;VALUE=DATE:20260308
DTEND;VALUE=DATE:20260310
DTSTAMP:20260424T162204
CREATED:20260115T155437Z
LAST-MODIFIED:20260416T121636Z
UID:10038419-1772938800-1773025199@livemusicasheville.com
SUMMARY:Support Your Local Music Calendar
DESCRIPTION:We hope you enjoy our guide to the Asheville area’s dynamic music scene. \nIf we somehow help to brighten up your day\, please consider a small donation to help support our efforts in providing the area’s most complete local live music calendar. \nVenmo: click here  \nLast 4 digits – 3383 \nPayPal: click here \n \n 
URL:https://livemusicasheville.com/calendar/support-your-local-music-calendar-2-2/2026-03-08/
CATEGORIES:Asheville Area
END:VEVENT
BEGIN:VEVENT
DTSTART;VALUE=DATE:20260308
DTEND;VALUE=DATE:20260310
DTSTAMP:20260424T162204
CREATED:20260127T162323Z
LAST-MODIFIED:20260420T011548Z
UID:10057844-1772938800-1773025199@livemusicasheville.com
SUMMARY:COMING SATURDAY April 25 | Pisgah Palooza 2026 - (21 Years of Pisgah Brewing)
DESCRIPTION:Saturday April 25\, 2026 6:00 PM | Doors Open: 5:00 PM | Advance Tickets are on sale now – 2 for $21! Event Details and Tickets\nJoin us on April 25th to celebrate 21 years of Pisgah Brewing with Sqwerv\, Airshow and Pocketful of Gold.\n\nDenver’s electrifying Indie-Jam Band\, Sqwerv is a nationally touring quartet that brings elements of classic rock\, psychedelic music\, funk\, and jam fusion for an experience like no other. The band explores rich sonic realms with a depth of improvisational virtuosity. Their passion for well crafted songs and blended harmonies set this group apart in their scene. The band released 2 full length studio albums in 2024\, ‘Mirage’ and ‘Hors d’Oeuvres’ and has a new full length record on the way in 2025. They have opened for acts such as George Clinton and Parliament Funkadelic\, Pigeons Playing Ping Pong\, Eggy\, Big Something\, Spafford and many more.\n–\nAirshow is a high-flying\, Nashville-based jam band featuring a unique contrast of familiar acoustic and mind-bending electric sounds that transports listeners from a campfire picking-party to the outer reaches of the multiverse. Formed by longtime friends Cody Chelius (Mandolin / Vocals) and Steve Gallagher (Guitar / Vocals)\, the group’s lineup was completed with the addition of Bill Baker (Bass/ Vocals) and John Rodrigue (Drums/ Vocals) in 2016. While each member has different musical influences\, it is their shared passion for exploring uncharted sonic territories that has propelled their ascension to the top of Nashville’s jamband scene— and they won’t be landing anytime soon.\n–\nPocketful of Gold\, Asheville’s newest Led Zeppelin Experience\, makes their debut on Pisgah’s Outdoor Stage! Featuring Hannah Ramsey\, Alex Bazemore\, Jackson Chisholm\, and Zach Jones\, these frizzy-haired folk bring their love of Led Zeppelin together to offer a musical experience that both honors their iconic sound and showcases the inspiration that it’s had on each member’s personal musicianship.\n  \nFounded in 2005\, Pisgah is known for producing some of the most sought after craft ales in Western North Carolina. Pisgah Brewing Company currently operates the new indoor taproom & deli\, with live music several days a week\, plus an open air outdoor bar in the summer and fall months. Check out our upcoming schedule at pisgahbrewing.com/events
URL:https://livemusicasheville.com/calendar/pisgah-palooza-2026/2026-03-08/
LOCATION:Pisgah Brewing Company Black Mountain\, 2948 US-70\, Black Mountain\, NC\, 28711
CATEGORIES:Asheville Area,Black Mountain,Live Music
ATTACH;FMTTYPE=image/jpeg:https://livemusicasheville.com/wp-content/uploads/2026/01/617704239_1358962522924587_2721723407800321272_n-e1769530924423.jpg
GEO:35.6068069;-82.3568213
X-APPLE-STRUCTURED-LOCATION;VALUE=URI;X-ADDRESS=Pisgah Brewing Company Black Mountain 2948 US-70 Black Mountain NC 28711;X-APPLE-RADIUS=500;X-TITLE=2948 US-70:geo:-82.3568213,35.6068069
END:VEVENT
BEGIN:VEVENT
DTSTART;TZID=America/New_York:20260308T110000
DTEND;TZID=America/New_York:20260309T020000
DTSTAMP:20260424T162204
CREATED:20241225T203202Z
LAST-MODIFIED:20260415T173939Z
UID:10055137-1772967600-1773021600@livemusicasheville.com
SUMMARY:Sunday Weekly DJ Events
DESCRIPTION:Bens Tune Up – 11am-3pm \nWaterstreet – 3-7pm \nLA Pizza Party Rooftop – 6-9pm \nVOWL – 7-11pm \nCheck with the venue for the DJ and cover charges.
URL:https://livemusicasheville.com/calendar/sunday-weekly-dj/2026-03-08/
LOCATION:Asheville Area
CATEGORIES:Asheville Area,DJ/Electronic
END:VEVENT
BEGIN:VEVENT
DTSTART;TZID=America/New_York:20260308T160000
DTEND;TZID=America/New_York:20260309T020000
DTSTAMP:20260424T162204
CREATED:20260125T153955Z
LAST-MODIFIED:20260412T125122Z
UID:10026764-1772985600-1773021600@livemusicasheville.com
SUMMARY:Sunday Karaoke
DESCRIPTION:T Birds Weaverville – 4-8pm \nStatic Age Loft – 6-9pm (April 12) \nEda’s Hideaway Weaverville – 7-10pm \nBanks Ave – 9pm-12am \nThe Social East Asheville – 9pm-12am (exclude Feb 8) \nThe Double Crown – 10pm-2am \nPlease verify with the venue on times and KJ. \n 
URL:https://livemusicasheville.com/calendar/sunday-karaoke-2/2026-03-08/
LOCATION:Asheville Area
CATEGORIES:Asheville Area,Black Mountain,Karaoke,South Asheville/Arden/Fletcher,Weaverville
END:VEVENT
BEGIN:VEVENT
DTSTART;TZID=America/New_York:20260308T200000
DTEND;TZID=America/New_York:20260309T020000
DTSTAMP:20260424T162204
CREATED:20260208T155221Z
LAST-MODIFIED:20260208T155221Z
UID:10043604-1773000000-1773021600@livemusicasheville.com
SUMMARY:All Request Piano Show
DESCRIPTION:
URL:https://livemusicasheville.com/calendar/all-request-piano-show-2/2026-03-08/
LOCATION:Off the Wagon
CATEGORIES:Asheville Area,Live Music
GEO:41.4302231;-81.3909542
END:VEVENT
BEGIN:VEVENT
DTSTART;VALUE=DATE:20260309
DTEND;VALUE=DATE:20260311
DTSTAMP:20260424T162204
CREATED:20260115T155240Z
LAST-MODIFIED:20260423T154010Z
UID:10057537-1773025200-1773111599@livemusicasheville.com
SUMMARY:Love What We Do .......... Buy Us A Beer!
DESCRIPTION:We hope you enjoy our guide to the Asheville area’s dynamic music scene. \nIf we somehow help to brighten up your day\, please consider a small donation to help support our efforts in providing the area’s most reliable local live music calendar. \nVenmo: click here  \nLast 4 digits – 3383 \nPayPal: click here \n 
URL:https://livemusicasheville.com/calendar/greetings-fellow-music-lovers-2-2/2026-03-09/
LOCATION:Asheville Area
CATEGORIES:Asheville Area
ATTACH;FMTTYPE=image/jpeg:https://livemusicasheville.com/wp-content/uploads/2019/01/alcohol-alcoholic-beverages-beer-1624263-e1776958791382.jpg
END:VEVENT
BEGIN:VEVENT
DTSTART;TZID=America/New_York:20260309T170000
DTEND;TZID=America/New_York:20260309T223000
DTSTAMP:20260424T162204
CREATED:20251216T174756Z
LAST-MODIFIED:20260321T173633Z
UID:10030206-1773075600-1773095400@livemusicasheville.com
SUMMARY:Monday Open Mics/Jams
DESCRIPTION:Musicians In The Round @Urban Orchard South Slope – 6-8:30pm (5:30 sign up) (exclude 2/2) \nOld Time Jam @Dirty Jack’s – 5:30-9pm \nJazz/Blues Jam @ Zillacoah Brewing – 6-8pm \nBlue Mountain Pizza Weaverville – 6-9pm (last Thursday of the month excluding December) \nMarshall Bluegrass Jam @ Mals’ Bar – 6:30-9pm \nHaywood Country Club – 7-10:30pm  \nOne World Brewing Downtown – 7:30-10:30pm \n  \n  \n\n 
URL:https://livemusicasheville.com/calendar/monday-open-mics-jams-2-2/2026-03-09/
LOCATION:Asheville Area
CATEGORIES:Asheville Area,Open MIc/Jam
END:VEVENT
BEGIN:VEVENT
DTSTART;TZID=America/New_York:20260309T180000
DTEND;TZID=America/New_York:20260309T200000
DTSTAMP:20260424T162204
CREATED:20250619T125407Z
LAST-MODIFIED:20260308T203527Z
UID:10048586-1773079200-1773086400@livemusicasheville.com
SUMMARY:Aaron "Woody" Wood
DESCRIPTION:
URL:https://livemusicasheville.com/calendar/aaron-woody-wood-2/2026-03-09/
LOCATION:The Grey Eagle\, 185 Clingman Ave\, Asheville\, NC\, United States
CATEGORIES:Asheville Area,Live Music
GEO:35.5870871;-82.5643936
X-APPLE-STRUCTURED-LOCATION;VALUE=URI;X-ADDRESS=The Grey Eagle 185 Clingman Ave Asheville NC United States;X-APPLE-RADIUS=500;X-TITLE=185 Clingman Ave:geo:-82.5643936,35.5870871
END:VEVENT
BEGIN:VEVENT
DTSTART;TZID=America/New_York:20260309T180000
DTEND;TZID=America/New_York:20260310T020000
DTSTAMP:20260424T162204
CREATED:20241226T132023Z
LAST-MODIFIED:20260308T081314Z
UID:10027624-1773079200-1773108000@livemusicasheville.com
SUMMARY:Monday Weekly DJs
DESCRIPTION:Although we are primarily a Live Music Calendar\, we often come across Electronic & DJ events in the area and list them for you as we find out about them. Please verify the DJ\, times and cover charges with the venue. \nAntidote – 6-9pm \nCoffee Art Music Type Place (CAMP) – 7-9pm (swing) \nLazy Diamond- 10pm-2am \nCheck with the venue on tonight’s djs and cover charges.
URL:https://livemusicasheville.com/calendar/monday-djs/2026-03-09/
LOCATION:Asheville Area
CATEGORIES:Asheville Area,DJ/Electronic
END:VEVENT
BEGIN:VEVENT
DTSTART;TZID=America/New_York:20260309T190000
DTEND;TZID=America/New_York:20260309T210000
DTSTAMP:20260424T162204
CREATED:20250702T121700Z
LAST-MODIFIED:20260304T145213Z
UID:10028517-1773082800-1773090000@livemusicasheville.com
SUMMARY:Blues with Mr Jimmy & Friends
DESCRIPTION:
URL:https://livemusicasheville.com/calendar/blues-with-mr-jimmy-friends-2/2026-03-09/
LOCATION:The Joint Next Door Fairview
CATEGORIES:Asheville Area,Fairview,Live Music
GEO:35.5251372;-82.424797
END:VEVENT
BEGIN:VEVENT
DTSTART;TZID=America/New_York:20260309T190000
DTEND;TZID=America/New_York:20260309T210000
DTSTAMP:20260424T162204
CREATED:20250807T190224Z
LAST-MODIFIED:20260305T164125Z
UID:10018684-1773082800-1773090000@livemusicasheville.com
SUMMARY:Americana Swing Grass w/ 81 Drifters
DESCRIPTION:
URL:https://livemusicasheville.com/calendar/americana-swing-grass-w-81-drifters-2/
LOCATION:5 Walnut Wine Bar
CATEGORIES:Asheville Area,Live Music
GEO:35.596654;-82.5525389
END:VEVENT
BEGIN:VEVENT
DTSTART;TZID=America/New_York:20260309T190000
DTEND;TZID=America/New_York:20260309T210000
DTSTAMP:20260424T162204
CREATED:20260114T135944Z
LAST-MODIFIED:20260308T082221Z
UID:10035872-1773082800-1773090000@livemusicasheville.com
SUMMARY:SOLD OUT | ALT ASO (Asheville Symphony Orchestra)
DESCRIPTION:Get ready for an unforgettable night of country and folk favorites as vocalist Emily Redden joins the Asheville Symphony’s genre-bending series. \nFrom classic hits from Dolly Parton\, Patsy Cline\, and Johnny Cash to the timeless I’ll Fly Away\,  to modern anthems and more\, you’ll hear a celebration of country and folk music reimagined through the rich\, intimate sound of a chamber orchestra. \nEvent Details and Tickets
URL:https://livemusicasheville.com/calendar/alt-aso-asheville-symphony-orchestra/
LOCATION:The Orange Peel
CATEGORIES:Asheville Area,Live Music
GEO:35.5914061;-82.5510137
END:VEVENT
BEGIN:VEVENT
DTSTART;TZID=America/New_York:20260309T190000
DTEND;TZID=America/New_York:20260309T210000
DTSTAMP:20260424T162204
CREATED:20260126T214751Z
LAST-MODIFIED:20260418T133814Z
UID:10029736-1773082800-1773090000@livemusicasheville.com
SUMMARY:Music Mondays with host Ashley Heath
DESCRIPTION:  \n\n\n\n\n\n\n\n\n\n\n\n\n\n\n\n\n\n\n\n\n\n\n\n\nCheck with the venue on Ashley’s future guests.
URL:https://livemusicasheville.com/calendar/ashley-heath-mondays-2-2-2-2-2-2-2/2026-03-09/
LOCATION:Town Pump Tavern Black Mountain
CATEGORIES:Asheville Area,Black Mountain,Live Music
GEO:35.6162458;-82.320259
END:VEVENT
BEGIN:VEVENT
DTSTART;TZID=America/New_York:20260309T190000
DTEND;TZID=America/New_York:20260309T220000
DTSTAMP:20260424T162204
CREATED:20260223T193302Z
LAST-MODIFIED:20260223T193303Z
UID:10026821-1773082800-1773093600@livemusicasheville.com
SUMMARY:Asheville Monday Night Contra Dance
DESCRIPTION:
URL:https://livemusicasheville.com/calendar/asheville-monday-night-contra-dance-2-2-2/2026-03-09/
LOCATION:The Ivy Building at AB Tech
CATEGORIES:Asheville Area,Live Music
GEO:35.6104607;-82.5676894
END:VEVENT
BEGIN:VEVENT
DTSTART;TZID=America/New_York:20260309T190000
DTEND;TZID=America/New_York:20260310T020000
DTSTAMP:20260424T162204
CREATED:20241226T131635Z
LAST-MODIFIED:20260309T201711Z
UID:10024695-1773082800-1773108000@livemusicasheville.com
SUMMARY:Monday Karaoke
DESCRIPTION:The Social East Asheville – 7-11pm \nBen’s TuneUp – 7-10pm \nEda’a Hideaway Weaverville – 7-10pm \nIce Bar Arden – 8-11pm (March 2) \n27 Club – 9pm-2am \nFleetwood’s – 9pm-12am (7pm start on 2/2) \nDaytrip – 9pm – (verify with the venue) \nThe Double Crown – Country Karaoke- 10pm-2am \nBe sure to check times and KJ with the venue. \n 
URL:https://livemusicasheville.com/calendar/monday-karaoke/2026-03-09/
CATEGORIES:Asheville Area,Karaoke
END:VEVENT
BEGIN:VEVENT
DTSTART;TZID=America/New_York:20260309T193000
DTEND;TZID=America/New_York:20260309T213000
DTSTAMP:20260424T162204
CREATED:20260304T140516Z
LAST-MODIFIED:20260304T140516Z
UID:10047746-1773084600-1773091800@livemusicasheville.com
SUMMARY:Carolina Celtic with Glencoe
DESCRIPTION:
URL:https://livemusicasheville.com/calendar/carolina-celtic-with-glencoe/
LOCATION:White Horse at The Monte Vista Black Mountain
CATEGORIES:Asheville Area,Black Mountain,Live Music
END:VEVENT
BEGIN:VEVENT
DTSTART;TZID=America/New_York:20260309T200000
DTEND;TZID=America/New_York:20260309T233000
DTSTAMP:20260424T162204
CREATED:20260304T193355Z
LAST-MODIFIED:20260304T193355Z
UID:10048526-1773086400-1773099000@livemusicasheville.com
SUMMARY:Artikal Sound System w/ SensaMotion & Tobyraps
DESCRIPTION:
URL:https://livemusicasheville.com/calendar/artikal-sound-system-w-sensamotion-tobyraps/
LOCATION:Eulogy\, 10 Buxton Ave\, Asheville\, NC\, 28801
CATEGORIES:Asheville Area,Live Music
GEO:35.5883468;-82.5539256
X-APPLE-STRUCTURED-LOCATION;VALUE=URI;X-ADDRESS=Eulogy 10 Buxton Ave Asheville NC 28801;X-APPLE-RADIUS=500;X-TITLE=10 Buxton Ave:geo:-82.5539256,35.5883468
END:VEVENT
BEGIN:VEVENT
DTSTART;TZID=America/New_York:20260309T203000
DTEND;TZID=America/New_York:20260309T233000
DTSTAMP:20260424T162204
CREATED:20260304T185422Z
LAST-MODIFIED:20260304T185422Z
UID:10048518-1773088200-1773099000@livemusicasheville.com
SUMMARY:Generifus / Ben Asbury / Minorcan
DESCRIPTION:
URL:https://livemusicasheville.com/calendar/generifus-ben-asbury-minorcan/
LOCATION:Static Age Records
CATEGORIES:Asheville Area,Live Music
GEO:35.5985631;-82.5538043
END:VEVENT
BEGIN:VEVENT
DTSTART;TZID=America/New_York:20260310T153000
DTEND;TZID=America/New_York:20260310T233000
DTSTAMP:20260424T162204
CREATED:20241226T154009Z
LAST-MODIFIED:20260421T161506Z
UID:10027675-1773156600-1773185400@livemusicasheville.com
SUMMARY:Tuesday Open Mics/Jams
DESCRIPTION:Irish Session @ Diatribe Brewing – 4-6pm \nModerate Old Time Jam @ Cork & Keg – 5-6:30pm (1st & 3rd Tuesdays) \nNoble Cider – 5-8pm \nAcoustic Jam @ Turgua Brewing Fairview – 5:30-7pm (1st Tuesday-Old Time\, 2nd Tuesday-Irish Session\, 3rd Tuesday-Americana\, 4th Tuesday-Gypsy Jazz) (December 30-Irish Session) \nOpen Mic with Mike & Pat @ Sweeten Creek Brewing – 6-8:30pm (open bluegrass jam Feb 10) \nBluegrass Jam with Alex Bazemore @ Eda’s Hideaway Weaverville – 6:30-10pm \nScratch Ankle Fillin’ Station Candler – 7-9pm \nBeans & Tunes Old Time Jam w/ Banjo Mitch @Mals Bar Marshall – 7-9pm \nMudpuppies – 7-10pm \nEarly Tuesday Jam @ The One Stop – 7-10pm  \nOpen Mic w/Hamza @ The Social East Asheville – 7-11pm \nThe Open Jam with The Lactones @ Sovereign Kava – 8-11pm  \nWeaverville Open Mic @ Vintage Kava Weaverville – 9-11:30pm \n\n 
URL:https://livemusicasheville.com/calendar/tuesday-open-mics-jams/2026-03-10/
LOCATION:Asheville Area
CATEGORIES:Asheville Area,Black Mountain,Fairview,Open MIc/Jam,Weaverville
ATTACH;FMTTYPE=image/jpeg:https://livemusicasheville.com/wp-content/uploads/2024/12/IMG_9400-e1743027161179.jpeg
END:VEVENT
BEGIN:VEVENT
DTSTART;TZID=America/New_York:20260310T170000
DTEND;TZID=America/New_York:20260310T190000
DTSTAMP:20260424T162204
CREATED:20260305T223943Z
LAST-MODIFIED:20260305T223943Z
UID:10048560-1773162000-1773169200@livemusicasheville.com
SUMMARY:Steve Silver
DESCRIPTION:
URL:https://livemusicasheville.com/calendar/steve-silver/
LOCATION:Wheelhouse South Slope
CATEGORIES:Asheville Area,Live Music
END:VEVENT
BEGIN:VEVENT
DTSTART;TZID=America/New_York:20260310T170000
DTEND;TZID=America/New_York:20260311T010000
DTSTAMP:20260424T162204
CREATED:20250114T165902Z
LAST-MODIFIED:20260422T152410Z
UID:10052377-1773162000-1773190800@livemusicasheville.com
SUMMARY:Tuesday Karaoke
DESCRIPTION:Sierra Nevada Mills River – 5-9pm (April 28) \nWild Wing Cafe – 8-11pm \nThe One Stop – 10pm-1am \n 
URL:https://livemusicasheville.com/calendar/tuesday-karaoke/2026-03-10/
LOCATION:Asheville Area
CATEGORIES:Asheville Area,Karaoke
END:VEVENT
BEGIN:VEVENT
DTSTART;TZID=America/New_York:20260310T180000
DTEND;TZID=America/New_York:20260310T200000
DTSTAMP:20260424T162204
CREATED:20250514T002154Z
LAST-MODIFIED:20260303T191954Z
UID:10047728-1773165600-1773172800@livemusicasheville.com
SUMMARY:Molly Rose Reed
DESCRIPTION:
URL:https://livemusicasheville.com/calendar/molly-rose-reed/2026-03-10/
LOCATION:Moxy Asheville\, 61 Biltmore Avenue\, Asheville\, NC
CATEGORIES:Asheville Area,Live Music
GEO:35.5927169;-82.5514897
X-APPLE-STRUCTURED-LOCATION;VALUE=URI;X-ADDRESS=Moxy Asheville 61 Biltmore Avenue Asheville NC;X-APPLE-RADIUS=500;X-TITLE=61 Biltmore Avenue:geo:-82.5514897,35.5927169
END:VEVENT
BEGIN:VEVENT
DTSTART;TZID=America/New_York:20260310T180000
DTEND;TZID=America/New_York:20260310T200000
DTSTAMP:20260424T162204
CREATED:20260224T214051Z
LAST-MODIFIED:20260224T214053Z
UID:10015936-1773165600-1773172800@livemusicasheville.com
SUMMARY:Tuesdays w/ Ashley Heath
DESCRIPTION:
URL:https://livemusicasheville.com/calendar/ashley-heath-7-2-2/2026-03-10/
LOCATION:The Bush Farmhouse Black Mountain
CATEGORIES:Asheville Area,Black Mountain,Live Music
GEO:35.6171865;-82.3170606
END:VEVENT
BEGIN:VEVENT
DTSTART;TZID=America/New_York:20260310T180000
DTEND;TZID=America/New_York:20260310T200000
DTSTAMP:20260424T162204
CREATED:20260304T182634Z
LAST-MODIFIED:20260304T182634Z
UID:10048254-1773165600-1773172800@livemusicasheville.com
SUMMARY:Black Mountain Bluegrass Jam "unplugged"
DESCRIPTION:Pisgah Brewing’s unplugged bluegrass jam is hosted on Tuesdays at 6pm in the taproom. Bring your instruments and join in. It’ll be held on the patio on nicer days.\nAll levels welcome.\n\n\nFounded in 2005\, Pisgah is known for producing some of the most sought after craft ales in Western North Carolina. Pisgah Brewing Company currently operates the new indoor taproom & deli\, with live music several days a week\, plus an open air outdoor bar in the summer and fall months. Check out our upcoming schedule at pisgahbrewing.com/events
URL:https://livemusicasheville.com/calendar/black-mountain-bluegrass-jam-unplugged/2026-03-10/
LOCATION:Pisgah Brewing Company Black Mountain\, 2948 US-70\, Black Mountain\, NC\, 28711
CATEGORIES:Asheville Area,Black Mountain,Live Music
ATTACH;FMTTYPE=image/jpeg:https://livemusicasheville.com/wp-content/uploads/2026/03/645631663_1394670986020407_5217295838333578307_n-e1773067467855.jpg
GEO:35.6068069;-82.3568213
X-APPLE-STRUCTURED-LOCATION;VALUE=URI;X-ADDRESS=Pisgah Brewing Company Black Mountain 2948 US-70 Black Mountain NC 28711;X-APPLE-RADIUS=500;X-TITLE=2948 US-70:geo:-82.3568213,35.6068069
END:VEVENT
BEGIN:VEVENT
DTSTART;TZID=America/New_York:20260310T183000
DTEND;TZID=America/New_York:20260310T210000
DTSTAMP:20260424T162204
CREATED:20241226T154248Z
LAST-MODIFIED:20251214T220310Z
UID:10027776-1773167400-1773176400@livemusicasheville.com
SUMMARY:Mountain Shag Club
DESCRIPTION:
URL:https://livemusicasheville.com/calendar/mountain-shag-club/2026-03-10/
LOCATION:Chophouse Restaurant at the 4 Points Hotel by Sheraton
CATEGORIES:Asheville Area,DJ/Electronic
END:VEVENT
BEGIN:VEVENT
DTSTART;TZID=America/New_York:20260310T190000
DTEND;TZID=America/New_York:20260310T210000
DTSTAMP:20260424T162204
CREATED:20260225T151339Z
LAST-MODIFIED:20260318T160013Z
UID:10049710-1773169200-1773176400@livemusicasheville.com
SUMMARY:Mark Bumgarner
DESCRIPTION:
URL:https://livemusicasheville.com/calendar/mark-bumgarner-2-2-2-3-2-2/2026-03-10/
LOCATION:Blue Mountain Pizza Weaverville
CATEGORIES:Asheville Area,Live Music,Weaverville
GEO:35.698228;-82.560231
END:VEVENT
BEGIN:VEVENT
DTSTART;TZID=America/New_York:20260310T190000
DTEND;TZID=America/New_York:20260310T220000
DTSTAMP:20260424T162204
CREATED:20260121T144511Z
LAST-MODIFIED:20260218T145703Z
UID:10014053-1773169200-1773180000@livemusicasheville.com
SUMMARY:Live Jazz Tuesday: Jay Sanders\, Will Boyd\, Zack Page & Alan Hall
DESCRIPTION:Sanders\, Boyd\, Page & Hall distill the pure essence of improvisational expression\, converging as alchemists of sound\, transmuting musical elements into their most essential forms. This quartet embodies the philosophical concept of quintessence—the fifth element beyond earth\, air\, fire\, and water—representing the fundamental substance from which all musical reality springs. \n\nTheir original compositions crystallize the essential qualities of diverse influences\, oscillating between through-composed musical themes\, groove-based soul explorations\, traditional jazz-influenced pieces\, Americana-inspired peaceful melodicism\, world music influences\, free jazz adventures\, and occasional forays into cacophonous noise music. Through years of improvisational study\, they’ve learned to access that rarefied space where genres dissolve into pure creative energy. \nIn this musical laboratory\, Sanders’ guitar becomes a conduit for universal vibration\, Boyd’s reeds channel the breath of consciousness itself\, Page’s bass provides the fundamental frequency of existence\, while Hall’s percussion creates the rhythmic heartbeat of the cosmos. \n\n\nWill Boyd – Sax\, Flute\, Clarinet\, EWI\nZack Page – Acoustic & Electric Bass\nAlan Hall – Drums\nJay Sanders – Guitar and Effects\n\nEvery Monday and Tuesday\, Little Jumbo brings live jazz to your ears. littlejumbobar.com \n“Simply put\, Little Jumbo should be at the top of your list of places for cocktails in Asheville. The drinks and service are both top-notch\, and the atmosphere is reminiscent of a relaxed speakeasy\, without a trace of the pretention that can sometimes be found in such places.” ~ The SmokyMountains.com Local Expert Team \n 
URL:https://livemusicasheville.com/calendar/live-jazz-tuesday-jay-sanders-will-boyd-zack-page-alan-hall-4-2-2-2-2-2-2-2-2/2026-03-10/
LOCATION:Little Jumbo\, 241 Broadway St\, Asheville\, NC\, 28801
CATEGORIES:Asheville Area,Live Music
ATTACH;FMTTYPE=image/png:https://livemusicasheville.com/wp-content/uploads/2025/03/SBPH-e1748765814293.png
GEO:35.6024336;-82.5568463
X-APPLE-STRUCTURED-LOCATION;VALUE=URI;X-ADDRESS=Little Jumbo 241 Broadway St Asheville NC 28801;X-APPLE-RADIUS=500;X-TITLE=241 Broadway St:geo:-82.5568463,35.6024336
END:VEVENT
BEGIN:VEVENT
DTSTART;TZID=America/New_York:20260310T190000
DTEND;TZID=America/New_York:20260310T220000
DTSTAMP:20260424T162204
CREATED:20260210T190606Z
LAST-MODIFIED:20260210T190608Z
UID:10043234-1773169200-1773180000@livemusicasheville.com
SUMMARY:Clouds of Delusion
DESCRIPTION:
URL:https://livemusicasheville.com/calendar/clouds-of-delusion-5-4-2-2/2026-03-10/
LOCATION:One World Brewing – West\, 520 Haywood Rd\, Asheville\, North Carolina\, 28806
CATEGORIES:Asheville Area,Live Music
GEO:35.5783642;-82.5848526
X-APPLE-STRUCTURED-LOCATION;VALUE=URI;X-ADDRESS=One World Brewing – West 520 Haywood Rd Asheville North Carolina 28806;X-APPLE-RADIUS=500;X-TITLE=520 Haywood Rd:geo:-82.5848526,35.5783642
END:VEVENT
BEGIN:VEVENT
DTSTART;TZID=America/New_York:20260310T190000
DTEND;TZID=America/New_York:20260310T233000
DTSTAMP:20260424T162204
CREATED:20250322T150845Z
LAST-MODIFIED:20251214T215054Z
UID:10010560-1773169200-1773185400@livemusicasheville.com
SUMMARY:Save Our Website to Your Home Screen 📲
DESCRIPTION:As an interactive calendar\, we often add events to our calendar as we find out about them\, sometimes even from our phone while we are out supporting local live music. By adding our website\, LiveMusicAsheville.com to your home screen\, we will always be right at your fingertips. Here’s how:\n\n\n\n\niPhone (using Safari):\n\n\n\nOpen Safari and navigate to the website: you want to add as a shortcut. \n\n\n\n\n\n\n\n\nTap the Share button: (a square with an arrow pointing out of the top). \n\n\n\n\n\n\n\n\nScroll down and tap “Add to Home Screen” . \n\n\n\n\n\n\n\n\nChoose a name for the shortcut: and tap “Add”. \n\n\n\n\n\n\n\n\nThe shortcut will appear on your home screen as an icon. \n\n\n\n\n\n\n\n\n\n\n\nAndroid (using Chrome or other browsers):\n\n\n\nOpen Chrome (or your preferred browser) and navigate to the website: you want to add.\nTap the three-dot menu icon: (usually in the top right corner).\nSelect “Add to Home Screen” .\nCustomize the name of the shortcut: if desired\, and then tap “Add”.\nThe shortcut will appear on your home screen as an icon. 
URL:https://livemusicasheville.com/calendar/add-our-website-to-your-home-screen/2026-03-10/
CATEGORIES:Asheville Area
END:VEVENT
END:VCALENDAR