BEGIN:VCALENDAR
VERSION:2.0
PRODID:-//LiveMusicAsheville.com - ECPv6.15.20//NONSGML v1.0//EN
CALSCALE:GREGORIAN
METHOD:PUBLISH
X-ORIGINAL-URL:https://livemusicasheville.com
X-WR-CALDESC:Events for LiveMusicAsheville.com
REFRESH-INTERVAL;VALUE=DURATION:PT1H
X-Robots-Tag:noindex
X-PUBLISHED-TTL:PT1H
BEGIN:VTIMEZONE
TZID:America/New_York
BEGIN:DAYLIGHT
TZOFFSETFROM:-0500
TZOFFSETTO:-0400
TZNAME:EDT
DTSTART:20250309T070000
END:DAYLIGHT
BEGIN:STANDARD
TZOFFSETFROM:-0400
TZOFFSETTO:-0500
TZNAME:EST
DTSTART:20251102T060000
END:STANDARD
BEGIN:DAYLIGHT
TZOFFSETFROM:-0500
TZOFFSETTO:-0400
TZNAME:EDT
DTSTART:20260308T070000
END:DAYLIGHT
BEGIN:STANDARD
TZOFFSETFROM:-0400
TZOFFSETTO:-0500
TZNAME:EST
DTSTART:20261101T060000
END:STANDARD
BEGIN:DAYLIGHT
TZOFFSETFROM:-0500
TZOFFSETTO:-0400
TZNAME:EDT
DTSTART:20270314T070000
END:DAYLIGHT
BEGIN:STANDARD
TZOFFSETFROM:-0400
TZOFFSETTO:-0500
TZNAME:EST
DTSTART:20271107T060000
END:STANDARD
END:VTIMEZONE
BEGIN:VEVENT
DTSTART;TZID=America/New_York:20260507T160000
DTEND;TZID=America/New_York:20260507T210000
DTSTAMP:20260419T194502
CREATED:20260415T095638Z
LAST-MODIFIED:20260415T100021Z
UID:10056743-1778169600-1778187600@livemusicasheville.com
SUMMARY:Golden Hour: Thursdays at The Mule
DESCRIPTION:This is what we mean by “Keep It Fresh. Drink It In.”.  Thursdays April through August\, we’re settin’ the almost-weekend vibes on our patio with a live DJ\, local beverage partners\, and interactive experiences. Each month will highlight a different local craft beverage brand\, and they’ll be here offering samples and giveaways! You’ll also have the opportunity to sink into an interactive craft experience\, take advantage of our rotating Build Your Own bar\, and shake off the day to the different sounds of our rotating DJ lineup. \nThis is free to attend\, and sure to be your Thursday go-to for Spring & Summer. \n  \n\n\n‘The Mule’ – Tasting Room \n\n\n\n\n\nSay hello to The Mule – a full-service bar/event space in the home of Devil’s Foot Beverage’s production facility. Draft soda\, beer\, & wine – as well as delicious cocktails & mocktails featuring Devil’s Foot craft sodas and the largest collection of NC-made spirits in Asheville – all at your fingertips just outside of Biltmore Village! Open now for all of your beverage & party needs! devilsfootbrew.com/the-mule
URL:https://livemusicasheville.com/calendar/golden-hour-thursdays-at-the-mule/2026-05-07/
LOCATION:The Mule at Devils Foot Beverages\, 131 Sweeten Creek Road\, Asheville\, NC\, 28803\, United States
CATEGORIES:Asheville Area,DJ/Electronic
ATTACH;FMTTYPE=image/png:https://livemusicasheville.com/wp-content/uploads/2026/04/Screenshot-2026-04-15-055545-e1776246984177.png
GEO:35.5588369;-82.5218977
X-APPLE-STRUCTURED-LOCATION;VALUE=URI;X-ADDRESS=The Mule at Devils Foot Beverages 131 Sweeten Creek Road Asheville NC 28803 United States;X-APPLE-RADIUS=500;X-TITLE=131 Sweeten Creek Road:geo:-82.5218977,35.5588369
END:VEVENT
BEGIN:VEVENT
DTSTART;TZID=America/New_York:20260514T160000
DTEND;TZID=America/New_York:20260514T210000
DTSTAMP:20260419T194502
CREATED:20260415T095638Z
LAST-MODIFIED:20260415T100021Z
UID:10056744-1778774400-1778792400@livemusicasheville.com
SUMMARY:Golden Hour: Thursdays at The Mule
DESCRIPTION:This is what we mean by “Keep It Fresh. Drink It In.”.  Thursdays April through August\, we’re settin’ the almost-weekend vibes on our patio with a live DJ\, local beverage partners\, and interactive experiences. Each month will highlight a different local craft beverage brand\, and they’ll be here offering samples and giveaways! You’ll also have the opportunity to sink into an interactive craft experience\, take advantage of our rotating Build Your Own bar\, and shake off the day to the different sounds of our rotating DJ lineup. \nThis is free to attend\, and sure to be your Thursday go-to for Spring & Summer. \n  \n\n\n‘The Mule’ – Tasting Room \n\n\n\n\n\nSay hello to The Mule – a full-service bar/event space in the home of Devil’s Foot Beverage’s production facility. Draft soda\, beer\, & wine – as well as delicious cocktails & mocktails featuring Devil’s Foot craft sodas and the largest collection of NC-made spirits in Asheville – all at your fingertips just outside of Biltmore Village! Open now for all of your beverage & party needs! devilsfootbrew.com/the-mule
URL:https://livemusicasheville.com/calendar/golden-hour-thursdays-at-the-mule/2026-05-14/
LOCATION:The Mule at Devils Foot Beverages\, 131 Sweeten Creek Road\, Asheville\, NC\, 28803\, United States
CATEGORIES:Asheville Area,DJ/Electronic
ATTACH;FMTTYPE=image/png:https://livemusicasheville.com/wp-content/uploads/2026/04/Screenshot-2026-04-15-055545-e1776246984177.png
GEO:35.5588369;-82.5218977
X-APPLE-STRUCTURED-LOCATION;VALUE=URI;X-ADDRESS=The Mule at Devils Foot Beverages 131 Sweeten Creek Road Asheville NC 28803 United States;X-APPLE-RADIUS=500;X-TITLE=131 Sweeten Creek Road:geo:-82.5218977,35.5588369
END:VEVENT
BEGIN:VEVENT
DTSTART;TZID=America/New_York:20260521T160000
DTEND;TZID=America/New_York:20260521T210000
DTSTAMP:20260419T194502
CREATED:20260415T095638Z
LAST-MODIFIED:20260415T100021Z
UID:10056745-1779379200-1779397200@livemusicasheville.com
SUMMARY:Golden Hour: Thursdays at The Mule
DESCRIPTION:This is what we mean by “Keep It Fresh. Drink It In.”.  Thursdays April through August\, we’re settin’ the almost-weekend vibes on our patio with a live DJ\, local beverage partners\, and interactive experiences. Each month will highlight a different local craft beverage brand\, and they’ll be here offering samples and giveaways! You’ll also have the opportunity to sink into an interactive craft experience\, take advantage of our rotating Build Your Own bar\, and shake off the day to the different sounds of our rotating DJ lineup. \nThis is free to attend\, and sure to be your Thursday go-to for Spring & Summer. \n  \n\n\n‘The Mule’ – Tasting Room \n\n\n\n\n\nSay hello to The Mule – a full-service bar/event space in the home of Devil’s Foot Beverage’s production facility. Draft soda\, beer\, & wine – as well as delicious cocktails & mocktails featuring Devil’s Foot craft sodas and the largest collection of NC-made spirits in Asheville – all at your fingertips just outside of Biltmore Village! Open now for all of your beverage & party needs! devilsfootbrew.com/the-mule
URL:https://livemusicasheville.com/calendar/golden-hour-thursdays-at-the-mule/2026-05-21/
LOCATION:The Mule at Devils Foot Beverages\, 131 Sweeten Creek Road\, Asheville\, NC\, 28803\, United States
CATEGORIES:Asheville Area,DJ/Electronic
ATTACH;FMTTYPE=image/png:https://livemusicasheville.com/wp-content/uploads/2026/04/Screenshot-2026-04-15-055545-e1776246984177.png
GEO:35.5588369;-82.5218977
X-APPLE-STRUCTURED-LOCATION;VALUE=URI;X-ADDRESS=The Mule at Devils Foot Beverages 131 Sweeten Creek Road Asheville NC 28803 United States;X-APPLE-RADIUS=500;X-TITLE=131 Sweeten Creek Road:geo:-82.5218977,35.5588369
END:VEVENT
BEGIN:VEVENT
DTSTART;TZID=America/New_York:20260528T160000
DTEND;TZID=America/New_York:20260528T210000
DTSTAMP:20260419T194502
CREATED:20260415T095638Z
LAST-MODIFIED:20260415T100021Z
UID:10056746-1779984000-1780002000@livemusicasheville.com
SUMMARY:Golden Hour: Thursdays at The Mule
DESCRIPTION:This is what we mean by “Keep It Fresh. Drink It In.”.  Thursdays April through August\, we’re settin’ the almost-weekend vibes on our patio with a live DJ\, local beverage partners\, and interactive experiences. Each month will highlight a different local craft beverage brand\, and they’ll be here offering samples and giveaways! You’ll also have the opportunity to sink into an interactive craft experience\, take advantage of our rotating Build Your Own bar\, and shake off the day to the different sounds of our rotating DJ lineup. \nThis is free to attend\, and sure to be your Thursday go-to for Spring & Summer. \n  \n\n\n‘The Mule’ – Tasting Room \n\n\n\n\n\nSay hello to The Mule – a full-service bar/event space in the home of Devil’s Foot Beverage’s production facility. Draft soda\, beer\, & wine – as well as delicious cocktails & mocktails featuring Devil’s Foot craft sodas and the largest collection of NC-made spirits in Asheville – all at your fingertips just outside of Biltmore Village! Open now for all of your beverage & party needs! devilsfootbrew.com/the-mule
URL:https://livemusicasheville.com/calendar/golden-hour-thursdays-at-the-mule/2026-05-28/
LOCATION:The Mule at Devils Foot Beverages\, 131 Sweeten Creek Road\, Asheville\, NC\, 28803\, United States
CATEGORIES:Asheville Area,DJ/Electronic
ATTACH;FMTTYPE=image/png:https://livemusicasheville.com/wp-content/uploads/2026/04/Screenshot-2026-04-15-055545-e1776246984177.png
GEO:35.5588369;-82.5218977
X-APPLE-STRUCTURED-LOCATION;VALUE=URI;X-ADDRESS=The Mule at Devils Foot Beverages 131 Sweeten Creek Road Asheville NC 28803 United States;X-APPLE-RADIUS=500;X-TITLE=131 Sweeten Creek Road:geo:-82.5218977,35.5588369
END:VEVENT
BEGIN:VEVENT
DTSTART;TZID=America/New_York:20260604T160000
DTEND;TZID=America/New_York:20260604T210000
DTSTAMP:20260419T194502
CREATED:20260415T095638Z
LAST-MODIFIED:20260415T100021Z
UID:10056747-1780588800-1780606800@livemusicasheville.com
SUMMARY:Golden Hour: Thursdays at The Mule
DESCRIPTION:This is what we mean by “Keep It Fresh. Drink It In.”.  Thursdays April through August\, we’re settin’ the almost-weekend vibes on our patio with a live DJ\, local beverage partners\, and interactive experiences. Each month will highlight a different local craft beverage brand\, and they’ll be here offering samples and giveaways! You’ll also have the opportunity to sink into an interactive craft experience\, take advantage of our rotating Build Your Own bar\, and shake off the day to the different sounds of our rotating DJ lineup. \nThis is free to attend\, and sure to be your Thursday go-to for Spring & Summer. \n  \n\n\n‘The Mule’ – Tasting Room \n\n\n\n\n\nSay hello to The Mule – a full-service bar/event space in the home of Devil’s Foot Beverage’s production facility. Draft soda\, beer\, & wine – as well as delicious cocktails & mocktails featuring Devil’s Foot craft sodas and the largest collection of NC-made spirits in Asheville – all at your fingertips just outside of Biltmore Village! Open now for all of your beverage & party needs! devilsfootbrew.com/the-mule
URL:https://livemusicasheville.com/calendar/golden-hour-thursdays-at-the-mule/2026-06-04/
LOCATION:The Mule at Devils Foot Beverages\, 131 Sweeten Creek Road\, Asheville\, NC\, 28803\, United States
CATEGORIES:Asheville Area,DJ/Electronic
ATTACH;FMTTYPE=image/png:https://livemusicasheville.com/wp-content/uploads/2026/04/Screenshot-2026-04-15-055545-e1776246984177.png
GEO:35.5588369;-82.5218977
X-APPLE-STRUCTURED-LOCATION;VALUE=URI;X-ADDRESS=The Mule at Devils Foot Beverages 131 Sweeten Creek Road Asheville NC 28803 United States;X-APPLE-RADIUS=500;X-TITLE=131 Sweeten Creek Road:geo:-82.5218977,35.5588369
END:VEVENT
BEGIN:VEVENT
DTSTART;TZID=America/New_York:20260618T160000
DTEND;TZID=America/New_York:20260618T210000
DTSTAMP:20260419T194502
CREATED:20260415T095638Z
LAST-MODIFIED:20260415T100021Z
UID:10056748-1781798400-1781816400@livemusicasheville.com
SUMMARY:Golden Hour: Thursdays at The Mule
DESCRIPTION:This is what we mean by “Keep It Fresh. Drink It In.”.  Thursdays April through August\, we’re settin’ the almost-weekend vibes on our patio with a live DJ\, local beverage partners\, and interactive experiences. Each month will highlight a different local craft beverage brand\, and they’ll be here offering samples and giveaways! You’ll also have the opportunity to sink into an interactive craft experience\, take advantage of our rotating Build Your Own bar\, and shake off the day to the different sounds of our rotating DJ lineup. \nThis is free to attend\, and sure to be your Thursday go-to for Spring & Summer. \n  \n\n\n‘The Mule’ – Tasting Room \n\n\n\n\n\nSay hello to The Mule – a full-service bar/event space in the home of Devil’s Foot Beverage’s production facility. Draft soda\, beer\, & wine – as well as delicious cocktails & mocktails featuring Devil’s Foot craft sodas and the largest collection of NC-made spirits in Asheville – all at your fingertips just outside of Biltmore Village! Open now for all of your beverage & party needs! devilsfootbrew.com/the-mule
URL:https://livemusicasheville.com/calendar/golden-hour-thursdays-at-the-mule/2026-06-18/
LOCATION:The Mule at Devils Foot Beverages\, 131 Sweeten Creek Road\, Asheville\, NC\, 28803\, United States
CATEGORIES:Asheville Area,DJ/Electronic
ATTACH;FMTTYPE=image/png:https://livemusicasheville.com/wp-content/uploads/2026/04/Screenshot-2026-04-15-055545-e1776246984177.png
GEO:35.5588369;-82.5218977
X-APPLE-STRUCTURED-LOCATION;VALUE=URI;X-ADDRESS=The Mule at Devils Foot Beverages 131 Sweeten Creek Road Asheville NC 28803 United States;X-APPLE-RADIUS=500;X-TITLE=131 Sweeten Creek Road:geo:-82.5218977,35.5588369
END:VEVENT
BEGIN:VEVENT
DTSTART;TZID=America/New_York:20260702T160000
DTEND;TZID=America/New_York:20260702T210000
DTSTAMP:20260419T194502
CREATED:20260415T095638Z
LAST-MODIFIED:20260415T100021Z
UID:10056749-1783008000-1783026000@livemusicasheville.com
SUMMARY:Golden Hour: Thursdays at The Mule
DESCRIPTION:This is what we mean by “Keep It Fresh. Drink It In.”.  Thursdays April through August\, we’re settin’ the almost-weekend vibes on our patio with a live DJ\, local beverage partners\, and interactive experiences. Each month will highlight a different local craft beverage brand\, and they’ll be here offering samples and giveaways! You’ll also have the opportunity to sink into an interactive craft experience\, take advantage of our rotating Build Your Own bar\, and shake off the day to the different sounds of our rotating DJ lineup. \nThis is free to attend\, and sure to be your Thursday go-to for Spring & Summer. \n  \n\n\n‘The Mule’ – Tasting Room \n\n\n\n\n\nSay hello to The Mule – a full-service bar/event space in the home of Devil’s Foot Beverage’s production facility. Draft soda\, beer\, & wine – as well as delicious cocktails & mocktails featuring Devil’s Foot craft sodas and the largest collection of NC-made spirits in Asheville – all at your fingertips just outside of Biltmore Village! Open now for all of your beverage & party needs! devilsfootbrew.com/the-mule
URL:https://livemusicasheville.com/calendar/golden-hour-thursdays-at-the-mule/2026-07-02/
LOCATION:The Mule at Devils Foot Beverages\, 131 Sweeten Creek Road\, Asheville\, NC\, 28803\, United States
CATEGORIES:Asheville Area,DJ/Electronic
ATTACH;FMTTYPE=image/png:https://livemusicasheville.com/wp-content/uploads/2026/04/Screenshot-2026-04-15-055545-e1776246984177.png
GEO:35.5588369;-82.5218977
X-APPLE-STRUCTURED-LOCATION;VALUE=URI;X-ADDRESS=The Mule at Devils Foot Beverages 131 Sweeten Creek Road Asheville NC 28803 United States;X-APPLE-RADIUS=500;X-TITLE=131 Sweeten Creek Road:geo:-82.5218977,35.5588369
END:VEVENT
BEGIN:VEVENT
DTSTART;TZID=America/New_York:20260716T160000
DTEND;TZID=America/New_York:20260716T210000
DTSTAMP:20260419T194502
CREATED:20260415T095638Z
LAST-MODIFIED:20260415T100021Z
UID:10056750-1784217600-1784235600@livemusicasheville.com
SUMMARY:Golden Hour: Thursdays at The Mule
DESCRIPTION:This is what we mean by “Keep It Fresh. Drink It In.”.  Thursdays April through August\, we’re settin’ the almost-weekend vibes on our patio with a live DJ\, local beverage partners\, and interactive experiences. Each month will highlight a different local craft beverage brand\, and they’ll be here offering samples and giveaways! You’ll also have the opportunity to sink into an interactive craft experience\, take advantage of our rotating Build Your Own bar\, and shake off the day to the different sounds of our rotating DJ lineup. \nThis is free to attend\, and sure to be your Thursday go-to for Spring & Summer. \n  \n\n\n‘The Mule’ – Tasting Room \n\n\n\n\n\nSay hello to The Mule – a full-service bar/event space in the home of Devil’s Foot Beverage’s production facility. Draft soda\, beer\, & wine – as well as delicious cocktails & mocktails featuring Devil’s Foot craft sodas and the largest collection of NC-made spirits in Asheville – all at your fingertips just outside of Biltmore Village! Open now for all of your beverage & party needs! devilsfootbrew.com/the-mule
URL:https://livemusicasheville.com/calendar/golden-hour-thursdays-at-the-mule/2026-07-16/
LOCATION:The Mule at Devils Foot Beverages\, 131 Sweeten Creek Road\, Asheville\, NC\, 28803\, United States
CATEGORIES:Asheville Area,DJ/Electronic
ATTACH;FMTTYPE=image/png:https://livemusicasheville.com/wp-content/uploads/2026/04/Screenshot-2026-04-15-055545-e1776246984177.png
GEO:35.5588369;-82.5218977
X-APPLE-STRUCTURED-LOCATION;VALUE=URI;X-ADDRESS=The Mule at Devils Foot Beverages 131 Sweeten Creek Road Asheville NC 28803 United States;X-APPLE-RADIUS=500;X-TITLE=131 Sweeten Creek Road:geo:-82.5218977,35.5588369
END:VEVENT
BEGIN:VEVENT
DTSTART;TZID=America/New_York:20260730T160000
DTEND;TZID=America/New_York:20260730T210000
DTSTAMP:20260419T194502
CREATED:20260415T095638Z
LAST-MODIFIED:20260415T100021Z
UID:10056751-1785427200-1785445200@livemusicasheville.com
SUMMARY:Golden Hour: Thursdays at The Mule
DESCRIPTION:This is what we mean by “Keep It Fresh. Drink It In.”.  Thursdays April through August\, we’re settin’ the almost-weekend vibes on our patio with a live DJ\, local beverage partners\, and interactive experiences. Each month will highlight a different local craft beverage brand\, and they’ll be here offering samples and giveaways! You’ll also have the opportunity to sink into an interactive craft experience\, take advantage of our rotating Build Your Own bar\, and shake off the day to the different sounds of our rotating DJ lineup. \nThis is free to attend\, and sure to be your Thursday go-to for Spring & Summer. \n  \n\n\n‘The Mule’ – Tasting Room \n\n\n\n\n\nSay hello to The Mule – a full-service bar/event space in the home of Devil’s Foot Beverage’s production facility. Draft soda\, beer\, & wine – as well as delicious cocktails & mocktails featuring Devil’s Foot craft sodas and the largest collection of NC-made spirits in Asheville – all at your fingertips just outside of Biltmore Village! Open now for all of your beverage & party needs! devilsfootbrew.com/the-mule
URL:https://livemusicasheville.com/calendar/golden-hour-thursdays-at-the-mule/2026-07-30/
LOCATION:The Mule at Devils Foot Beverages\, 131 Sweeten Creek Road\, Asheville\, NC\, 28803\, United States
CATEGORIES:Asheville Area,DJ/Electronic
ATTACH;FMTTYPE=image/png:https://livemusicasheville.com/wp-content/uploads/2026/04/Screenshot-2026-04-15-055545-e1776246984177.png
GEO:35.5588369;-82.5218977
X-APPLE-STRUCTURED-LOCATION;VALUE=URI;X-ADDRESS=The Mule at Devils Foot Beverages 131 Sweeten Creek Road Asheville NC 28803 United States;X-APPLE-RADIUS=500;X-TITLE=131 Sweeten Creek Road:geo:-82.5218977,35.5588369
END:VEVENT
BEGIN:VEVENT
DTSTART;TZID=America/New_York:20260813T160000
DTEND;TZID=America/New_York:20260813T210000
DTSTAMP:20260419T194502
CREATED:20260415T095638Z
LAST-MODIFIED:20260415T100021Z
UID:10056752-1786636800-1786654800@livemusicasheville.com
SUMMARY:Golden Hour: Thursdays at The Mule
DESCRIPTION:This is what we mean by “Keep It Fresh. Drink It In.”.  Thursdays April through August\, we’re settin’ the almost-weekend vibes on our patio with a live DJ\, local beverage partners\, and interactive experiences. Each month will highlight a different local craft beverage brand\, and they’ll be here offering samples and giveaways! You’ll also have the opportunity to sink into an interactive craft experience\, take advantage of our rotating Build Your Own bar\, and shake off the day to the different sounds of our rotating DJ lineup. \nThis is free to attend\, and sure to be your Thursday go-to for Spring & Summer. \n  \n\n\n‘The Mule’ – Tasting Room \n\n\n\n\n\nSay hello to The Mule – a full-service bar/event space in the home of Devil’s Foot Beverage’s production facility. Draft soda\, beer\, & wine – as well as delicious cocktails & mocktails featuring Devil’s Foot craft sodas and the largest collection of NC-made spirits in Asheville – all at your fingertips just outside of Biltmore Village! Open now for all of your beverage & party needs! devilsfootbrew.com/the-mule
URL:https://livemusicasheville.com/calendar/golden-hour-thursdays-at-the-mule/2026-08-13/
LOCATION:The Mule at Devils Foot Beverages\, 131 Sweeten Creek Road\, Asheville\, NC\, 28803\, United States
CATEGORIES:Asheville Area,DJ/Electronic
ATTACH;FMTTYPE=image/png:https://livemusicasheville.com/wp-content/uploads/2026/04/Screenshot-2026-04-15-055545-e1776246984177.png
GEO:35.5588369;-82.5218977
X-APPLE-STRUCTURED-LOCATION;VALUE=URI;X-ADDRESS=The Mule at Devils Foot Beverages 131 Sweeten Creek Road Asheville NC 28803 United States;X-APPLE-RADIUS=500;X-TITLE=131 Sweeten Creek Road:geo:-82.5218977,35.5588369
END:VEVENT
BEGIN:VEVENT
DTSTART;TZID=America/New_York:20260827T160000
DTEND;TZID=America/New_York:20260827T210000
DTSTAMP:20260419T194502
CREATED:20260415T095638Z
LAST-MODIFIED:20260415T100021Z
UID:10056753-1787846400-1787864400@livemusicasheville.com
SUMMARY:Golden Hour: Thursdays at The Mule
DESCRIPTION:This is what we mean by “Keep It Fresh. Drink It In.”.  Thursdays April through August\, we’re settin’ the almost-weekend vibes on our patio with a live DJ\, local beverage partners\, and interactive experiences. Each month will highlight a different local craft beverage brand\, and they’ll be here offering samples and giveaways! You’ll also have the opportunity to sink into an interactive craft experience\, take advantage of our rotating Build Your Own bar\, and shake off the day to the different sounds of our rotating DJ lineup. \nThis is free to attend\, and sure to be your Thursday go-to for Spring & Summer. \n  \n\n\n‘The Mule’ – Tasting Room \n\n\n\n\n\nSay hello to The Mule – a full-service bar/event space in the home of Devil’s Foot Beverage’s production facility. Draft soda\, beer\, & wine – as well as delicious cocktails & mocktails featuring Devil’s Foot craft sodas and the largest collection of NC-made spirits in Asheville – all at your fingertips just outside of Biltmore Village! Open now for all of your beverage & party needs! devilsfootbrew.com/the-mule
URL:https://livemusicasheville.com/calendar/golden-hour-thursdays-at-the-mule/2026-08-27/
LOCATION:The Mule at Devils Foot Beverages\, 131 Sweeten Creek Road\, Asheville\, NC\, 28803\, United States
CATEGORIES:Asheville Area,DJ/Electronic
ATTACH;FMTTYPE=image/png:https://livemusicasheville.com/wp-content/uploads/2026/04/Screenshot-2026-04-15-055545-e1776246984177.png
GEO:35.5588369;-82.5218977
X-APPLE-STRUCTURED-LOCATION;VALUE=URI;X-ADDRESS=The Mule at Devils Foot Beverages 131 Sweeten Creek Road Asheville NC 28803 United States;X-APPLE-RADIUS=500;X-TITLE=131 Sweeten Creek Road:geo:-82.5218977,35.5588369
END:VEVENT
END:VCALENDAR