BEGIN:VCALENDAR
VERSION:2.0
PRODID:-//LiveMusicAsheville.com - ECPv6.15.20//NONSGML v1.0//EN
CALSCALE:GREGORIAN
METHOD:PUBLISH
X-ORIGINAL-URL:https://livemusicasheville.com
X-WR-CALDESC:Events for LiveMusicAsheville.com
REFRESH-INTERVAL;VALUE=DURATION:PT1H
X-Robots-Tag:noindex
X-PUBLISHED-TTL:PT1H
BEGIN:VTIMEZONE
TZID:America/New_York
BEGIN:DAYLIGHT
TZOFFSETFROM:-0500
TZOFFSETTO:-0400
TZNAME:EDT
DTSTART:20250309T070000
END:DAYLIGHT
BEGIN:STANDARD
TZOFFSETFROM:-0400
TZOFFSETTO:-0500
TZNAME:EST
DTSTART:20251102T060000
END:STANDARD
BEGIN:DAYLIGHT
TZOFFSETFROM:-0500
TZOFFSETTO:-0400
TZNAME:EDT
DTSTART:20260308T070000
END:DAYLIGHT
BEGIN:STANDARD
TZOFFSETFROM:-0400
TZOFFSETTO:-0500
TZNAME:EST
DTSTART:20261101T060000
END:STANDARD
BEGIN:DAYLIGHT
TZOFFSETFROM:-0500
TZOFFSETTO:-0400
TZNAME:EDT
DTSTART:20270314T070000
END:DAYLIGHT
BEGIN:STANDARD
TZOFFSETFROM:-0400
TZOFFSETTO:-0500
TZNAME:EST
DTSTART:20271107T060000
END:STANDARD
BEGIN:DAYLIGHT
TZOFFSETFROM:-0500
TZOFFSETTO:-0400
TZNAME:EDT
DTSTART:20280312T070000
END:DAYLIGHT
BEGIN:STANDARD
TZOFFSETFROM:-0400
TZOFFSETTO:-0500
TZNAME:EST
DTSTART:20281105T060000
END:STANDARD
END:VTIMEZONE
BEGIN:VEVENT
DTSTART;TZID=America/New_York:20260506T190000
DTEND;TZID=America/New_York:20260506T210000
DTSTAMP:20260424T194932
CREATED:20260214T160231Z
LAST-MODIFIED:20260318T160058Z
UID:10049847-1778094000-1778101200@livemusicasheville.com
SUMMARY:Larry Dolamore
DESCRIPTION:
URL:https://livemusicasheville.com/calendar/larry-dolamore-3/2026-05-06/
LOCATION:Blue Mountain Pizza Weaverville
CATEGORIES:Asheville Area,Live Music,Weaverville
GEO:35.698228;-82.560231
END:VEVENT
BEGIN:VEVENT
DTSTART;TZID=America/New_York:20260520T190000
DTEND;TZID=America/New_York:20260520T210000
DTSTAMP:20260424T194932
CREATED:20260214T160231Z
LAST-MODIFIED:20260318T160058Z
UID:10049848-1779303600-1779310800@livemusicasheville.com
SUMMARY:Larry Dolamore
DESCRIPTION:
URL:https://livemusicasheville.com/calendar/larry-dolamore-3/2026-05-20/
LOCATION:Blue Mountain Pizza Weaverville
CATEGORIES:Asheville Area,Live Music,Weaverville
GEO:35.698228;-82.560231
END:VEVENT
BEGIN:VEVENT
DTSTART;TZID=America/New_York:20260603T190000
DTEND;TZID=America/New_York:20260603T210000
DTSTAMP:20260424T194932
CREATED:20260214T160231Z
LAST-MODIFIED:20260318T160058Z
UID:10049849-1780513200-1780520400@livemusicasheville.com
SUMMARY:Larry Dolamore
DESCRIPTION:
URL:https://livemusicasheville.com/calendar/larry-dolamore-3/2026-06-03/
LOCATION:Blue Mountain Pizza Weaverville
CATEGORIES:Asheville Area,Live Music,Weaverville
GEO:35.698228;-82.560231
END:VEVENT
BEGIN:VEVENT
DTSTART;TZID=America/New_York:20260617T190000
DTEND;TZID=America/New_York:20260617T210000
DTSTAMP:20260424T194932
CREATED:20260214T160231Z
LAST-MODIFIED:20260318T160058Z
UID:10049850-1781722800-1781730000@livemusicasheville.com
SUMMARY:Larry Dolamore
DESCRIPTION:
URL:https://livemusicasheville.com/calendar/larry-dolamore-3/2026-06-17/
LOCATION:Blue Mountain Pizza Weaverville
CATEGORIES:Asheville Area,Live Music,Weaverville
GEO:35.698228;-82.560231
END:VEVENT
BEGIN:VEVENT
DTSTART;TZID=America/New_York:20260701T190000
DTEND;TZID=America/New_York:20260701T210000
DTSTAMP:20260424T194932
CREATED:20260214T160231Z
LAST-MODIFIED:20260318T160058Z
UID:10049851-1782932400-1782939600@livemusicasheville.com
SUMMARY:Larry Dolamore
DESCRIPTION:
URL:https://livemusicasheville.com/calendar/larry-dolamore-3/2026-07-01/
LOCATION:Blue Mountain Pizza Weaverville
CATEGORIES:Asheville Area,Live Music,Weaverville
GEO:35.698228;-82.560231
END:VEVENT
BEGIN:VEVENT
DTSTART;TZID=America/New_York:20260715T190000
DTEND;TZID=America/New_York:20260715T210000
DTSTAMP:20260424T194932
CREATED:20260214T160231Z
LAST-MODIFIED:20260318T160058Z
UID:10049852-1784142000-1784149200@livemusicasheville.com
SUMMARY:Larry Dolamore
DESCRIPTION:
URL:https://livemusicasheville.com/calendar/larry-dolamore-3/2026-07-15/
LOCATION:Blue Mountain Pizza Weaverville
CATEGORIES:Asheville Area,Live Music,Weaverville
GEO:35.698228;-82.560231
END:VEVENT
BEGIN:VEVENT
DTSTART;TZID=America/New_York:20260729T190000
DTEND;TZID=America/New_York:20260729T210000
DTSTAMP:20260424T194932
CREATED:20260214T160231Z
LAST-MODIFIED:20260318T160058Z
UID:10049853-1785351600-1785358800@livemusicasheville.com
SUMMARY:Larry Dolamore
DESCRIPTION:
URL:https://livemusicasheville.com/calendar/larry-dolamore-3/2026-07-29/
LOCATION:Blue Mountain Pizza Weaverville
CATEGORIES:Asheville Area,Live Music,Weaverville
GEO:35.698228;-82.560231
END:VEVENT
BEGIN:VEVENT
DTSTART;TZID=America/New_York:20260812T190000
DTEND;TZID=America/New_York:20260812T210000
DTSTAMP:20260424T194932
CREATED:20260214T160231Z
LAST-MODIFIED:20260318T160058Z
UID:10049854-1786561200-1786568400@livemusicasheville.com
SUMMARY:Larry Dolamore
DESCRIPTION:
URL:https://livemusicasheville.com/calendar/larry-dolamore-3/2026-08-12/
LOCATION:Blue Mountain Pizza Weaverville
CATEGORIES:Asheville Area,Live Music,Weaverville
GEO:35.698228;-82.560231
END:VEVENT
BEGIN:VEVENT
DTSTART;TZID=America/New_York:20260826T190000
DTEND;TZID=America/New_York:20260826T210000
DTSTAMP:20260424T194932
CREATED:20260214T160231Z
LAST-MODIFIED:20260318T160058Z
UID:10049855-1787770800-1787778000@livemusicasheville.com
SUMMARY:Larry Dolamore
DESCRIPTION:
URL:https://livemusicasheville.com/calendar/larry-dolamore-3/2026-08-26/
LOCATION:Blue Mountain Pizza Weaverville
CATEGORIES:Asheville Area,Live Music,Weaverville
GEO:35.698228;-82.560231
END:VEVENT
BEGIN:VEVENT
DTSTART;TZID=America/New_York:20260909T190000
DTEND;TZID=America/New_York:20260909T210000
DTSTAMP:20260424T194932
CREATED:20260214T160231Z
LAST-MODIFIED:20260318T160058Z
UID:10049856-1788980400-1788987600@livemusicasheville.com
SUMMARY:Larry Dolamore
DESCRIPTION:
URL:https://livemusicasheville.com/calendar/larry-dolamore-3/2026-09-09/
LOCATION:Blue Mountain Pizza Weaverville
CATEGORIES:Asheville Area,Live Music,Weaverville
GEO:35.698228;-82.560231
END:VEVENT
BEGIN:VEVENT
DTSTART;TZID=America/New_York:20260923T190000
DTEND;TZID=America/New_York:20260923T210000
DTSTAMP:20260424T194932
CREATED:20260214T160231Z
LAST-MODIFIED:20260318T160058Z
UID:10049857-1790190000-1790197200@livemusicasheville.com
SUMMARY:Larry Dolamore
DESCRIPTION:
URL:https://livemusicasheville.com/calendar/larry-dolamore-3/2026-09-23/
LOCATION:Blue Mountain Pizza Weaverville
CATEGORIES:Asheville Area,Live Music,Weaverville
GEO:35.698228;-82.560231
END:VEVENT
BEGIN:VEVENT
DTSTART;TZID=America/New_York:20261007T190000
DTEND;TZID=America/New_York:20261007T210000
DTSTAMP:20260424T194932
CREATED:20260214T160231Z
LAST-MODIFIED:20260318T160058Z
UID:10049858-1791399600-1791406800@livemusicasheville.com
SUMMARY:Larry Dolamore
DESCRIPTION:
URL:https://livemusicasheville.com/calendar/larry-dolamore-3/2026-10-07/
LOCATION:Blue Mountain Pizza Weaverville
CATEGORIES:Asheville Area,Live Music,Weaverville
GEO:35.698228;-82.560231
END:VEVENT
BEGIN:VEVENT
DTSTART;TZID=America/New_York:20261021T190000
DTEND;TZID=America/New_York:20261021T210000
DTSTAMP:20260424T194932
CREATED:20260214T160231Z
LAST-MODIFIED:20260318T160058Z
UID:10049859-1792609200-1792616400@livemusicasheville.com
SUMMARY:Larry Dolamore
DESCRIPTION:
URL:https://livemusicasheville.com/calendar/larry-dolamore-3/2026-10-21/
LOCATION:Blue Mountain Pizza Weaverville
CATEGORIES:Asheville Area,Live Music,Weaverville
GEO:35.698228;-82.560231
END:VEVENT
BEGIN:VEVENT
DTSTART;TZID=America/New_York:20261104T190000
DTEND;TZID=America/New_York:20261104T210000
DTSTAMP:20260424T194932
CREATED:20260214T160231Z
LAST-MODIFIED:20260318T160058Z
UID:10049860-1793818800-1793826000@livemusicasheville.com
SUMMARY:Larry Dolamore
DESCRIPTION:
URL:https://livemusicasheville.com/calendar/larry-dolamore-3/2026-11-04/
LOCATION:Blue Mountain Pizza Weaverville
CATEGORIES:Asheville Area,Live Music,Weaverville
GEO:35.698228;-82.560231
END:VEVENT
BEGIN:VEVENT
DTSTART;TZID=America/New_York:20261118T190000
DTEND;TZID=America/New_York:20261118T210000
DTSTAMP:20260424T194932
CREATED:20260214T160231Z
LAST-MODIFIED:20260318T160058Z
UID:10049861-1795028400-1795035600@livemusicasheville.com
SUMMARY:Larry Dolamore
DESCRIPTION:
URL:https://livemusicasheville.com/calendar/larry-dolamore-3/2026-11-18/
LOCATION:Blue Mountain Pizza Weaverville
CATEGORIES:Asheville Area,Live Music,Weaverville
GEO:35.698228;-82.560231
END:VEVENT
BEGIN:VEVENT
DTSTART;TZID=America/New_York:20261202T190000
DTEND;TZID=America/New_York:20261202T210000
DTSTAMP:20260424T194932
CREATED:20260214T160231Z
LAST-MODIFIED:20260318T160058Z
UID:10049862-1796238000-1796245200@livemusicasheville.com
SUMMARY:Larry Dolamore
DESCRIPTION:
URL:https://livemusicasheville.com/calendar/larry-dolamore-3/2026-12-02/
LOCATION:Blue Mountain Pizza Weaverville
CATEGORIES:Asheville Area,Live Music,Weaverville
GEO:35.698228;-82.560231
END:VEVENT
BEGIN:VEVENT
DTSTART;TZID=America/New_York:20261216T190000
DTEND;TZID=America/New_York:20261216T210000
DTSTAMP:20260424T194932
CREATED:20260214T160231Z
LAST-MODIFIED:20260318T160058Z
UID:10049863-1797447600-1797454800@livemusicasheville.com
SUMMARY:Larry Dolamore
DESCRIPTION:
URL:https://livemusicasheville.com/calendar/larry-dolamore-3/2026-12-16/
LOCATION:Blue Mountain Pizza Weaverville
CATEGORIES:Asheville Area,Live Music,Weaverville
GEO:35.698228;-82.560231
END:VEVENT
BEGIN:VEVENT
DTSTART;TZID=America/New_York:20261230T190000
DTEND;TZID=America/New_York:20261230T210000
DTSTAMP:20260424T194932
CREATED:20260214T160231Z
LAST-MODIFIED:20260318T160058Z
UID:10049864-1798657200-1798664400@livemusicasheville.com
SUMMARY:Larry Dolamore
DESCRIPTION:
URL:https://livemusicasheville.com/calendar/larry-dolamore-3/2026-12-30/
LOCATION:Blue Mountain Pizza Weaverville
CATEGORIES:Asheville Area,Live Music,Weaverville
GEO:35.698228;-82.560231
END:VEVENT
BEGIN:VEVENT
DTSTART;TZID=America/New_York:20270113T190000
DTEND;TZID=America/New_York:20270113T210000
DTSTAMP:20260424T194932
CREATED:20260214T160231Z
LAST-MODIFIED:20260318T160058Z
UID:10049865-1799866800-1799874000@livemusicasheville.com
SUMMARY:Larry Dolamore
DESCRIPTION:
URL:https://livemusicasheville.com/calendar/larry-dolamore-3/2027-01-13/
LOCATION:Blue Mountain Pizza Weaverville
CATEGORIES:Asheville Area,Live Music,Weaverville
GEO:35.698228;-82.560231
END:VEVENT
BEGIN:VEVENT
DTSTART;TZID=America/New_York:20270127T190000
DTEND;TZID=America/New_York:20270127T210000
DTSTAMP:20260424T194932
CREATED:20260214T160231Z
LAST-MODIFIED:20260318T160058Z
UID:10049866-1801076400-1801083600@livemusicasheville.com
SUMMARY:Larry Dolamore
DESCRIPTION:
URL:https://livemusicasheville.com/calendar/larry-dolamore-3/2027-01-27/
LOCATION:Blue Mountain Pizza Weaverville
CATEGORIES:Asheville Area,Live Music,Weaverville
GEO:35.698228;-82.560231
END:VEVENT
BEGIN:VEVENT
DTSTART;TZID=America/New_York:20270210T190000
DTEND;TZID=America/New_York:20270210T210000
DTSTAMP:20260424T194932
CREATED:20260214T160231Z
LAST-MODIFIED:20260318T160058Z
UID:10049867-1802286000-1802293200@livemusicasheville.com
SUMMARY:Larry Dolamore
DESCRIPTION:
URL:https://livemusicasheville.com/calendar/larry-dolamore-3/2027-02-10/
LOCATION:Blue Mountain Pizza Weaverville
CATEGORIES:Asheville Area,Live Music,Weaverville
GEO:35.698228;-82.560231
END:VEVENT
BEGIN:VEVENT
DTSTART;TZID=America/New_York:20270224T190000
DTEND;TZID=America/New_York:20270224T210000
DTSTAMP:20260424T194932
CREATED:20260214T160231Z
LAST-MODIFIED:20260318T160058Z
UID:10049868-1803495600-1803502800@livemusicasheville.com
SUMMARY:Larry Dolamore
DESCRIPTION:
URL:https://livemusicasheville.com/calendar/larry-dolamore-3/2027-02-24/
LOCATION:Blue Mountain Pizza Weaverville
CATEGORIES:Asheville Area,Live Music,Weaverville
GEO:35.698228;-82.560231
END:VEVENT
BEGIN:VEVENT
DTSTART;TZID=America/New_York:20270310T190000
DTEND;TZID=America/New_York:20270310T210000
DTSTAMP:20260424T194932
CREATED:20260214T160231Z
LAST-MODIFIED:20260318T160058Z
UID:10049869-1804705200-1804712400@livemusicasheville.com
SUMMARY:Larry Dolamore
DESCRIPTION:
URL:https://livemusicasheville.com/calendar/larry-dolamore-3/2027-03-10/
LOCATION:Blue Mountain Pizza Weaverville
CATEGORIES:Asheville Area,Live Music,Weaverville
GEO:35.698228;-82.560231
END:VEVENT
BEGIN:VEVENT
DTSTART;TZID=America/New_York:20270324T190000
DTEND;TZID=America/New_York:20270324T210000
DTSTAMP:20260424T194932
CREATED:20260214T160231Z
LAST-MODIFIED:20260318T160058Z
UID:10049870-1805914800-1805922000@livemusicasheville.com
SUMMARY:Larry Dolamore
DESCRIPTION:
URL:https://livemusicasheville.com/calendar/larry-dolamore-3/2027-03-24/
LOCATION:Blue Mountain Pizza Weaverville
CATEGORIES:Asheville Area,Live Music,Weaverville
GEO:35.698228;-82.560231
END:VEVENT
BEGIN:VEVENT
DTSTART;TZID=America/New_York:20270407T190000
DTEND;TZID=America/New_York:20270407T210000
DTSTAMP:20260424T194932
CREATED:20260214T160231Z
LAST-MODIFIED:20260318T160058Z
UID:10049871-1807124400-1807131600@livemusicasheville.com
SUMMARY:Larry Dolamore
DESCRIPTION:
URL:https://livemusicasheville.com/calendar/larry-dolamore-3/2027-04-07/
LOCATION:Blue Mountain Pizza Weaverville
CATEGORIES:Asheville Area,Live Music,Weaverville
GEO:35.698228;-82.560231
END:VEVENT
BEGIN:VEVENT
DTSTART;TZID=America/New_York:20270421T190000
DTEND;TZID=America/New_York:20270421T210000
DTSTAMP:20260424T194932
CREATED:20260214T160231Z
LAST-MODIFIED:20260318T160058Z
UID:10049872-1808334000-1808341200@livemusicasheville.com
SUMMARY:Larry Dolamore
DESCRIPTION:
URL:https://livemusicasheville.com/calendar/larry-dolamore-3/2027-04-21/
LOCATION:Blue Mountain Pizza Weaverville
CATEGORIES:Asheville Area,Live Music,Weaverville
GEO:35.698228;-82.560231
END:VEVENT
BEGIN:VEVENT
DTSTART;TZID=America/New_York:20270505T190000
DTEND;TZID=America/New_York:20270505T210000
DTSTAMP:20260424T194932
CREATED:20260214T160231Z
LAST-MODIFIED:20260318T160058Z
UID:10049873-1809543600-1809550800@livemusicasheville.com
SUMMARY:Larry Dolamore
DESCRIPTION:
URL:https://livemusicasheville.com/calendar/larry-dolamore-3/2027-05-05/
LOCATION:Blue Mountain Pizza Weaverville
CATEGORIES:Asheville Area,Live Music,Weaverville
GEO:35.698228;-82.560231
END:VEVENT
BEGIN:VEVENT
DTSTART;TZID=America/New_York:20270519T190000
DTEND;TZID=America/New_York:20270519T210000
DTSTAMP:20260424T194932
CREATED:20260214T160231Z
LAST-MODIFIED:20260318T160058Z
UID:10049874-1810753200-1810760400@livemusicasheville.com
SUMMARY:Larry Dolamore
DESCRIPTION:
URL:https://livemusicasheville.com/calendar/larry-dolamore-3/2027-05-19/
LOCATION:Blue Mountain Pizza Weaverville
CATEGORIES:Asheville Area,Live Music,Weaverville
GEO:35.698228;-82.560231
END:VEVENT
BEGIN:VEVENT
DTSTART;TZID=America/New_York:20270602T190000
DTEND;TZID=America/New_York:20270602T210000
DTSTAMP:20260424T194932
CREATED:20260214T160231Z
LAST-MODIFIED:20260318T160058Z
UID:10049875-1811962800-1811970000@livemusicasheville.com
SUMMARY:Larry Dolamore
DESCRIPTION:
URL:https://livemusicasheville.com/calendar/larry-dolamore-3/2027-06-02/
LOCATION:Blue Mountain Pizza Weaverville
CATEGORIES:Asheville Area,Live Music,Weaverville
GEO:35.698228;-82.560231
END:VEVENT
BEGIN:VEVENT
DTSTART;TZID=America/New_York:20270616T190000
DTEND;TZID=America/New_York:20270616T210000
DTSTAMP:20260424T194932
CREATED:20260214T160231Z
LAST-MODIFIED:20260318T160058Z
UID:10049876-1813172400-1813179600@livemusicasheville.com
SUMMARY:Larry Dolamore
DESCRIPTION:
URL:https://livemusicasheville.com/calendar/larry-dolamore-3/2027-06-16/
LOCATION:Blue Mountain Pizza Weaverville
CATEGORIES:Asheville Area,Live Music,Weaverville
GEO:35.698228;-82.560231
END:VEVENT
END:VCALENDAR