BEGIN:VCALENDAR
VERSION:2.0
PRODID:-//LiveMusicAsheville.com - ECPv6.15.20//NONSGML v1.0//EN
CALSCALE:GREGORIAN
METHOD:PUBLISH
X-ORIGINAL-URL:https://livemusicasheville.com
X-WR-CALDESC:Events for LiveMusicAsheville.com
REFRESH-INTERVAL;VALUE=DURATION:PT1H
X-Robots-Tag:noindex
X-PUBLISHED-TTL:PT1H
BEGIN:VTIMEZONE
TZID:America/New_York
BEGIN:DAYLIGHT
TZOFFSETFROM:-0500
TZOFFSETTO:-0400
TZNAME:EDT
DTSTART:20250309T070000
END:DAYLIGHT
BEGIN:STANDARD
TZOFFSETFROM:-0400
TZOFFSETTO:-0500
TZNAME:EST
DTSTART:20251102T060000
END:STANDARD
BEGIN:DAYLIGHT
TZOFFSETFROM:-0500
TZOFFSETTO:-0400
TZNAME:EDT
DTSTART:20260308T070000
END:DAYLIGHT
BEGIN:STANDARD
TZOFFSETFROM:-0400
TZOFFSETTO:-0500
TZNAME:EST
DTSTART:20261101T060000
END:STANDARD
BEGIN:DAYLIGHT
TZOFFSETFROM:-0500
TZOFFSETTO:-0400
TZNAME:EDT
DTSTART:20270314T070000
END:DAYLIGHT
BEGIN:STANDARD
TZOFFSETFROM:-0400
TZOFFSETTO:-0500
TZNAME:EST
DTSTART:20271107T060000
END:STANDARD
BEGIN:DAYLIGHT
TZOFFSETFROM:-0500
TZOFFSETTO:-0400
TZNAME:EDT
DTSTART:20280312T070000
END:DAYLIGHT
BEGIN:STANDARD
TZOFFSETFROM:-0400
TZOFFSETTO:-0500
TZNAME:EST
DTSTART:20281105T060000
END:STANDARD
END:VTIMEZONE
BEGIN:VEVENT
DTSTART;TZID=America/New_York:20260427T190000
DTEND;TZID=America/New_York:20260427T210000
DTSTAMP:20260424T000304
CREATED:20260316T200227Z
LAST-MODIFIED:20260316T200227Z
UID:10034615-1777316400-1777323600@livemusicasheville.com
SUMMARY:Traditional Bluegrass w/ The Asheville Mountain Boys
DESCRIPTION:
URL:https://livemusicasheville.com/calendar/bluegrass-w-the-asheville-mountain-boys-3-2-2/2026-04-27/
LOCATION:5 Walnut Wine Bar
CATEGORIES:Asheville Area,Live Music
GEO:35.596654;-82.5525389
END:VEVENT
BEGIN:VEVENT
DTSTART;TZID=America/New_York:20260511T190000
DTEND;TZID=America/New_York:20260511T210000
DTSTAMP:20260424T000304
CREATED:20260316T200227Z
LAST-MODIFIED:20260316T200227Z
UID:10034616-1778526000-1778533200@livemusicasheville.com
SUMMARY:Traditional Bluegrass w/ The Asheville Mountain Boys
DESCRIPTION:
URL:https://livemusicasheville.com/calendar/bluegrass-w-the-asheville-mountain-boys-3-2-2/2026-05-11/
LOCATION:5 Walnut Wine Bar
CATEGORIES:Asheville Area,Live Music
GEO:35.596654;-82.5525389
END:VEVENT
BEGIN:VEVENT
DTSTART;TZID=America/New_York:20260525T190000
DTEND;TZID=America/New_York:20260525T210000
DTSTAMP:20260424T000304
CREATED:20260316T200227Z
LAST-MODIFIED:20260316T200227Z
UID:10034617-1779735600-1779742800@livemusicasheville.com
SUMMARY:Traditional Bluegrass w/ The Asheville Mountain Boys
DESCRIPTION:
URL:https://livemusicasheville.com/calendar/bluegrass-w-the-asheville-mountain-boys-3-2-2/2026-05-25/
LOCATION:5 Walnut Wine Bar
CATEGORIES:Asheville Area,Live Music
GEO:35.596654;-82.5525389
END:VEVENT
BEGIN:VEVENT
DTSTART;TZID=America/New_York:20260608T190000
DTEND;TZID=America/New_York:20260608T210000
DTSTAMP:20260424T000304
CREATED:20260316T200227Z
LAST-MODIFIED:20260316T200227Z
UID:10034618-1780945200-1780952400@livemusicasheville.com
SUMMARY:Traditional Bluegrass w/ The Asheville Mountain Boys
DESCRIPTION:
URL:https://livemusicasheville.com/calendar/bluegrass-w-the-asheville-mountain-boys-3-2-2/2026-06-08/
LOCATION:5 Walnut Wine Bar
CATEGORIES:Asheville Area,Live Music
GEO:35.596654;-82.5525389
END:VEVENT
BEGIN:VEVENT
DTSTART;TZID=America/New_York:20260622T190000
DTEND;TZID=America/New_York:20260622T210000
DTSTAMP:20260424T000304
CREATED:20260316T200227Z
LAST-MODIFIED:20260316T200227Z
UID:10034619-1782154800-1782162000@livemusicasheville.com
SUMMARY:Traditional Bluegrass w/ The Asheville Mountain Boys
DESCRIPTION:
URL:https://livemusicasheville.com/calendar/bluegrass-w-the-asheville-mountain-boys-3-2-2/2026-06-22/
LOCATION:5 Walnut Wine Bar
CATEGORIES:Asheville Area,Live Music
GEO:35.596654;-82.5525389
END:VEVENT
BEGIN:VEVENT
DTSTART;TZID=America/New_York:20260706T190000
DTEND;TZID=America/New_York:20260706T210000
DTSTAMP:20260424T000304
CREATED:20260316T200227Z
LAST-MODIFIED:20260316T200227Z
UID:10034620-1783364400-1783371600@livemusicasheville.com
SUMMARY:Traditional Bluegrass w/ The Asheville Mountain Boys
DESCRIPTION:
URL:https://livemusicasheville.com/calendar/bluegrass-w-the-asheville-mountain-boys-3-2-2/2026-07-06/
LOCATION:5 Walnut Wine Bar
CATEGORIES:Asheville Area,Live Music
GEO:35.596654;-82.5525389
END:VEVENT
BEGIN:VEVENT
DTSTART;TZID=America/New_York:20260720T190000
DTEND;TZID=America/New_York:20260720T210000
DTSTAMP:20260424T000304
CREATED:20260316T200227Z
LAST-MODIFIED:20260316T200227Z
UID:10034621-1784574000-1784581200@livemusicasheville.com
SUMMARY:Traditional Bluegrass w/ The Asheville Mountain Boys
DESCRIPTION:
URL:https://livemusicasheville.com/calendar/bluegrass-w-the-asheville-mountain-boys-3-2-2/2026-07-20/
LOCATION:5 Walnut Wine Bar
CATEGORIES:Asheville Area,Live Music
GEO:35.596654;-82.5525389
END:VEVENT
BEGIN:VEVENT
DTSTART;TZID=America/New_York:20260803T190000
DTEND;TZID=America/New_York:20260803T210000
DTSTAMP:20260424T000304
CREATED:20260316T200227Z
LAST-MODIFIED:20260316T200227Z
UID:10034622-1785783600-1785790800@livemusicasheville.com
SUMMARY:Traditional Bluegrass w/ The Asheville Mountain Boys
DESCRIPTION:
URL:https://livemusicasheville.com/calendar/bluegrass-w-the-asheville-mountain-boys-3-2-2/2026-08-03/
LOCATION:5 Walnut Wine Bar
CATEGORIES:Asheville Area,Live Music
GEO:35.596654;-82.5525389
END:VEVENT
BEGIN:VEVENT
DTSTART;TZID=America/New_York:20260817T190000
DTEND;TZID=America/New_York:20260817T210000
DTSTAMP:20260424T000304
CREATED:20260316T200227Z
LAST-MODIFIED:20260316T200227Z
UID:10034623-1786993200-1787000400@livemusicasheville.com
SUMMARY:Traditional Bluegrass w/ The Asheville Mountain Boys
DESCRIPTION:
URL:https://livemusicasheville.com/calendar/bluegrass-w-the-asheville-mountain-boys-3-2-2/2026-08-17/
LOCATION:5 Walnut Wine Bar
CATEGORIES:Asheville Area,Live Music
GEO:35.596654;-82.5525389
END:VEVENT
BEGIN:VEVENT
DTSTART;TZID=America/New_York:20260831T190000
DTEND;TZID=America/New_York:20260831T210000
DTSTAMP:20260424T000304
CREATED:20260316T200227Z
LAST-MODIFIED:20260316T200227Z
UID:10034624-1788202800-1788210000@livemusicasheville.com
SUMMARY:Traditional Bluegrass w/ The Asheville Mountain Boys
DESCRIPTION:
URL:https://livemusicasheville.com/calendar/bluegrass-w-the-asheville-mountain-boys-3-2-2/2026-08-31/
LOCATION:5 Walnut Wine Bar
CATEGORIES:Asheville Area,Live Music
GEO:35.596654;-82.5525389
END:VEVENT
BEGIN:VEVENT
DTSTART;TZID=America/New_York:20260914T190000
DTEND;TZID=America/New_York:20260914T210000
DTSTAMP:20260424T000304
CREATED:20260316T200227Z
LAST-MODIFIED:20260316T200227Z
UID:10034625-1789412400-1789419600@livemusicasheville.com
SUMMARY:Traditional Bluegrass w/ The Asheville Mountain Boys
DESCRIPTION:
URL:https://livemusicasheville.com/calendar/bluegrass-w-the-asheville-mountain-boys-3-2-2/2026-09-14/
LOCATION:5 Walnut Wine Bar
CATEGORIES:Asheville Area,Live Music
GEO:35.596654;-82.5525389
END:VEVENT
BEGIN:VEVENT
DTSTART;TZID=America/New_York:20260928T190000
DTEND;TZID=America/New_York:20260928T210000
DTSTAMP:20260424T000304
CREATED:20260316T200227Z
LAST-MODIFIED:20260316T200227Z
UID:10034626-1790622000-1790629200@livemusicasheville.com
SUMMARY:Traditional Bluegrass w/ The Asheville Mountain Boys
DESCRIPTION:
URL:https://livemusicasheville.com/calendar/bluegrass-w-the-asheville-mountain-boys-3-2-2/2026-09-28/
LOCATION:5 Walnut Wine Bar
CATEGORIES:Asheville Area,Live Music
GEO:35.596654;-82.5525389
END:VEVENT
BEGIN:VEVENT
DTSTART;TZID=America/New_York:20261012T190000
DTEND;TZID=America/New_York:20261012T210000
DTSTAMP:20260424T000304
CREATED:20260316T200227Z
LAST-MODIFIED:20260316T200227Z
UID:10034627-1791831600-1791838800@livemusicasheville.com
SUMMARY:Traditional Bluegrass w/ The Asheville Mountain Boys
DESCRIPTION:
URL:https://livemusicasheville.com/calendar/bluegrass-w-the-asheville-mountain-boys-3-2-2/2026-10-12/
LOCATION:5 Walnut Wine Bar
CATEGORIES:Asheville Area,Live Music
GEO:35.596654;-82.5525389
END:VEVENT
BEGIN:VEVENT
DTSTART;TZID=America/New_York:20261026T190000
DTEND;TZID=America/New_York:20261026T210000
DTSTAMP:20260424T000304
CREATED:20260316T200227Z
LAST-MODIFIED:20260316T200227Z
UID:10034628-1793041200-1793048400@livemusicasheville.com
SUMMARY:Traditional Bluegrass w/ The Asheville Mountain Boys
DESCRIPTION:
URL:https://livemusicasheville.com/calendar/bluegrass-w-the-asheville-mountain-boys-3-2-2/2026-10-26/
LOCATION:5 Walnut Wine Bar
CATEGORIES:Asheville Area,Live Music
GEO:35.596654;-82.5525389
END:VEVENT
BEGIN:VEVENT
DTSTART;TZID=America/New_York:20261109T190000
DTEND;TZID=America/New_York:20261109T210000
DTSTAMP:20260424T000304
CREATED:20260316T200227Z
LAST-MODIFIED:20260316T200227Z
UID:10034629-1794250800-1794258000@livemusicasheville.com
SUMMARY:Traditional Bluegrass w/ The Asheville Mountain Boys
DESCRIPTION:
URL:https://livemusicasheville.com/calendar/bluegrass-w-the-asheville-mountain-boys-3-2-2/2026-11-09/
LOCATION:5 Walnut Wine Bar
CATEGORIES:Asheville Area,Live Music
GEO:35.596654;-82.5525389
END:VEVENT
BEGIN:VEVENT
DTSTART;TZID=America/New_York:20261123T190000
DTEND;TZID=America/New_York:20261123T210000
DTSTAMP:20260424T000304
CREATED:20260316T200227Z
LAST-MODIFIED:20260316T200227Z
UID:10034630-1795460400-1795467600@livemusicasheville.com
SUMMARY:Traditional Bluegrass w/ The Asheville Mountain Boys
DESCRIPTION:
URL:https://livemusicasheville.com/calendar/bluegrass-w-the-asheville-mountain-boys-3-2-2/2026-11-23/
LOCATION:5 Walnut Wine Bar
CATEGORIES:Asheville Area,Live Music
GEO:35.596654;-82.5525389
END:VEVENT
BEGIN:VEVENT
DTSTART;TZID=America/New_York:20261207T190000
DTEND;TZID=America/New_York:20261207T210000
DTSTAMP:20260424T000304
CREATED:20260316T200227Z
LAST-MODIFIED:20260316T200227Z
UID:10034631-1796670000-1796677200@livemusicasheville.com
SUMMARY:Traditional Bluegrass w/ The Asheville Mountain Boys
DESCRIPTION:
URL:https://livemusicasheville.com/calendar/bluegrass-w-the-asheville-mountain-boys-3-2-2/2026-12-07/
LOCATION:5 Walnut Wine Bar
CATEGORIES:Asheville Area,Live Music
GEO:35.596654;-82.5525389
END:VEVENT
BEGIN:VEVENT
DTSTART;TZID=America/New_York:20261221T190000
DTEND;TZID=America/New_York:20261221T210000
DTSTAMP:20260424T000304
CREATED:20260316T200227Z
LAST-MODIFIED:20260316T200227Z
UID:10034632-1797879600-1797886800@livemusicasheville.com
SUMMARY:Traditional Bluegrass w/ The Asheville Mountain Boys
DESCRIPTION:
URL:https://livemusicasheville.com/calendar/bluegrass-w-the-asheville-mountain-boys-3-2-2/2026-12-21/
LOCATION:5 Walnut Wine Bar
CATEGORIES:Asheville Area,Live Music
GEO:35.596654;-82.5525389
END:VEVENT
BEGIN:VEVENT
DTSTART;TZID=America/New_York:20270104T190000
DTEND;TZID=America/New_York:20270104T210000
DTSTAMP:20260424T000304
CREATED:20260316T200227Z
LAST-MODIFIED:20260316T200227Z
UID:10034633-1799089200-1799096400@livemusicasheville.com
SUMMARY:Traditional Bluegrass w/ The Asheville Mountain Boys
DESCRIPTION:
URL:https://livemusicasheville.com/calendar/bluegrass-w-the-asheville-mountain-boys-3-2-2/2027-01-04/
LOCATION:5 Walnut Wine Bar
CATEGORIES:Asheville Area,Live Music
GEO:35.596654;-82.5525389
END:VEVENT
BEGIN:VEVENT
DTSTART;TZID=America/New_York:20270118T190000
DTEND;TZID=America/New_York:20270118T210000
DTSTAMP:20260424T000304
CREATED:20260316T200227Z
LAST-MODIFIED:20260316T200227Z
UID:10034634-1800298800-1800306000@livemusicasheville.com
SUMMARY:Traditional Bluegrass w/ The Asheville Mountain Boys
DESCRIPTION:
URL:https://livemusicasheville.com/calendar/bluegrass-w-the-asheville-mountain-boys-3-2-2/2027-01-18/
LOCATION:5 Walnut Wine Bar
CATEGORIES:Asheville Area,Live Music
GEO:35.596654;-82.5525389
END:VEVENT
BEGIN:VEVENT
DTSTART;TZID=America/New_York:20270201T190000
DTEND;TZID=America/New_York:20270201T210000
DTSTAMP:20260424T000304
CREATED:20260316T200227Z
LAST-MODIFIED:20260316T200227Z
UID:10034635-1801508400-1801515600@livemusicasheville.com
SUMMARY:Traditional Bluegrass w/ The Asheville Mountain Boys
DESCRIPTION:
URL:https://livemusicasheville.com/calendar/bluegrass-w-the-asheville-mountain-boys-3-2-2/2027-02-01/
LOCATION:5 Walnut Wine Bar
CATEGORIES:Asheville Area,Live Music
GEO:35.596654;-82.5525389
END:VEVENT
BEGIN:VEVENT
DTSTART;TZID=America/New_York:20270215T190000
DTEND;TZID=America/New_York:20270215T210000
DTSTAMP:20260424T000304
CREATED:20260316T200227Z
LAST-MODIFIED:20260316T200227Z
UID:10034636-1802718000-1802725200@livemusicasheville.com
SUMMARY:Traditional Bluegrass w/ The Asheville Mountain Boys
DESCRIPTION:
URL:https://livemusicasheville.com/calendar/bluegrass-w-the-asheville-mountain-boys-3-2-2/2027-02-15/
LOCATION:5 Walnut Wine Bar
CATEGORIES:Asheville Area,Live Music
GEO:35.596654;-82.5525389
END:VEVENT
BEGIN:VEVENT
DTSTART;TZID=America/New_York:20270301T190000
DTEND;TZID=America/New_York:20270301T210000
DTSTAMP:20260424T000304
CREATED:20260316T200227Z
LAST-MODIFIED:20260316T200227Z
UID:10034637-1803927600-1803934800@livemusicasheville.com
SUMMARY:Traditional Bluegrass w/ The Asheville Mountain Boys
DESCRIPTION:
URL:https://livemusicasheville.com/calendar/bluegrass-w-the-asheville-mountain-boys-3-2-2/2027-03-01/
LOCATION:5 Walnut Wine Bar
CATEGORIES:Asheville Area,Live Music
GEO:35.596654;-82.5525389
END:VEVENT
BEGIN:VEVENT
DTSTART;TZID=America/New_York:20270315T190000
DTEND;TZID=America/New_York:20270315T210000
DTSTAMP:20260424T000304
CREATED:20260316T200227Z
LAST-MODIFIED:20260316T200227Z
UID:10034638-1805137200-1805144400@livemusicasheville.com
SUMMARY:Traditional Bluegrass w/ The Asheville Mountain Boys
DESCRIPTION:
URL:https://livemusicasheville.com/calendar/bluegrass-w-the-asheville-mountain-boys-3-2-2/2027-03-15/
LOCATION:5 Walnut Wine Bar
CATEGORIES:Asheville Area,Live Music
GEO:35.596654;-82.5525389
END:VEVENT
BEGIN:VEVENT
DTSTART;TZID=America/New_York:20270329T190000
DTEND;TZID=America/New_York:20270329T210000
DTSTAMP:20260424T000304
CREATED:20260316T200227Z
LAST-MODIFIED:20260316T200227Z
UID:10034639-1806346800-1806354000@livemusicasheville.com
SUMMARY:Traditional Bluegrass w/ The Asheville Mountain Boys
DESCRIPTION:
URL:https://livemusicasheville.com/calendar/bluegrass-w-the-asheville-mountain-boys-3-2-2/2027-03-29/
LOCATION:5 Walnut Wine Bar
CATEGORIES:Asheville Area,Live Music
GEO:35.596654;-82.5525389
END:VEVENT
BEGIN:VEVENT
DTSTART;TZID=America/New_York:20270412T190000
DTEND;TZID=America/New_York:20270412T210000
DTSTAMP:20260424T000304
CREATED:20260316T200227Z
LAST-MODIFIED:20260316T200227Z
UID:10034640-1807556400-1807563600@livemusicasheville.com
SUMMARY:Traditional Bluegrass w/ The Asheville Mountain Boys
DESCRIPTION:
URL:https://livemusicasheville.com/calendar/bluegrass-w-the-asheville-mountain-boys-3-2-2/2027-04-12/
LOCATION:5 Walnut Wine Bar
CATEGORIES:Asheville Area,Live Music
GEO:35.596654;-82.5525389
END:VEVENT
BEGIN:VEVENT
DTSTART;TZID=America/New_York:20270426T190000
DTEND;TZID=America/New_York:20270426T210000
DTSTAMP:20260424T000304
CREATED:20260316T200227Z
LAST-MODIFIED:20260316T200227Z
UID:10034641-1808766000-1808773200@livemusicasheville.com
SUMMARY:Traditional Bluegrass w/ The Asheville Mountain Boys
DESCRIPTION:
URL:https://livemusicasheville.com/calendar/bluegrass-w-the-asheville-mountain-boys-3-2-2/2027-04-26/
LOCATION:5 Walnut Wine Bar
CATEGORIES:Asheville Area,Live Music
GEO:35.596654;-82.5525389
END:VEVENT
BEGIN:VEVENT
DTSTART;TZID=America/New_York:20270510T190000
DTEND;TZID=America/New_York:20270510T210000
DTSTAMP:20260424T000304
CREATED:20260316T200227Z
LAST-MODIFIED:20260316T200227Z
UID:10034642-1809975600-1809982800@livemusicasheville.com
SUMMARY:Traditional Bluegrass w/ The Asheville Mountain Boys
DESCRIPTION:
URL:https://livemusicasheville.com/calendar/bluegrass-w-the-asheville-mountain-boys-3-2-2/2027-05-10/
LOCATION:5 Walnut Wine Bar
CATEGORIES:Asheville Area,Live Music
GEO:35.596654;-82.5525389
END:VEVENT
BEGIN:VEVENT
DTSTART;TZID=America/New_York:20270524T190000
DTEND;TZID=America/New_York:20270524T210000
DTSTAMP:20260424T000304
CREATED:20260316T200227Z
LAST-MODIFIED:20260316T200227Z
UID:10034643-1811185200-1811192400@livemusicasheville.com
SUMMARY:Traditional Bluegrass w/ The Asheville Mountain Boys
DESCRIPTION:
URL:https://livemusicasheville.com/calendar/bluegrass-w-the-asheville-mountain-boys-3-2-2/2027-05-24/
LOCATION:5 Walnut Wine Bar
CATEGORIES:Asheville Area,Live Music
GEO:35.596654;-82.5525389
END:VEVENT
BEGIN:VEVENT
DTSTART;TZID=America/New_York:20270607T190000
DTEND;TZID=America/New_York:20270607T210000
DTSTAMP:20260424T000304
CREATED:20260316T200227Z
LAST-MODIFIED:20260316T200227Z
UID:10034644-1812394800-1812402000@livemusicasheville.com
SUMMARY:Traditional Bluegrass w/ The Asheville Mountain Boys
DESCRIPTION:
URL:https://livemusicasheville.com/calendar/bluegrass-w-the-asheville-mountain-boys-3-2-2/2027-06-07/
LOCATION:5 Walnut Wine Bar
CATEGORIES:Asheville Area,Live Music
GEO:35.596654;-82.5525389
END:VEVENT
END:VCALENDAR