BEGIN:VCALENDAR
VERSION:2.0
PRODID:-//LiveMusicAsheville.com - ECPv6.15.20//NONSGML v1.0//EN
CALSCALE:GREGORIAN
METHOD:PUBLISH
X-ORIGINAL-URL:https://livemusicasheville.com
X-WR-CALDESC:Events for LiveMusicAsheville.com
REFRESH-INTERVAL;VALUE=DURATION:PT1H
X-Robots-Tag:noindex
X-PUBLISHED-TTL:PT1H
BEGIN:VTIMEZONE
TZID:America/New_York
BEGIN:DAYLIGHT
TZOFFSETFROM:-0500
TZOFFSETTO:-0400
TZNAME:EDT
DTSTART:20250309T070000
END:DAYLIGHT
BEGIN:STANDARD
TZOFFSETFROM:-0400
TZOFFSETTO:-0500
TZNAME:EST
DTSTART:20251102T060000
END:STANDARD
BEGIN:DAYLIGHT
TZOFFSETFROM:-0500
TZOFFSETTO:-0400
TZNAME:EDT
DTSTART:20260308T070000
END:DAYLIGHT
BEGIN:STANDARD
TZOFFSETFROM:-0400
TZOFFSETTO:-0500
TZNAME:EST
DTSTART:20261101T060000
END:STANDARD
BEGIN:DAYLIGHT
TZOFFSETFROM:-0500
TZOFFSETTO:-0400
TZNAME:EDT
DTSTART:20270314T070000
END:DAYLIGHT
BEGIN:STANDARD
TZOFFSETFROM:-0400
TZOFFSETTO:-0500
TZNAME:EST
DTSTART:20271107T060000
END:STANDARD
END:VTIMEZONE
BEGIN:VEVENT
DTSTART;TZID=America/New_York:20260424T163000
DTEND;TZID=America/New_York:20260424T201500
DTSTAMP:20260423T013503
CREATED:20260318T173349Z
LAST-MODIFIED:20260415T224759Z
UID:10054546-1777048200-1777061700@livemusicasheville.com
SUMMARY:Live Music at the Bandstand
DESCRIPTION:April Schedule: \nFri. 4/17 – BRUCE LANG BAND\, Swing\, Light Rock \nSat. 4/18 – FREEPORT JAZZ\, Smooth Jazz \nFri. 4/24 – CLAY LUNSFORD BAND\, Americana \nSat. 4/25 – KELLEY AND THE COWBOYS\, Country Western \nTo enjoy this complimentary event\, guest must have a daytime ticket\, a Biltmore Annual Pass\, or a stay at one of the estate’s splendid overnight properties. 
URL:https://livemusicasheville.com/calendar/live-music-at-the-bandstand-5/2026-04-24/
LOCATION:Antler Hill Village\, Biltmore Estate
CATEGORIES:Asheville Area,Live Music
END:VEVENT
BEGIN:VEVENT
DTSTART;TZID=America/New_York:20260425T163000
DTEND;TZID=America/New_York:20260425T201500
DTSTAMP:20260423T013503
CREATED:20260318T173349Z
LAST-MODIFIED:20260415T224759Z
UID:10054547-1777134600-1777148100@livemusicasheville.com
SUMMARY:Live Music at the Bandstand
DESCRIPTION:April Schedule: \nFri. 4/17 – BRUCE LANG BAND\, Swing\, Light Rock \nSat. 4/18 – FREEPORT JAZZ\, Smooth Jazz \nFri. 4/24 – CLAY LUNSFORD BAND\, Americana \nSat. 4/25 – KELLEY AND THE COWBOYS\, Country Western \nTo enjoy this complimentary event\, guest must have a daytime ticket\, a Biltmore Annual Pass\, or a stay at one of the estate’s splendid overnight properties. 
URL:https://livemusicasheville.com/calendar/live-music-at-the-bandstand-5/2026-04-25/
LOCATION:Antler Hill Village\, Biltmore Estate
CATEGORIES:Asheville Area,Live Music
END:VEVENT
BEGIN:VEVENT
DTSTART;TZID=America/New_York:20260501T163000
DTEND;TZID=America/New_York:20260501T201500
DTSTAMP:20260423T013503
CREATED:20260415T225105Z
LAST-MODIFIED:20260415T225422Z
UID:10020654-1777653000-1777666500@livemusicasheville.com
SUMMARY:Live Music at the Bandstand
DESCRIPTION:Friday\, May 1\, 2026 Clay Lunsford Band Americana\nSaturday\, May 2\, 2026 Kelley and The Cowboys Country Western\nFriday\, May 8\, 2026 Speak EZ Jazz\, Motown\, R&B\nSaturday\, May 9\, 2026 Speak EZ Jazz\, Motown\, R&B\nFriday\, May 15\, 2026 One Leg Up Acoustic Swing\, Gypsy Jazz\nSaturday\, May 16\, 2026 Company Swing Jazz\, Latin\, Bossa\, Gypsy\, Soft Pop\nFriday\, May 22\, 2026 Not From Here featuring Sandi Grecco\, Jazz Rock Blues\nSaturday\, May 23\, 2026 Flashback Band 80’s Rock\nSunday\, May 24\, 2026 Freeport Jazz Smooth Jazz\nFriday\, May 29\, 2026 Fwuit Pop\nSaturday\, May 30\, 2026 Firecracker Jazz Band Dixieland Jazz \nTo enjoy this complimentary event\, guest must have a daytime ticket\, a Biltmore Annual Pass\, or a stay at one of the estate’s splendid overnight properties. 
URL:https://livemusicasheville.com/calendar/live-music-at-the-bandstand-4-2/2026-05-01/
LOCATION:Antler Hill Village\, Biltmore Estate
CATEGORIES:Asheville Area,Live Music
END:VEVENT
BEGIN:VEVENT
DTSTART;TZID=America/New_York:20260502T163000
DTEND;TZID=America/New_York:20260502T201500
DTSTAMP:20260423T013503
CREATED:20260415T225105Z
LAST-MODIFIED:20260415T225422Z
UID:10057445-1777739400-1777752900@livemusicasheville.com
SUMMARY:Live Music at the Bandstand
DESCRIPTION:Friday\, May 1\, 2026 Clay Lunsford Band Americana\nSaturday\, May 2\, 2026 Kelley and The Cowboys Country Western\nFriday\, May 8\, 2026 Speak EZ Jazz\, Motown\, R&B\nSaturday\, May 9\, 2026 Speak EZ Jazz\, Motown\, R&B\nFriday\, May 15\, 2026 One Leg Up Acoustic Swing\, Gypsy Jazz\nSaturday\, May 16\, 2026 Company Swing Jazz\, Latin\, Bossa\, Gypsy\, Soft Pop\nFriday\, May 22\, 2026 Not From Here featuring Sandi Grecco\, Jazz Rock Blues\nSaturday\, May 23\, 2026 Flashback Band 80’s Rock\nSunday\, May 24\, 2026 Freeport Jazz Smooth Jazz\nFriday\, May 29\, 2026 Fwuit Pop\nSaturday\, May 30\, 2026 Firecracker Jazz Band Dixieland Jazz \nTo enjoy this complimentary event\, guest must have a daytime ticket\, a Biltmore Annual Pass\, or a stay at one of the estate’s splendid overnight properties. 
URL:https://livemusicasheville.com/calendar/live-music-at-the-bandstand-4-2/2026-05-02/
LOCATION:Antler Hill Village\, Biltmore Estate
CATEGORIES:Asheville Area,Live Music
END:VEVENT
BEGIN:VEVENT
DTSTART;TZID=America/New_York:20260508T163000
DTEND;TZID=America/New_York:20260508T201500
DTSTAMP:20260423T013503
CREATED:20260415T225105Z
LAST-MODIFIED:20260415T225422Z
UID:10057446-1778257800-1778271300@livemusicasheville.com
SUMMARY:Live Music at the Bandstand
DESCRIPTION:Friday\, May 1\, 2026 Clay Lunsford Band Americana\nSaturday\, May 2\, 2026 Kelley and The Cowboys Country Western\nFriday\, May 8\, 2026 Speak EZ Jazz\, Motown\, R&B\nSaturday\, May 9\, 2026 Speak EZ Jazz\, Motown\, R&B\nFriday\, May 15\, 2026 One Leg Up Acoustic Swing\, Gypsy Jazz\nSaturday\, May 16\, 2026 Company Swing Jazz\, Latin\, Bossa\, Gypsy\, Soft Pop\nFriday\, May 22\, 2026 Not From Here featuring Sandi Grecco\, Jazz Rock Blues\nSaturday\, May 23\, 2026 Flashback Band 80’s Rock\nSunday\, May 24\, 2026 Freeport Jazz Smooth Jazz\nFriday\, May 29\, 2026 Fwuit Pop\nSaturday\, May 30\, 2026 Firecracker Jazz Band Dixieland Jazz \nTo enjoy this complimentary event\, guest must have a daytime ticket\, a Biltmore Annual Pass\, or a stay at one of the estate’s splendid overnight properties. 
URL:https://livemusicasheville.com/calendar/live-music-at-the-bandstand-4-2/2026-05-08/
LOCATION:Antler Hill Village\, Biltmore Estate
CATEGORIES:Asheville Area,Live Music
END:VEVENT
BEGIN:VEVENT
DTSTART;TZID=America/New_York:20260509T163000
DTEND;TZID=America/New_York:20260509T201500
DTSTAMP:20260423T013503
CREATED:20260415T225105Z
LAST-MODIFIED:20260415T225422Z
UID:10057447-1778344200-1778357700@livemusicasheville.com
SUMMARY:Live Music at the Bandstand
DESCRIPTION:Friday\, May 1\, 2026 Clay Lunsford Band Americana\nSaturday\, May 2\, 2026 Kelley and The Cowboys Country Western\nFriday\, May 8\, 2026 Speak EZ Jazz\, Motown\, R&B\nSaturday\, May 9\, 2026 Speak EZ Jazz\, Motown\, R&B\nFriday\, May 15\, 2026 One Leg Up Acoustic Swing\, Gypsy Jazz\nSaturday\, May 16\, 2026 Company Swing Jazz\, Latin\, Bossa\, Gypsy\, Soft Pop\nFriday\, May 22\, 2026 Not From Here featuring Sandi Grecco\, Jazz Rock Blues\nSaturday\, May 23\, 2026 Flashback Band 80’s Rock\nSunday\, May 24\, 2026 Freeport Jazz Smooth Jazz\nFriday\, May 29\, 2026 Fwuit Pop\nSaturday\, May 30\, 2026 Firecracker Jazz Band Dixieland Jazz \nTo enjoy this complimentary event\, guest must have a daytime ticket\, a Biltmore Annual Pass\, or a stay at one of the estate’s splendid overnight properties. 
URL:https://livemusicasheville.com/calendar/live-music-at-the-bandstand-4-2/2026-05-09/
LOCATION:Antler Hill Village\, Biltmore Estate
CATEGORIES:Asheville Area,Live Music
END:VEVENT
BEGIN:VEVENT
DTSTART;TZID=America/New_York:20260515T163000
DTEND;TZID=America/New_York:20260515T201500
DTSTAMP:20260423T013503
CREATED:20260415T225105Z
LAST-MODIFIED:20260415T225422Z
UID:10057448-1778862600-1778876100@livemusicasheville.com
SUMMARY:Live Music at the Bandstand
DESCRIPTION:Friday\, May 1\, 2026 Clay Lunsford Band Americana\nSaturday\, May 2\, 2026 Kelley and The Cowboys Country Western\nFriday\, May 8\, 2026 Speak EZ Jazz\, Motown\, R&B\nSaturday\, May 9\, 2026 Speak EZ Jazz\, Motown\, R&B\nFriday\, May 15\, 2026 One Leg Up Acoustic Swing\, Gypsy Jazz\nSaturday\, May 16\, 2026 Company Swing Jazz\, Latin\, Bossa\, Gypsy\, Soft Pop\nFriday\, May 22\, 2026 Not From Here featuring Sandi Grecco\, Jazz Rock Blues\nSaturday\, May 23\, 2026 Flashback Band 80’s Rock\nSunday\, May 24\, 2026 Freeport Jazz Smooth Jazz\nFriday\, May 29\, 2026 Fwuit Pop\nSaturday\, May 30\, 2026 Firecracker Jazz Band Dixieland Jazz \nTo enjoy this complimentary event\, guest must have a daytime ticket\, a Biltmore Annual Pass\, or a stay at one of the estate’s splendid overnight properties. 
URL:https://livemusicasheville.com/calendar/live-music-at-the-bandstand-4-2/2026-05-15/
LOCATION:Antler Hill Village\, Biltmore Estate
CATEGORIES:Asheville Area,Live Music
END:VEVENT
BEGIN:VEVENT
DTSTART;TZID=America/New_York:20260516T163000
DTEND;TZID=America/New_York:20260516T201500
DTSTAMP:20260423T013503
CREATED:20260415T225105Z
LAST-MODIFIED:20260415T225422Z
UID:10057449-1778949000-1778962500@livemusicasheville.com
SUMMARY:Live Music at the Bandstand
DESCRIPTION:Friday\, May 1\, 2026 Clay Lunsford Band Americana\nSaturday\, May 2\, 2026 Kelley and The Cowboys Country Western\nFriday\, May 8\, 2026 Speak EZ Jazz\, Motown\, R&B\nSaturday\, May 9\, 2026 Speak EZ Jazz\, Motown\, R&B\nFriday\, May 15\, 2026 One Leg Up Acoustic Swing\, Gypsy Jazz\nSaturday\, May 16\, 2026 Company Swing Jazz\, Latin\, Bossa\, Gypsy\, Soft Pop\nFriday\, May 22\, 2026 Not From Here featuring Sandi Grecco\, Jazz Rock Blues\nSaturday\, May 23\, 2026 Flashback Band 80’s Rock\nSunday\, May 24\, 2026 Freeport Jazz Smooth Jazz\nFriday\, May 29\, 2026 Fwuit Pop\nSaturday\, May 30\, 2026 Firecracker Jazz Band Dixieland Jazz \nTo enjoy this complimentary event\, guest must have a daytime ticket\, a Biltmore Annual Pass\, or a stay at one of the estate’s splendid overnight properties. 
URL:https://livemusicasheville.com/calendar/live-music-at-the-bandstand-4-2/2026-05-16/
LOCATION:Antler Hill Village\, Biltmore Estate
CATEGORIES:Asheville Area,Live Music
END:VEVENT
BEGIN:VEVENT
DTSTART;TZID=America/New_York:20260522T163000
DTEND;TZID=America/New_York:20260522T201500
DTSTAMP:20260423T013503
CREATED:20260415T225105Z
LAST-MODIFIED:20260415T225422Z
UID:10057450-1779467400-1779480900@livemusicasheville.com
SUMMARY:Live Music at the Bandstand
DESCRIPTION:Friday\, May 1\, 2026 Clay Lunsford Band Americana\nSaturday\, May 2\, 2026 Kelley and The Cowboys Country Western\nFriday\, May 8\, 2026 Speak EZ Jazz\, Motown\, R&B\nSaturday\, May 9\, 2026 Speak EZ Jazz\, Motown\, R&B\nFriday\, May 15\, 2026 One Leg Up Acoustic Swing\, Gypsy Jazz\nSaturday\, May 16\, 2026 Company Swing Jazz\, Latin\, Bossa\, Gypsy\, Soft Pop\nFriday\, May 22\, 2026 Not From Here featuring Sandi Grecco\, Jazz Rock Blues\nSaturday\, May 23\, 2026 Flashback Band 80’s Rock\nSunday\, May 24\, 2026 Freeport Jazz Smooth Jazz\nFriday\, May 29\, 2026 Fwuit Pop\nSaturday\, May 30\, 2026 Firecracker Jazz Band Dixieland Jazz \nTo enjoy this complimentary event\, guest must have a daytime ticket\, a Biltmore Annual Pass\, or a stay at one of the estate’s splendid overnight properties. 
URL:https://livemusicasheville.com/calendar/live-music-at-the-bandstand-4-2/2026-05-22/
LOCATION:Antler Hill Village\, Biltmore Estate
CATEGORIES:Asheville Area,Live Music
END:VEVENT
BEGIN:VEVENT
DTSTART;TZID=America/New_York:20260523T163000
DTEND;TZID=America/New_York:20260523T201500
DTSTAMP:20260423T013503
CREATED:20260415T225105Z
LAST-MODIFIED:20260415T225422Z
UID:10057451-1779553800-1779567300@livemusicasheville.com
SUMMARY:Live Music at the Bandstand
DESCRIPTION:Friday\, May 1\, 2026 Clay Lunsford Band Americana\nSaturday\, May 2\, 2026 Kelley and The Cowboys Country Western\nFriday\, May 8\, 2026 Speak EZ Jazz\, Motown\, R&B\nSaturday\, May 9\, 2026 Speak EZ Jazz\, Motown\, R&B\nFriday\, May 15\, 2026 One Leg Up Acoustic Swing\, Gypsy Jazz\nSaturday\, May 16\, 2026 Company Swing Jazz\, Latin\, Bossa\, Gypsy\, Soft Pop\nFriday\, May 22\, 2026 Not From Here featuring Sandi Grecco\, Jazz Rock Blues\nSaturday\, May 23\, 2026 Flashback Band 80’s Rock\nSunday\, May 24\, 2026 Freeport Jazz Smooth Jazz\nFriday\, May 29\, 2026 Fwuit Pop\nSaturday\, May 30\, 2026 Firecracker Jazz Band Dixieland Jazz \nTo enjoy this complimentary event\, guest must have a daytime ticket\, a Biltmore Annual Pass\, or a stay at one of the estate’s splendid overnight properties. 
URL:https://livemusicasheville.com/calendar/live-music-at-the-bandstand-4-2/2026-05-23/
LOCATION:Antler Hill Village\, Biltmore Estate
CATEGORIES:Asheville Area,Live Music
END:VEVENT
BEGIN:VEVENT
DTSTART;TZID=America/New_York:20260524T163000
DTEND;TZID=America/New_York:20260524T201500
DTSTAMP:20260423T013503
CREATED:20260415T225105Z
LAST-MODIFIED:20260415T225422Z
UID:10057452-1779640200-1779653700@livemusicasheville.com
SUMMARY:Live Music at the Bandstand
DESCRIPTION:Friday\, May 1\, 2026 Clay Lunsford Band Americana\nSaturday\, May 2\, 2026 Kelley and The Cowboys Country Western\nFriday\, May 8\, 2026 Speak EZ Jazz\, Motown\, R&B\nSaturday\, May 9\, 2026 Speak EZ Jazz\, Motown\, R&B\nFriday\, May 15\, 2026 One Leg Up Acoustic Swing\, Gypsy Jazz\nSaturday\, May 16\, 2026 Company Swing Jazz\, Latin\, Bossa\, Gypsy\, Soft Pop\nFriday\, May 22\, 2026 Not From Here featuring Sandi Grecco\, Jazz Rock Blues\nSaturday\, May 23\, 2026 Flashback Band 80’s Rock\nSunday\, May 24\, 2026 Freeport Jazz Smooth Jazz\nFriday\, May 29\, 2026 Fwuit Pop\nSaturday\, May 30\, 2026 Firecracker Jazz Band Dixieland Jazz \nTo enjoy this complimentary event\, guest must have a daytime ticket\, a Biltmore Annual Pass\, or a stay at one of the estate’s splendid overnight properties. 
URL:https://livemusicasheville.com/calendar/live-music-at-the-bandstand-4-2/2026-05-24/
LOCATION:Antler Hill Village\, Biltmore Estate
CATEGORIES:Asheville Area,Live Music
END:VEVENT
BEGIN:VEVENT
DTSTART;TZID=America/New_York:20260529T163000
DTEND;TZID=America/New_York:20260529T201500
DTSTAMP:20260423T013503
CREATED:20260415T225105Z
LAST-MODIFIED:20260415T225422Z
UID:10057453-1780072200-1780085700@livemusicasheville.com
SUMMARY:Live Music at the Bandstand
DESCRIPTION:Friday\, May 1\, 2026 Clay Lunsford Band Americana\nSaturday\, May 2\, 2026 Kelley and The Cowboys Country Western\nFriday\, May 8\, 2026 Speak EZ Jazz\, Motown\, R&B\nSaturday\, May 9\, 2026 Speak EZ Jazz\, Motown\, R&B\nFriday\, May 15\, 2026 One Leg Up Acoustic Swing\, Gypsy Jazz\nSaturday\, May 16\, 2026 Company Swing Jazz\, Latin\, Bossa\, Gypsy\, Soft Pop\nFriday\, May 22\, 2026 Not From Here featuring Sandi Grecco\, Jazz Rock Blues\nSaturday\, May 23\, 2026 Flashback Band 80’s Rock\nSunday\, May 24\, 2026 Freeport Jazz Smooth Jazz\nFriday\, May 29\, 2026 Fwuit Pop\nSaturday\, May 30\, 2026 Firecracker Jazz Band Dixieland Jazz \nTo enjoy this complimentary event\, guest must have a daytime ticket\, a Biltmore Annual Pass\, or a stay at one of the estate’s splendid overnight properties. 
URL:https://livemusicasheville.com/calendar/live-music-at-the-bandstand-4-2/2026-05-29/
LOCATION:Antler Hill Village\, Biltmore Estate
CATEGORIES:Asheville Area,Live Music
END:VEVENT
BEGIN:VEVENT
DTSTART;TZID=America/New_York:20260530T163000
DTEND;TZID=America/New_York:20260530T201500
DTSTAMP:20260423T013503
CREATED:20260415T225105Z
LAST-MODIFIED:20260415T225422Z
UID:10057454-1780158600-1780172100@livemusicasheville.com
SUMMARY:Live Music at the Bandstand
DESCRIPTION:Friday\, May 1\, 2026 Clay Lunsford Band Americana\nSaturday\, May 2\, 2026 Kelley and The Cowboys Country Western\nFriday\, May 8\, 2026 Speak EZ Jazz\, Motown\, R&B\nSaturday\, May 9\, 2026 Speak EZ Jazz\, Motown\, R&B\nFriday\, May 15\, 2026 One Leg Up Acoustic Swing\, Gypsy Jazz\nSaturday\, May 16\, 2026 Company Swing Jazz\, Latin\, Bossa\, Gypsy\, Soft Pop\nFriday\, May 22\, 2026 Not From Here featuring Sandi Grecco\, Jazz Rock Blues\nSaturday\, May 23\, 2026 Flashback Band 80’s Rock\nSunday\, May 24\, 2026 Freeport Jazz Smooth Jazz\nFriday\, May 29\, 2026 Fwuit Pop\nSaturday\, May 30\, 2026 Firecracker Jazz Band Dixieland Jazz \nTo enjoy this complimentary event\, guest must have a daytime ticket\, a Biltmore Annual Pass\, or a stay at one of the estate’s splendid overnight properties. 
URL:https://livemusicasheville.com/calendar/live-music-at-the-bandstand-4-2/2026-05-30/
LOCATION:Antler Hill Village\, Biltmore Estate
CATEGORIES:Asheville Area,Live Music
END:VEVENT
BEGIN:VEVENT
DTSTART;TZID=America/New_York:20260605T163000
DTEND;TZID=America/New_York:20260605T201500
DTSTAMP:20260423T013503
CREATED:20260415T225535Z
LAST-MODIFIED:20260415T225611Z
UID:10020653-1780677000-1780690500@livemusicasheville.com
SUMMARY:Live Music at the Bandstand
DESCRIPTION:Friday\, June 5\, 2026 Stormy Weather Quartet Light Jazz\, Pop\, Ragtime\nSaturday\, June 6\, 2026 Clay Lunsford Band Americana\nFriday\, June 12\, 2026 Bruce Lang Band Swing\, Light Rock\nSaturday\, June 13\, 2026 Firecracker Jazz Band Dixieland Jazz\nFriday\, June 19\, 2026 Buncombe Turnpike Bluegrass\nSaturday\, June 20\, 2026 Sound Invasion Variety 60’s\, 70’s and 80’s\nFriday\, June 26\, 2026 Michael Stevens Quartet Jazz\nSaturday\, June 27\, 2026 Flashback Band 80’s Rock \nTo enjoy this complimentary event\, guest must have a daytime ticket\, a Biltmore Annual Pass\, or a stay at one of the estate’s splendid overnight properties. 
URL:https://livemusicasheville.com/calendar/live-music-at-the-bandstand-4-3/2026-06-05/
LOCATION:Antler Hill Village\, Biltmore Estate
CATEGORIES:Asheville Area,Live Music
END:VEVENT
BEGIN:VEVENT
DTSTART;TZID=America/New_York:20260606T163000
DTEND;TZID=America/New_York:20260606T201500
DTSTAMP:20260423T013503
CREATED:20260415T225535Z
LAST-MODIFIED:20260415T225611Z
UID:10057455-1780763400-1780776900@livemusicasheville.com
SUMMARY:Live Music at the Bandstand
DESCRIPTION:Friday\, June 5\, 2026 Stormy Weather Quartet Light Jazz\, Pop\, Ragtime\nSaturday\, June 6\, 2026 Clay Lunsford Band Americana\nFriday\, June 12\, 2026 Bruce Lang Band Swing\, Light Rock\nSaturday\, June 13\, 2026 Firecracker Jazz Band Dixieland Jazz\nFriday\, June 19\, 2026 Buncombe Turnpike Bluegrass\nSaturday\, June 20\, 2026 Sound Invasion Variety 60’s\, 70’s and 80’s\nFriday\, June 26\, 2026 Michael Stevens Quartet Jazz\nSaturday\, June 27\, 2026 Flashback Band 80’s Rock \nTo enjoy this complimentary event\, guest must have a daytime ticket\, a Biltmore Annual Pass\, or a stay at one of the estate’s splendid overnight properties. 
URL:https://livemusicasheville.com/calendar/live-music-at-the-bandstand-4-3/2026-06-06/
LOCATION:Antler Hill Village\, Biltmore Estate
CATEGORIES:Asheville Area,Live Music
END:VEVENT
BEGIN:VEVENT
DTSTART;TZID=America/New_York:20260612T163000
DTEND;TZID=America/New_York:20260612T201500
DTSTAMP:20260423T013503
CREATED:20260415T225535Z
LAST-MODIFIED:20260415T225611Z
UID:10057456-1781281800-1781295300@livemusicasheville.com
SUMMARY:Live Music at the Bandstand
DESCRIPTION:Friday\, June 5\, 2026 Stormy Weather Quartet Light Jazz\, Pop\, Ragtime\nSaturday\, June 6\, 2026 Clay Lunsford Band Americana\nFriday\, June 12\, 2026 Bruce Lang Band Swing\, Light Rock\nSaturday\, June 13\, 2026 Firecracker Jazz Band Dixieland Jazz\nFriday\, June 19\, 2026 Buncombe Turnpike Bluegrass\nSaturday\, June 20\, 2026 Sound Invasion Variety 60’s\, 70’s and 80’s\nFriday\, June 26\, 2026 Michael Stevens Quartet Jazz\nSaturday\, June 27\, 2026 Flashback Band 80’s Rock \nTo enjoy this complimentary event\, guest must have a daytime ticket\, a Biltmore Annual Pass\, or a stay at one of the estate’s splendid overnight properties. 
URL:https://livemusicasheville.com/calendar/live-music-at-the-bandstand-4-3/2026-06-12/
LOCATION:Antler Hill Village\, Biltmore Estate
CATEGORIES:Asheville Area,Live Music
END:VEVENT
BEGIN:VEVENT
DTSTART;TZID=America/New_York:20260613T163000
DTEND;TZID=America/New_York:20260613T201500
DTSTAMP:20260423T013503
CREATED:20260415T225535Z
LAST-MODIFIED:20260415T225611Z
UID:10057457-1781368200-1781381700@livemusicasheville.com
SUMMARY:Live Music at the Bandstand
DESCRIPTION:Friday\, June 5\, 2026 Stormy Weather Quartet Light Jazz\, Pop\, Ragtime\nSaturday\, June 6\, 2026 Clay Lunsford Band Americana\nFriday\, June 12\, 2026 Bruce Lang Band Swing\, Light Rock\nSaturday\, June 13\, 2026 Firecracker Jazz Band Dixieland Jazz\nFriday\, June 19\, 2026 Buncombe Turnpike Bluegrass\nSaturday\, June 20\, 2026 Sound Invasion Variety 60’s\, 70’s and 80’s\nFriday\, June 26\, 2026 Michael Stevens Quartet Jazz\nSaturday\, June 27\, 2026 Flashback Band 80’s Rock \nTo enjoy this complimentary event\, guest must have a daytime ticket\, a Biltmore Annual Pass\, or a stay at one of the estate’s splendid overnight properties. 
URL:https://livemusicasheville.com/calendar/live-music-at-the-bandstand-4-3/2026-06-13/
LOCATION:Antler Hill Village\, Biltmore Estate
CATEGORIES:Asheville Area,Live Music
END:VEVENT
BEGIN:VEVENT
DTSTART;TZID=America/New_York:20260619T163000
DTEND;TZID=America/New_York:20260619T201500
DTSTAMP:20260423T013503
CREATED:20260415T225535Z
LAST-MODIFIED:20260415T225611Z
UID:10057458-1781886600-1781900100@livemusicasheville.com
SUMMARY:Live Music at the Bandstand
DESCRIPTION:Friday\, June 5\, 2026 Stormy Weather Quartet Light Jazz\, Pop\, Ragtime\nSaturday\, June 6\, 2026 Clay Lunsford Band Americana\nFriday\, June 12\, 2026 Bruce Lang Band Swing\, Light Rock\nSaturday\, June 13\, 2026 Firecracker Jazz Band Dixieland Jazz\nFriday\, June 19\, 2026 Buncombe Turnpike Bluegrass\nSaturday\, June 20\, 2026 Sound Invasion Variety 60’s\, 70’s and 80’s\nFriday\, June 26\, 2026 Michael Stevens Quartet Jazz\nSaturday\, June 27\, 2026 Flashback Band 80’s Rock \nTo enjoy this complimentary event\, guest must have a daytime ticket\, a Biltmore Annual Pass\, or a stay at one of the estate’s splendid overnight properties. 
URL:https://livemusicasheville.com/calendar/live-music-at-the-bandstand-4-3/2026-06-19/
LOCATION:Antler Hill Village\, Biltmore Estate
CATEGORIES:Asheville Area,Live Music
END:VEVENT
BEGIN:VEVENT
DTSTART;TZID=America/New_York:20260620T163000
DTEND;TZID=America/New_York:20260620T201500
DTSTAMP:20260423T013503
CREATED:20260415T225535Z
LAST-MODIFIED:20260415T225611Z
UID:10057459-1781973000-1781986500@livemusicasheville.com
SUMMARY:Live Music at the Bandstand
DESCRIPTION:Friday\, June 5\, 2026 Stormy Weather Quartet Light Jazz\, Pop\, Ragtime\nSaturday\, June 6\, 2026 Clay Lunsford Band Americana\nFriday\, June 12\, 2026 Bruce Lang Band Swing\, Light Rock\nSaturday\, June 13\, 2026 Firecracker Jazz Band Dixieland Jazz\nFriday\, June 19\, 2026 Buncombe Turnpike Bluegrass\nSaturday\, June 20\, 2026 Sound Invasion Variety 60’s\, 70’s and 80’s\nFriday\, June 26\, 2026 Michael Stevens Quartet Jazz\nSaturday\, June 27\, 2026 Flashback Band 80’s Rock \nTo enjoy this complimentary event\, guest must have a daytime ticket\, a Biltmore Annual Pass\, or a stay at one of the estate’s splendid overnight properties. 
URL:https://livemusicasheville.com/calendar/live-music-at-the-bandstand-4-3/2026-06-20/
LOCATION:Antler Hill Village\, Biltmore Estate
CATEGORIES:Asheville Area,Live Music
END:VEVENT
BEGIN:VEVENT
DTSTART;TZID=America/New_York:20260626T163000
DTEND;TZID=America/New_York:20260626T201500
DTSTAMP:20260423T013503
CREATED:20260415T225535Z
LAST-MODIFIED:20260415T225611Z
UID:10057460-1782491400-1782504900@livemusicasheville.com
SUMMARY:Live Music at the Bandstand
DESCRIPTION:Friday\, June 5\, 2026 Stormy Weather Quartet Light Jazz\, Pop\, Ragtime\nSaturday\, June 6\, 2026 Clay Lunsford Band Americana\nFriday\, June 12\, 2026 Bruce Lang Band Swing\, Light Rock\nSaturday\, June 13\, 2026 Firecracker Jazz Band Dixieland Jazz\nFriday\, June 19\, 2026 Buncombe Turnpike Bluegrass\nSaturday\, June 20\, 2026 Sound Invasion Variety 60’s\, 70’s and 80’s\nFriday\, June 26\, 2026 Michael Stevens Quartet Jazz\nSaturday\, June 27\, 2026 Flashback Band 80’s Rock \nTo enjoy this complimentary event\, guest must have a daytime ticket\, a Biltmore Annual Pass\, or a stay at one of the estate’s splendid overnight properties. 
URL:https://livemusicasheville.com/calendar/live-music-at-the-bandstand-4-3/2026-06-26/
LOCATION:Antler Hill Village\, Biltmore Estate
CATEGORIES:Asheville Area,Live Music
END:VEVENT
BEGIN:VEVENT
DTSTART;TZID=America/New_York:20260627T163000
DTEND;TZID=America/New_York:20260627T201500
DTSTAMP:20260423T013503
CREATED:20260415T225535Z
LAST-MODIFIED:20260415T225611Z
UID:10057461-1782577800-1782591300@livemusicasheville.com
SUMMARY:Live Music at the Bandstand
DESCRIPTION:Friday\, June 5\, 2026 Stormy Weather Quartet Light Jazz\, Pop\, Ragtime\nSaturday\, June 6\, 2026 Clay Lunsford Band Americana\nFriday\, June 12\, 2026 Bruce Lang Band Swing\, Light Rock\nSaturday\, June 13\, 2026 Firecracker Jazz Band Dixieland Jazz\nFriday\, June 19\, 2026 Buncombe Turnpike Bluegrass\nSaturday\, June 20\, 2026 Sound Invasion Variety 60’s\, 70’s and 80’s\nFriday\, June 26\, 2026 Michael Stevens Quartet Jazz\nSaturday\, June 27\, 2026 Flashback Band 80’s Rock \nTo enjoy this complimentary event\, guest must have a daytime ticket\, a Biltmore Annual Pass\, or a stay at one of the estate’s splendid overnight properties. 
URL:https://livemusicasheville.com/calendar/live-music-at-the-bandstand-4-3/2026-06-27/
LOCATION:Antler Hill Village\, Biltmore Estate
CATEGORIES:Asheville Area,Live Music
END:VEVENT
END:VCALENDAR