BEGIN:VCALENDAR
VERSION:2.0
PRODID:-//LiveMusicAsheville.com - ECPv6.15.20//NONSGML v1.0//EN
CALSCALE:GREGORIAN
METHOD:PUBLISH
X-WR-CALNAME:LiveMusicAsheville.com
X-ORIGINAL-URL:https://livemusicasheville.com
X-WR-CALDESC:Events for LiveMusicAsheville.com
REFRESH-INTERVAL;VALUE=DURATION:PT1H
X-Robots-Tag:noindex
X-PUBLISHED-TTL:PT1H
BEGIN:VTIMEZONE
TZID:America/New_York
BEGIN:DAYLIGHT
TZOFFSETFROM:-0500
TZOFFSETTO:-0400
TZNAME:EDT
DTSTART:20250309T070000
END:DAYLIGHT
BEGIN:STANDARD
TZOFFSETFROM:-0400
TZOFFSETTO:-0500
TZNAME:EST
DTSTART:20251102T060000
END:STANDARD
BEGIN:DAYLIGHT
TZOFFSETFROM:-0500
TZOFFSETTO:-0400
TZNAME:EDT
DTSTART:20260308T070000
END:DAYLIGHT
BEGIN:STANDARD
TZOFFSETFROM:-0400
TZOFFSETTO:-0500
TZNAME:EST
DTSTART:20261101T060000
END:STANDARD
BEGIN:DAYLIGHT
TZOFFSETFROM:-0500
TZOFFSETTO:-0400
TZNAME:EDT
DTSTART:20270314T070000
END:DAYLIGHT
BEGIN:STANDARD
TZOFFSETFROM:-0400
TZOFFSETTO:-0500
TZNAME:EST
DTSTART:20271107T060000
END:STANDARD
END:VTIMEZONE
BEGIN:VEVENT
DTSTART;VALUE=DATE:20260423
DTEND;VALUE=DATE:20260425
DTSTAMP:20260424T195301
CREATED:20260115T155240Z
LAST-MODIFIED:20260423T154010Z
UID:10037468-1776913200-1776999599@livemusicasheville.com
SUMMARY:Love What We Do .......... Buy Us A Beer!
DESCRIPTION:We hope you enjoy our guide to the Asheville area’s dynamic music scene. \nIf we somehow help to brighten up your day\, please consider a small donation to help support our efforts in providing the area’s most reliable local live music calendar. \nVenmo: click here  \nLast 4 digits – 3383 \nPayPal: click here \n 
URL:https://livemusicasheville.com/calendar/greetings-fellow-music-lovers-2-2/2026-04-23/
LOCATION:Asheville Area
CATEGORIES:Asheville Area
ATTACH;FMTTYPE=image/jpeg:https://livemusicasheville.com/wp-content/uploads/2019/01/alcohol-alcoholic-beverages-beer-1624263-e1776958791382.jpg
END:VEVENT
BEGIN:VEVENT
DTSTART;VALUE=DATE:20260423
DTEND;VALUE=DATE:20260425
DTSTAMP:20260424T195301
CREATED:20260420T011733Z
LAST-MODIFIED:20260420T011734Z
UID:10057859-1776913200-1776999599@livemusicasheville.com
SUMMARY:COMING SATURDAY April 25 | Pisgah Palooza 2026 - (21 Years of Pisgah Brewing)
DESCRIPTION:Saturday April 25\, 2026 6:00 PM | Doors Open: 5:00 PM | Advance Tickets are on sale now – 2 for $21! Event Details and Tickets\nJoin us on April 25th to celebrate 21 years of Pisgah Brewing with Sqwerv\, Airshow and Pocketful of Gold.\n\nDenver’s electrifying Indie-Jam Band\, Sqwerv is a nationally touring quartet that brings elements of classic rock\, psychedelic music\, funk\, and jam fusion for an experience like no other. The band explores rich sonic realms with a depth of improvisational virtuosity. Their passion for well crafted songs and blended harmonies set this group apart in their scene. The band released 2 full length studio albums in 2024\, ‘Mirage’ and ‘Hors d’Oeuvres’ and has a new full length record on the way in 2025. They have opened for acts such as George Clinton and Parliament Funkadelic\, Pigeons Playing Ping Pong\, Eggy\, Big Something\, Spafford and many more.\n–\nAirshow is a high-flying\, Nashville-based jam band featuring a unique contrast of familiar acoustic and mind-bending electric sounds that transports listeners from a campfire picking-party to the outer reaches of the multiverse. Formed by longtime friends Cody Chelius (Mandolin / Vocals) and Steve Gallagher (Guitar / Vocals)\, the group’s lineup was completed with the addition of Bill Baker (Bass/ Vocals) and John Rodrigue (Drums/ Vocals) in 2016. While each member has different musical influences\, it is their shared passion for exploring uncharted sonic territories that has propelled their ascension to the top of Nashville’s jamband scene— and they won’t be landing anytime soon.\n–\nPocketful of Gold\, Asheville’s newest Led Zeppelin Experience\, makes their debut on Pisgah’s Outdoor Stage! Featuring Hannah Ramsey\, Alex Bazemore\, Jackson Chisholm\, and Zach Jones\, these frizzy-haired folk bring their love of Led Zeppelin together to offer a musical experience that both honors their iconic sound and showcases the inspiration that it’s had on each member’s personal musicianship.\n  \nFounded in 2005\, Pisgah is known for producing some of the most sought after craft ales in Western North Carolina. Pisgah Brewing Company currently operates the new indoor taproom & deli\, with live music several days a week\, plus an open air outdoor bar in the summer and fall months. Check out our upcoming schedule at pisgahbrewing.com/events
URL:https://livemusicasheville.com/calendar/pisgah-palooza-2026-2/2026-04-23/
LOCATION:Pisgah Brewing Company Black Mountain\, 2948 US-70\, Black Mountain\, NC\, 28711
CATEGORIES:Asheville Area,Black Mountain,Live Music
ATTACH;FMTTYPE=image/jpeg:https://livemusicasheville.com/wp-content/uploads/2026/01/617704239_1358962522924587_2721723407800321272_n-e1769530924423.jpg
GEO:35.6068069;-82.3568213
X-APPLE-STRUCTURED-LOCATION;VALUE=URI;X-ADDRESS=Pisgah Brewing Company Black Mountain 2948 US-70 Black Mountain NC 28711;X-APPLE-RADIUS=500;X-TITLE=2948 US-70:geo:-82.3568213,35.6068069
END:VEVENT
BEGIN:VEVENT
DTSTART;TZID=America/New_York:20260423T180000
DTEND;TZID=America/New_York:20260424T010000
DTSTAMP:20260424T195301
CREATED:20250922T114601Z
LAST-MODIFIED:20260415T144751Z
UID:10021208-1776967200-1776992400@livemusicasheville.com
SUMMARY:More Thursday DJ/Electronic Events
DESCRIPTION:Although we are primarily a Live Music Calendar\, we often come across Electronic & DJ events in the area and list them for you as we find out about them. Please verify the DJ\, times and cover charges with the venue. \nThe Whale West Asheville – 6-9pm \nThird Room – 8:30pm-12:30am \nCheck with the venue on tonight’s DJ’s and cover charges.
URL:https://livemusicasheville.com/calendar/more-thursday-dj-electronic-events-2/
LOCATION:Asheville Area
CATEGORIES:Asheville Area,DJ/Electronic
END:VEVENT
BEGIN:VEVENT
DTSTART;TZID=America/New_York:20260423T180000
DTEND;TZID=America/New_York:20260424T020000
DTSTAMP:20260424T195301
CREATED:20251121T203413Z
LAST-MODIFIED:20260408T094503Z
UID:10025039-1776967200-1776996000@livemusicasheville.com
SUMMARY:Thursday Weekly DJs
DESCRIPTION:Although we are primarily a Live Music Calendar\, we often come across Electronic & DJ events in the area and list them for you as we find out about them. Please verify the DJ\, times and cover charges with the venue. \nThe Mule at Devils Foot Beverages – 4-9pm (Starts April 23) \nEda Rhyne Distilling – 6-9pm \nPotential New Boyfriend – 7-10pm \nSticks on Broadway – 10pm -2am \nLazy Diamond – 10pm-2am \nThe Double Crown – 10pm-2am \nCheck with the for DJs and covers.
URL:https://livemusicasheville.com/calendar/thursday-weekly-djs-2/2026-04-23/
LOCATION:Asheville Area
CATEGORIES:Asheville Area,DJ/Electronic
END:VEVENT
BEGIN:VEVENT
DTSTART;TZID=America/New_York:20260423T190000
DTEND;TZID=America/New_York:20260424T020000
DTSTAMP:20260424T195301
CREATED:20251121T203604Z
LAST-MODIFIED:20260422T115043Z
UID:10033311-1776970800-1776996000@livemusicasheville.com
SUMMARY:Thursday Karaoke
DESCRIPTION:Please verify times and KJ with the venue! \n  \nTurgua Brewing Fairview – 6-8pm (April 16) \nAsheville Sports Club – 7-10pm \nThe Social East Asheville – 7-11pm \nDaddy Mac’s Downhome Dive – 8-11pm \nShiloh and Gaines – 8-11pm \nVOWL – 8-11pm  \nFleetwoods – 8pm-12am (April 23 indie/punk) \nStatic Age Loft 10pm-2am \nShakeys Dive Bar 9pm-2am
URL:https://livemusicasheville.com/calendar/thursday-weekly-karaoke-2/2026-04-23/
LOCATION:Asheville Area
CATEGORIES:Asheville Area,Karaoke,Madison County,South Asheville/Arden/Fletcher
END:VEVENT
BEGIN:VEVENT
DTSTART;TZID=America/New_York:20260423T200000
DTEND;TZID=America/New_York:20260424T020000
DTSTAMP:20260424T195301
CREATED:20260208T155221Z
LAST-MODIFIED:20260208T155221Z
UID:10043624-1776974400-1776996000@livemusicasheville.com
SUMMARY:All Request Piano Show
DESCRIPTION:
URL:https://livemusicasheville.com/calendar/all-request-piano-show-2/2026-04-23/
LOCATION:Off the Wagon
CATEGORIES:Asheville Area,Live Music
GEO:41.4302231;-81.3909542
END:VEVENT
BEGIN:VEVENT
DTSTART;VALUE=DATE:20260424
DTEND;VALUE=DATE:20260426
DTSTAMP:20260424T195301
CREATED:20260403T153043Z
LAST-MODIFIED:20260403T153044Z
UID:10054797-1776999600-1777085999@livemusicasheville.com
SUMMARY:Sneaky Miles
DESCRIPTION:Friday\, Apr 24\, 9pm-12am | $10 Cover Event Details and Tickets \nSneaky Miles is an indie folk band formed through open mic nights at the University of New Hampshire in the fall of 2019. Since forming\, Sneaky Miles has quickly become a local powerhouse in the New Hampshire Seacoast music scene.\n\nWhile the band began as a stripped-down trio\, Sneaky Miles has since expanded their live sound by teaming up with additional members on drums\, bass\, and pedal steel. The result is a high-energy performance and a sound that feels bigger than the sum of its parts\, blending heartfelt storytelling with driving folk-rock arrangements.\n\nFor fans of Caamp\, Noah Kahan\, The Lumineers\, Mumford & Sons\, and The Head and the Heart\, Sneaky Miles delivers a sound rooted in community\, connection\, and cathartic live shows. sneakymiles.com\n\nWith two unique locations\, built inside buildings that were previously cast aside\, One World brews with the intention of fostering nourishing interaction and artistic cultural experiences. From live music to art shows\, “One World Brewing” is born from the magic that happens when the whole becomes greater than the sum of its parts. Our taprooms are intersections for people of all walks of life and different corners of the globe\, enjoying this time and place together.  Check out our upcoming schedule: click here
URL:https://livemusicasheville.com/calendar/sneaky-miles/
LOCATION:One World Brewing – West\, 520 Haywood Rd\, Asheville\, North Carolina\, 28806
CATEGORIES:Asheville Area,Live Music
ATTACH;FMTTYPE=image/jpeg:https://livemusicasheville.com/wp-content/uploads/2026/04/637779410_1494734775994733_3750430347465596623_n-e1775229958454.jpg
GEO:35.5783642;-82.5848526
X-APPLE-STRUCTURED-LOCATION;VALUE=URI;X-ADDRESS=One World Brewing – West 520 Haywood Rd Asheville North Carolina 28806;X-APPLE-RADIUS=500;X-TITLE=520 Haywood Rd:geo:-82.5848526,35.5783642
END:VEVENT
BEGIN:VEVENT
DTSTART;TZID=America/New_York:20260424T163000
DTEND;TZID=America/New_York:20260424T201500
DTSTAMP:20260424T195301
CREATED:20260318T173349Z
LAST-MODIFIED:20260415T224759Z
UID:10054546-1777048200-1777061700@livemusicasheville.com
SUMMARY:Live Music at the Bandstand
DESCRIPTION:April Schedule: \nFri. 4/17 – BRUCE LANG BAND\, Swing\, Light Rock \nSat. 4/18 – FREEPORT JAZZ\, Smooth Jazz \nFri. 4/24 – CLAY LUNSFORD BAND\, Americana \nSat. 4/25 – KELLEY AND THE COWBOYS\, Country Western \nTo enjoy this complimentary event\, guest must have a daytime ticket\, a Biltmore Annual Pass\, or a stay at one of the estate’s splendid overnight properties. 
URL:https://livemusicasheville.com/calendar/live-music-at-the-bandstand-5/2026-04-24/
LOCATION:Antler Hill Village\, Biltmore Estate
CATEGORIES:Asheville Area,Live Music
END:VEVENT
BEGIN:VEVENT
DTSTART;TZID=America/New_York:20260424T170000
DTEND;TZID=America/New_York:20260424T180000
DTSTAMP:20260424T195301
CREATED:20260326T135929Z
LAST-MODIFIED:20260326T140008Z
UID:10052881-1777050000-1777053600@livemusicasheville.com
SUMMARY:UNCA Music Contemporary Guitar Ensemble
DESCRIPTION:Come hear the Contemporary Guitar Ensemble lead some truly soothing Music and Meditation. Some sit and experience the resonance and healing of acoustic guitars in an intimate setting. Sessions will happen every Friday at 5:00 pm throughout the rest of March and April. Sessions will happen in the beautiful Highsmith gallery.
URL:https://livemusicasheville.com/calendar/unca-music-contemporary-guitar-ensemble/2026-04-24/
LOCATION:UNCA Highsmith Gallery
CATEGORIES:Asheville Area,Live Music
ATTACH;FMTTYPE=image/jpeg:https://livemusicasheville.com/wp-content/uploads/2026/03/657170632_1671140894385760_1932827474475969278_n-e1774533563129.jpg
END:VEVENT
BEGIN:VEVENT
DTSTART;TZID=America/New_York:20260424T170000
DTEND;TZID=America/New_York:20260424T190000
DTSTAMP:20260424T195301
CREATED:20250911T132426Z
LAST-MODIFIED:20260422T160224Z
UID:10021050-1777050000-1777057200@livemusicasheville.com
SUMMARY:Mountaintop Polka Band
DESCRIPTION:
URL:https://livemusicasheville.com/calendar/lagerhosen-duo-mountaintop-polka-band/
LOCATION:Berliner Kindl German Restaurant Black Mountain
CATEGORIES:Asheville Area,Black Mountain,Live Music
END:VEVENT
BEGIN:VEVENT
DTSTART;TZID=America/New_York:20260424T170000
DTEND;TZID=America/New_York:20260424T190000
DTSTAMP:20260424T195301
CREATED:20260326T205702Z
LAST-MODIFIED:20260422T211759Z
UID:10052905-1777050000-1777057200@livemusicasheville.com
SUMMARY:Fairview Farm Friday w/ Kindred & Co.
DESCRIPTION:
URL:https://livemusicasheville.com/calendar/fairview-farm-friday-w-old-charlotte-highwaymen-root-diggers-union/
LOCATION:Root Cause Farm Fairview\, 26 Joe Jenkins Road\, Fairview\, NC\, 28730\, United States
CATEGORIES:Asheville Area,Fairview,Live Music
GEO:35.5201997;-82.4148801
X-APPLE-STRUCTURED-LOCATION;VALUE=URI;X-ADDRESS=Root Cause Farm Fairview 26 Joe Jenkins Road Fairview NC 28730 United States;X-APPLE-RADIUS=500;X-TITLE=26 Joe Jenkins Road:geo:-82.4148801,35.5201997
END:VEVENT
BEGIN:VEVENT
DTSTART;TZID=America/New_York:20260424T170000
DTEND;TZID=America/New_York:20260424T190000
DTSTAMP:20260424T195301
CREATED:20260422T202047Z
LAST-MODIFIED:20260422T203202Z
UID:10058474-1777050000-1777057200@livemusicasheville.com
SUMMARY:Jacob Augustine
DESCRIPTION:
URL:https://livemusicasheville.com/calendar/jacob-augustine/
LOCATION:Town Pump Tavern Black Mountain
CATEGORIES:Asheville Area,Black Mountain,Live Music
GEO:35.6162458;-82.320259
END:VEVENT
BEGIN:VEVENT
DTSTART;TZID=America/New_York:20260424T170000
DTEND;TZID=America/New_York:20260424T200000
DTSTAMP:20260424T195301
CREATED:20251108T184935Z
LAST-MODIFIED:20260422T100319Z
UID:10024199-1777050000-1777060800@livemusicasheville.com
SUMMARY:Albi Podrizki
DESCRIPTION:
URL:https://livemusicasheville.com/calendar/albi-podrizki-4/
LOCATION:Peri Social House Black Mountain\, 406 W State\, Black Mountain\, NC
CATEGORIES:Asheville Area,Black Mountain,Live Music
GEO:35.6148509;-82.3247138
X-APPLE-STRUCTURED-LOCATION;VALUE=URI;X-ADDRESS=Peri Social House Black Mountain 406 W State Black Mountain NC;X-APPLE-RADIUS=500;X-TITLE=406 W State:geo:-82.3247138,35.6148509
END:VEVENT
BEGIN:VEVENT
DTSTART;TZID=America/New_York:20260424T170000
DTEND;TZID=America/New_York:20260425T020000
DTSTAMP:20260424T195301
CREATED:20241227T124914Z
LAST-MODIFIED:20260423T142127Z
UID:10003978-1777050000-1777082400@livemusicasheville.com
SUMMARY:More Friday Electronic/DJs
DESCRIPTION:Although we are primarily a Live Music Calendar\, we often come across Electronic & DJ events in the area and list them for you as we find out about them. Please verify the DJ\, times and cover charges with the venue. \nThe Whale South Slope – 5-8pm \nThe Draftsman – 9pm-12am \nThird Room – 9pm-1am \nThe Well West Asheville – 9:30pm-12am \nThe Orange Peel – 9:30pm-12:30am \n  \n  \nCheck with the venue on DJs and cover charges.
URL:https://livemusicasheville.com/calendar/more-friday-djs/
LOCATION:Asheville Area
CATEGORIES:Asheville Area,DJ/Electronic
END:VEVENT
BEGIN:VEVENT
DTSTART;TZID=America/New_York:20260424T173000
DTEND;TZID=America/New_York:20260424T193000
DTSTAMP:20260424T195301
CREATED:20250423T145006Z
LAST-MODIFIED:20260422T130434Z
UID:10013214-1777051800-1777059000@livemusicasheville.com
SUMMARY:Mar & The Marmaladies
DESCRIPTION:
URL:https://livemusicasheville.com/calendar/mar-the-marmaladies/
LOCATION:New Belgium Brewing
CATEGORIES:Asheville Area,Live Music
END:VEVENT
BEGIN:VEVENT
DTSTART;TZID=America/New_York:20260424T173000
DTEND;TZID=America/New_York:20260424T193000
DTSTAMP:20260424T195301
CREATED:20260109T141021Z
LAST-MODIFIED:20260109T141022Z
UID:10028101-1777051800-1777059000@livemusicasheville.com
SUMMARY:Hank and Vollie
DESCRIPTION:
URL:https://livemusicasheville.com/calendar/hank-and-vollie-2/2026-04-24/
LOCATION:Battery Park Book Exchange & Champagne Bar
CATEGORIES:Asheville Area,Live Music
GEO:35.5951042;-82.556633
END:VEVENT
BEGIN:VEVENT
DTSTART;TZID=America/New_York:20260424T173000
DTEND;TZID=America/New_York:20260424T203000
DTSTAMP:20260424T195301
CREATED:20260309T151501Z
LAST-MODIFIED:20260309T151502Z
UID:10036361-1777051800-1777062600@livemusicasheville.com
SUMMARY:The Grateful Family Band!
DESCRIPTION:
URL:https://livemusicasheville.com/calendar/the-grateful-family-band-3-2-2/2026-04-24/
LOCATION:The Social East Asheville
CATEGORIES:Asheville Area,Live Music
GEO:35.5878491;-82.4909537
END:VEVENT
BEGIN:VEVENT
DTSTART;TZID=America/New_York:20260424T173000
DTEND;TZID=America/New_York:20260424T213000
DTSTAMP:20260424T195301
CREATED:20260221T134837Z
LAST-MODIFIED:20260320T181747Z
UID:10050568-1777051800-1777066200@livemusicasheville.com
SUMMARY:The Friday Drum Circle
DESCRIPTION:Weather dependent
URL:https://livemusicasheville.com/calendar/the-friday-drum-circle-3/2026-04-24/
LOCATION:Pritchard Park Downtown\, 67 Patton Avenue\, Asheville\, NC\, 28801
CATEGORIES:Asheville Area,Live Music,Open MIc/Jam
GEO:35.5947402;-82.5543431
X-APPLE-STRUCTURED-LOCATION;VALUE=URI;X-ADDRESS=Pritchard Park Downtown 67 Patton Avenue Asheville NC 28801;X-APPLE-RADIUS=500;X-TITLE=67 Patton Avenue:geo:-82.5543431,35.5947402
END:VEVENT
BEGIN:VEVENT
DTSTART;TZID=America/New_York:20260424T180000
DTEND;TZID=America/New_York:20260424T200000
DTSTAMP:20260424T195301
CREATED:20250417T121027Z
LAST-MODIFIED:20260422T195132Z
UID:10012826-1777053600-1777060800@livemusicasheville.com
SUMMARY:Gill Francis
DESCRIPTION:
URL:https://livemusicasheville.com/calendar/gill-knott/
LOCATION:The One Stop
CATEGORIES:Asheville Area,Live Music
END:VEVENT
BEGIN:VEVENT
DTSTART;TZID=America/New_York:20260424T180000
DTEND;TZID=America/New_York:20260424T200000
DTSTAMP:20260424T195301
CREATED:20250521T143103Z
LAST-MODIFIED:20260421T161640Z
UID:10014624-1777053600-1777060800@livemusicasheville.com
SUMMARY:Andy Hughes of Broken Sound
DESCRIPTION:
URL:https://livemusicasheville.com/calendar/andy-hughes/
LOCATION:Black Mountain Brewing
CATEGORIES:Asheville Area,Black Mountain,Live Music
GEO:35.6168393;-82.3196047
END:VEVENT
BEGIN:VEVENT
DTSTART;TZID=America/New_York:20260424T180000
DTEND;TZID=America/New_York:20260424T200000
DTSTAMP:20260424T195301
CREATED:20250630T211313Z
LAST-MODIFIED:20260421T151516Z
UID:10057864-1777053600-1777060800@livemusicasheville.com
SUMMARY:The Wedgulars | Fridays In The RAD Music Series
DESCRIPTION:The Wedgulars featuring Hank Bones\, Cary Fridley\, Jeff Hersk and Dave Perkins kick off our Friday Music Series at 6pm this Friday. Join us for great sounds\, cold beer and delicious tacos from our new food truck.\n\n\nFree for everyone and everyone welcome!!\n\n\nRecords in the RAD in the River Arts District is a thoughtfully curated record store with an eclectic selection of vinyl\, both new and used. In addition to records\, we also have a music inspired art gallery\, which features artwork from Brian\, Dylan and Susan Haynes. recordsintherad.com \nAt Wedge Brewing\, we got our start in the River Arts District\, and therefore hold art and community very close to us. We create beer for the creatives and give them a place to commune. wedgebrewing.com \n  \nScreenshot\n  \n  \n 
URL:https://livemusicasheville.com/calendar/fridays-in-the-rad-music-series-2-2/
LOCATION:Records in the RAD/The Wedge
CATEGORIES:Asheville Area,Live Music
ATTACH;FMTTYPE=image/jpeg:https://livemusicasheville.com/wp-content/uploads/2025/06/483859064_639983772123902_5187475918688955438_n-e1776710785302.jpg
END:VEVENT
BEGIN:VEVENT
DTSTART;TZID=America/New_York:20260424T180000
DTEND;TZID=America/New_York:20260424T200000
DTSTAMP:20260424T195301
CREATED:20251217T121455Z
LAST-MODIFIED:20260422T114221Z
UID:10028932-1777053600-1777060800@livemusicasheville.com
SUMMARY:Friday Music Series with Kate Leigh Bryant
DESCRIPTION:
URL:https://livemusicasheville.com/calendar/friday-music-series-with-michael-corwin-kristina-miller/
LOCATION:Lookout Brewing Company Black Mountain
CATEGORIES:Asheville Area,Black Mountain,Live Music
GEO:35.6193199;-82.3178787
END:VEVENT
BEGIN:VEVENT
DTSTART;TZID=America/New_York:20260424T180000
DTEND;TZID=America/New_York:20260424T200000
DTSTAMP:20260424T195301
CREATED:20260416T104048Z
LAST-MODIFIED:20260416T104048Z
UID:10057465-1777053600-1777060800@livemusicasheville.com
SUMMARY:Sonare Music Academy presents: Beethoven 32 Bicentennial Celebration Kick-Off
DESCRIPTION:Sonare Music Academy\, under the artistic direction of Dr. Hwa-Jin Kim\, proudly presents The Beethoven 32 Concert\, in collaboration with Freeburg Pianos. This landmark celebration brings together 32 pianists\, ages 14 to 88\, to perform all 32 Beethoven piano sonatas in one unforgettable week. The first event of its kind in North Carolina\, the festival honors Beethoven’s enduring spirit and the power of community through music. \nEvent Details and Tickets \nThe Schedule\nSunday\, April 19\, 3–6 PM – Freeburg Pianos\nOpening Reception and Piano Performance \nPerformers: Kevin Ayesh #11\, Op. 22 — Heather Lee #18\, Op. 31\, No. 3 — Tavenier #21\, Op. 53 —Polly Feitzinger #27\, Op. 90 — Deborah Belcher #30\, Op. 109 \nMonday\, April 20\, 6-8 PM – Piano Emporium\nPerformers: Elena Stephens #1\, Op. 2\, No. 1 — Matt Blanks #3\, Op. 2\, No. 3 — Judy Phillips #5\, Op. 10\, No. 1 — Monica Song #7\, Op. 10\, No. 3 — Melanie Thompson #12\, Op. 26 \nTuesday\, April 21\, 6-8 PM – Piano Emporium\nPerformers: Edward Lyrene (Eddie) #4\, Op. 7 — Carol McCollum #10\, Op. 14\, No. 2 — Odile Perrenoud #14\, Op. 27\, No. 2 — Randy Kern #15\, Op. 28 — Sharyn Edwards #23\, Op. 57 \nWednesday\, April 22\, 6-8 PM – Piano Emporium\nPerformers: Arabella Nienaber #6\, Op. 10\, No. 2 — Nolan Adcock #13\, Op. 27\, No. 1 — Victoria Fischer Faw #16\, Op. 31\, No. 1 — Ethan Abraham #25\, Op. 79 — Vance Reese #26\, Op. 81a \nThursday\, April 23\, 6-8 PM – Piano Emporium\nPerformers: Shirley Gruenhut #2\, Op. 2\, No. 2 — Katie Osborn #9\, Op. 14\, No. 1 — Elizabeth Child #17\, Op. 31\, No. 2 — Luccia Marguglio #19\, Op. 49\, No. 1 — Ashe Denny #20\, Op. 49\, No. 2 \nFriday\, April 24\, 6–8 PM – Freeburg Pianos\nPerformers: Renee Allsbrook #8\, Op. 13 — Leonidas Lagrimas #22\, Op. 54 — Muen Vanessa Wei #29\, Op. 106 — Hwa-Jin Kim #31\, Op. 110 \nSaturday\, April 25\, 4-7pm – Freeburg Pianos\nPerformers: Derek Parsons #24\, Op. 78 — Leslie Downs #28\, Op. 101 — John Cobb #32\, Op. 111 \n• 4–6 PM – Final Piano Performance at Freeburg Pianos \n• 6–7 PM – Raffle Winner Announcement and Closing Ceremony with Donors and Sponsors \nBeethoven Event Locations\nFreeburg Pianos: 2314 Asheville Hwy\, Hendersonville\, NC 28791 \nPiano Emporium: 828 Hendersonville Road\, Asheville\, NC 28803
URL:https://livemusicasheville.com/calendar/sonare-music-academy-presents-beethoven-32-bicentennial-celebration-kick-off/2026-04-24/
LOCATION:Freeburg Pianos\, 2314 Asheville Hwy\, Hendersonville\, 28791
CATEGORIES:Asheville Area,Live Music
ATTACH;FMTTYPE=image/jpeg:https://livemusicasheville.com/wp-content/uploads/2026/04/671029481_122154903206976819_4573151486702976550_n-e1776335704321.jpg
GEO:35.3430683;-82.4731735
X-APPLE-STRUCTURED-LOCATION;VALUE=URI;X-ADDRESS=Freeburg Pianos 2314 Asheville Hwy Hendersonville 28791;X-APPLE-RADIUS=500;X-TITLE=2314 Asheville Hwy:geo:-82.4731735,35.3430683
END:VEVENT
BEGIN:VEVENT
DTSTART;TZID=America/New_York:20260424T180000
DTEND;TZID=America/New_York:20260424T200000
DTSTAMP:20260424T195301
CREATED:20260421T152428Z
LAST-MODIFIED:20260421T152428Z
UID:10058395-1777053600-1777060800@livemusicasheville.com
SUMMARY:Reed Miller & Straight Up!
DESCRIPTION:
URL:https://livemusicasheville.com/calendar/reed-miller-straight-up-2/
LOCATION:Zadies Market at The Old Marshall Jail Hotel
CATEGORIES:Asheville Area,Live Music,Madison County
END:VEVENT
BEGIN:VEVENT
DTSTART;TZID=America/New_York:20260424T180000
DTEND;TZID=America/New_York:20260424T200000
DTSTAMP:20260424T195301
CREATED:20260422T153349Z
LAST-MODIFIED:20260422T153349Z
UID:10058431-1777053600-1777060800@livemusicasheville.com
SUMMARY:Jes & Sky
DESCRIPTION:
URL:https://livemusicasheville.com/calendar/jes-sky-2/
LOCATION:The Whale :: West Asheville
CATEGORIES:Asheville Area,Live Music
GEO:35.5779408;-82.5827733
END:VEVENT
BEGIN:VEVENT
DTSTART;TZID=America/New_York:20260424T180000
DTEND;TZID=America/New_York:20260424T200000
DTSTAMP:20260424T195301
CREATED:20260422T174008Z
LAST-MODIFIED:20260422T174008Z
UID:10058437-1777053600-1777060800@livemusicasheville.com
SUMMARY:“I’m Every Woman” – Julie Wynne & Dianne Boes
DESCRIPTION:
URL:https://livemusicasheville.com/calendar/im-every-woman-julie-wynne-dianne-boes/
LOCATION:Twin Willows Mars Hill
CATEGORIES:Asheville Area,Live Music,Madison County
END:VEVENT
BEGIN:VEVENT
DTSTART;TZID=America/New_York:20260424T180000
DTEND;TZID=America/New_York:20260424T200000
DTSTAMP:20260424T195301
CREATED:20260422T175648Z
LAST-MODIFIED:20260422T175648Z
UID:10058443-1777053600-1777060800@livemusicasheville.com
SUMMARY:Sit A Spell | Celtic Session
DESCRIPTION:
URL:https://livemusicasheville.com/calendar/sit-a-spell-celtic-session/
LOCATION:Ginger’s Revenge
CATEGORIES:Asheville Area,Live Music,Open MIc/Jam
END:VEVENT
BEGIN:VEVENT
DTSTART;TZID=America/New_York:20260424T180000
DTEND;TZID=America/New_York:20260424T210000
DTSTAMP:20260424T195301
CREATED:20250310T163029Z
LAST-MODIFIED:20260423T195919Z
UID:10009700-1777053600-1777064400@livemusicasheville.com
SUMMARY:Mike Martin
DESCRIPTION:
URL:https://livemusicasheville.com/calendar/mike-martin/
LOCATION:Village Pub
CATEGORIES:Asheville Area,Live Music
END:VEVENT
BEGIN:VEVENT
DTSTART;TZID=America/New_York:20260424T180000
DTEND;TZID=America/New_York:20260424T210000
DTSTAMP:20260424T195301
CREATED:20250326T203343Z
LAST-MODIFIED:20260422T100607Z
UID:10011480-1777053600-1777064400@livemusicasheville.com
SUMMARY:Company Swing
DESCRIPTION:
URL:https://livemusicasheville.com/calendar/company-swing-2/
LOCATION:Pillar Rooftop Bar
CATEGORIES:Asheville Area,Live Music
GEO:35.5970115;-82.5461959
END:VEVENT
BEGIN:VEVENT
DTSTART;TZID=America/New_York:20260424T180000
DTEND;TZID=America/New_York:20260424T210000
DTSTAMP:20260424T195301
CREATED:20250409T131124Z
LAST-MODIFIED:20260423T200231Z
UID:10012389-1777053600-1777064400@livemusicasheville.com
SUMMARY:The Loudes Duo
DESCRIPTION:
URL:https://livemusicasheville.com/calendar/the-loudes-trio-2/
LOCATION:Sweeten Creek Brewing
CATEGORIES:Asheville Area,Live Music
GEO:35.5425588;-82.5221629
END:VEVENT
END:VCALENDAR