BEGIN:VCALENDAR
VERSION:2.0
PRODID:-//LiveMusicAsheville.com - ECPv6.15.20//NONSGML v1.0//EN
CALSCALE:GREGORIAN
METHOD:PUBLISH
X-WR-CALNAME:LiveMusicAsheville.com
X-ORIGINAL-URL:https://livemusicasheville.com
X-WR-CALDESC:Events for LiveMusicAsheville.com
REFRESH-INTERVAL;VALUE=DURATION:PT1H
X-Robots-Tag:noindex
X-PUBLISHED-TTL:PT1H
BEGIN:VTIMEZONE
TZID:America/New_York
BEGIN:DAYLIGHT
TZOFFSETFROM:-0500
TZOFFSETTO:-0400
TZNAME:EDT
DTSTART:20250309T070000
END:DAYLIGHT
BEGIN:STANDARD
TZOFFSETFROM:-0400
TZOFFSETTO:-0500
TZNAME:EST
DTSTART:20251102T060000
END:STANDARD
BEGIN:DAYLIGHT
TZOFFSETFROM:-0500
TZOFFSETTO:-0400
TZNAME:EDT
DTSTART:20260308T070000
END:DAYLIGHT
BEGIN:STANDARD
TZOFFSETFROM:-0400
TZOFFSETTO:-0500
TZNAME:EST
DTSTART:20261101T060000
END:STANDARD
BEGIN:DAYLIGHT
TZOFFSETFROM:-0500
TZOFFSETTO:-0400
TZNAME:EDT
DTSTART:20270314T070000
END:DAYLIGHT
BEGIN:STANDARD
TZOFFSETFROM:-0400
TZOFFSETTO:-0500
TZNAME:EST
DTSTART:20271107T060000
END:STANDARD
END:VTIMEZONE
BEGIN:VEVENT
DTSTART;TZID=America/New_York:20260424T190000
DTEND;TZID=America/New_York:20260424T220000
DTSTAMP:20260424T213029
CREATED:20251102T145213Z
LAST-MODIFIED:20260423T195653Z
UID:10050281-1777057200-1777068000@livemusicasheville.com
SUMMARY:Adi the Monk
DESCRIPTION:
URL:https://livemusicasheville.com/calendar/adi-the-monk-5/
LOCATION:The Asheville Club
CATEGORIES:Asheville Area,Live Music
GEO:35.5952143;-82.554524
END:VEVENT
BEGIN:VEVENT
DTSTART;TZID=America/New_York:20260425T090000
DTEND;TZID=America/New_York:20260425T120000
DTSTAMP:20260424T213029
CREATED:20260319T125009Z
LAST-MODIFIED:20260320T015859Z
UID:10050302-1777107600-1777118400@livemusicasheville.com
SUMMARY:Adi the Monk
DESCRIPTION:
URL:https://livemusicasheville.com/calendar/adi-the-monk-7/2026-04-25/
LOCATION:Sunny Point Café
CATEGORIES:Asheville Area,Live Music
END:VEVENT
BEGIN:VEVENT
DTSTART;TZID=America/New_York:20260502T090000
DTEND;TZID=America/New_York:20260502T120000
DTSTAMP:20260424T213029
CREATED:20260319T125009Z
LAST-MODIFIED:20260320T015859Z
UID:10050303-1777712400-1777723200@livemusicasheville.com
SUMMARY:Adi the Monk
DESCRIPTION:
URL:https://livemusicasheville.com/calendar/adi-the-monk-7/2026-05-02/
LOCATION:Sunny Point Café
CATEGORIES:Asheville Area,Live Music
END:VEVENT
BEGIN:VEVENT
DTSTART;TZID=America/New_York:20260509T090000
DTEND;TZID=America/New_York:20260509T120000
DTSTAMP:20260424T213029
CREATED:20260319T125009Z
LAST-MODIFIED:20260320T015859Z
UID:10050304-1778317200-1778328000@livemusicasheville.com
SUMMARY:Adi the Monk
DESCRIPTION:
URL:https://livemusicasheville.com/calendar/adi-the-monk-7/2026-05-09/
LOCATION:Sunny Point Café
CATEGORIES:Asheville Area,Live Music
END:VEVENT
BEGIN:VEVENT
DTSTART;TZID=America/New_York:20260516T090000
DTEND;TZID=America/New_York:20260516T120000
DTSTAMP:20260424T213029
CREATED:20260319T125009Z
LAST-MODIFIED:20260320T015859Z
UID:10050305-1778922000-1778932800@livemusicasheville.com
SUMMARY:Adi the Monk
DESCRIPTION:
URL:https://livemusicasheville.com/calendar/adi-the-monk-7/2026-05-16/
LOCATION:Sunny Point Café
CATEGORIES:Asheville Area,Live Music
END:VEVENT
BEGIN:VEVENT
DTSTART;TZID=America/New_York:20260523T090000
DTEND;TZID=America/New_York:20260523T120000
DTSTAMP:20260424T213029
CREATED:20260319T125009Z
LAST-MODIFIED:20260320T015859Z
UID:10050306-1779526800-1779537600@livemusicasheville.com
SUMMARY:Adi the Monk
DESCRIPTION:
URL:https://livemusicasheville.com/calendar/adi-the-monk-7/2026-05-23/
LOCATION:Sunny Point Café
CATEGORIES:Asheville Area,Live Music
END:VEVENT
BEGIN:VEVENT
DTSTART;TZID=America/New_York:20260530T090000
DTEND;TZID=America/New_York:20260530T120000
DTSTAMP:20260424T213029
CREATED:20260319T125009Z
LAST-MODIFIED:20260320T015859Z
UID:10050307-1780131600-1780142400@livemusicasheville.com
SUMMARY:Adi the Monk
DESCRIPTION:
URL:https://livemusicasheville.com/calendar/adi-the-monk-7/2026-05-30/
LOCATION:Sunny Point Café
CATEGORIES:Asheville Area,Live Music
END:VEVENT
BEGIN:VEVENT
DTSTART;TZID=America/New_York:20260606T090000
DTEND;TZID=America/New_York:20260606T120000
DTSTAMP:20260424T213029
CREATED:20260319T125009Z
LAST-MODIFIED:20260320T015859Z
UID:10050308-1780736400-1780747200@livemusicasheville.com
SUMMARY:Adi the Monk
DESCRIPTION:
URL:https://livemusicasheville.com/calendar/adi-the-monk-7/2026-06-06/
LOCATION:Sunny Point Café
CATEGORIES:Asheville Area,Live Music
END:VEVENT
BEGIN:VEVENT
DTSTART;TZID=America/New_York:20260613T090000
DTEND;TZID=America/New_York:20260613T120000
DTSTAMP:20260424T213029
CREATED:20260319T125009Z
LAST-MODIFIED:20260320T015859Z
UID:10050309-1781341200-1781352000@livemusicasheville.com
SUMMARY:Adi the Monk
DESCRIPTION:
URL:https://livemusicasheville.com/calendar/adi-the-monk-7/2026-06-13/
LOCATION:Sunny Point Café
CATEGORIES:Asheville Area,Live Music
END:VEVENT
BEGIN:VEVENT
DTSTART;TZID=America/New_York:20260620T090000
DTEND;TZID=America/New_York:20260620T120000
DTSTAMP:20260424T213029
CREATED:20260319T125009Z
LAST-MODIFIED:20260320T015859Z
UID:10050310-1781946000-1781956800@livemusicasheville.com
SUMMARY:Adi the Monk
DESCRIPTION:
URL:https://livemusicasheville.com/calendar/adi-the-monk-7/2026-06-20/
LOCATION:Sunny Point Café
CATEGORIES:Asheville Area,Live Music
END:VEVENT
BEGIN:VEVENT
DTSTART;TZID=America/New_York:20260627T090000
DTEND;TZID=America/New_York:20260627T120000
DTSTAMP:20260424T213029
CREATED:20260319T125009Z
LAST-MODIFIED:20260320T015859Z
UID:10050311-1782550800-1782561600@livemusicasheville.com
SUMMARY:Adi the Monk
DESCRIPTION:
URL:https://livemusicasheville.com/calendar/adi-the-monk-7/2026-06-27/
LOCATION:Sunny Point Café
CATEGORIES:Asheville Area,Live Music
END:VEVENT
BEGIN:VEVENT
DTSTART;TZID=America/New_York:20260704T090000
DTEND;TZID=America/New_York:20260704T120000
DTSTAMP:20260424T213029
CREATED:20260319T125009Z
LAST-MODIFIED:20260320T015859Z
UID:10050312-1783155600-1783166400@livemusicasheville.com
SUMMARY:Adi the Monk
DESCRIPTION:
URL:https://livemusicasheville.com/calendar/adi-the-monk-7/2026-07-04/
LOCATION:Sunny Point Café
CATEGORIES:Asheville Area,Live Music
END:VEVENT
BEGIN:VEVENT
DTSTART;TZID=America/New_York:20260711T090000
DTEND;TZID=America/New_York:20260711T120000
DTSTAMP:20260424T213029
CREATED:20260319T125009Z
LAST-MODIFIED:20260320T015859Z
UID:10050313-1783760400-1783771200@livemusicasheville.com
SUMMARY:Adi the Monk
DESCRIPTION:
URL:https://livemusicasheville.com/calendar/adi-the-monk-7/2026-07-11/
LOCATION:Sunny Point Café
CATEGORIES:Asheville Area,Live Music
END:VEVENT
BEGIN:VEVENT
DTSTART;TZID=America/New_York:20260718T090000
DTEND;TZID=America/New_York:20260718T120000
DTSTAMP:20260424T213029
CREATED:20260319T125009Z
LAST-MODIFIED:20260320T015859Z
UID:10050314-1784365200-1784376000@livemusicasheville.com
SUMMARY:Adi the Monk
DESCRIPTION:
URL:https://livemusicasheville.com/calendar/adi-the-monk-7/2026-07-18/
LOCATION:Sunny Point Café
CATEGORIES:Asheville Area,Live Music
END:VEVENT
BEGIN:VEVENT
DTSTART;TZID=America/New_York:20260725T090000
DTEND;TZID=America/New_York:20260725T120000
DTSTAMP:20260424T213029
CREATED:20260319T125009Z
LAST-MODIFIED:20260320T015859Z
UID:10050315-1784970000-1784980800@livemusicasheville.com
SUMMARY:Adi the Monk
DESCRIPTION:
URL:https://livemusicasheville.com/calendar/adi-the-monk-7/2026-07-25/
LOCATION:Sunny Point Café
CATEGORIES:Asheville Area,Live Music
END:VEVENT
BEGIN:VEVENT
DTSTART;TZID=America/New_York:20260801T090000
DTEND;TZID=America/New_York:20260801T120000
DTSTAMP:20260424T213029
CREATED:20260319T125009Z
LAST-MODIFIED:20260320T015859Z
UID:10050316-1785574800-1785585600@livemusicasheville.com
SUMMARY:Adi the Monk
DESCRIPTION:
URL:https://livemusicasheville.com/calendar/adi-the-monk-7/2026-08-01/
LOCATION:Sunny Point Café
CATEGORIES:Asheville Area,Live Music
END:VEVENT
BEGIN:VEVENT
DTSTART;TZID=America/New_York:20260808T090000
DTEND;TZID=America/New_York:20260808T120000
DTSTAMP:20260424T213029
CREATED:20260319T125009Z
LAST-MODIFIED:20260320T015859Z
UID:10050317-1786179600-1786190400@livemusicasheville.com
SUMMARY:Adi the Monk
DESCRIPTION:
URL:https://livemusicasheville.com/calendar/adi-the-monk-7/2026-08-08/
LOCATION:Sunny Point Café
CATEGORIES:Asheville Area,Live Music
END:VEVENT
BEGIN:VEVENT
DTSTART;TZID=America/New_York:20260815T090000
DTEND;TZID=America/New_York:20260815T120000
DTSTAMP:20260424T213029
CREATED:20260319T125009Z
LAST-MODIFIED:20260320T015859Z
UID:10050318-1786784400-1786795200@livemusicasheville.com
SUMMARY:Adi the Monk
DESCRIPTION:
URL:https://livemusicasheville.com/calendar/adi-the-monk-7/2026-08-15/
LOCATION:Sunny Point Café
CATEGORIES:Asheville Area,Live Music
END:VEVENT
BEGIN:VEVENT
DTSTART;TZID=America/New_York:20260822T090000
DTEND;TZID=America/New_York:20260822T120000
DTSTAMP:20260424T213029
CREATED:20260319T125009Z
LAST-MODIFIED:20260320T015859Z
UID:10050319-1787389200-1787400000@livemusicasheville.com
SUMMARY:Adi the Monk
DESCRIPTION:
URL:https://livemusicasheville.com/calendar/adi-the-monk-7/2026-08-22/
LOCATION:Sunny Point Café
CATEGORIES:Asheville Area,Live Music
END:VEVENT
BEGIN:VEVENT
DTSTART;TZID=America/New_York:20260829T090000
DTEND;TZID=America/New_York:20260829T120000
DTSTAMP:20260424T213029
CREATED:20260319T125009Z
LAST-MODIFIED:20260320T015859Z
UID:10050320-1787994000-1788004800@livemusicasheville.com
SUMMARY:Adi the Monk
DESCRIPTION:
URL:https://livemusicasheville.com/calendar/adi-the-monk-7/2026-08-29/
LOCATION:Sunny Point Café
CATEGORIES:Asheville Area,Live Music
END:VEVENT
BEGIN:VEVENT
DTSTART;TZID=America/New_York:20260905T090000
DTEND;TZID=America/New_York:20260905T120000
DTSTAMP:20260424T213029
CREATED:20260319T125009Z
LAST-MODIFIED:20260320T015859Z
UID:10050321-1788598800-1788609600@livemusicasheville.com
SUMMARY:Adi the Monk
DESCRIPTION:
URL:https://livemusicasheville.com/calendar/adi-the-monk-7/2026-09-05/
LOCATION:Sunny Point Café
CATEGORIES:Asheville Area,Live Music
END:VEVENT
BEGIN:VEVENT
DTSTART;TZID=America/New_York:20260912T090000
DTEND;TZID=America/New_York:20260912T120000
DTSTAMP:20260424T213029
CREATED:20260319T125009Z
LAST-MODIFIED:20260320T015859Z
UID:10050322-1789203600-1789214400@livemusicasheville.com
SUMMARY:Adi the Monk
DESCRIPTION:
URL:https://livemusicasheville.com/calendar/adi-the-monk-7/2026-09-12/
LOCATION:Sunny Point Café
CATEGORIES:Asheville Area,Live Music
END:VEVENT
BEGIN:VEVENT
DTSTART;TZID=America/New_York:20260919T090000
DTEND;TZID=America/New_York:20260919T120000
DTSTAMP:20260424T213029
CREATED:20260319T125009Z
LAST-MODIFIED:20260320T015859Z
UID:10050323-1789808400-1789819200@livemusicasheville.com
SUMMARY:Adi the Monk
DESCRIPTION:
URL:https://livemusicasheville.com/calendar/adi-the-monk-7/2026-09-19/
LOCATION:Sunny Point Café
CATEGORIES:Asheville Area,Live Music
END:VEVENT
BEGIN:VEVENT
DTSTART;TZID=America/New_York:20260926T090000
DTEND;TZID=America/New_York:20260926T120000
DTSTAMP:20260424T213029
CREATED:20260319T125009Z
LAST-MODIFIED:20260320T015859Z
UID:10050324-1790413200-1790424000@livemusicasheville.com
SUMMARY:Adi the Monk
DESCRIPTION:
URL:https://livemusicasheville.com/calendar/adi-the-monk-7/2026-09-26/
LOCATION:Sunny Point Café
CATEGORIES:Asheville Area,Live Music
END:VEVENT
BEGIN:VEVENT
DTSTART;TZID=America/New_York:20261003T090000
DTEND;TZID=America/New_York:20261003T120000
DTSTAMP:20260424T213029
CREATED:20260319T125009Z
LAST-MODIFIED:20260320T015859Z
UID:10050325-1791018000-1791028800@livemusicasheville.com
SUMMARY:Adi the Monk
DESCRIPTION:
URL:https://livemusicasheville.com/calendar/adi-the-monk-7/2026-10-03/
LOCATION:Sunny Point Café
CATEGORIES:Asheville Area,Live Music
END:VEVENT
BEGIN:VEVENT
DTSTART;TZID=America/New_York:20261010T090000
DTEND;TZID=America/New_York:20261010T120000
DTSTAMP:20260424T213029
CREATED:20260319T125009Z
LAST-MODIFIED:20260320T015859Z
UID:10050326-1791622800-1791633600@livemusicasheville.com
SUMMARY:Adi the Monk
DESCRIPTION:
URL:https://livemusicasheville.com/calendar/adi-the-monk-7/2026-10-10/
LOCATION:Sunny Point Café
CATEGORIES:Asheville Area,Live Music
END:VEVENT
BEGIN:VEVENT
DTSTART;TZID=America/New_York:20261017T090000
DTEND;TZID=America/New_York:20261017T120000
DTSTAMP:20260424T213029
CREATED:20260319T125009Z
LAST-MODIFIED:20260320T015859Z
UID:10050327-1792227600-1792238400@livemusicasheville.com
SUMMARY:Adi the Monk
DESCRIPTION:
URL:https://livemusicasheville.com/calendar/adi-the-monk-7/2026-10-17/
LOCATION:Sunny Point Café
CATEGORIES:Asheville Area,Live Music
END:VEVENT
BEGIN:VEVENT
DTSTART;TZID=America/New_York:20261024T090000
DTEND;TZID=America/New_York:20261024T120000
DTSTAMP:20260424T213029
CREATED:20260319T125009Z
LAST-MODIFIED:20260320T015859Z
UID:10050328-1792832400-1792843200@livemusicasheville.com
SUMMARY:Adi the Monk
DESCRIPTION:
URL:https://livemusicasheville.com/calendar/adi-the-monk-7/2026-10-24/
LOCATION:Sunny Point Café
CATEGORIES:Asheville Area,Live Music
END:VEVENT
BEGIN:VEVENT
DTSTART;TZID=America/New_York:20261031T090000
DTEND;TZID=America/New_York:20261031T120000
DTSTAMP:20260424T213029
CREATED:20260319T125009Z
LAST-MODIFIED:20260320T015859Z
UID:10050329-1793437200-1793448000@livemusicasheville.com
SUMMARY:Adi the Monk
DESCRIPTION:
URL:https://livemusicasheville.com/calendar/adi-the-monk-7/2026-10-31/
LOCATION:Sunny Point Café
CATEGORIES:Asheville Area,Live Music
END:VEVENT
BEGIN:VEVENT
DTSTART;TZID=America/New_York:20261107T090000
DTEND;TZID=America/New_York:20261107T120000
DTSTAMP:20260424T213029
CREATED:20260319T125009Z
LAST-MODIFIED:20260320T015859Z
UID:10050330-1794042000-1794052800@livemusicasheville.com
SUMMARY:Adi the Monk
DESCRIPTION:
URL:https://livemusicasheville.com/calendar/adi-the-monk-7/2026-11-07/
LOCATION:Sunny Point Café
CATEGORIES:Asheville Area,Live Music
END:VEVENT
END:VCALENDAR