BEGIN:VCALENDAR
VERSION:2.0
PRODID:-//LiveMusicAsheville.com - ECPv6.15.20//NONSGML v1.0//EN
CALSCALE:GREGORIAN
METHOD:PUBLISH
X-WR-CALNAME:LiveMusicAsheville.com
X-ORIGINAL-URL:https://livemusicasheville.com
X-WR-CALDESC:Events for LiveMusicAsheville.com
REFRESH-INTERVAL;VALUE=DURATION:PT1H
X-Robots-Tag:noindex
X-PUBLISHED-TTL:PT1H
BEGIN:VTIMEZONE
TZID:America/New_York
BEGIN:DAYLIGHT
TZOFFSETFROM:-0500
TZOFFSETTO:-0400
TZNAME:EDT
DTSTART:20250309T070000
END:DAYLIGHT
BEGIN:STANDARD
TZOFFSETFROM:-0400
TZOFFSETTO:-0500
TZNAME:EST
DTSTART:20251102T060000
END:STANDARD
BEGIN:DAYLIGHT
TZOFFSETFROM:-0500
TZOFFSETTO:-0400
TZNAME:EDT
DTSTART:20260308T070000
END:DAYLIGHT
BEGIN:STANDARD
TZOFFSETFROM:-0400
TZOFFSETTO:-0500
TZNAME:EST
DTSTART:20261101T060000
END:STANDARD
BEGIN:DAYLIGHT
TZOFFSETFROM:-0500
TZOFFSETTO:-0400
TZNAME:EDT
DTSTART:20270314T070000
END:DAYLIGHT
BEGIN:STANDARD
TZOFFSETFROM:-0400
TZOFFSETTO:-0500
TZNAME:EST
DTSTART:20271107T060000
END:STANDARD
BEGIN:DAYLIGHT
TZOFFSETFROM:-0500
TZOFFSETTO:-0400
TZNAME:EDT
DTSTART:20280312T070000
END:DAYLIGHT
BEGIN:STANDARD
TZOFFSETFROM:-0400
TZOFFSETTO:-0500
TZNAME:EST
DTSTART:20281105T060000
END:STANDARD
END:VTIMEZONE
BEGIN:VEVENT
DTSTART;TZID=America/New_York:20260428T190000
DTEND;TZID=America/New_York:20260428T210000
DTSTAMP:20260424T112401
CREATED:20260401T141843Z
LAST-MODIFIED:20260401T141844Z
UID:10054355-1777402800-1777410000@livemusicasheville.com
SUMMARY:Mark Bumgarner
DESCRIPTION:
URL:https://livemusicasheville.com/calendar/mark-bumgarner-2-2-2-3-2-2-2/2026-04-28/
LOCATION:Blue Mountain Pizza Weaverville
CATEGORIES:Asheville Area,Live Music,Weaverville
GEO:35.698228;-82.560231
END:VEVENT
BEGIN:VEVENT
DTSTART;TZID=America/New_York:20260512T190000
DTEND;TZID=America/New_York:20260512T210000
DTSTAMP:20260424T112401
CREATED:20260401T141843Z
LAST-MODIFIED:20260401T141844Z
UID:10054356-1778612400-1778619600@livemusicasheville.com
SUMMARY:Mark Bumgarner
DESCRIPTION:
URL:https://livemusicasheville.com/calendar/mark-bumgarner-2-2-2-3-2-2-2/2026-05-12/
LOCATION:Blue Mountain Pizza Weaverville
CATEGORIES:Asheville Area,Live Music,Weaverville
GEO:35.698228;-82.560231
END:VEVENT
BEGIN:VEVENT
DTSTART;TZID=America/New_York:20260526T190000
DTEND;TZID=America/New_York:20260526T210000
DTSTAMP:20260424T112401
CREATED:20260401T141843Z
LAST-MODIFIED:20260401T141844Z
UID:10054357-1779822000-1779829200@livemusicasheville.com
SUMMARY:Mark Bumgarner
DESCRIPTION:
URL:https://livemusicasheville.com/calendar/mark-bumgarner-2-2-2-3-2-2-2/2026-05-26/
LOCATION:Blue Mountain Pizza Weaverville
CATEGORIES:Asheville Area,Live Music,Weaverville
GEO:35.698228;-82.560231
END:VEVENT
BEGIN:VEVENT
DTSTART;TZID=America/New_York:20260609T190000
DTEND;TZID=America/New_York:20260609T210000
DTSTAMP:20260424T112401
CREATED:20260401T141843Z
LAST-MODIFIED:20260401T141844Z
UID:10054358-1781031600-1781038800@livemusicasheville.com
SUMMARY:Mark Bumgarner
DESCRIPTION:
URL:https://livemusicasheville.com/calendar/mark-bumgarner-2-2-2-3-2-2-2/2026-06-09/
LOCATION:Blue Mountain Pizza Weaverville
CATEGORIES:Asheville Area,Live Music,Weaverville
GEO:35.698228;-82.560231
END:VEVENT
BEGIN:VEVENT
DTSTART;TZID=America/New_York:20260623T190000
DTEND;TZID=America/New_York:20260623T210000
DTSTAMP:20260424T112401
CREATED:20260401T141843Z
LAST-MODIFIED:20260401T141844Z
UID:10054359-1782241200-1782248400@livemusicasheville.com
SUMMARY:Mark Bumgarner
DESCRIPTION:
URL:https://livemusicasheville.com/calendar/mark-bumgarner-2-2-2-3-2-2-2/2026-06-23/
LOCATION:Blue Mountain Pizza Weaverville
CATEGORIES:Asheville Area,Live Music,Weaverville
GEO:35.698228;-82.560231
END:VEVENT
BEGIN:VEVENT
DTSTART;TZID=America/New_York:20260707T190000
DTEND;TZID=America/New_York:20260707T210000
DTSTAMP:20260424T112401
CREATED:20260401T141843Z
LAST-MODIFIED:20260401T141844Z
UID:10054360-1783450800-1783458000@livemusicasheville.com
SUMMARY:Mark Bumgarner
DESCRIPTION:
URL:https://livemusicasheville.com/calendar/mark-bumgarner-2-2-2-3-2-2-2/2026-07-07/
LOCATION:Blue Mountain Pizza Weaverville
CATEGORIES:Asheville Area,Live Music,Weaverville
GEO:35.698228;-82.560231
END:VEVENT
BEGIN:VEVENT
DTSTART;TZID=America/New_York:20260721T190000
DTEND;TZID=America/New_York:20260721T210000
DTSTAMP:20260424T112401
CREATED:20260401T141843Z
LAST-MODIFIED:20260401T141844Z
UID:10054361-1784660400-1784667600@livemusicasheville.com
SUMMARY:Mark Bumgarner
DESCRIPTION:
URL:https://livemusicasheville.com/calendar/mark-bumgarner-2-2-2-3-2-2-2/2026-07-21/
LOCATION:Blue Mountain Pizza Weaverville
CATEGORIES:Asheville Area,Live Music,Weaverville
GEO:35.698228;-82.560231
END:VEVENT
BEGIN:VEVENT
DTSTART;TZID=America/New_York:20260804T190000
DTEND;TZID=America/New_York:20260804T210000
DTSTAMP:20260424T112401
CREATED:20260401T141843Z
LAST-MODIFIED:20260401T141844Z
UID:10054362-1785870000-1785877200@livemusicasheville.com
SUMMARY:Mark Bumgarner
DESCRIPTION:
URL:https://livemusicasheville.com/calendar/mark-bumgarner-2-2-2-3-2-2-2/2026-08-04/
LOCATION:Blue Mountain Pizza Weaverville
CATEGORIES:Asheville Area,Live Music,Weaverville
GEO:35.698228;-82.560231
END:VEVENT
BEGIN:VEVENT
DTSTART;TZID=America/New_York:20260818T190000
DTEND;TZID=America/New_York:20260818T210000
DTSTAMP:20260424T112401
CREATED:20260401T141843Z
LAST-MODIFIED:20260401T141844Z
UID:10054363-1787079600-1787086800@livemusicasheville.com
SUMMARY:Mark Bumgarner
DESCRIPTION:
URL:https://livemusicasheville.com/calendar/mark-bumgarner-2-2-2-3-2-2-2/2026-08-18/
LOCATION:Blue Mountain Pizza Weaverville
CATEGORIES:Asheville Area,Live Music,Weaverville
GEO:35.698228;-82.560231
END:VEVENT
BEGIN:VEVENT
DTSTART;TZID=America/New_York:20260901T190000
DTEND;TZID=America/New_York:20260901T210000
DTSTAMP:20260424T112401
CREATED:20260401T141843Z
LAST-MODIFIED:20260401T141844Z
UID:10054364-1788289200-1788296400@livemusicasheville.com
SUMMARY:Mark Bumgarner
DESCRIPTION:
URL:https://livemusicasheville.com/calendar/mark-bumgarner-2-2-2-3-2-2-2/2026-09-01/
LOCATION:Blue Mountain Pizza Weaverville
CATEGORIES:Asheville Area,Live Music,Weaverville
GEO:35.698228;-82.560231
END:VEVENT
BEGIN:VEVENT
DTSTART;TZID=America/New_York:20260915T190000
DTEND;TZID=America/New_York:20260915T210000
DTSTAMP:20260424T112401
CREATED:20260401T141843Z
LAST-MODIFIED:20260401T141844Z
UID:10054365-1789498800-1789506000@livemusicasheville.com
SUMMARY:Mark Bumgarner
DESCRIPTION:
URL:https://livemusicasheville.com/calendar/mark-bumgarner-2-2-2-3-2-2-2/2026-09-15/
LOCATION:Blue Mountain Pizza Weaverville
CATEGORIES:Asheville Area,Live Music,Weaverville
GEO:35.698228;-82.560231
END:VEVENT
BEGIN:VEVENT
DTSTART;TZID=America/New_York:20260929T190000
DTEND;TZID=America/New_York:20260929T210000
DTSTAMP:20260424T112401
CREATED:20260401T141843Z
LAST-MODIFIED:20260401T141844Z
UID:10054366-1790708400-1790715600@livemusicasheville.com
SUMMARY:Mark Bumgarner
DESCRIPTION:
URL:https://livemusicasheville.com/calendar/mark-bumgarner-2-2-2-3-2-2-2/2026-09-29/
LOCATION:Blue Mountain Pizza Weaverville
CATEGORIES:Asheville Area,Live Music,Weaverville
GEO:35.698228;-82.560231
END:VEVENT
BEGIN:VEVENT
DTSTART;TZID=America/New_York:20261013T190000
DTEND;TZID=America/New_York:20261013T210000
DTSTAMP:20260424T112401
CREATED:20260401T141843Z
LAST-MODIFIED:20260401T141844Z
UID:10054367-1791918000-1791925200@livemusicasheville.com
SUMMARY:Mark Bumgarner
DESCRIPTION:
URL:https://livemusicasheville.com/calendar/mark-bumgarner-2-2-2-3-2-2-2/2026-10-13/
LOCATION:Blue Mountain Pizza Weaverville
CATEGORIES:Asheville Area,Live Music,Weaverville
GEO:35.698228;-82.560231
END:VEVENT
BEGIN:VEVENT
DTSTART;TZID=America/New_York:20261027T190000
DTEND;TZID=America/New_York:20261027T210000
DTSTAMP:20260424T112401
CREATED:20260401T141843Z
LAST-MODIFIED:20260401T141844Z
UID:10054368-1793127600-1793134800@livemusicasheville.com
SUMMARY:Mark Bumgarner
DESCRIPTION:
URL:https://livemusicasheville.com/calendar/mark-bumgarner-2-2-2-3-2-2-2/2026-10-27/
LOCATION:Blue Mountain Pizza Weaverville
CATEGORIES:Asheville Area,Live Music,Weaverville
GEO:35.698228;-82.560231
END:VEVENT
BEGIN:VEVENT
DTSTART;TZID=America/New_York:20261110T190000
DTEND;TZID=America/New_York:20261110T210000
DTSTAMP:20260424T112401
CREATED:20260401T141843Z
LAST-MODIFIED:20260401T141844Z
UID:10054369-1794337200-1794344400@livemusicasheville.com
SUMMARY:Mark Bumgarner
DESCRIPTION:
URL:https://livemusicasheville.com/calendar/mark-bumgarner-2-2-2-3-2-2-2/2026-11-10/
LOCATION:Blue Mountain Pizza Weaverville
CATEGORIES:Asheville Area,Live Music,Weaverville
GEO:35.698228;-82.560231
END:VEVENT
BEGIN:VEVENT
DTSTART;TZID=America/New_York:20261124T190000
DTEND;TZID=America/New_York:20261124T210000
DTSTAMP:20260424T112401
CREATED:20260401T141843Z
LAST-MODIFIED:20260401T141844Z
UID:10054370-1795546800-1795554000@livemusicasheville.com
SUMMARY:Mark Bumgarner
DESCRIPTION:
URL:https://livemusicasheville.com/calendar/mark-bumgarner-2-2-2-3-2-2-2/2026-11-24/
LOCATION:Blue Mountain Pizza Weaverville
CATEGORIES:Asheville Area,Live Music,Weaverville
GEO:35.698228;-82.560231
END:VEVENT
BEGIN:VEVENT
DTSTART;TZID=America/New_York:20261208T190000
DTEND;TZID=America/New_York:20261208T210000
DTSTAMP:20260424T112401
CREATED:20260401T141843Z
LAST-MODIFIED:20260401T141844Z
UID:10054371-1796756400-1796763600@livemusicasheville.com
SUMMARY:Mark Bumgarner
DESCRIPTION:
URL:https://livemusicasheville.com/calendar/mark-bumgarner-2-2-2-3-2-2-2/2026-12-08/
LOCATION:Blue Mountain Pizza Weaverville
CATEGORIES:Asheville Area,Live Music,Weaverville
GEO:35.698228;-82.560231
END:VEVENT
BEGIN:VEVENT
DTSTART;TZID=America/New_York:20261222T190000
DTEND;TZID=America/New_York:20261222T210000
DTSTAMP:20260424T112401
CREATED:20260401T141843Z
LAST-MODIFIED:20260401T141844Z
UID:10054372-1797966000-1797973200@livemusicasheville.com
SUMMARY:Mark Bumgarner
DESCRIPTION:
URL:https://livemusicasheville.com/calendar/mark-bumgarner-2-2-2-3-2-2-2/2026-12-22/
LOCATION:Blue Mountain Pizza Weaverville
CATEGORIES:Asheville Area,Live Music,Weaverville
GEO:35.698228;-82.560231
END:VEVENT
BEGIN:VEVENT
DTSTART;TZID=America/New_York:20270105T190000
DTEND;TZID=America/New_York:20270105T210000
DTSTAMP:20260424T112401
CREATED:20260401T141843Z
LAST-MODIFIED:20260401T141844Z
UID:10054373-1799175600-1799182800@livemusicasheville.com
SUMMARY:Mark Bumgarner
DESCRIPTION:
URL:https://livemusicasheville.com/calendar/mark-bumgarner-2-2-2-3-2-2-2/2027-01-05/
LOCATION:Blue Mountain Pizza Weaverville
CATEGORIES:Asheville Area,Live Music,Weaverville
GEO:35.698228;-82.560231
END:VEVENT
BEGIN:VEVENT
DTSTART;TZID=America/New_York:20270119T190000
DTEND;TZID=America/New_York:20270119T210000
DTSTAMP:20260424T112401
CREATED:20260401T141843Z
LAST-MODIFIED:20260401T141844Z
UID:10054374-1800385200-1800392400@livemusicasheville.com
SUMMARY:Mark Bumgarner
DESCRIPTION:
URL:https://livemusicasheville.com/calendar/mark-bumgarner-2-2-2-3-2-2-2/2027-01-19/
LOCATION:Blue Mountain Pizza Weaverville
CATEGORIES:Asheville Area,Live Music,Weaverville
GEO:35.698228;-82.560231
END:VEVENT
BEGIN:VEVENT
DTSTART;TZID=America/New_York:20270202T190000
DTEND;TZID=America/New_York:20270202T210000
DTSTAMP:20260424T112401
CREATED:20260401T141843Z
LAST-MODIFIED:20260401T141844Z
UID:10054375-1801594800-1801602000@livemusicasheville.com
SUMMARY:Mark Bumgarner
DESCRIPTION:
URL:https://livemusicasheville.com/calendar/mark-bumgarner-2-2-2-3-2-2-2/2027-02-02/
LOCATION:Blue Mountain Pizza Weaverville
CATEGORIES:Asheville Area,Live Music,Weaverville
GEO:35.698228;-82.560231
END:VEVENT
BEGIN:VEVENT
DTSTART;TZID=America/New_York:20270216T190000
DTEND;TZID=America/New_York:20270216T210000
DTSTAMP:20260424T112401
CREATED:20260401T141843Z
LAST-MODIFIED:20260401T141844Z
UID:10054376-1802804400-1802811600@livemusicasheville.com
SUMMARY:Mark Bumgarner
DESCRIPTION:
URL:https://livemusicasheville.com/calendar/mark-bumgarner-2-2-2-3-2-2-2/2027-02-16/
LOCATION:Blue Mountain Pizza Weaverville
CATEGORIES:Asheville Area,Live Music,Weaverville
GEO:35.698228;-82.560231
END:VEVENT
BEGIN:VEVENT
DTSTART;TZID=America/New_York:20270302T190000
DTEND;TZID=America/New_York:20270302T210000
DTSTAMP:20260424T112401
CREATED:20260401T141843Z
LAST-MODIFIED:20260401T141844Z
UID:10054377-1804014000-1804021200@livemusicasheville.com
SUMMARY:Mark Bumgarner
DESCRIPTION:
URL:https://livemusicasheville.com/calendar/mark-bumgarner-2-2-2-3-2-2-2/2027-03-02/
LOCATION:Blue Mountain Pizza Weaverville
CATEGORIES:Asheville Area,Live Music,Weaverville
GEO:35.698228;-82.560231
END:VEVENT
BEGIN:VEVENT
DTSTART;TZID=America/New_York:20270316T190000
DTEND;TZID=America/New_York:20270316T210000
DTSTAMP:20260424T112401
CREATED:20260401T141843Z
LAST-MODIFIED:20260401T141844Z
UID:10054378-1805223600-1805230800@livemusicasheville.com
SUMMARY:Mark Bumgarner
DESCRIPTION:
URL:https://livemusicasheville.com/calendar/mark-bumgarner-2-2-2-3-2-2-2/2027-03-16/
LOCATION:Blue Mountain Pizza Weaverville
CATEGORIES:Asheville Area,Live Music,Weaverville
GEO:35.698228;-82.560231
END:VEVENT
BEGIN:VEVENT
DTSTART;TZID=America/New_York:20270330T190000
DTEND;TZID=America/New_York:20270330T210000
DTSTAMP:20260424T112401
CREATED:20260401T141843Z
LAST-MODIFIED:20260401T141844Z
UID:10054379-1806433200-1806440400@livemusicasheville.com
SUMMARY:Mark Bumgarner
DESCRIPTION:
URL:https://livemusicasheville.com/calendar/mark-bumgarner-2-2-2-3-2-2-2/2027-03-30/
LOCATION:Blue Mountain Pizza Weaverville
CATEGORIES:Asheville Area,Live Music,Weaverville
GEO:35.698228;-82.560231
END:VEVENT
BEGIN:VEVENT
DTSTART;TZID=America/New_York:20270413T190000
DTEND;TZID=America/New_York:20270413T210000
DTSTAMP:20260424T112401
CREATED:20260401T141843Z
LAST-MODIFIED:20260401T141844Z
UID:10054380-1807642800-1807650000@livemusicasheville.com
SUMMARY:Mark Bumgarner
DESCRIPTION:
URL:https://livemusicasheville.com/calendar/mark-bumgarner-2-2-2-3-2-2-2/2027-04-13/
LOCATION:Blue Mountain Pizza Weaverville
CATEGORIES:Asheville Area,Live Music,Weaverville
GEO:35.698228;-82.560231
END:VEVENT
BEGIN:VEVENT
DTSTART;TZID=America/New_York:20270427T190000
DTEND;TZID=America/New_York:20270427T210000
DTSTAMP:20260424T112401
CREATED:20260401T141843Z
LAST-MODIFIED:20260401T141844Z
UID:10054381-1808852400-1808859600@livemusicasheville.com
SUMMARY:Mark Bumgarner
DESCRIPTION:
URL:https://livemusicasheville.com/calendar/mark-bumgarner-2-2-2-3-2-2-2/2027-04-27/
LOCATION:Blue Mountain Pizza Weaverville
CATEGORIES:Asheville Area,Live Music,Weaverville
GEO:35.698228;-82.560231
END:VEVENT
BEGIN:VEVENT
DTSTART;TZID=America/New_York:20270511T190000
DTEND;TZID=America/New_York:20270511T210000
DTSTAMP:20260424T112401
CREATED:20260401T141843Z
LAST-MODIFIED:20260401T141844Z
UID:10054382-1810062000-1810069200@livemusicasheville.com
SUMMARY:Mark Bumgarner
DESCRIPTION:
URL:https://livemusicasheville.com/calendar/mark-bumgarner-2-2-2-3-2-2-2/2027-05-11/
LOCATION:Blue Mountain Pizza Weaverville
CATEGORIES:Asheville Area,Live Music,Weaverville
GEO:35.698228;-82.560231
END:VEVENT
BEGIN:VEVENT
DTSTART;TZID=America/New_York:20270525T190000
DTEND;TZID=America/New_York:20270525T210000
DTSTAMP:20260424T112401
CREATED:20260401T141843Z
LAST-MODIFIED:20260401T141844Z
UID:10054383-1811271600-1811278800@livemusicasheville.com
SUMMARY:Mark Bumgarner
DESCRIPTION:
URL:https://livemusicasheville.com/calendar/mark-bumgarner-2-2-2-3-2-2-2/2027-05-25/
LOCATION:Blue Mountain Pizza Weaverville
CATEGORIES:Asheville Area,Live Music,Weaverville
GEO:35.698228;-82.560231
END:VEVENT
BEGIN:VEVENT
DTSTART;TZID=America/New_York:20270608T190000
DTEND;TZID=America/New_York:20270608T210000
DTSTAMP:20260424T112401
CREATED:20260401T141843Z
LAST-MODIFIED:20260401T141844Z
UID:10054384-1812481200-1812488400@livemusicasheville.com
SUMMARY:Mark Bumgarner
DESCRIPTION:
URL:https://livemusicasheville.com/calendar/mark-bumgarner-2-2-2-3-2-2-2/2027-06-08/
LOCATION:Blue Mountain Pizza Weaverville
CATEGORIES:Asheville Area,Live Music,Weaverville
GEO:35.698228;-82.560231
END:VEVENT
END:VCALENDAR