BEGIN:VCALENDAR
VERSION:2.0
PRODID:-//LiveMusicAsheville.com - ECPv6.15.20//NONSGML v1.0//EN
CALSCALE:GREGORIAN
METHOD:PUBLISH
X-ORIGINAL-URL:https://livemusicasheville.com
X-WR-CALDESC:Events for LiveMusicAsheville.com
REFRESH-INTERVAL;VALUE=DURATION:PT1H
X-Robots-Tag:noindex
X-PUBLISHED-TTL:PT1H
BEGIN:VTIMEZONE
TZID:America/New_York
BEGIN:DAYLIGHT
TZOFFSETFROM:-0500
TZOFFSETTO:-0400
TZNAME:EDT
DTSTART:20240310T070000
END:DAYLIGHT
BEGIN:STANDARD
TZOFFSETFROM:-0400
TZOFFSETTO:-0500
TZNAME:EST
DTSTART:20241103T060000
END:STANDARD
BEGIN:DAYLIGHT
TZOFFSETFROM:-0500
TZOFFSETTO:-0400
TZNAME:EDT
DTSTART:20250309T070000
END:DAYLIGHT
BEGIN:STANDARD
TZOFFSETFROM:-0400
TZOFFSETTO:-0500
TZNAME:EST
DTSTART:20251102T060000
END:STANDARD
BEGIN:DAYLIGHT
TZOFFSETFROM:-0500
TZOFFSETTO:-0400
TZNAME:EDT
DTSTART:20260308T070000
END:DAYLIGHT
BEGIN:STANDARD
TZOFFSETFROM:-0400
TZOFFSETTO:-0500
TZNAME:EST
DTSTART:20261101T060000
END:STANDARD
END:VTIMEZONE
BEGIN:VEVENT
DTSTART;TZID=America/New_York:20251202T190000
DTEND;TZID=America/New_York:20251202T210000
DTSTAMP:20260421T234855
CREATED:20251202T014354Z
LAST-MODIFIED:20251202T014354Z
UID:10026317-1764702000-1764709200@livemusicasheville.com
SUMMARY:The Asheville Symphony Chorus: Messiah Sing-Along
DESCRIPTION:Get into the festive spirit this holiday season and sing along with the ASC at our annual Messiah Sing-Along.\n\n\n Director Kyle Ritter will lead us in a joyful rendition of the Christmas section of Handel’s MESSIAH\, with solos performed by ASC members.\n\n\nSing your favorite\, familiar sections with the Asheville Symphony Chorus.\n\n\nCelebrate the season and the arts with your family\, friends\, and neighbors.
URL:https://livemusicasheville.com/calendar/the-asheville-symphony-chorus-messiah-sing-along/
LOCATION:Trinity Episcopal Church Asheville
CATEGORIES:Asheville Area,Live Music
END:VEVENT
BEGIN:VEVENT
DTSTART;TZID=America/New_York:20251202T190000
DTEND;TZID=America/New_York:20251202T203000
DTSTAMP:20260421T234855
CREATED:20251201T223314Z
LAST-MODIFIED:20251201T223314Z
UID:10026303-1764702000-1764707400@livemusicasheville.com
SUMMARY:Hellbender Consort (UNCA chamber ensemble)
DESCRIPTION:Hellbender Consort (UNCA chamber ensemble)\n-December 2\, 7:00 pm\n-Mullen-James lecture hall
URL:https://livemusicasheville.com/calendar/hellbender-consort-unca-chamber-ensemble/
LOCATION:UNC-Asheville
CATEGORIES:Asheville Area,Live Music
END:VEVENT
BEGIN:VEVENT
DTSTART;TZID=America/New_York:20251202T183000
DTEND;TZID=America/New_York:20251202T210000
DTSTAMP:20260421T234855
CREATED:20241226T154248Z
LAST-MODIFIED:20251214T220310Z
UID:10003484-1764700200-1764709200@livemusicasheville.com
SUMMARY:Mountain Shag Club
DESCRIPTION:
URL:https://livemusicasheville.com/calendar/mountain-shag-club/2025-12-02/
LOCATION:Chophouse Restaurant at the 4 Points Hotel by Sheraton
CATEGORIES:Asheville Area,DJ/Electronic
END:VEVENT
BEGIN:VEVENT
DTSTART;TZID=America/New_York:20251202T180000
DTEND;TZID=America/New_York:20251202T220000
DTSTAMP:20260421T234855
CREATED:20251007T130234Z
LAST-MODIFIED:20251116T161904Z
UID:10024574-1764698400-1764712800@livemusicasheville.com
SUMMARY:Winter Lights
DESCRIPTION:We look forward to welcoming you back for another year of Asheville’s Brightest Holiday Tradition! Winter Lights is a spectacular open-air walk-through light show made from over one million lights! Located at the North Carolina Arboretum in Asheville\, North Carolina\, this year’s event features favorites like the famously tall 50-foot lighted tree and the Quilt Garden\, along with enchanting new details designed to delight and surprise. \nTroll sightings are anticipated at this year’s Winter Lights\, as six of Dambo’s Trolls will be experiencing the show for themselves. Meet them in the gardens at Winter Lights! \nWinter Lights features live entertainment nightly and food and beverages from the Bent Creek Bistro\, the Cocoa Shack and the Cocoa Cabin! Open nightly from 6:00 – 10:00 p.m. \nTickets on Sale Now! Event Details and Tickets \nFor more than 35 years…Cultivating Connections between People\, Plants and Places…amid a 434-acre public garden\, The North Carolina Arboretum is located within the Bent Creek Experimental Forest just south of Asheville and adjacent to the Blue Ridge Parkway at Milepost 393. Surrounded and crisscrossed by forested coves and meandering creeks in the botanically diverse Southern Appalachian Mountains\, The North Carolina Arboretum is set in one of the most beautiful natural settings in America. ncarboretum.org \n  \n 
URL:https://livemusicasheville.com/calendar/winter-lights-2/2025-12-02/
LOCATION:The North Carolina Arboretum
CATEGORIES:Asheville Area,Live Music
END:VEVENT
BEGIN:VEVENT
DTSTART;TZID=America/New_York:20251202T180000
DTEND;TZID=America/New_York:20251202T200000
DTSTAMP:20260421T234855
CREATED:20250826T141442Z
LAST-MODIFIED:20250826T141443Z
UID:10015922-1764698400-1764705600@livemusicasheville.com
SUMMARY:Tuesdays w/ Ashley Heath
DESCRIPTION:
URL:https://livemusicasheville.com/calendar/ashley-heath-7/2025-12-02/
LOCATION:The Bush Farmhouse Black Mountain
CATEGORIES:Asheville Area,Black Mountain,Live Music
GEO:35.6171865;-82.3170606
END:VEVENT
BEGIN:VEVENT
DTSTART;TZID=America/New_York:20251202T170000
DTEND;TZID=America/New_York:20251203T010000
DTSTAMP:20260421T234855
CREATED:20250114T165902Z
LAST-MODIFIED:20260325T171237Z
UID:10052363-1764694800-1764723600@livemusicasheville.com
SUMMARY:Tuesday Karaoke
DESCRIPTION:Sierra Nevada Mills River – 5-8pm (March 31) \nWild Wing Cafe – 8-11pm \nThe One Stop – 10pm-1am \n 
URL:https://livemusicasheville.com/calendar/tuesday-karaoke/2025-12-02/
LOCATION:Asheville Area
CATEGORIES:Asheville Area,Karaoke
END:VEVENT
BEGIN:VEVENT
DTSTART;TZID=America/New_York:20251202T170000
DTEND;TZID=America/New_York:20251202T183000
DTSTAMP:20260421T234856
CREATED:20251201T223055Z
LAST-MODIFIED:20251201T223055Z
UID:10026302-1764694800-1764700200@livemusicasheville.com
SUMMARY:Bluegrass Ensemble
DESCRIPTION:Bluegrass Ensemble\n-December 2\, 5:00 pm\n-Mullen-James lecture hall
URL:https://livemusicasheville.com/calendar/bluegrass-ensemble/
LOCATION:UNC-Asheville
CATEGORIES:Asheville Area,Live Music
END:VEVENT
BEGIN:VEVENT
DTSTART;TZID=America/New_York:20251202T153000
DTEND;TZID=America/New_York:20251202T233000
DTSTAMP:20260421T234856
CREATED:20241226T154009Z
LAST-MODIFIED:20260421T161506Z
UID:10020251-1764689400-1764718200@livemusicasheville.com
SUMMARY:Tuesday Open Mics/Jams
DESCRIPTION:Irish Session @ Diatribe Brewing – 4-6pm \nModerate Old Time Jam @ Cork & Keg – 5-6:30pm (1st & 3rd Tuesdays) \nNoble Cider – 5-8pm \nAcoustic Jam @ Turgua Brewing Fairview – 5:30-7pm (1st Tuesday-Old Time\, 2nd Tuesday-Irish Session\, 3rd Tuesday-Americana\, 4th Tuesday-Gypsy Jazz) (December 30-Irish Session) \nOpen Mic with Mike & Pat @ Sweeten Creek Brewing – 6-8:30pm (open bluegrass jam Feb 10) \nBluegrass Jam with Alex Bazemore @ Eda’s Hideaway Weaverville – 6:30-10pm \nScratch Ankle Fillin’ Station Candler – 7-9pm \nBeans & Tunes Old Time Jam w/ Banjo Mitch @Mals Bar Marshall – 7-9pm \nMudpuppies – 7-10pm \nEarly Tuesday Jam @ The One Stop – 7-10pm  \nOpen Mic w/Hamza @ The Social East Asheville – 7-11pm \nThe Open Jam with The Lactones @ Sovereign Kava – 8-11pm  \nWeaverville Open Mic @ Vintage Kava Weaverville – 9-11:30pm \n\n 
URL:https://livemusicasheville.com/calendar/tuesday-open-mics-jams/2025-12-02/
LOCATION:Asheville Area
CATEGORIES:Asheville Area,Black Mountain,Fairview,Open MIc/Jam,Weaverville
ATTACH;FMTTYPE=image/jpeg:https://livemusicasheville.com/wp-content/uploads/2024/12/IMG_9400-e1743027161179.jpeg
END:VEVENT
BEGIN:VEVENT
DTSTART;VALUE=DATE:20251202
DTEND;VALUE=DATE:20251204
DTSTAMP:20260421T234856
CREATED:20251202T152900Z
LAST-MODIFIED:20251202T153107Z
UID:10026321-1764644400-1764730799@livemusicasheville.com
SUMMARY:THIS SATURDAY | Hustle Souls with Watkins
DESCRIPTION:Doors: 7pm | Show: 8pm | $12 ADV | $15 DAY OF SHOW Event Details and TicketsFOOD TRUCK: SMASHEVILLEHUSTLE SOULS:Hustle Souls\, based in Asheville\, NC\, masterfully blend Retro-Soul\, New Orleans Brass\, and Singer-Songwriter Americana into a unique and captivating sound. Lauded by American Blues Scene as a “generation-jumping mashup of new school second line funk with old school vintage soul\,” and described by Bluestown Music as “intimate soul…with a Curtis Mayfield like warmth\,” the band has earned a spot as one of Music Connection Magazine’s “Hot 100 Live Unsigned Artists & Bands” and No Treble shared the band saying “I hadn’t heard them before\, but I’m glad I have now… Must See”\n\nWATKINS:With a desire to open the mind of the modern music scene\, Watkins brings flavors of indie-folk and alt-rock. Watkins has created a grassroots following in his travels across the country\, known for his acoustic guitar picking and soul-packed vocal performance. His lyrics showcase the spiritual journey taken during the writing process\, distilled through years of living on the road. From Teton Valley to the Blue Ridge Mountains\, Watkins is bringing his music to the masses. Sophomore album Unbiased Eyes showcases these universal reflections in songs such as Lovely Scares and Sad Happy. His latest single Coyote foreshadows the upcoming release of his third record!\n  \nFounded in 2005\, Pisgah is known for producing some of the most sought after craft ales in Western North Carolina. Pisgah Brewing Company currently operates the new indoor taproom & deli\, with live music several days a week\, plus an open air outdoor bar in the summer and fall months. Check out our upcoming schedule at pisgahbrewing.com/events
URL:https://livemusicasheville.com/calendar/this-saturday-hustle-souls-with-watkins/2025-12-02/
LOCATION:Pisgah Brewing Company Black Mountain\, 2948 US-70\, Black Mountain\, NC\, 28711
CATEGORIES:Asheville Area,Black Mountain,Live Music
GEO:35.6068069;-82.3568213
X-APPLE-STRUCTURED-LOCATION;VALUE=URI;X-ADDRESS=Pisgah Brewing Company Black Mountain 2948 US-70 Black Mountain NC 28711;X-APPLE-RADIUS=500;X-TITLE=2948 US-70:geo:-82.3568213,35.6068069
END:VEVENT
BEGIN:VEVENT
DTSTART;VALUE=DATE:20251202
DTEND;VALUE=DATE:20251204
DTSTAMP:20260421T234856
CREATED:20250125T140528Z
LAST-MODIFIED:20251210T122935Z
UID:10017433-1764644400-1764730799@livemusicasheville.com
SUMMARY:Love What We Do?
DESCRIPTION:We hope you enjoy our guide to the Asheville area’s dynamic music scene. \nIf we somehow help to brighten up your day\, please consider a $5 donation to help support our efforts in providing the area’s most reliable local live music calendar. \nVenmo: click here  \nLast 4 digits – 3383 \nPayPal: click here \n 
URL:https://livemusicasheville.com/calendar/greetings-fellow-music-lovers-2/2025-12-02/
LOCATION:Asheville Area
CATEGORIES:Asheville Area
END:VEVENT
BEGIN:VEVENT
DTSTART;TZID=America/New_York:20251201T200000
DTEND;TZID=America/New_York:20251202T020000
DTSTAMP:20260421T234856
CREATED:20251126T223442Z
LAST-MODIFIED:20251216T131059Z
UID:10026027-1764619200-1764640800@livemusicasheville.com
SUMMARY:All Request Piano Show
DESCRIPTION:
URL:https://livemusicasheville.com/calendar/all-request-piano-show-3/2025-12-01/
LOCATION:Off the Wagon
CATEGORIES:Asheville Area,Live Music
GEO:41.4302231;-81.3909542
END:VEVENT
BEGIN:VEVENT
DTSTART;TZID=America/New_York:20251201T200000
DTEND;TZID=America/New_York:20251201T220000
DTSTAMP:20260421T234856
CREATED:20251126T181412Z
LAST-MODIFIED:20260106T172318Z
UID:10025952-1764619200-1764626400@livemusicasheville.com
SUMMARY:Will Hartz
DESCRIPTION:
URL:https://livemusicasheville.com/calendar/will-hartz-3-2-2-2-2/2025-12-01/
LOCATION:5 Walnut Wine Bar
CATEGORIES:Asheville Area,Live Music
GEO:35.596654;-82.5525389
END:VEVENT
BEGIN:VEVENT
DTSTART;TZID=America/New_York:20251201T193000
DTEND;TZID=America/New_York:20251201T213000
DTSTAMP:20260421T234856
CREATED:20251126T114349Z
LAST-MODIFIED:20251126T114349Z
UID:10025892-1764617400-1764624600@livemusicasheville.com
SUMMARY:CarolinAloha featuring Billy Cardine
DESCRIPTION:
URL:https://livemusicasheville.com/calendar/carolinaloha-featuring-billy-cardine/
LOCATION:Tina McGuire Theatre at The Wortham Center
CATEGORIES:Asheville Area,Live Music
END:VEVENT
BEGIN:VEVENT
DTSTART;TZID=America/New_York:20251201T190000
DTEND;TZID=America/New_York:20251202T020000
DTSTAMP:20260421T234856
CREATED:20241226T131635Z
LAST-MODIFIED:20260309T201711Z
UID:10002779-1764615600-1764640800@livemusicasheville.com
SUMMARY:Monday Karaoke
DESCRIPTION:The Social East Asheville – 7-11pm \nBen’s TuneUp – 7-10pm \nEda’a Hideaway Weaverville – 7-10pm \nIce Bar Arden – 8-11pm (March 2) \n27 Club – 9pm-2am \nFleetwood’s – 9pm-12am (7pm start on 2/2) \nDaytrip – 9pm – (verify with the venue) \nThe Double Crown – Country Karaoke- 10pm-2am \nBe sure to check times and KJ with the venue. \n 
URL:https://livemusicasheville.com/calendar/monday-karaoke/2025-12-01/
CATEGORIES:Asheville Area,Karaoke
END:VEVENT
BEGIN:VEVENT
DTSTART;TZID=America/New_York:20251201T190000
DTEND;TZID=America/New_York:20251201T220000
DTSTAMP:20260421T234856
CREATED:20241226T133711Z
LAST-MODIFIED:20251207T083441Z
UID:10002832-1764615600-1764626400@livemusicasheville.com
SUMMARY:Asheville Monday Night Contra Dance
DESCRIPTION:
URL:https://livemusicasheville.com/calendar/asheville-monday-night-contra-dance-2/2025-12-01/
LOCATION:The Ivy Building at AB Tech
CATEGORIES:Asheville Area,Live Music
GEO:35.6104607;-82.5676894
END:VEVENT
BEGIN:VEVENT
DTSTART;TZID=America/New_York:20251201T190000
DTEND;TZID=America/New_York:20251201T213000
DTSTAMP:20260421T234856
CREATED:20251126T165110Z
LAST-MODIFIED:20251126T165110Z
UID:10025948-1764615600-1764624600@livemusicasheville.com
SUMMARY:Ryan Davis & The Roadhouse Band with Arbor Labor Union
DESCRIPTION:
URL:https://livemusicasheville.com/calendar/ryan-davis-the-roadhouse-band-with-arbor-labor-union/
LOCATION:AyurPrana Listening Room\, 312 Haywood Rd\, Asheville\, NC\, 28806
CATEGORIES:Asheville Area,Live Music
GEO:35.5775962;-82.5760261
X-APPLE-STRUCTURED-LOCATION;VALUE=URI;X-ADDRESS=AyurPrana Listening Room 312 Haywood Rd Asheville NC 28806;X-APPLE-RADIUS=500;X-TITLE=312 Haywood Rd:geo:-82.5760261,35.5775962
END:VEVENT
BEGIN:VEVENT
DTSTART;TZID=America/New_York:20251201T190000
DTEND;TZID=America/New_York:20251201T210000
DTSTAMP:20260421T234856
CREATED:20251126T115956Z
LAST-MODIFIED:20251126T115956Z
UID:10025897-1764615600-1764622800@livemusicasheville.com
SUMMARY:Local Live – Aditi and Jay’s Birthaversary celebration
DESCRIPTION:
URL:https://livemusicasheville.com/calendar/local-live-aditi-and-jays-birthaversary-celebration/
LOCATION:White Horse Black Mountain
CATEGORIES:Asheville Area,Black Mountain,Live Music
GEO:35.6178579;-82.3211924
END:VEVENT
BEGIN:VEVENT
DTSTART;TZID=America/New_York:20251201T190000
DTEND;TZID=America/New_York:20251201T210000
DTSTAMP:20260421T234856
CREATED:20251110T131745Z
LAST-MODIFIED:20251229T084655Z
UID:10022169-1764615600-1764622800@livemusicasheville.com
SUMMARY:Music Mondays with host Ashley Heath
DESCRIPTION:  \nCheck with the venue on Ashley’s future guests.
URL:https://livemusicasheville.com/calendar/ashley-heath-mondays-2-2-2-2-2/2025-12-01/
LOCATION:Town Pump Tavern Black Mountain
CATEGORIES:Black Mountain,Live Music
GEO:35.6162458;-82.320259
END:VEVENT
BEGIN:VEVENT
DTSTART;TZID=America/New_York:20251201T190000
DTEND;TZID=America/New_York:20251201T210000
DTSTAMP:20260421T234856
CREATED:20250702T121700Z
LAST-MODIFIED:20260304T145213Z
UID:10003043-1764615600-1764622800@livemusicasheville.com
SUMMARY:Blues with Mr Jimmy & Friends
DESCRIPTION:
URL:https://livemusicasheville.com/calendar/blues-with-mr-jimmy-friends-2/2025-12-01/
LOCATION:The Joint Next Door Fairview
CATEGORIES:Asheville Area,Fairview,Live Music
GEO:35.5251372;-82.424797
END:VEVENT
BEGIN:VEVENT
DTSTART;TZID=America/New_York:20251201T190000
DTEND;TZID=America/New_York:20251201T203000
DTSTAMP:20260421T234856
CREATED:20251119T161843Z
LAST-MODIFIED:20251201T202204Z
UID:10024810-1764615600-1764621000@livemusicasheville.com
SUMMARY:UNCA Experimental Ensemble
DESCRIPTION:Experimental Ensemble\n-7:00 pm\, Mullen-James lecture hall
URL:https://livemusicasheville.com/calendar/unca-experimental-ensemble/
LOCATION:UNC-Asheville
CATEGORIES:Asheville Area,DJ/Electronic,Live Music
END:VEVENT
BEGIN:VEVENT
DTSTART;TZID=America/New_York:20251201T180000
DTEND;TZID=America/New_York:20251202T020000
DTSTAMP:20260421T234856
CREATED:20241226T132023Z
LAST-MODIFIED:20260308T081314Z
UID:10019259-1764612000-1764640800@livemusicasheville.com
SUMMARY:Monday Weekly DJs
DESCRIPTION:Although we are primarily a Live Music Calendar\, we often come across Electronic & DJ events in the area and list them for you as we find out about them. Please verify the DJ\, times and cover charges with the venue. \nAntidote – 6-9pm \nCoffee Art Music Type Place (CAMP) – 7-9pm (swing) \nLazy Diamond- 10pm-2am \nCheck with the venue on tonight’s djs and cover charges.
URL:https://livemusicasheville.com/calendar/monday-djs/2025-12-01/
LOCATION:Asheville Area
CATEGORIES:Asheville Area,DJ/Electronic
END:VEVENT
BEGIN:VEVENT
DTSTART;TZID=America/New_York:20251201T180000
DTEND;TZID=America/New_York:20251201T220000
DTSTAMP:20260421T234856
CREATED:20251007T130234Z
LAST-MODIFIED:20251116T161904Z
UID:10024573-1764612000-1764626400@livemusicasheville.com
SUMMARY:Winter Lights
DESCRIPTION:We look forward to welcoming you back for another year of Asheville’s Brightest Holiday Tradition! Winter Lights is a spectacular open-air walk-through light show made from over one million lights! Located at the North Carolina Arboretum in Asheville\, North Carolina\, this year’s event features favorites like the famously tall 50-foot lighted tree and the Quilt Garden\, along with enchanting new details designed to delight and surprise. \nTroll sightings are anticipated at this year’s Winter Lights\, as six of Dambo’s Trolls will be experiencing the show for themselves. Meet them in the gardens at Winter Lights! \nWinter Lights features live entertainment nightly and food and beverages from the Bent Creek Bistro\, the Cocoa Shack and the Cocoa Cabin! Open nightly from 6:00 – 10:00 p.m. \nTickets on Sale Now! Event Details and Tickets \nFor more than 35 years…Cultivating Connections between People\, Plants and Places…amid a 434-acre public garden\, The North Carolina Arboretum is located within the Bent Creek Experimental Forest just south of Asheville and adjacent to the Blue Ridge Parkway at Milepost 393. Surrounded and crisscrossed by forested coves and meandering creeks in the botanically diverse Southern Appalachian Mountains\, The North Carolina Arboretum is set in one of the most beautiful natural settings in America. ncarboretum.org \n  \n 
URL:https://livemusicasheville.com/calendar/winter-lights-2/2025-12-01/
LOCATION:The North Carolina Arboretum
CATEGORIES:Asheville Area,Live Music
END:VEVENT
BEGIN:VEVENT
DTSTART;TZID=America/New_York:20251201T170000
DTEND;TZID=America/New_York:20251201T223000
DTSTAMP:20260421T234856
CREATED:20241226T131145Z
LAST-MODIFIED:20251125T183520Z
UID:10002620-1764608400-1764628200@livemusicasheville.com
SUMMARY:Monday Open Mics/Jams
DESCRIPTION:Musicians In The Round @Urban Orchard South Slope – 6-8:30pm (5:30 sign up) \nOld Time Jam @Dirty Jack’s – 5:30-9pm \nBlue Mountain Pizza Weaverville – 6-9pm (last Thursday of the month excluding December) \nMarshall Bluegrass Jam – 7-9pm (American Legion\, Marshall) \nHaywood Country Club – 7-10:30pm \nOne World Brewing Downtown – 7:30-10:30pm \n  \n\n 
URL:https://livemusicasheville.com/calendar/monday-open-mics-jams/2025-12-01/
CATEGORIES:Asheville Area,Open MIc/Jam
END:VEVENT
BEGIN:VEVENT
DTSTART;VALUE=DATE:20251201
DTEND;VALUE=DATE:20251203
DTSTAMP:20260421T234856
CREATED:20250121T072030Z
LAST-MODIFIED:20251210T122902Z
UID:10020181-1764558000-1764644399@livemusicasheville.com
SUMMARY:Support Your Local Music Calendar
DESCRIPTION:We hope you enjoy our guide to the Asheville area’s dynamic music scene. \nIf we somehow help to brighten up your day\, please consider a $5 donation to help support our efforts in providing the area’s most complete local live music calendar. \nVenmo: click here  \nLast 4 digits – 3383 \nPayPal: click here \n \n 
URL:https://livemusicasheville.com/calendar/support-your-local-music-calendar-2/2025-12-01/
CATEGORIES:Asheville Area
END:VEVENT
BEGIN:VEVENT
DTSTART;TZID=America/New_York:20251130T223000
DTEND;TZID=America/New_York:20251201T010000
DTSTAMP:20260421T234856
CREATED:20251126T183532Z
LAST-MODIFIED:20251126T183532Z
UID:10025958-1764541800-1764550800@livemusicasheville.com
SUMMARY:Pastor Troy w/ City Jordan\, Bloodline TP3\, and Sh4rk N4tion
DESCRIPTION:Hip Hop
URL:https://livemusicasheville.com/calendar/pastor-troy-w-city-jordan-bloodline-tp3-and-sh4rk-n4tion/
LOCATION:Sly Grog Lounge
CATEGORIES:Asheville Area,DJ/Electronic,Live Music
GEO:35.5942606;-82.5628302
END:VEVENT
BEGIN:VEVENT
DTSTART;TZID=America/New_York:20251130T210000
DTEND;TZID=America/New_York:20251201T000000
DTSTAMP:20260421T234856
CREATED:20250903T200545Z
LAST-MODIFIED:20250921T205026Z
UID:10021509-1764536400-1764547200@livemusicasheville.com
SUMMARY:Shakedown Sunday
DESCRIPTION:
URL:https://livemusicasheville.com/calendar/shakedown-sunday-2-2-2-2/2025-11-30/
LOCATION:The One Stop
CATEGORIES:Asheville Area,Live Music,Open MIc/Jam
END:VEVENT
BEGIN:VEVENT
DTSTART;TZID=America/New_York:20251130T200000
DTEND;TZID=America/New_York:20251201T020000
DTSTAMP:20260421T234856
CREATED:20251126T223442Z
LAST-MODIFIED:20251216T131059Z
UID:10026026-1764532800-1764554400@livemusicasheville.com
SUMMARY:All Request Piano Show
DESCRIPTION:
URL:https://livemusicasheville.com/calendar/all-request-piano-show-3/2025-11-30/
LOCATION:Off the Wagon
CATEGORIES:Asheville Area,Live Music
GEO:41.4302231;-81.3909542
END:VEVENT
BEGIN:VEVENT
DTSTART;TZID=America/New_York:20251130T200000
DTEND;TZID=America/New_York:20251130T223000
DTSTAMP:20260421T234856
CREATED:20251126T182725Z
LAST-MODIFIED:20251126T182725Z
UID:10025955-1764532800-1764541800@livemusicasheville.com
SUMMARY:Amythyst Kiah
DESCRIPTION:
URL:https://livemusicasheville.com/calendar/amythyst-kiah/
LOCATION:The Grey Eagle\, 185 Clingman Ave\, Asheville\, NC\, United States
CATEGORIES:Asheville Area,Live Music
GEO:35.5870871;-82.5643936
X-APPLE-STRUCTURED-LOCATION;VALUE=URI;X-ADDRESS=The Grey Eagle 185 Clingman Ave Asheville NC United States;X-APPLE-RADIUS=500;X-TITLE=185 Clingman Ave:geo:-82.5643936,35.5870871
END:VEVENT
BEGIN:VEVENT
DTSTART;TZID=America/New_York:20251130T193000
DTEND;TZID=America/New_York:20251130T213000
DTSTAMP:20260421T234856
CREATED:20251126T115723Z
LAST-MODIFIED:20251126T115810Z
UID:10025896-1764531000-1764538200@livemusicasheville.com
SUMMARY:Sunday Jazz w/ Pavel Wlosok & Steve LaSpina
DESCRIPTION:
URL:https://livemusicasheville.com/calendar/pavel-wlosok-w-steve-laspina/
LOCATION:White Horse Black Mountain
CATEGORIES:Asheville Area,Black Mountain,Live Music
GEO:35.6178579;-82.3211924
END:VEVENT
BEGIN:VEVENT
DTSTART;TZID=America/New_York:20251130T190000
DTEND;TZID=America/New_York:20251130T233000
DTSTAMP:20260421T234856
CREATED:20250322T150845Z
LAST-MODIFIED:20251214T215054Z
UID:10010503-1764529200-1764545400@livemusicasheville.com
SUMMARY:Save Our Website to Your Home Screen 📲
DESCRIPTION:As an interactive calendar\, we often add events to our calendar as we find out about them\, sometimes even from our phone while we are out supporting local live music. By adding our website\, LiveMusicAsheville.com to your home screen\, we will always be right at your fingertips. Here’s how:\n\n\n\n\niPhone (using Safari):\n\n\n\nOpen Safari and navigate to the website: you want to add as a shortcut. \n\n\n\n\n\n\n\n\nTap the Share button: (a square with an arrow pointing out of the top). \n\n\n\n\n\n\n\n\nScroll down and tap “Add to Home Screen” . \n\n\n\n\n\n\n\n\nChoose a name for the shortcut: and tap “Add”. \n\n\n\n\n\n\n\n\nThe shortcut will appear on your home screen as an icon. \n\n\n\n\n\n\n\n\n\n\n\nAndroid (using Chrome or other browsers):\n\n\n\nOpen Chrome (or your preferred browser) and navigate to the website: you want to add.\nTap the three-dot menu icon: (usually in the top right corner).\nSelect “Add to Home Screen” .\nCustomize the name of the shortcut: if desired\, and then tap “Add”.\nThe shortcut will appear on your home screen as an icon. 
URL:https://livemusicasheville.com/calendar/add-our-website-to-your-home-screen/2025-11-30/
CATEGORIES:Asheville Area
END:VEVENT
END:VCALENDAR