BEGIN:VCALENDAR
VERSION:2.0
PRODID:-//LiveMusicAsheville.com - ECPv6.15.20//NONSGML v1.0//EN
CALSCALE:GREGORIAN
METHOD:PUBLISH
X-ORIGINAL-URL:https://livemusicasheville.com
X-WR-CALDESC:Events for LiveMusicAsheville.com
REFRESH-INTERVAL;VALUE=DURATION:PT1H
X-Robots-Tag:noindex
X-PUBLISHED-TTL:PT1H
BEGIN:VTIMEZONE
TZID:America/New_York
BEGIN:DAYLIGHT
TZOFFSETFROM:-0500
TZOFFSETTO:-0400
TZNAME:EDT
DTSTART:20250309T070000
END:DAYLIGHT
BEGIN:STANDARD
TZOFFSETFROM:-0400
TZOFFSETTO:-0500
TZNAME:EST
DTSTART:20251102T060000
END:STANDARD
BEGIN:DAYLIGHT
TZOFFSETFROM:-0500
TZOFFSETTO:-0400
TZNAME:EDT
DTSTART:20260308T070000
END:DAYLIGHT
BEGIN:STANDARD
TZOFFSETFROM:-0400
TZOFFSETTO:-0500
TZNAME:EST
DTSTART:20261101T060000
END:STANDARD
BEGIN:DAYLIGHT
TZOFFSETFROM:-0500
TZOFFSETTO:-0400
TZNAME:EDT
DTSTART:20270314T070000
END:DAYLIGHT
BEGIN:STANDARD
TZOFFSETFROM:-0400
TZOFFSETTO:-0500
TZNAME:EST
DTSTART:20271107T060000
END:STANDARD
END:VTIMEZONE
BEGIN:VEVENT
DTSTART;VALUE=DATE:20260301
DTEND;VALUE=DATE:20260303
DTSTAMP:20260425T220723
CREATED:20260115T155437Z
LAST-MODIFIED:20260416T121636Z
UID:10038416-1772334000-1772420399@livemusicasheville.com
SUMMARY:Support Your Local Music Calendar
DESCRIPTION:We hope you enjoy our guide to the Asheville area’s dynamic music scene. \nIf we somehow help to brighten up your day\, please consider a small donation to help support our efforts in providing the area’s most complete local live music calendar. \nVenmo: click here  \nLast 4 digits – 3383 \nPayPal: click here \n \n 
URL:https://livemusicasheville.com/calendar/support-your-local-music-calendar-2-2/2026-03-01/
CATEGORIES:Asheville Area
END:VEVENT
BEGIN:VEVENT
DTSTART;TZID=America/New_York:20260301T110000
DTEND;TZID=America/New_York:20260302T020000
DTSTAMP:20260425T220723
CREATED:20241225T203202Z
LAST-MODIFIED:20260415T173939Z
UID:10055136-1772362800-1772416800@livemusicasheville.com
SUMMARY:Sunday Weekly DJ Events
DESCRIPTION:Bens Tune Up – 11am-3pm \nWaterstreet – 3-7pm \nLA Pizza Party Rooftop – 6-9pm \nVOWL – 7-11pm \nCheck with the venue for the DJ and cover charges.
URL:https://livemusicasheville.com/calendar/sunday-weekly-dj/2026-03-01/
LOCATION:Asheville Area
CATEGORIES:Asheville Area,DJ/Electronic
END:VEVENT
BEGIN:VEVENT
DTSTART;TZID=America/New_York:20260301T120000
DTEND;TZID=America/New_York:20260301T150000
DTSTAMP:20260425T220723
CREATED:20260125T153435Z
LAST-MODIFIED:20260125T153436Z
UID:10026476-1772366400-1772377200@livemusicasheville.com
SUMMARY:Bluegrass Brunch Is Back!!
DESCRIPTION:Y’ALL! The best dang BLUEGRASS BRUNCH in town is BACK AT JACK — with our own BLUEGRASS BRUNCH BOYS taking the stage at NOON! 🎻🍳 \nWhether you’re in the mood for a FRIED CHICKEN BISCUIT topped with our house-made blackberry jam or spicy SHRIMP & CHEDDAR GRITS with a side of collards or that perfect BURGER (beef OR veggie) with hand-cut pub fries\, you’ll find exactly what you’re craving at — and did we mention our brunch beverage specials from the bar? 🥂🍊 \nBrunch is served until 3pm (or until we run out!)\, with our pub fare menu starting immediately after. \nAnd to round out your SUNDAY FUNDAY\, our TRADITIONAL IRISH MUSIC SESSION starts at 3:30 — and goes until close! 🍺🍀\n \n\nJack Of The Wood still a downtown hot spot for food\, brews and drink since 1997 and founders Joan and Joe Eckert who still own it\, have maintained the original lively English and Irish vibe. The old-time mountain and Irish music jams continue\, including a hot bluegrass jam Thursdays and brunch every Sunday. The venue extends a welcoming feeling to regulars and newcomers to this day. https://jackofthewood.com/
URL:https://livemusicasheville.com/calendar/the-bluegrass-boys-2/2026-03-01/
LOCATION:Jack Of The Wood\, 95 Patton Ave\, asheville\, NC\, United States
CATEGORIES:Asheville Area,Live Music
ATTACH;FMTTYPE=image/jpeg:https://livemusicasheville.com/wp-content/uploads/2024/12/521057437_1508890810466928_6057889169935657981_n-e1754136196712.jpg
GEO:35.5944492;-82.5558221
X-APPLE-STRUCTURED-LOCATION;VALUE=URI;X-ADDRESS=Jack Of The Wood 95 Patton Ave asheville NC United States;X-APPLE-RADIUS=500;X-TITLE=95 Patton Ave:geo:-82.5558221,35.5944492
END:VEVENT
BEGIN:VEVENT
DTSTART;TZID=America/New_York:20260301T130000
DTEND;TZID=America/New_York:20260301T160000
DTSTAMP:20260425T220723
CREATED:20251119T114045Z
LAST-MODIFIED:20260301T030427Z
UID:10024739-1772370000-1772380800@livemusicasheville.com
SUMMARY:Sips & Strings w/ Jordan Okrend
DESCRIPTION:
URL:https://livemusicasheville.com/calendar/sips-strings-w-jordan-okrend/
LOCATION:Shamrock Irons Irish Pub\, 4 College St\, Asheville\, NC\, 28801\, United States
CATEGORIES:Asheville Area,Live Music
GEO:35.9844236;-80.0221361
X-APPLE-STRUCTURED-LOCATION;VALUE=URI;X-ADDRESS=Shamrock Irons Irish Pub 4 College St Asheville NC 28801 United States;X-APPLE-RADIUS=500;X-TITLE=4 College St:geo:-80.0221361,35.9844236
END:VEVENT
BEGIN:VEVENT
DTSTART;TZID=America/New_York:20260301T140000
DTEND;TZID=America/New_York:20260301T170000
DTSTAMP:20260425T220723
CREATED:20250409T114732Z
LAST-MODIFIED:20260225T121819Z
UID:10012384-1772373600-1772384400@livemusicasheville.com
SUMMARY:Live Music: The Right Fit
DESCRIPTION:
URL:https://livemusicasheville.com/calendar/live-music-the-right-fit/
LOCATION:Mills River Brewing Co.\, 336 Banner Farm Rd\,\, Mills River\, NC\, 28759
CATEGORIES:Asheville Area,Live Music,Mills River
GEO:35.380515;-82.5654984
X-APPLE-STRUCTURED-LOCATION;VALUE=URI;X-ADDRESS=Mills River Brewing Co. 336 Banner Farm Rd Mills River NC 28759;X-APPLE-RADIUS=500;X-TITLE=336 Banner Farm Rd\,:geo:-82.5654984,35.380515
END:VEVENT
BEGIN:VEVENT
DTSTART;TZID=America/New_York:20260301T140000
DTEND;TZID=America/New_York:20260301T170000
DTSTAMP:20260425T220723
CREATED:20250605T004110Z
LAST-MODIFIED:20260225T191720Z
UID:10015473-1772373600-1772384400@livemusicasheville.com
SUMMARY:Phuncle Sam
DESCRIPTION:
URL:https://livemusicasheville.com/calendar/phuncle-sam-4/
LOCATION:Highland Brewing
CATEGORIES:Asheville Area,Live Music
END:VEVENT
BEGIN:VEVENT
DTSTART;TZID=America/New_York:20260301T140000
DTEND;TZID=America/New_York:20260301T170000
DTSTAMP:20260425T220723
CREATED:20260125T153731Z
LAST-MODIFIED:20260322T210622Z
UID:10024219-1772373600-1772384400@livemusicasheville.com
SUMMARY:Suns of Stars
DESCRIPTION:Orbiting around Asheville’s grateful music scene since late 2023\, Suns Of Stars blends contemporary and traditional bluegrass with a high energy jam style. Suns Of Stars members are all hometown heros in various musical projects around town which has led to great turnout at their shows. At its core lies the trio of Alex Bazemore (guitar)\, and Asheville’s own Jackson Chisholm (upright bass) and Johnny Humphries (mandolin)\, son of local Bluegrass legend Don Humphries. As Suns Of Stars has been gathering momentum they’ve picked up Alex Ball (fiddle) and Jason Flournoy (banjo). Suns Of Stars members are all hometown heroes in various musical projects around town which has led to great turnout at their shows. That\, along with a massive song repertoire and growing list of original music make for a unique performance each time. \nThe West Asheville taproom hosts a wide variety of special and regular events\, from yoga to an electronic music & beer festival\, and everything in between. Check out our upcoming schedule: click here
URL:https://livemusicasheville.com/calendar/bears-50th-birthday-bash-suns-of-stars-phuncle-sam-2-2-2-2/2026-03-01/
LOCATION:One World Brewing – West\, 520 Haywood Rd\, Asheville\, North Carolina\, 28806
CATEGORIES:Asheville Area,Live Music
ATTACH;FMTTYPE=image/jpeg:https://livemusicasheville.com/wp-content/uploads/2026/01/IMG_4589-e1774203094467.jpeg
GEO:35.5783642;-82.5848526
X-APPLE-STRUCTURED-LOCATION;VALUE=URI;X-ADDRESS=One World Brewing – West 520 Haywood Rd Asheville North Carolina 28806;X-APPLE-RADIUS=500;X-TITLE=520 Haywood Rd:geo:-82.5848526,35.5783642
END:VEVENT
BEGIN:VEVENT
DTSTART;TZID=America/New_York:20260301T140000
DTEND;TZID=America/New_York:20260301T170000
DTSTAMP:20260425T220723
CREATED:20260225T145958Z
LAST-MODIFIED:20260225T145958Z
UID:10046842-1772373600-1772384400@livemusicasheville.com
SUMMARY:Pretty Little Goat
DESCRIPTION:
URL:https://livemusicasheville.com/calendar/pretty-little-goat/
LOCATION:Sierra Nevada Mills River\, 100 Sierra Nevada Way\, Mills River\, NC\, 28732
CATEGORIES:Asheville Area,Live Music,Mills River
GEO:35.4308568;-82.5535594
X-APPLE-STRUCTURED-LOCATION;VALUE=URI;X-ADDRESS=Sierra Nevada Mills River 100 Sierra Nevada Way Mills River NC 28732;X-APPLE-RADIUS=500;X-TITLE=100 Sierra Nevada Way:geo:-82.5535594,35.4308568
END:VEVENT
BEGIN:VEVENT
DTSTART;TZID=America/New_York:20260301T143000
DTEND;TZID=America/New_York:20260301T163000
DTSTAMP:20260425T220723
CREATED:20260107T162234Z
LAST-MODIFIED:20260125T153810Z
UID:10039809-1772375400-1772382600@livemusicasheville.com
SUMMARY:Sunday Jazz Jam
DESCRIPTION:
URL:https://livemusicasheville.com/calendar/sunday-jazz-jam-2-2/2026-03-01/
LOCATION:Ginger’s Revenge
CATEGORIES:Asheville Area,Live Music,Open MIc/Jam
END:VEVENT
BEGIN:VEVENT
DTSTART;TZID=America/New_York:20260301T150000
DTEND;TZID=America/New_York:20260301T170000
DTSTAMP:20260425T220723
CREATED:20260109T142128Z
LAST-MODIFIED:20260109T142340Z
UID:10034174-1772377200-1772384400@livemusicasheville.com
SUMMARY:Vintage Swing w/ Parker’s Back
DESCRIPTION:
URL:https://livemusicasheville.com/calendar/vintage-swing-w-parkers-back-2-2/2026-03-01/
LOCATION:Battery Park Book Exchange & Champagne Bar
CATEGORIES:Asheville Area,Live Music
GEO:35.5951042;-82.556633
END:VEVENT
BEGIN:VEVENT
DTSTART;TZID=America/New_York:20260301T150000
DTEND;TZID=America/New_York:20260301T180000
DTSTAMP:20260425T220723
CREATED:20260124T204451Z
LAST-MODIFIED:20260124T204452Z
UID:10013180-1772377200-1772388000@livemusicasheville.com
SUMMARY:Reggae Sunday w/ CHALWA
DESCRIPTION:This 8-member Mountain Reggae powerhouse packs it full of roots meditations and high grade jams that awaken your spirit and soul! Chalwa’s high energy shows are one of a kind\, featuring smooth vocals\, percussion\, bass\, lead guitar\, keys and saxophone. Their extensive collection of original music is interlaced with music from some of the Greats including\, Bob Marley\, Peter Tosh\, Burning Spear\, Bunny Wailer and even Jerry Garcia and the Grateful Dead. \nFrench Broad River Brewery is more than just a place to enjoy a drink—it’s a community hub where great beer\, delicious pizza\, live music\, and good times come together. Just minutes from the Biltmore Estate & Downtown\, our taproom is a gathering spot for locals and visitors alike. We regularly host live music and entertainment in our taproom\, making French Broad River Brewery a lively hub of local activity. From bluegrass to reggae\, there’s always something happening. Check out our Events Page to see what’s coming up next! \nNo brewery experience is complete without great food. That’s why we offer French Broad River Pizza\, serving up hot\, hand-tossed pizzas made to order. Whether you’re here for a quick slice or a full meal\, our pizza perfectly complements our craft beers and the lively atmosphere of our taproom. frenchbroadbrewery.com/pizza \n 
URL:https://livemusicasheville.com/calendar/chalwa-returns-2-2-2/2026-03-01/
LOCATION:French Broad River Brewery\, 101 Fairview Rd\, Asheville\, NC\, United States
CATEGORIES:Asheville Area,Live Music
ATTACH;FMTTYPE=image/png:https://livemusicasheville.com/wp-content/uploads/2025/10/Screenshot-2025-12-20-214144-e1766285002169.png
GEO:35.5662722;-82.5374054
X-APPLE-STRUCTURED-LOCATION;VALUE=URI;X-ADDRESS=French Broad River Brewery 101 Fairview Rd Asheville NC United States;X-APPLE-RADIUS=500;X-TITLE=101 Fairview Rd:geo:-82.5374054,35.5662722
END:VEVENT
BEGIN:VEVENT
DTSTART;TZID=America/New_York:20260301T150000
DTEND;TZID=America/New_York:20260301T180000
DTSTAMP:20260425T220723
CREATED:20260125T195817Z
LAST-MODIFIED:20260125T195819Z
UID:10036925-1772377200-1772388000@livemusicasheville.com
SUMMARY:Iggy Radio
DESCRIPTION:
URL:https://livemusicasheville.com/calendar/iggy-radio-6-2/2026-03-01/
LOCATION:Asheville Yacht Club
CATEGORIES:Asheville Area,Live Music
GEO:35.5944176;-82.5554715
END:VEVENT
BEGIN:VEVENT
DTSTART;TZID=America/New_York:20260301T150000
DTEND;TZID=America/New_York:20260301T180000
DTSTAMP:20260425T220723
CREATED:20260225T110824Z
LAST-MODIFIED:20260225T111622Z
UID:10046824-1772377200-1772388000@livemusicasheville.com
SUMMARY:The Second Annual Souper Duper ft. The Band Watkins
DESCRIPTION:Sunday\, Mar 1 from 3 pm to 6 pm | From $23.18 Event Details and Tickets \nGrab your ticket today and be a part of this souper event. March 1st we will have over a dozen teams serving soup samples to you! Try each soup and cast your vote for Asheville’s favorite amateur soup contest. Support your local businesses as they showcase their soup-making abilities. Join in on our raffle\, enjoy the live music\, and mingle within the melting pot of Asheville artists and entrepreneurs. This event also donates part of the proceeds to an amazing non-profit\, Lamplight Avl\, that works hard within the community to provide support to artists and offers affordable studios and artists spaces. We will also be running a food drive for the amazing 12 Baskets Cafe! Who will win the big trophy this year? You get to decide. And you can even win some prizes yourself just for being there! How Souper?!?? \n  \n\n\n‘The Mule’ – Tasting Room \n\n\n\n\n\nSay hello to The Mule – a full-service bar/event space in the home of Devil’s Foot Beverage’s production facility. Draft soda\, beer\, & wine – as well as delicious cocktails & mocktails featuring Devil’s Foot craft sodas and the largest collection of NC-made spirits in Asheville – all at your fingertips just outside of Biltmore Village! Open now for all of your beverage & party needs! devilsfootbrew.com/the-mule
URL:https://livemusicasheville.com/calendar/the-second-annual-souper-duper-ft-the-band-watkins/
LOCATION:The Mule at Devils Foot Beverages\, 131 Sweeten Creek Road\, Asheville\, NC\, 28803\, United States
CATEGORIES:Asheville Area,Live Music
GEO:35.5588369;-82.5218977
X-APPLE-STRUCTURED-LOCATION;VALUE=URI;X-ADDRESS=The Mule at Devils Foot Beverages 131 Sweeten Creek Road Asheville NC 28803 United States;X-APPLE-RADIUS=500;X-TITLE=131 Sweeten Creek Road:geo:-82.5218977,35.5588369
END:VEVENT
BEGIN:VEVENT
DTSTART;TZID=America/New_York:20260301T153000
DTEND;TZID=America/New_York:20260301T200000
DTSTAMP:20260425T220723
CREATED:20260125T153905Z
LAST-MODIFIED:20260125T153907Z
UID:10039187-1772379000-1772395200@livemusicasheville.com
SUMMARY:Jack’s Traditional Irish/Celtic Jam Session
DESCRIPTION:Stop in for the pub’s long running Traditional Irish Session each Sunday afternoon beginning around 3:30pm. Many talented local musicians come from WNC to jam away into the night – all on our pub stage! Sunday is a perfect day to enjoy a pint or afternoon Irish coffee! Slaínte! \nJack Of The Wood is still a downtown hot spot for food\, brews and drink since 1997 and founders Joan and Joe Eckert who still own it\, have maintained the original lively English and Irish vibe. The old-time mountain and Irish music jams continue\, including a hot bluegrass jam Thursdays and brunch every Sunday. The venue extends a welcoming feeling to regulars and newcomers to this day. https://jackofthewood.com/
URL:https://livemusicasheville.com/calendar/jacks-traditional-irish-celtic-jam-session-2-2-2/2026-03-01/
LOCATION:Jack Of The Wood\, 95 Patton Ave\, asheville\, NC\, United States
CATEGORIES:Asheville Area,Live Music,Open MIc/Jam
ATTACH;FMTTYPE=image/jpeg:https://livemusicasheville.com/wp-content/uploads/2025/02/520234226_634124486372464_8974916319488110849_n-e1754135686660.jpg
GEO:35.5944492;-82.5558221
X-APPLE-STRUCTURED-LOCATION;VALUE=URI;X-ADDRESS=Jack Of The Wood 95 Patton Ave asheville NC United States;X-APPLE-RADIUS=500;X-TITLE=95 Patton Ave:geo:-82.5558221,35.5944492
END:VEVENT
BEGIN:VEVENT
DTSTART;TZID=America/New_York:20260301T160000
DTEND;TZID=America/New_York:20260301T180000
DTSTAMP:20260425T220723
CREATED:20250220T151835Z
LAST-MODIFIED:20260301T185716Z
UID:10006340-1772380800-1772388000@livemusicasheville.com
SUMMARY:Tom Tesser Saxaphone
DESCRIPTION:
URL:https://livemusicasheville.com/calendar/tom-tesser-saxaphone-2-3/
LOCATION:5 Walnut Wine Bar
CATEGORIES:Asheville Area,Live Music
GEO:35.596654;-82.5525389
END:VEVENT
BEGIN:VEVENT
DTSTART;TZID=America/New_York:20260301T160000
DTEND;TZID=America/New_York:20260301T190000
DTSTAMP:20260425T220723
CREATED:20260125T154344Z
LAST-MODIFIED:20260215T131033Z
UID:10028000-1772380800-1772391600@livemusicasheville.com
SUMMARY:BUTTS & BOOTS :: Line Dancing
DESCRIPTION:
URL:https://livemusicasheville.com/calendar/butts-boots-line-dancing-2-2-2-2/2026-03-01/
LOCATION:Banks Ave
CATEGORIES:Asheville Area,DJ/Electronic
GEO:35.5892908;-82.5536382
END:VEVENT
BEGIN:VEVENT
DTSTART;TZID=America/New_York:20260301T160000
DTEND;TZID=America/New_York:20260302T020000
DTSTAMP:20260425T220723
CREATED:20260125T153955Z
LAST-MODIFIED:20260412T125122Z
UID:10026763-1772380800-1772416800@livemusicasheville.com
SUMMARY:Sunday Karaoke
DESCRIPTION:T Birds Weaverville – 4-8pm \nStatic Age Loft – 6-9pm (April 12) \nEda’s Hideaway Weaverville – 7-10pm \nBanks Ave – 9pm-12am \nThe Social East Asheville – 9pm-12am (exclude Feb 8) \nThe Double Crown – 10pm-2am \nPlease verify with the venue on times and KJ. \n 
URL:https://livemusicasheville.com/calendar/sunday-karaoke-2/2026-03-01/
LOCATION:Asheville Area
CATEGORIES:Asheville Area,Black Mountain,Karaoke,South Asheville/Arden/Fletcher,Weaverville
END:VEVENT
BEGIN:VEVENT
DTSTART;TZID=America/New_York:20260301T163000
DTEND;TZID=America/New_York:20260301T230000
DTSTAMP:20260425T220723
CREATED:20260208T161244Z
LAST-MODIFIED:20260412T125251Z
UID:10056239-1772382600-1772406000@livemusicasheville.com
SUMMARY:Sunday Open Mic/Jams
DESCRIPTION:  \nBluegrass & Jam @ Zillacoah Beer Co –  4:30-7:30pm (every other Sunday) \nOpen Bluegrass Circle @ The Hound Lounge – 6-9pm (discontinued til spring) \nStory Parlor – 6-9pm (1st Sundays of the month) \nPisgah Brewing Sunday Jam 6:30-9pm \nElevated Kava Lounge – 8-11pm \n 
URL:https://livemusicasheville.com/calendar/sunday-open-mic-2-2/2026-03-01/
LOCATION:Asheville Area
CATEGORIES:Asheville Area,Black Mountain,Madison County,Open MIc/Jam,Weaverville
END:VEVENT
BEGIN:VEVENT
DTSTART;TZID=America/New_York:20260301T170000
DTEND;TZID=America/New_York:20260301T190000
DTSTAMP:20260425T220723
CREATED:20260225T120115Z
LAST-MODIFIED:20260225T120115Z
UID:10046833-1772384400-1772391600@livemusicasheville.com
SUMMARY:Singer Songwriter Sundays featuring Roots & Dore
DESCRIPTION:
URL:https://livemusicasheville.com/calendar/singer-songwriter-sundays-featuring-roots-dore/
LOCATION:Lookout Brewing Company Black Mountain
CATEGORIES:Asheville Area,Black Mountain,Live Music
GEO:35.6193199;-82.3178787
END:VEVENT
BEGIN:VEVENT
DTSTART;TZID=America/New_York:20260301T183000
DTEND;TZID=America/New_York:20260301T203000
DTSTAMP:20260425T220723
CREATED:20260225T115331Z
LAST-MODIFIED:20260225T115331Z
UID:10046832-1772389800-1772397000@livemusicasheville.com
SUMMARY:Chinobay & Jordan Scheffer present an evening of AfroRhythm
DESCRIPTION:
URL:https://livemusicasheville.com/calendar/chinobay-jordan-scheffer-present-an-evening-of-afrorhythm/
LOCATION:White Horse at The Monte Vista Black Mountain
CATEGORIES:Asheville Area,Black Mountain,Live Music
END:VEVENT
BEGIN:VEVENT
DTSTART;TZID=America/New_York:20260301T190000
DTEND;TZID=America/New_York:20260301T220000
DTSTAMP:20260425T220723
CREATED:20251222T160824Z
LAST-MODIFIED:20251222T160824Z
UID:10029371-1772391600-1772402400@livemusicasheville.com
SUMMARY:Bruce Lang in The Great Hall
DESCRIPTION:
URL:https://livemusicasheville.com/calendar/bruce-lang-in-the-great-hall/2026-03-01/
LOCATION:The Omni Grove Park Inn
CATEGORIES:Asheville Area,Live Music
GEO:35.6206376;-82.5422977
END:VEVENT
BEGIN:VEVENT
DTSTART;TZID=America/New_York:20260301T190000
DTEND;TZID=America/New_York:20260301T220000
DTSTAMP:20260425T220723
CREATED:20260112T140127Z
LAST-MODIFIED:20260308T081103Z
UID:10041989-1772391600-1772402400@livemusicasheville.com
SUMMARY:Sunday Weekly DJ Events
DESCRIPTION:Although we are primarily a Live Music Calendar\, we often come across Electronic & DJ events in the area and list them for you as we find out about them. Please verify the DJ\, times and cover charges with the venue. \nOne World Brewing West – 7-10pm \nVOWL – 8-11pm \nCheck with the venue for the DJ and cover charges.
URL:https://livemusicasheville.com/calendar/sunday-weekly-dj-2/2026-03-01/
LOCATION:Asheville Area
CATEGORIES:Asheville Area,DJ/Electronic
END:VEVENT
BEGIN:VEVENT
DTSTART;TZID=America/New_York:20260301T190000
DTEND;TZID=America/New_York:20260301T233000
DTSTAMP:20260425T220723
CREATED:20250322T150845Z
LAST-MODIFIED:20251214T215054Z
UID:10010555-1772391600-1772407800@livemusicasheville.com
SUMMARY:Save Our Website to Your Home Screen 📲
DESCRIPTION:As an interactive calendar\, we often add events to our calendar as we find out about them\, sometimes even from our phone while we are out supporting local live music. By adding our website\, LiveMusicAsheville.com to your home screen\, we will always be right at your fingertips. Here’s how:\n\n\n\n\niPhone (using Safari):\n\n\n\nOpen Safari and navigate to the website: you want to add as a shortcut. \n\n\n\n\n\n\n\n\nTap the Share button: (a square with an arrow pointing out of the top). \n\n\n\n\n\n\n\n\nScroll down and tap “Add to Home Screen” . \n\n\n\n\n\n\n\n\nChoose a name for the shortcut: and tap “Add”. \n\n\n\n\n\n\n\n\nThe shortcut will appear on your home screen as an icon. \n\n\n\n\n\n\n\n\n\n\n\nAndroid (using Chrome or other browsers):\n\n\n\nOpen Chrome (or your preferred browser) and navigate to the website: you want to add.\nTap the three-dot menu icon: (usually in the top right corner).\nSelect “Add to Home Screen” .\nCustomize the name of the shortcut: if desired\, and then tap “Add”.\nThe shortcut will appear on your home screen as an icon. 
URL:https://livemusicasheville.com/calendar/add-our-website-to-your-home-screen/2026-03-01/
CATEGORIES:Asheville Area
END:VEVENT
BEGIN:VEVENT
DTSTART;TZID=America/New_York:20260301T200000
DTEND;TZID=America/New_York:20260301T220000
DTSTAMP:20260425T220723
CREATED:20260110T200427Z
LAST-MODIFIED:20260302T070501Z
UID:10034752-1772395200-1772402400@livemusicasheville.com
SUMMARY:Chatt Hills Music presents: Dom Flemons
DESCRIPTION:March 1\, 2026 8:00 PM | Doors Open: 7:00 PM | From $29.75 Event Details and Tickets \nDom Flemons is known as “The American Songster®” since his repertoire covers over one hundred years of American roots music. Flemons is a folk musician\, black country artist\, songwriter\, multi-instrumentalist\, music scholar\, historian\, actor\, slam poet\, record collector\, curator\, podcaster\, cultural commentator\, influencer\, and the creator\, host\, and producer of the American Songster Radio Show on WSM in Nashville\, TN. He is the Co-Founder and original member of the groundbreaking Carolina Chocolate Drops\, the first ever black string band to win a GRAMMY Award. Over the past 25 years\, he has received major awards\, gained world-wide media recognition and has become one of the most influential and highly decorated voices in American roots music. \nChatt Hills Music Brings a diverse lineup of musicians to Asheville and the surrounding areas. Expect to hear Americana\, Singer-Songwriter\, Jazz\, Rock\, Blues\, Folk\, or Classical music at any given concert. Check out the upcoming lineup at chatthillsmusic.com
URL:https://livemusicasheville.com/calendar/chatt-hills-music-presents-dom-flemons/
LOCATION:The Grey Eagle\, 185 Clingman Ave\, Asheville\, NC\, United States
CATEGORIES:Asheville Area,Live Music
GEO:35.5870871;-82.5643936
X-APPLE-STRUCTURED-LOCATION;VALUE=URI;X-ADDRESS=The Grey Eagle 185 Clingman Ave Asheville NC United States;X-APPLE-RADIUS=500;X-TITLE=185 Clingman Ave:geo:-82.5643936,35.5870871
END:VEVENT
BEGIN:VEVENT
DTSTART;TZID=America/New_York:20260301T200000
DTEND;TZID=America/New_York:20260301T230000
DTSTAMP:20260425T220723
CREATED:20260225T172530Z
LAST-MODIFIED:20260225T172530Z
UID:10046863-1772395200-1772406000@livemusicasheville.com
SUMMARY:Aly & AJ w/ Hayden Blount
DESCRIPTION:
URL:https://livemusicasheville.com/calendar/aly-aj-w-hayden-blount/
LOCATION:The Orange Peel
CATEGORIES:Asheville Area,Live Music
GEO:35.5914061;-82.5510137
END:VEVENT
BEGIN:VEVENT
DTSTART;TZID=America/New_York:20260301T200000
DTEND;TZID=America/New_York:20260301T230000
DTSTAMP:20260425T220723
CREATED:20260225T190932Z
LAST-MODIFIED:20260225T190932Z
UID:10046878-1772395200-1772406000@livemusicasheville.com
SUMMARY:Bad Marriage w/ The Midnight Devils
DESCRIPTION:
URL:https://livemusicasheville.com/calendar/bad-marriage-w-the-midnight-devils/
LOCATION:Asheville Music Hall\, 31 Patton Ave\, Asheville\, NC\, 28801\, United States
CATEGORIES:Asheville Area,Live Music
GEO:35.5949233;-82.5530398
X-APPLE-STRUCTURED-LOCATION;VALUE=URI;X-ADDRESS=Asheville Music Hall 31 Patton Ave Asheville NC 28801 United States;X-APPLE-RADIUS=500;X-TITLE=31 Patton Ave:geo:-82.5530398,35.5949233
END:VEVENT
BEGIN:VEVENT
DTSTART;TZID=America/New_York:20260301T200000
DTEND;TZID=America/New_York:20260301T233000
DTSTAMP:20260425T220723
CREATED:20260225T144410Z
LAST-MODIFIED:20260225T144410Z
UID:10046838-1772395200-1772407800@livemusicasheville.com
SUMMARY:Kat and The Hurricane\, Porcelain Parrot\, Hook of Moon
DESCRIPTION:
URL:https://livemusicasheville.com/calendar/kat-and-the-hurricane-porcelain-parrot-hook-of-moon/
LOCATION:The Odd
CATEGORIES:Asheville Area,Live Music
END:VEVENT
BEGIN:VEVENT
DTSTART;TZID=America/New_York:20260301T200000
DTEND;TZID=America/New_York:20260302T020000
DTSTAMP:20260425T220723
CREATED:20260208T155221Z
LAST-MODIFIED:20260208T155221Z
UID:10043601-1772395200-1772416800@livemusicasheville.com
SUMMARY:All Request Piano Show
DESCRIPTION:
URL:https://livemusicasheville.com/calendar/all-request-piano-show-2/2026-03-01/
LOCATION:Off the Wagon
CATEGORIES:Asheville Area,Live Music
GEO:41.4302231;-81.3909542
END:VEVENT
BEGIN:VEVENT
DTSTART;TZID=America/New_York:20260301T210000
DTEND;TZID=America/New_York:20260302T000000
DTSTAMP:20260425T220723
CREATED:20260104T055429Z
LAST-MODIFIED:20260107T184413Z
UID:10032597-1772398800-1772409600@livemusicasheville.com
SUMMARY:Shakedown Sunday
DESCRIPTION:
URL:https://livemusicasheville.com/calendar/shakedown-sunday-2-2-2-2-2/2026-03-01/
LOCATION:The One Stop
CATEGORIES:Asheville Area,Live Music,Open MIc/Jam
END:VEVENT
BEGIN:VEVENT
DTSTART;VALUE=DATE:20260302
DTEND;VALUE=DATE:20260304
DTSTAMP:20260425T220723
CREATED:20260115T155240Z
LAST-MODIFIED:20260423T154010Z
UID:10057536-1772420400-1772506799@livemusicasheville.com
SUMMARY:Love What We Do .......... Buy Us A Beer!
DESCRIPTION:We hope you enjoy our guide to the Asheville area’s dynamic music scene. \nIf we somehow help to brighten up your day\, please consider a small donation to help support our efforts in providing the area’s most reliable local live music calendar. \nVenmo: click here  \nLast 4 digits – 3383 \nPayPal: click here \n 
URL:https://livemusicasheville.com/calendar/greetings-fellow-music-lovers-2-2/2026-03-02/
LOCATION:Asheville Area
CATEGORIES:Asheville Area
ATTACH;FMTTYPE=image/jpeg:https://livemusicasheville.com/wp-content/uploads/2019/01/alcohol-alcoholic-beverages-beer-1624263-e1776958791382.jpg
END:VEVENT
END:VCALENDAR