BEGIN:VCALENDAR
VERSION:2.0
PRODID:-//LiveMusicAsheville.com - ECPv6.15.20//NONSGML v1.0//EN
CALSCALE:GREGORIAN
METHOD:PUBLISH
X-ORIGINAL-URL:https://livemusicasheville.com
X-WR-CALDESC:Events for LiveMusicAsheville.com
REFRESH-INTERVAL;VALUE=DURATION:PT1H
X-Robots-Tag:noindex
X-PUBLISHED-TTL:PT1H
BEGIN:VTIMEZONE
TZID:America/New_York
BEGIN:DAYLIGHT
TZOFFSETFROM:-0500
TZOFFSETTO:-0400
TZNAME:EDT
DTSTART:20250309T070000
END:DAYLIGHT
BEGIN:STANDARD
TZOFFSETFROM:-0400
TZOFFSETTO:-0500
TZNAME:EST
DTSTART:20251102T060000
END:STANDARD
BEGIN:DAYLIGHT
TZOFFSETFROM:-0500
TZOFFSETTO:-0400
TZNAME:EDT
DTSTART:20260308T070000
END:DAYLIGHT
BEGIN:STANDARD
TZOFFSETFROM:-0400
TZOFFSETTO:-0500
TZNAME:EST
DTSTART:20261101T060000
END:STANDARD
BEGIN:DAYLIGHT
TZOFFSETFROM:-0500
TZOFFSETTO:-0400
TZNAME:EDT
DTSTART:20270314T070000
END:DAYLIGHT
BEGIN:STANDARD
TZOFFSETFROM:-0400
TZOFFSETTO:-0500
TZNAME:EST
DTSTART:20271107T060000
END:STANDARD
END:VTIMEZONE
BEGIN:VEVENT
DTSTART;TZID=America/New_York:20260227T180000
DTEND;TZID=America/New_York:20260227T210000
DTSTAMP:20260425T201251
CREATED:20250205T170336Z
LAST-MODIFIED:20260225T154359Z
UID:10007773-1772215200-1772226000@livemusicasheville.com
SUMMARY:Hope Griffin
DESCRIPTION:
URL:https://livemusicasheville.com/calendar/hope-griffin-3/
LOCATION:Auction House Food Hall Fletcher
CATEGORIES:Asheville Area,Live Music,South Asheville/Arden/Fletcher
GEO:35.4306652;-82.5019658
END:VEVENT
BEGIN:VEVENT
DTSTART;TZID=America/New_York:20260227T180000
DTEND;TZID=America/New_York:20260227T210000
DTSTAMP:20260425T201251
CREATED:20250801T152649Z
LAST-MODIFIED:20260225T154249Z
UID:10018488-1772215200-1772226000@livemusicasheville.com
SUMMARY:5j Barrow
DESCRIPTION:
URL:https://livemusicasheville.com/calendar/5j-barrow-2/
LOCATION:River Arts District Brewing\, 13 Mystery St\, Asheville\, NC\, 28801\, United States
CATEGORIES:Asheville Area,Live Music
GEO:35.5846876;-82.5649928
X-APPLE-STRUCTURED-LOCATION;VALUE=URI;X-ADDRESS=River Arts District Brewing 13 Mystery St Asheville NC 28801 United States;X-APPLE-RADIUS=500;X-TITLE=13 Mystery St:geo:-82.5649928,35.5846876
END:VEVENT
BEGIN:VEVENT
DTSTART;TZID=America/New_York:20260227T180000
DTEND;TZID=America/New_York:20260227T210000
DTSTAMP:20260425T201251
CREATED:20260208T152156Z
LAST-MODIFIED:20260220T212403Z
UID:10043592-1772215200-1772226000@livemusicasheville.com
SUMMARY:Tuff Sol
DESCRIPTION:Asheville’s newest reggae band\, “Tuff Sol” which features Jake Burns and Buffalo Brown on Guitar/Vocals\, Roddy Wilder on Bass/Vocals\, Taylor Pierson on Keys & Jonathan Lloyd on Drums/Vocals! Please join us for a night of reggae music and camaraderie. \n  \nFrench Broad River Brewery is more than just a place to enjoy a drink—it’s a community hub where great beer\, delicious pizza\, live music\, and good times come together. Just minutes from the Biltmore Estate & Downtown\, our taproom is a gathering spot for locals and visitors alike. We regularly host live music and entertainment in our taproom\, making French Broad River Brewery a lively hub of local activity. From bluegrass to reggae\, there’s always something happening. Check out our Events Page to see what’s coming up next! \nNo brewery experience is complete without great food. That’s why we offer French Broad River Pizza\, serving up hot\, hand-tossed pizzas made to order. Whether you’re here for a quick slice or a full meal\, our pizza perfectly complements our craft beers and the lively atmosphere of our taproom. frenchbroadbrewery.com/pizza
URL:https://livemusicasheville.com/calendar/tuff-sol-2/
LOCATION:French Broad River Brewery\, 101 Fairview Rd\, Asheville\, NC\, United States
CATEGORIES:Asheville Area,Live Music
GEO:35.5662722;-82.5374054
X-APPLE-STRUCTURED-LOCATION;VALUE=URI;X-ADDRESS=French Broad River Brewery 101 Fairview Rd Asheville NC United States;X-APPLE-RADIUS=500;X-TITLE=101 Fairview Rd:geo:-82.5374054,35.5662722
END:VEVENT
BEGIN:VEVENT
DTSTART;TZID=America/New_York:20260227T180000
DTEND;TZID=America/New_York:20260227T230000
DTSTAMP:20260425T201251
CREATED:20250207T164158Z
LAST-MODIFIED:20260422T131528Z
UID:10028138-1772215200-1772233200@livemusicasheville.com
SUMMARY:Friday Open Mic/Jam
DESCRIPTION:Flora Asheville – 5:30-7:30pm (April 17) \nTurgua Brewing Fairview – 6-8pm (2nd & 4th Fridays) \nCoffee\, Art\, Music type Place – 6-8pm (First Fridays) \nWagWorld Pub Fletcher – 6:30-9:30pm \nElevated Kava Downtown – 8-11
URL:https://livemusicasheville.com/calendar/friday-open-mic-jam/2026-02-27/
LOCATION:Asheville Area
CATEGORIES:Asheville Area,Madison County,Open MIc/Jam,South Asheville/Arden/Fletcher
END:VEVENT
BEGIN:VEVENT
DTSTART;TZID=America/New_York:20260227T180000
DTEND;TZID=America/New_York:20260228T020000
DTSTAMP:20260425T201251
CREATED:20241225T134450Z
LAST-MODIFIED:20260415T173808Z
UID:10027303-1772215200-1772244000@livemusicasheville.com
SUMMARY:Friday Weekly DJ's
DESCRIPTION:Although we are primarily a Live Music Calendar\, we often come across Electronic & DJ events in the area and list them for you as we find out about them. Please verify the DJ\, times and cover charges with the venue. \nLA Pizza Party Rooftop – 6-9pm \nThe Radical – 6-11pm \nPotential New Boyfriend – 7:30-11pm \nCapella On 9 – 8-11pm \nBen’s Tune Up – 8-11pm \nAntidote – 9-11pm \nBanks Ave – 9-11:30pm \nVOWL – 9pm-1am \nDouble Crown – 9pm-2am \nHavana Miami – 9pm-2am \nStatic Age Loft – 9pm-2am \nWaterstreet – 9pm-2am \nLa Pizza Party – 10pm-2am \nThe Barksdale – 10pm-2am \nLazy Diamond – 10pm-2am \nSticks On Broadway – 10pm-2am \nStrange Magic Bar – 10pm-2am \nShakeys – 10pm-2am \n  \nVerify with the venue on times\, cover charges and tonight’s DJ.
URL:https://livemusicasheville.com/calendar/friday-weekly-dj-schedule/2026-02-27/
LOCATION:Asheville Area
CATEGORIES:Asheville Area,DJ/Electronic
END:VEVENT
BEGIN:VEVENT
DTSTART;TZID=America/New_York:20260227T190000
DTEND;TZID=America/New_York:20260227T210000
DTSTAMP:20260425T201251
CREATED:20250612T163718Z
LAST-MODIFIED:20260325T203332Z
UID:10015856-1772218800-1772226000@livemusicasheville.com
SUMMARY:Julianna Jade & The Wild
DESCRIPTION:
URL:https://livemusicasheville.com/calendar/julianna-jade-the-wild/
LOCATION:5 Walnut Wine Bar
CATEGORIES:Asheville Area,Live Music
GEO:35.596654;-82.5525389
END:VEVENT
BEGIN:VEVENT
DTSTART;TZID=America/New_York:20260227T190000
DTEND;TZID=America/New_York:20260227T210000
DTSTAMP:20260425T201251
CREATED:20251022T222949Z
LAST-MODIFIED:20260226T195747Z
UID:10023017-1772218800-1772226000@livemusicasheville.com
SUMMARY:Jazz & Soul Sessions with Kelle Jolly and The Will Boyd Project
DESCRIPTION:
URL:https://livemusicasheville.com/calendar/jazz-soul-sessions-at-the-ymi-with-kelle-jolly-and-the-will-boyd-project/2026-02-27/
LOCATION:YMI Cultural Center\, 39 South Market Street\, Asheville\, NC\, 28801
CATEGORIES:Asheville Area,Live Music
GEO:35.5938387;-82.5500749
X-APPLE-STRUCTURED-LOCATION;VALUE=URI;X-ADDRESS=YMI Cultural Center 39 South Market Street Asheville NC 28801;X-APPLE-RADIUS=500;X-TITLE=39 South Market Street:geo:-82.5500749,35.5938387
END:VEVENT
BEGIN:VEVENT
DTSTART;TZID=America/New_York:20260227T190000
DTEND;TZID=America/New_York:20260227T210000
DTSTAMP:20260425T201251
CREATED:20251029T132808Z
LAST-MODIFIED:20260415T133603Z
UID:10056846-1772218800-1772226000@livemusicasheville.com
SUMMARY:Grass Is Back!
DESCRIPTION:No Cover – Donations accepted!\n\n\n\n\nApril 17 – Lynn Goldsmith & The Jeter Mountain Band\nApril 24 – New Carolina Connection Band\nMay 1 – Harlan County Grass\nMay 8 – Mulley Holler Band\nMay 15- Travis Watts & Mountain Blessings\nMay 22 – Hit or Miss Bluegrass & Country Band
URL:https://livemusicasheville.com/calendar/grass-is-back-3/2026-02-27/
LOCATION:Feed and Seed Fletcher
CATEGORIES:Asheville Area,Live Music,South Asheville/Arden/Fletcher
END:VEVENT
BEGIN:VEVENT
DTSTART;TZID=America/New_York:20260227T190000
DTEND;TZID=America/New_York:20260227T213000
DTSTAMP:20260425T201251
CREATED:20260225T163345Z
LAST-MODIFIED:20260225T163345Z
UID:10046855-1772218800-1772227800@livemusicasheville.com
SUMMARY:Høly River and Samara Jade - Save the Woods Solidarity Concert
DESCRIPTION:
URL:https://livemusicasheville.com/calendar/holy-river-and-samara-jade-save-the-woods-solidarity-concert/
LOCATION:AyurPrana Listening Room\, 312 Haywood Rd\, Asheville\, NC\, 28806
CATEGORIES:Asheville Area,Live Music
GEO:35.5775962;-82.5760261
X-APPLE-STRUCTURED-LOCATION;VALUE=URI;X-ADDRESS=AyurPrana Listening Room 312 Haywood Rd Asheville NC 28806;X-APPLE-RADIUS=500;X-TITLE=312 Haywood Rd:geo:-82.5760261,35.5775962
END:VEVENT
BEGIN:VEVENT
DTSTART;TZID=America/New_York:20260227T190000
DTEND;TZID=America/New_York:20260227T220000
DTSTAMP:20260425T201251
CREATED:20251113T101742Z
LAST-MODIFIED:20260327T002508Z
UID:10052982-1772218800-1772229600@livemusicasheville.com
SUMMARY:Blues with Mr Jimmy
DESCRIPTION:
URL:https://livemusicasheville.com/calendar/blues-with-mr-jimmy-2-2-2/2026-02-27/
LOCATION:The Station Black Mountain
CATEGORIES:Asheville Area,Black Mountain,Live Music
END:VEVENT
BEGIN:VEVENT
DTSTART;TZID=America/New_York:20260227T190000
DTEND;TZID=America/New_York:20260227T220000
DTSTAMP:20260425T201251
CREATED:20251222T160644Z
LAST-MODIFIED:20251222T160644Z
UID:10029231-1772218800-1772229600@livemusicasheville.com
SUMMARY:The B's Trio in The Great Hall
DESCRIPTION:
URL:https://livemusicasheville.com/calendar/the-bs-trio-in-the-great-hall-2/2026-02-27/
LOCATION:The Omni Grove Park Inn
CATEGORIES:Asheville Area,Live Music
GEO:35.6206376;-82.5422977
END:VEVENT
BEGIN:VEVENT
DTSTART;TZID=America/New_York:20260227T190000
DTEND;TZID=America/New_York:20260227T220000
DTSTAMP:20260425T201251
CREATED:20260126T210016Z
LAST-MODIFIED:20260126T210016Z
UID:10041559-1772218800-1772229600@livemusicasheville.com
SUMMARY:Jimmi Lang's Almost Doors (JLAD)
DESCRIPTION:JLADFriday February 277pm$5 CoverJimmi Lang’s Almost Doors is bringing the party to Pisgah on Friday Feb. 27th and bringing the moves with their unique interpretation of The Doors catalog. \n  \nFounded in 2005\, Pisgah is known for producing some of the most sought after craft ales in Western North Carolina. Pisgah Brewing Company currently operates the new indoor taproom & deli\, with live music several days a week\, plus an open air outdoor bar in the summer and fall months. Check out our upcoming schedule at pisgahbrewing.com/events
URL:https://livemusicasheville.com/calendar/jimmi-langs-almost-doors-jlad/
LOCATION:Pisgah Brewing Company Black Mountain\, 2948 US-70\, Black Mountain\, NC\, 28711
CATEGORIES:Asheville Area,Black Mountain,Live Music
GEO:35.6068069;-82.3568213
X-APPLE-STRUCTURED-LOCATION;VALUE=URI;X-ADDRESS=Pisgah Brewing Company Black Mountain 2948 US-70 Black Mountain NC 28711;X-APPLE-RADIUS=500;X-TITLE=2948 US-70:geo:-82.3568213,35.6068069
END:VEVENT
BEGIN:VEVENT
DTSTART;TZID=America/New_York:20260227T190000
DTEND;TZID=America/New_York:20260227T220000
DTSTAMP:20260425T201251
CREATED:20260223T164632Z
LAST-MODIFIED:20260223T164757Z
UID:10034740-1772218800-1772229600@livemusicasheville.com
SUMMARY:Blaze the City Acoustic
DESCRIPTION:
URL:https://livemusicasheville.com/calendar/blaze-the-city-acoustic-2-2/2026-02-27/
LOCATION:WXYZ Lounge at Aloft Asheville Downtown
CATEGORIES:Asheville Area,Live Music
GEO:35.5929089;-82.5513369
END:VEVENT
BEGIN:VEVENT
DTSTART;TZID=America/New_York:20260227T190000
DTEND;TZID=America/New_York:20260228T010000
DTSTAMP:20260425T201251
CREATED:20241225T141623Z
LAST-MODIFIED:20260416T110217Z
UID:10056329-1772218800-1772240400@livemusicasheville.com
SUMMARY:Friday Karaoke
DESCRIPTION:  \n7-10pm – Mal’s Bar Marshall (February 20) \n7-10pm- Noble Cider (April 10) \n8pm-12am – Silverados Black Mountain \n8-11pm – Dalton Distillery (April 17) \n8-11pm – T Birds Weaverville \n8:30-11pm – The Village Porch Woodfin (April 17) \n8pm-1am – Fleetwoods (Feb 27) \n9pm-12am – Brewskies Fairview   \n9pm-12am – Little Creek Tavern Fletcher  \n9pm-1am – Handlebar & Grill \n9pm- 1am – O’Henrys \n9:30pm-1:30am – The Crowbar Downtown \n10pm – 2am – Shakeys \nVerify time and KJ with The Venue. \n  \n  \n\n 
URL:https://livemusicasheville.com/calendar/friday-weekly-karaoke/2026-02-27/
LOCATION:Asheville Area
CATEGORIES:Asheville Area,Black Mountain,Fairview,Karaoke,Madison County,Weaverville
END:VEVENT
BEGIN:VEVENT
DTSTART;TZID=America/New_York:20260227T190000
DTEND;TZID=America/New_York:20260228T020000
DTSTAMP:20260425T201251
CREATED:20241225T123126Z
LAST-MODIFIED:20251122T132355Z
UID:10025532-1772218800-1772244000@livemusicasheville.com
SUMMARY:Dueling Piano Show
DESCRIPTION:
URL:https://livemusicasheville.com/calendar/dueling-piano-show/2026-02-27/
LOCATION:Off the Wagon
CATEGORIES:Asheville Area,Live Music
GEO:41.4302231;-81.3909542
END:VEVENT
BEGIN:VEVENT
DTSTART;TZID=America/New_York:20260227T200000
DTEND;TZID=America/New_York:20260227T220000
DTSTAMP:20260425T201251
CREATED:20250212T152622Z
LAST-MODIFIED:20260401T141115Z
UID:10032018-1772222400-1772229600@livemusicasheville.com
SUMMARY:Will Hartz
DESCRIPTION:
URL:https://livemusicasheville.com/calendar/will-hartz-4/2026-02-27/
LOCATION:The Whale Outpost Haw Creek
CATEGORIES:Asheville Area,Live Music
GEO:35.5919991;-82.5054695
END:VEVENT
BEGIN:VEVENT
DTSTART;TZID=America/New_York:20260227T200000
DTEND;TZID=America/New_York:20260227T220000
DTSTAMP:20260425T201251
CREATED:20260128T162323Z
LAST-MODIFIED:20260225T163740Z
UID:10042060-1772222400-1772229600@livemusicasheville.com
SUMMARY:Logan Hensley & the Cosmic Cowboy
DESCRIPTION:
URL:https://livemusicasheville.com/calendar/logan-hensley-the-cosmic-cowboy/
LOCATION:Mudpuppies Arden
CATEGORIES:Asheville Area,Live Music,South Asheville/Arden/Fletcher
GEO:35.4440387;-82.5322387
END:VEVENT
BEGIN:VEVENT
DTSTART;TZID=America/New_York:20260227T200000
DTEND;TZID=America/New_York:20260227T223000
DTSTAMP:20260425T201251
CREATED:20260211T213731Z
LAST-MODIFIED:20260212T001153Z
UID:10044703-1772222400-1772231400@livemusicasheville.com
SUMMARY:Punk Show w/ Zipper & Mockery
DESCRIPTION:
URL:https://livemusicasheville.com/calendar/punk-show-w-zipper-mockery/
LOCATION:The Double Crown West Asheville\, 375 West Haywood Rd\, Asheville\, NC\, 28806
CATEGORIES:Asheville Area,Live Music
GEO:35.5780389;-82.5787972
X-APPLE-STRUCTURED-LOCATION;VALUE=URI;X-ADDRESS=The Double Crown West Asheville 375 West Haywood Rd Asheville NC 28806;X-APPLE-RADIUS=500;X-TITLE=375 West Haywood Rd:geo:-82.5787972,35.5780389
END:VEVENT
BEGIN:VEVENT
DTSTART;TZID=America/New_York:20260227T200000
DTEND;TZID=America/New_York:20260227T230000
DTSTAMP:20260425T201251
CREATED:20250711T192233Z
LAST-MODIFIED:20260116T152048Z
UID:10028213-1772222400-1772233200@livemusicasheville.com
SUMMARY:Commodore Fox Band
DESCRIPTION:
URL:https://livemusicasheville.com/calendar/commodore-fox-band-2/2026-02-27/
LOCATION:Wild Wing Cafe South
CATEGORIES:Live Music,South Asheville/Arden/Fletcher
END:VEVENT
BEGIN:VEVENT
DTSTART;TZID=America/New_York:20260227T200000
DTEND;TZID=America/New_York:20260227T230000
DTSTAMP:20260425T201251
CREATED:20260104T213920Z
LAST-MODIFIED:20260223T154902Z
UID:10030195-1772222400-1772233200@livemusicasheville.com
SUMMARY:Meschiya Lake & The Moodswingers
DESCRIPTION:Meschiya Lake is a powerhouse vocalist and charismatic bandleader whose fearless voice bridges early-jazz tradition and modern spirit. Born in South Dakota and steeped in the rugged performance world of circus sideshows\, Meschiya found her musical home in New Orleans\, where she built a devoted following on Frenchmen Street and beyond. She’s dazzled audiences worldwide with her sultry blues\, swing-infused jazz\, and vintage-meets-now originals — from Lincoln Center to international festivals. Her sound channels the grit of the old jazz era and the joy of today\, earning multiple awards and critical acclaim for her bold\, evocative performances. Whether belting classics or leading her band into fresh territory\, Meschiya’s music is as timeless as it is electrifying. \n$15 at the door (all ticket proceeds are 100% passed to the band\, backed by a living wage guarantee from Hotel Eve) \nHotel Eve is your locally rooted\, speakeasy jazz club & cocktail bar\, hidden in the heart of Downtown Asheville. Mysteriously not a hotel…check in for spirits\, souls and jazz! We’re tucked away\, on purpose. You’ll find us behind the gate nestled between Virtue Boutique and Dane Wells Gallery at 56 N Lexington Avenue in downtown Asheville. Step through\, take a left into the courtyard\, check in for Spirits\, Souls & Jazz. We’ll be waiting on the other side. hotelevejazz.com \n 
URL:https://livemusicasheville.com/calendar/meschiya-lake-the-moodswingers-3/
LOCATION:Hotel Eve Jazz\, 56 N Lexington Avenue\, Asheville\, NC\, 28801\, United States
CATEGORIES:Asheville Area,Live Music
GEO:35.5967716;-82.5530826
X-APPLE-STRUCTURED-LOCATION;VALUE=URI;X-ADDRESS=Hotel Eve Jazz 56 N Lexington Avenue Asheville NC 28801 United States;X-APPLE-RADIUS=500;X-TITLE=56 N Lexington Avenue:geo:-82.5530826,35.5967716
END:VEVENT
BEGIN:VEVENT
DTSTART;TZID=America/New_York:20260227T200000
DTEND;TZID=America/New_York:20260227T230000
DTSTAMP:20260425T201251
CREATED:20260116T213249Z
LAST-MODIFIED:20260119T190113Z
UID:10038185-1772222400-1772233200@livemusicasheville.com
SUMMARY:Reggie Headen & Nighttime Noon
DESCRIPTION:
URL:https://livemusicasheville.com/calendar/reggie-headen-nighttime-noon-3/2026-02-27/
LOCATION:Afterglow at The Radical
CATEGORIES:Asheville Area,Live Music
END:VEVENT
BEGIN:VEVENT
DTSTART;TZID=America/New_York:20260227T200000
DTEND;TZID=America/New_York:20260227T230000
DTSTAMP:20260425T201251
CREATED:20260128T192432Z
LAST-MODIFIED:20260225T162935Z
UID:10042082-1772222400-1772233200@livemusicasheville.com
SUMMARY:Dolly’s 80th Birthday Bash hosted by CyndiLou & The Want To
DESCRIPTION:
URL:https://livemusicasheville.com/calendar/dollys-80th-birthday-bash-hosted-by-cyndilou-the-want-to/
LOCATION:Eda’s Hide-a-Way Weaverville
CATEGORIES:Asheville Area,Live Music
GEO:35.6970547;-82.5606851
END:VEVENT
BEGIN:VEVENT
DTSTART;TZID=America/New_York:20260227T200000
DTEND;TZID=America/New_York:20260227T230000
DTSTAMP:20260425T201251
CREATED:20260128T230302Z
LAST-MODIFIED:20260227T070930Z
UID:10042096-1772222400-1772233200@livemusicasheville.com
SUMMARY:Vintage Vinyl Band with Peggy Ratusz | The Showroom
DESCRIPTION:Get ready to rewind the clock and sing along to the soundtrack of the 1970s. Peggy Ratusz and her Vintage Vinyl Band are bringing a feel-good night of classic pop-rock hits\, big harmonies\, and pure nostalgia.\n\nExpect the kind of songs you know by heart\, the ones that make you grin the second the chorus hits. Grab a drink\, bring your favorite people\, and settle in for an evening that feels like flipping to Side A of your best vinyl record.\n\nLive music. Classic vibes. No time machine required.\n\n$10 suggested\n  \nFitz\, she’s the party. Wolfe\, he’s the epicure. 2 levels\, 3 vibes. 🎶 Live Music |🍸Sips & Noms 🥪 | 🕹️ Artcade | 🗝️Speakeasy | Private Events \nFitz and the Wolfe is a cocktail and music venue shaped by the spirit of improvisation\, storytelling\, and the kind of nights that feel too good to end. Here\, every night brings a new soundtrack. Jazz\, swing\, honky-tonk\, and sometimes things a little more esoteric—if it moves people\, we book it. The music fills the space like a second heartbeat\, sometimes rowdy\, sometimes intimate\, always memorable. It’s not background noise. It’s the reason you’re here. fitzandthewolfe.com
URL:https://livemusicasheville.com/calendar/vintage-vinyl-band-with-peggy-ratusz-the-showroom/
LOCATION:Fitz and the Wolfe\, 1 Battery Park Ave\, Asheville\, NC\, 28801\, United States
CATEGORIES:Asheville Area,Live Music
GEO:35.5954515;-82.5548502
X-APPLE-STRUCTURED-LOCATION;VALUE=URI;X-ADDRESS=Fitz and the Wolfe 1 Battery Park Ave Asheville NC 28801 United States;X-APPLE-RADIUS=500;X-TITLE=1 Battery Park Ave:geo:-82.5548502,35.5954515
END:VEVENT
BEGIN:VEVENT
DTSTART;TZID=America/New_York:20260227T200000
DTEND;TZID=America/New_York:20260227T230000
DTSTAMP:20260425T201251
CREATED:20260214T161008Z
LAST-MODIFIED:20260214T161009Z
UID:10044970-1772222400-1772233200@livemusicasheville.com
SUMMARY:Brian Felix Organ Trio
DESCRIPTION:The Brian Felix Organ Trio is the jazz/funk organ group of the future. Rooted in the deep traditions of organ-driven jazz\, funk\, and soul\, the trio blends reggae\, samba\, surf rock\, gospel\, and ambient soundscapes into a unified and forward-looking musical vision. Known for its telepathic interplay\, deep grooves\, and daring spontaneity\, the trio has been captivating audiences throughout the southeastern United States. \nBased in Asheville\, NC (USA)\, Brian Felix is an internationally recognized jazz keyboardist and organist whose work spans groove-based improvisation\, jazz-rock\, and contemporary creative music. The regular working trio features guitarist Tim Fischer and drummer Evan Martin\, both integral voices in shaping the group’s sound and musical chemistry. \nFelix is also a Professor of Music at UNC Asheville\, where he teaches jazz theory and improvisation\, jazz ensembles\, music business\, keyboard skills\, The Beatles\, and The Grateful Dead. Website: www.brianfelix.com \n$10 Cover\n\nWith two unique locations\, built inside buildings that were previously cast aside\, One World brews with the intention of fostering nourishing interaction and artistic cultural experiences. From live music to art shows\, “One World Brewing” is born from the magic that happens when the whole becomes greater than the sum of its parts. Our taprooms are intersections for people of all walks of life and different corners of the globe\, enjoying this time and place together.  Check out our upcoming schedule: click here
URL:https://livemusicasheville.com/calendar/brian-felix-organ-trio-3/
LOCATION:One World Brewing – West\, 520 Haywood Rd\, Asheville\, North Carolina\, 28806
CATEGORIES:Asheville Area,Live Music
GEO:35.5783642;-82.5848526
X-APPLE-STRUCTURED-LOCATION;VALUE=URI;X-ADDRESS=One World Brewing – West 520 Haywood Rd Asheville North Carolina 28806;X-APPLE-RADIUS=500;X-TITLE=520 Haywood Rd:geo:-82.5848526,35.5783642
END:VEVENT
BEGIN:VEVENT
DTSTART;TZID=America/New_York:20260227T200000
DTEND;TZID=America/New_York:20260227T230000
DTSTAMP:20260425T201251
CREATED:20260225T171848Z
LAST-MODIFIED:20260225T171848Z
UID:10046860-1772222400-1772233200@livemusicasheville.com
SUMMARY:AVL All Star Prince Revue
DESCRIPTION:
URL:https://livemusicasheville.com/calendar/avl-all-star-prince-revue/
LOCATION:Revival\, 66 Asheland Avenue\, Asheville\, NC\, 28801\, United States
CATEGORIES:Asheville Area,Live Music
GEO:35.5917821;-82.555861
X-APPLE-STRUCTURED-LOCATION;VALUE=URI;X-ADDRESS=Revival 66 Asheland Avenue Asheville NC 28801 United States;X-APPLE-RADIUS=500;X-TITLE=66 Asheland Avenue:geo:-82.555861,35.5917821
END:VEVENT
BEGIN:VEVENT
DTSTART;TZID=America/New_York:20260227T200000
DTEND;TZID=America/New_York:20260227T230000
DTSTAMP:20260425T201251
CREATED:20260225T172329Z
LAST-MODIFIED:20260225T172329Z
UID:10046861-1772222400-1772233200@livemusicasheville.com
SUMMARY:SOLD OUT | Jesse Welles w/ S.G. Goodman
DESCRIPTION:
URL:https://livemusicasheville.com/calendar/sold-out-jesse-welles-w-s-g-goodman/
LOCATION:The Orange Peel
CATEGORIES:Asheville Area,Live Music
GEO:35.5914061;-82.5510137
END:VEVENT
BEGIN:VEVENT
DTSTART;TZID=America/New_York:20260227T200000
DTEND;TZID=America/New_York:20260227T230000
DTSTAMP:20260425T201251
CREATED:20260225T185734Z
LAST-MODIFIED:20260225T185734Z
UID:10046872-1772222400-1772233200@livemusicasheville.com
SUMMARY:Tyler Ramsey & Carl Broemel
DESCRIPTION:
URL:https://livemusicasheville.com/calendar/tyler-ramsey-carl-broemel/2026-02-27/
LOCATION:The Grey Eagle\, 185 Clingman Ave\, Asheville\, NC\, United States
CATEGORIES:Asheville Area,Live Music
GEO:35.5870871;-82.5643936
X-APPLE-STRUCTURED-LOCATION;VALUE=URI;X-ADDRESS=The Grey Eagle 185 Clingman Ave Asheville NC United States;X-APPLE-RADIUS=500;X-TITLE=185 Clingman Ave:geo:-82.5643936,35.5870871
END:VEVENT
BEGIN:VEVENT
DTSTART;TZID=America/New_York:20260227T200000
DTEND;TZID=America/New_York:20260228T010000
DTSTAMP:20260425T201251
CREATED:20250807T134540Z
LAST-MODIFIED:20260225T120629Z
UID:10018679-1772222400-1772240400@livemusicasheville.com
SUMMARY:Emo Karaoke Night with live set from Disaster Years!
DESCRIPTION:Sing your lil’ emo heart out\nKaraoke Pity Party is going down at Fleetwood’s AVL\n\nOpening set by Emo / Indie Rock band\, The Disaster Years\nKaraoke w/ @whogavethisbitchamic\n$10 Cover\nEmo\, Alt\, and Indie hits all night\nLet’s be sad together .
URL:https://livemusicasheville.com/calendar/emo-karaoke-night-with-live-set-from-disaster-years/
LOCATION:Fleetwood’s\, 496 Haywood Rd\, Asheville\, NC\, 28806\, United States
CATEGORIES:Asheville Area,Karaoke,Live Music
GEO:35.578126;-82.583757
X-APPLE-STRUCTURED-LOCATION;VALUE=URI;X-ADDRESS=Fleetwood’s 496 Haywood Rd Asheville NC 28806 United States;X-APPLE-RADIUS=500;X-TITLE=496 Haywood Rd:geo:-82.583757,35.578126
END:VEVENT
BEGIN:VEVENT
DTSTART;TZID=America/New_York:20260227T203000
DTEND;TZID=America/New_York:20260227T233000
DTSTAMP:20260425T201251
CREATED:20250226T132959Z
LAST-MODIFIED:20260225T123005Z
UID:10009041-1772224200-1772235000@livemusicasheville.com
SUMMARY:Queen Bee & The Honeylovers
DESCRIPTION:
URL:https://livemusicasheville.com/calendar/queen-bee-the-honeylovers/
LOCATION:Crow and Quill
CATEGORIES:Asheville Area,Live Music
GEO:35.5984495;-82.5537921
END:VEVENT
BEGIN:VEVENT
DTSTART;TZID=America/New_York:20260227T203000
DTEND;TZID=America/New_York:20260227T233000
DTSTAMP:20260425T201251
CREATED:20250319T151416Z
LAST-MODIFIED:20260224T220703Z
UID:10010198-1772224200-1772235000@livemusicasheville.com
SUMMARY:Honky-Tonk w/ The Momma Molasses Band
DESCRIPTION:
URL:https://livemusicasheville.com/calendar/momma-molasses/
LOCATION:Jack Of The Wood\, 95 Patton Ave\, asheville\, NC\, United States
CATEGORIES:Asheville Area,Live Music
GEO:35.5944492;-82.5558221
X-APPLE-STRUCTURED-LOCATION;VALUE=URI;X-ADDRESS=Jack Of The Wood 95 Patton Ave asheville NC United States;X-APPLE-RADIUS=500;X-TITLE=95 Patton Ave:geo:-82.5558221,35.5944492
END:VEVENT
END:VCALENDAR