BEGIN:VCALENDAR
VERSION:2.0
PRODID:-//LiveMusicAsheville.com - ECPv6.15.20//NONSGML v1.0//EN
CALSCALE:GREGORIAN
METHOD:PUBLISH
X-WR-CALNAME:LiveMusicAsheville.com
X-ORIGINAL-URL:https://livemusicasheville.com
X-WR-CALDESC:Events for LiveMusicAsheville.com
REFRESH-INTERVAL;VALUE=DURATION:PT1H
X-Robots-Tag:noindex
X-PUBLISHED-TTL:PT1H
BEGIN:VTIMEZONE
TZID:America/New_York
BEGIN:DAYLIGHT
TZOFFSETFROM:-0500
TZOFFSETTO:-0400
TZNAME:EDT
DTSTART:20250309T070000
END:DAYLIGHT
BEGIN:STANDARD
TZOFFSETFROM:-0400
TZOFFSETTO:-0500
TZNAME:EST
DTSTART:20251102T060000
END:STANDARD
BEGIN:DAYLIGHT
TZOFFSETFROM:-0500
TZOFFSETTO:-0400
TZNAME:EDT
DTSTART:20260308T070000
END:DAYLIGHT
BEGIN:STANDARD
TZOFFSETFROM:-0400
TZOFFSETTO:-0500
TZNAME:EST
DTSTART:20261101T060000
END:STANDARD
BEGIN:DAYLIGHT
TZOFFSETFROM:-0500
TZOFFSETTO:-0400
TZNAME:EDT
DTSTART:20270314T070000
END:DAYLIGHT
BEGIN:STANDARD
TZOFFSETFROM:-0400
TZOFFSETTO:-0500
TZNAME:EST
DTSTART:20271107T060000
END:STANDARD
END:VTIMEZONE
BEGIN:VEVENT
DTSTART;TZID=America/New_York:20260109T190000
DTEND;TZID=America/New_York:20260109T230000
DTSTAMP:20260425T180806
CREATED:20260107T164809Z
LAST-MODIFIED:20260107T164809Z
UID:10032367-1767985200-1767999600@livemusicasheville.com
SUMMARY:Cliff B. Worsham w/ Jacob Danielson Moore\, Chancelor Lawson & Laney Barnett
DESCRIPTION:
URL:https://livemusicasheville.com/calendar/cliff-b-worsham-w-jacob-danielson-moore-chancelor-lawson-laney-barnett/
LOCATION:Eulogy\, 10 Buxton Ave\, Asheville\, NC\, 28801
CATEGORIES:Asheville Area,Live Music
GEO:35.5883468;-82.5539256
X-APPLE-STRUCTURED-LOCATION;VALUE=URI;X-ADDRESS=Eulogy 10 Buxton Ave Asheville NC 28801;X-APPLE-RADIUS=500;X-TITLE=10 Buxton Ave:geo:-82.5539256,35.5883468
END:VEVENT
BEGIN:VEVENT
DTSTART;TZID=America/New_York:20260109T190000
DTEND;TZID=America/New_York:20260110T010000
DTSTAMP:20260425T180806
CREATED:20241225T141623Z
LAST-MODIFIED:20260416T110217Z
UID:10056322-1767985200-1768006800@livemusicasheville.com
SUMMARY:Friday Karaoke
DESCRIPTION:  \n7-10pm – Mal’s Bar Marshall (February 20) \n7-10pm- Noble Cider (April 10) \n8pm-12am – Silverados Black Mountain \n8-11pm – Dalton Distillery (April 17) \n8-11pm – T Birds Weaverville \n8:30-11pm – The Village Porch Woodfin (April 17) \n8pm-1am – Fleetwoods (Feb 27) \n9pm-12am – Brewskies Fairview   \n9pm-12am – Little Creek Tavern Fletcher  \n9pm-1am – Handlebar & Grill \n9pm- 1am – O’Henrys \n9:30pm-1:30am – The Crowbar Downtown \n10pm – 2am – Shakeys \nVerify time and KJ with The Venue. \n  \n  \n\n 
URL:https://livemusicasheville.com/calendar/friday-weekly-karaoke/2026-01-09/
LOCATION:Asheville Area
CATEGORIES:Asheville Area,Black Mountain,Fairview,Karaoke,Madison County,Weaverville
END:VEVENT
BEGIN:VEVENT
DTSTART;TZID=America/New_York:20260109T190000
DTEND;TZID=America/New_York:20260110T020000
DTSTAMP:20260425T180806
CREATED:20241225T123126Z
LAST-MODIFIED:20251122T132355Z
UID:10025518-1767985200-1768010400@livemusicasheville.com
SUMMARY:Dueling Piano Show
DESCRIPTION:
URL:https://livemusicasheville.com/calendar/dueling-piano-show/2026-01-09/
LOCATION:Off the Wagon
CATEGORIES:Asheville Area,Live Music
GEO:41.4302231;-81.3909542
END:VEVENT
BEGIN:VEVENT
DTSTART;TZID=America/New_York:20260109T193000
DTEND;TZID=America/New_York:20260109T213000
DTSTAMP:20260425T180806
CREATED:20260107T122504Z
LAST-MODIFIED:20260107T122504Z
UID:10031401-1767987000-1767994200@livemusicasheville.com
SUMMARY:Mara Johnson & the Carolina Tumbleweed Band
DESCRIPTION:
URL:https://livemusicasheville.com/calendar/mara-johnson-the-carolina-tumbleweed-band/
LOCATION:White Horse Black Mountain
CATEGORIES:Asheville Area,Black Mountain,Live Music
GEO:35.6178579;-82.3211924
END:VEVENT
BEGIN:VEVENT
DTSTART;TZID=America/New_York:20260109T200000
DTEND;TZID=America/New_York:20260109T220000
DTSTAMP:20260425T180806
CREATED:20250212T152622Z
LAST-MODIFIED:20260401T141115Z
UID:10029538-1767988800-1767996000@livemusicasheville.com
SUMMARY:Will Hartz
DESCRIPTION:
URL:https://livemusicasheville.com/calendar/will-hartz-4/2026-01-09/
LOCATION:The Whale Outpost Haw Creek
CATEGORIES:Asheville Area,Live Music
GEO:35.5919991;-82.5054695
END:VEVENT
BEGIN:VEVENT
DTSTART;TZID=America/New_York:20260109T200000
DTEND;TZID=America/New_York:20260109T220000
DTSTAMP:20260425T180806
CREATED:20260107T170008Z
LAST-MODIFIED:20260107T170008Z
UID:10032579-1767988800-1767996000@livemusicasheville.com
SUMMARY:Butch Adkins
DESCRIPTION:
URL:https://livemusicasheville.com/calendar/butch-adkins/
LOCATION:Mudpuppies Arden
CATEGORIES:Asheville Area,Live Music,South Asheville/Arden/Fletcher
GEO:35.4440387;-82.5322387
END:VEVENT
BEGIN:VEVENT
DTSTART;TZID=America/New_York:20260109T200000
DTEND;TZID=America/New_York:20260109T230000
DTSTAMP:20260425T180806
CREATED:20250212T161542Z
LAST-MODIFIED:20260107T114900Z
UID:10008163-1767988800-1767999600@livemusicasheville.com
SUMMARY:Clouds of Delusion
DESCRIPTION:
URL:https://livemusicasheville.com/calendar/clouds-of-delusion-2/
LOCATION:One World Brewing – West\, 520 Haywood Rd\, Asheville\, North Carolina\, 28806
CATEGORIES:Asheville Area,Live Music
GEO:35.5783642;-82.5848526
X-APPLE-STRUCTURED-LOCATION;VALUE=URI;X-ADDRESS=One World Brewing – West 520 Haywood Rd Asheville North Carolina 28806;X-APPLE-RADIUS=500;X-TITLE=520 Haywood Rd:geo:-82.5848526,35.5783642
END:VEVENT
BEGIN:VEVENT
DTSTART;TZID=America/New_York:20260109T200000
DTEND;TZID=America/New_York:20260109T230000
DTSTAMP:20260425T180806
CREATED:20250711T192233Z
LAST-MODIFIED:20260116T152048Z
UID:10028206-1767988800-1767999600@livemusicasheville.com
SUMMARY:Commodore Fox Band
DESCRIPTION:
URL:https://livemusicasheville.com/calendar/commodore-fox-band-2/2026-01-09/
LOCATION:Wild Wing Cafe South
CATEGORIES:Live Music,South Asheville/Arden/Fletcher
END:VEVENT
BEGIN:VEVENT
DTSTART;TZID=America/New_York:20260109T200000
DTEND;TZID=America/New_York:20260109T230000
DTSTAMP:20260425T180806
CREATED:20260105T191931Z
LAST-MODIFIED:20260108T154101Z
UID:10030372-1767988800-1767999600@livemusicasheville.com
SUMMARY:Parker's Back | The Palm Room
DESCRIPTION:Parker’s Back takes the stage with their signature vintage vocal swing style jazz. Rich harmonies\, timeless melodies\, and toe-tapping rhythm make this the kind of set that’s made for dancers and music lovers alike. \n$10 covers both the Showroom and Palm Room music. \nFitz\, she’s the party. Wolfe\, he’s the epicure. 2 levels\, 3 vibes. 🎶 Live Music |🍸Sips & Noms 🥪 | 🕹️ Artcade | 🗝️Speakeasy | Private Events \nFitz and the Wolfe is a cocktail and music venue shaped by the spirit of improvisation\, storytelling\, and the kind of nights that feel too good to end. Here\, every night brings a new soundtrack. Jazz\, swing\, honky-tonk\, and sometimes things a little more esoteric—if it moves people\, we book it. The music fills the space like a second heartbeat\, sometimes rowdy\, sometimes intimate\, always memorable. It’s not background noise. It’s the reason you’re here. fitzandthewolfe.com
URL:https://livemusicasheville.com/calendar/parkers-back-the-palm-room/
LOCATION:Fitz and the Wolfe\, 1 Battery Park Ave\, Asheville\, NC\, 28801\, United States
CATEGORIES:Asheville Area,Live Music
GEO:35.5954515;-82.5548502
X-APPLE-STRUCTURED-LOCATION;VALUE=URI;X-ADDRESS=Fitz and the Wolfe 1 Battery Park Ave Asheville NC 28801 United States;X-APPLE-RADIUS=500;X-TITLE=1 Battery Park Ave:geo:-82.5548502,35.5954515
END:VEVENT
BEGIN:VEVENT
DTSTART;TZID=America/New_York:20260109T200000
DTEND;TZID=America/New_York:20260109T230000
DTSTAMP:20260425T180806
CREATED:20260107T162830Z
LAST-MODIFIED:20260107T162830Z
UID:10032152-1767988800-1767999600@livemusicasheville.com
SUMMARY:U.S. Christmas / Secret Shame / Golden Gnosiis
DESCRIPTION:
URL:https://livemusicasheville.com/calendar/u-s-christmas-secret-shame-golden-gnosiis/
LOCATION:Eda’s Hide-a-Way Weaverville
CATEGORIES:Asheville Area,Live Music,Weaverville
GEO:35.6970547;-82.5606851
END:VEVENT
BEGIN:VEVENT
DTSTART;TZID=America/New_York:20260109T200000
DTEND;TZID=America/New_York:20260109T230000
DTSTAMP:20260425T180806
CREATED:20260107T182625Z
LAST-MODIFIED:20260107T182625Z
UID:10032582-1767988800-1767999600@livemusicasheville.com
SUMMARY:The Get Right Band & Supatight
DESCRIPTION:
URL:https://livemusicasheville.com/calendar/the-get-right-band-supatight/
LOCATION:The Grey Eagle\, 185 Clingman Ave\, Asheville\, NC\, United States
CATEGORIES:Asheville Area,Live Music
GEO:35.5870871;-82.5643936
X-APPLE-STRUCTURED-LOCATION;VALUE=URI;X-ADDRESS=The Grey Eagle 185 Clingman Ave Asheville NC United States;X-APPLE-RADIUS=500;X-TITLE=185 Clingman Ave:geo:-82.5643936,35.5870871
END:VEVENT
BEGIN:VEVENT
DTSTART;TZID=America/New_York:20260109T200000
DTEND;TZID=America/New_York:20260109T233000
DTSTAMP:20260425T180806
CREATED:20260107T182226Z
LAST-MODIFIED:20260107T182226Z
UID:10032580-1767988800-1768001400@livemusicasheville.com
SUMMARY:Caverns Of Gold Showcase Benefit ft. Pink Eye\, Lower Peaks\, Why Why?\, John Kirby Jr & the New Seniors
DESCRIPTION:
URL:https://livemusicasheville.com/calendar/caverns-of-gold-showcase-benefit-ft-pink-eye-lower-peaks-why-why-john-kirby-jr-the-new-seniors/
LOCATION:PULP Speakeasy and Sound Lounge\, 103 Hilliard Ave\, Asheville\, NC\, 28801
CATEGORIES:Asheville Area,Live Music
GEO:35.5912524;-82.5510465
X-APPLE-STRUCTURED-LOCATION;VALUE=URI;X-ADDRESS=PULP Speakeasy and Sound Lounge 103 Hilliard Ave Asheville NC 28801;X-APPLE-RADIUS=500;X-TITLE=103 Hilliard Ave:geo:-82.5510465,35.5912524
END:VEVENT
BEGIN:VEVENT
DTSTART;TZID=America/New_York:20260109T203000
DTEND;TZID=America/New_York:20260109T233000
DTSTAMP:20260425T180806
CREATED:20260106T150549Z
LAST-MODIFIED:20260106T150549Z
UID:10030390-1767990600-1768001400@livemusicasheville.com
SUMMARY:Rockabilly Roy & the Kopy Kats
DESCRIPTION:
URL:https://livemusicasheville.com/calendar/rockabilly-roy-the-kopy-kats-2/
LOCATION:Jack Of The Wood\, 95 Patton Ave\, asheville\, NC\, United States
CATEGORIES:Asheville Area,Live Music
GEO:35.5944492;-82.5558221
X-APPLE-STRUCTURED-LOCATION;VALUE=URI;X-ADDRESS=Jack Of The Wood 95 Patton Ave asheville NC United States;X-APPLE-RADIUS=500;X-TITLE=95 Patton Ave:geo:-82.5558221,35.5944492
END:VEVENT
BEGIN:VEVENT
DTSTART;TZID=America/New_York:20260109T203000
DTEND;TZID=America/New_York:20260110T003000
DTSTAMP:20260425T180806
CREATED:20260107T161622Z
LAST-MODIFIED:20260107T161622Z
UID:10032149-1767990600-1768005000@livemusicasheville.com
SUMMARY:Convalescent / Melodramatic / Panes / Those Dogs
DESCRIPTION:
URL:https://livemusicasheville.com/calendar/convalescent-melodramatic-panes-those-dogs/
LOCATION:Static Age Records
CATEGORIES:Asheville Area,Live Music
GEO:35.5985631;-82.5538043
END:VEVENT
BEGIN:VEVENT
DTSTART;TZID=America/New_York:20260109T203000
DTEND;TZID=America/New_York:20260110T010000
DTSTAMP:20260425T180806
CREATED:20251224T142533Z
LAST-MODIFIED:20251224T142535Z
UID:10028258-1767990600-1768006800@livemusicasheville.com
SUMMARY:Elaine’s Dueling Piano Bar
DESCRIPTION:
URL:https://livemusicasheville.com/calendar/elaines-dueling-piano-bar-2/2026-01-09/
LOCATION:The Omni Grove Park Inn
CATEGORIES:Asheville Area,Live Music
GEO:35.6206376;-82.5422977
END:VEVENT
BEGIN:VEVENT
DTSTART;TZID=America/New_York:20260109T210000
DTEND;TZID=America/New_York:20260110T000000
DTSTAMP:20260425T180806
CREATED:20260107T183531Z
LAST-MODIFIED:20260107T183531Z
UID:10032586-1767992400-1768003200@livemusicasheville.com
SUMMARY:The Last Revel w/ The Wilson Springs Hotel Duo
DESCRIPTION:
URL:https://livemusicasheville.com/calendar/the-last-revel-w-the-wilson-springs-hotel-duo/
LOCATION:Asheville Music Hall\, 31 Patton Ave\, Asheville\, NC\, 28801\, United States
CATEGORIES:Asheville Area,Live Music
GEO:35.5949233;-82.5530398
X-APPLE-STRUCTURED-LOCATION;VALUE=URI;X-ADDRESS=Asheville Music Hall 31 Patton Ave Asheville NC 28801 United States;X-APPLE-RADIUS=500;X-TITLE=31 Patton Ave:geo:-82.5530398,35.5949233
END:VEVENT
BEGIN:VEVENT
DTSTART;TZID=America/New_York:20260109T210000
DTEND;TZID=America/New_York:20260110T010000
DTSTAMP:20260425T180806
CREATED:20260107T131940Z
LAST-MODIFIED:20260107T131940Z
UID:10032001-1767992400-1768006800@livemusicasheville.com
SUMMARY:Garden Apartments // Sufferin' Fools // PJ Bond
DESCRIPTION:
URL:https://livemusicasheville.com/calendar/garden-apartments-sufferin-fools-pj-bond/
LOCATION:Fleetwood’s\, 496 Haywood Rd\, Asheville\, NC\, 28806\, United States
CATEGORIES:Asheville Area,Live Music
GEO:35.578126;-82.583757
X-APPLE-STRUCTURED-LOCATION;VALUE=URI;X-ADDRESS=Fleetwood’s 496 Haywood Rd Asheville NC 28806 United States;X-APPLE-RADIUS=500;X-TITLE=496 Haywood Rd:geo:-82.583757,35.578126
END:VEVENT
BEGIN:VEVENT
DTSTART;TZID=America/New_York:20260109T210000
DTEND;TZID=America/New_York:20260110T010000
DTSTAMP:20260425T180806
CREATED:20260107T135832Z
LAST-MODIFIED:20260107T135832Z
UID:10032005-1767992400-1768006800@livemusicasheville.com
SUMMARY:Scrapmetal / Unus Mundus / Rat Babies
DESCRIPTION:
URL:https://livemusicasheville.com/calendar/scrapmetal-unus-mundus-rat-babies/
LOCATION:The Burger Bar
CATEGORIES:Asheville Area,Live Music
GEO:37.8422553;-85.9362392
END:VEVENT
BEGIN:VEVENT
DTSTART;TZID=America/New_York:20260109T210000
DTEND;TZID=America/New_York:20260110T010000
DTSTAMP:20260425T180806
CREATED:20260107T143403Z
LAST-MODIFIED:20260107T143403Z
UID:10032011-1767992400-1768006800@livemusicasheville.com
SUMMARY:Reeko: A Tribute to NOFX w/Pool Shark & Dead Kenny
DESCRIPTION:
URL:https://livemusicasheville.com/calendar/reeko-a-tribute-to-nofx-w-pool-shark-dead-kenny/
LOCATION:Third Room\, 46 Wall Street\, Asheville\, NC\, NC\, 28803\, United States
CATEGORIES:Asheville Area,Live Music
GEO:35.5943967;-82.5559625
X-APPLE-STRUCTURED-LOCATION;VALUE=URI;X-ADDRESS=Third Room 46 Wall Street Asheville NC NC 28803 United States;X-APPLE-RADIUS=500;X-TITLE=46 Wall Street:geo:-82.5559625,35.5943967
END:VEVENT
BEGIN:VEVENT
DTSTART;TZID=America/New_York:20260109T213000
DTEND;TZID=America/New_York:20260110T000000
DTSTAMP:20260425T180806
CREATED:20250818T212953Z
LAST-MODIFIED:20260106T063359Z
UID:10019686-1767994200-1768003200@livemusicasheville.com
SUMMARY:Spiro Nicolopoulos' Blues Apocalypse
DESCRIPTION:
URL:https://livemusicasheville.com/calendar/spiro-nicolopoulos-blues-apocalypse/
LOCATION:Town Pump Tavern Black Mountain
CATEGORIES:Asheville Area,Black Mountain,Live Music
GEO:35.6162458;-82.320259
END:VEVENT
BEGIN:VEVENT
DTSTART;TZID=America/New_York:20260109T220000
DTEND;TZID=America/New_York:20260110T010000
DTSTAMP:20260425T180806
CREATED:20260107T183634Z
LAST-MODIFIED:20260107T183634Z
UID:10032587-1767996000-1768006800@livemusicasheville.com
SUMMARY:Alien Funk Academy
DESCRIPTION:
URL:https://livemusicasheville.com/calendar/alien-funk-academy/
LOCATION:The One Stop
CATEGORIES:Asheville Area,Live Music
END:VEVENT
BEGIN:VEVENT
DTSTART;TZID=America/New_York:20260110T110000
DTEND;TZID=America/New_York:20260111T010000
DTSTAMP:20260425T180806
CREATED:20241225T201123Z
LAST-MODIFIED:20260422T210726Z
UID:10053594-1768042800-1768093200@livemusicasheville.com
SUMMARY:Saturday Karaoke
DESCRIPTION:Ben’s Tune Up – 11am-2pm (1st & 3rd Saturdays) \nWagworld Pub – 6-9pm (April 25) \nLookout Brewing Black Mountain – 7-10pm (April 18) \nThe Whale South Slope – 7-10pm (April 18) \nIce Bar Arden – 8pm-12am (April 25) \nLiondog Lounge Weaverville – 8pm-12am (every other week) \nT Birds Weaverville – 8-11pm \nThe Burger Bar – 8pm-1am \nThe Social East Asheville – 9pm-1am \n  \n  \nPlease verify times and KJ with the venue.
URL:https://livemusicasheville.com/calendar/saturday-karaoke/2026-01-10/
CATEGORIES:Asheville Area,Karaoke
END:VEVENT
BEGIN:VEVENT
DTSTART;TZID=America/New_York:20260110T120000
DTEND;TZID=America/New_York:20260110T140000
DTSTAMP:20260425T180806
CREATED:20251206T071330Z
LAST-MODIFIED:20251206T071331Z
UID:10023745-1768046400-1768053600@livemusicasheville.com
SUMMARY:Yala Cultural Tour w/ Adama Dembele
DESCRIPTION:Visit LEAF Global Arts every Saturday for an in-house cultural exchange with Adama Dembele. Experience the Ivory Coast with our Culture Keeper from the House of Djembe.\nYala Culture Tour includes drumming\, dancing\, and stories from Ivory Coast. Drums are provided! Families are welcome.
URL:https://livemusicasheville.com/calendar/yala-cultural-tour-w-adama-dembele-3-2/2026-01-10/
LOCATION:LEAF Global Arts\, 19 Eagle St\, Asheville\, NC\, 28801
CATEGORIES:Asheville Area,Live Music
GEO:35.5938244;-82.5505196
X-APPLE-STRUCTURED-LOCATION;VALUE=URI;X-ADDRESS=LEAF Global Arts 19 Eagle St Asheville NC 28801;X-APPLE-RADIUS=500;X-TITLE=19 Eagle St:geo:-82.5505196,35.5938244
END:VEVENT
BEGIN:VEVENT
DTSTART;TZID=America/New_York:20260110T160000
DTEND;TZID=America/New_York:20260110T190000
DTSTAMP:20260425T180806
CREATED:20260105T141015Z
LAST-MODIFIED:20260105T141016Z
UID:10030370-1768060800-1768071600@livemusicasheville.com
SUMMARY:falllift (quartet) w/ opener Elizabeth McCorvey (trio)
DESCRIPTION:Micah Cottingham and William Steven Hall met\, and began writing together\, in the fall of 2020\, while their other touring projects were placed on hold. With North Carolina Folk roots and a lust for adventure\, their music lends itself to both listening rooms and music festivals alike. “Dark and holy” harmonies compliment the dynamic instrumentation and arrangement of each song’s journey. falllift writes about finding balance\, navigating relationships\, holding space for hardness\, and the collective experience of what it means to be human in today’s world. falllift.com\n\nElizabeth McCorvey plays the fiddle/violin\, banjo\, cello and writes & sings original Americana/roots/”bluesgrass” music.\n\n$5 – $10 Cover\n\n\n\n\nThe West Asheville taproom hosts a wide variety of special and regular events\, from yoga to an electronic music & beer festival\, and everything in between. Check out our upcoming schedule: click here
URL:https://livemusicasheville.com/calendar/falllift-quartet-w-opener-elizabeth-mccorvey-trio-2/
LOCATION:One World Brewing – West\, 520 Haywood Rd\, Asheville\, North Carolina\, 28806
CATEGORIES:Asheville Area,Live Music
GEO:35.5783642;-82.5848526
X-APPLE-STRUCTURED-LOCATION;VALUE=URI;X-ADDRESS=One World Brewing – West 520 Haywood Rd Asheville North Carolina 28806;X-APPLE-RADIUS=500;X-TITLE=520 Haywood Rd:geo:-82.5848526,35.5783642
END:VEVENT
BEGIN:VEVENT
DTSTART;TZID=America/New_York:20260110T170000
DTEND;TZID=America/New_York:20260110T200000
DTSTAMP:20260425T180806
CREATED:20260107T185513Z
LAST-MODIFIED:20260107T185513Z
UID:10033067-1768064400-1768075200@livemusicasheville.com
SUMMARY:The Big Hungry
DESCRIPTION:
URL:https://livemusicasheville.com/calendar/the-big-hungry/
LOCATION:Highland Brewing
CATEGORIES:Asheville Area,Live Music
END:VEVENT
BEGIN:VEVENT
DTSTART;TZID=America/New_York:20260110T180000
DTEND;TZID=America/New_York:20260110T200000
DTSTAMP:20260425T180806
CREATED:20260106T141442Z
LAST-MODIFIED:20260106T141442Z
UID:10030388-1768068000-1768075200@livemusicasheville.com
SUMMARY:Music on the Knoll w/ Peggy’s Bygone Blues
DESCRIPTION:Join us January 10th at 6:00 PM inside the Weaverville Community Center for a warm and welcoming evening of live music featuring Peggy’s Bygone Blues\, whose vintage-inspired blues set the perfect tone for a winter night.\n\n\nGather with friends and neighbors\, enjoy the longer days ahead\, and celebrate the return of this favorite community tradition—no bundling required!\n\nMusic on the Knoll series happens at the Weaverville Community Center\, 60 Lakeshore Dr. at 6:00 pm\, see you there!
URL:https://livemusicasheville.com/calendar/music-on-the-knoll-w-peggys-bygone-blues/
LOCATION:Weaverville Community Center
CATEGORIES:Asheville Area,Live Music,Weaverville
END:VEVENT
BEGIN:VEVENT
DTSTART;TZID=America/New_York:20260110T180000
DTEND;TZID=America/New_York:20260110T210000
DTSTAMP:20260425T180806
CREATED:20250726T161716Z
LAST-MODIFIED:20251219T203049Z
UID:10008779-1768068000-1768078800@livemusicasheville.com
SUMMARY:Mr Jimmy Blues
DESCRIPTION:
URL:https://livemusicasheville.com/calendar/mr-jimmy-blues-2-2-2/2026-01-10/
LOCATION:The Asheville Club
CATEGORIES:Asheville Area,Live Music
GEO:35.5952143;-82.554524
END:VEVENT
BEGIN:VEVENT
DTSTART;TZID=America/New_York:20260110T180000
DTEND;TZID=America/New_York:20260110T210000
DTSTAMP:20260425T180806
CREATED:20250902T195756Z
LAST-MODIFIED:20260107T203704Z
UID:10020514-1768068000-1768078800@livemusicasheville.com
SUMMARY:Fee Fi PHaux Fish - Asheville's Live Phish Experience
DESCRIPTION:Fee Fi PHaux fISH is Asheville’s Phinest Live Phish Experience! Come see us!!! \nFeaturing Alex Bazemore (guitar)\, Hannah Ramsey (keys)\, Ben Falcon (drums)\, Ryan Crabtree (bass) \nNo Cover | All Ages\, Pet-friendly \n  \nFrench Broad River Brewery is more than just a place to enjoy a drink—it’s a community hub where great beer\, live music\, and good times come together. Just minutes from the Biltmore Estate & Downtown\, our taproom is a gathering spot for locals and visitors alike. We regularly host live music and entertainment in our taproom\, making French Broad River Brewery a lively hub of local activity. From bluegrass to reggae\, there’s always something happening. Check out our Events Page to see what’s coming up next!
URL:https://livemusicasheville.com/calendar/fee-fi-phaux-fish-ashevilles-live-phish-experience/
LOCATION:French Broad River Brewery\, 101 Fairview Rd\, Asheville\, NC\, United States
CATEGORIES:Asheville Area,Live Music
GEO:35.5662722;-82.5374054
X-APPLE-STRUCTURED-LOCATION;VALUE=URI;X-ADDRESS=French Broad River Brewery 101 Fairview Rd Asheville NC United States;X-APPLE-RADIUS=500;X-TITLE=101 Fairview Rd:geo:-82.5374054,35.5662722
END:VEVENT
BEGIN:VEVENT
DTSTART;TZID=America/New_York:20260110T180000
DTEND;TZID=America/New_York:20260110T230000
DTSTAMP:20260425T180806
CREATED:20250131T150536Z
LAST-MODIFIED:20251214T224624Z
UID:10007475-1768068000-1768086000@livemusicasheville.com
SUMMARY:The Depot Live Music Show
DESCRIPTION:The Original Marshall Depot washed away in the flood HELENE. Until the New Depot is up and running\, we will continue to have a live music show at the New Depot Twist Again Dance Barn at 439 Cody Road\, Marshall\, NC. A live music show featuring local bands\, dance\, cakewalk\, and fellowship. Admission is FREE\, and Donations are appreciated to help pay the light bill.
URL:https://livemusicasheville.com/calendar/the-depot-live-music-show/2026-01-10/
LOCATION:New Depot Twist Again Dance Barn\, 439 Cody Road\, Marshall\, NC
CATEGORIES:Live Music,Madison County
GEO:35.8317019;-82.6256424
X-APPLE-STRUCTURED-LOCATION;VALUE=URI;X-ADDRESS=New Depot Twist Again Dance Barn 439 Cody Road Marshall NC;X-APPLE-RADIUS=500;X-TITLE=439 Cody Road:geo:-82.6256424,35.8317019
END:VEVENT
BEGIN:VEVENT
DTSTART;TZID=America/New_York:20260110T180000
DTEND;TZID=America/New_York:20260111T010000
DTSTAMP:20260425T180806
CREATED:20260107T183956Z
LAST-MODIFIED:20260107T183956Z
UID:10032588-1768068000-1768093200@livemusicasheville.com
SUMMARY:Keith Allen & Friends\, My Gal Monday\, Mellow Swells & Julia
DESCRIPTION:
URL:https://livemusicasheville.com/calendar/keith-allen-friends-my-gal-monday-mellow-swells-julia/
LOCATION:Asheville Music Hall\, 31 Patton Ave\, Asheville\, NC\, 28801\, United States
CATEGORIES:Asheville Area,Live Music
GEO:35.5949233;-82.5530398
X-APPLE-STRUCTURED-LOCATION;VALUE=URI;X-ADDRESS=Asheville Music Hall 31 Patton Ave Asheville NC 28801 United States;X-APPLE-RADIUS=500;X-TITLE=31 Patton Ave:geo:-82.5530398,35.5949233
END:VEVENT
END:VCALENDAR