BEGIN:VCALENDAR
VERSION:2.0
PRODID:-//LiveMusicAsheville.com - ECPv6.15.20//NONSGML v1.0//EN
CALSCALE:GREGORIAN
METHOD:PUBLISH
X-ORIGINAL-URL:https://livemusicasheville.com
X-WR-CALDESC:Events for LiveMusicAsheville.com
REFRESH-INTERVAL;VALUE=DURATION:PT1H
X-Robots-Tag:noindex
X-PUBLISHED-TTL:PT1H
BEGIN:VTIMEZONE
TZID:America/New_York
BEGIN:DAYLIGHT
TZOFFSETFROM:-0500
TZOFFSETTO:-0400
TZNAME:EDT
DTSTART:20250309T070000
END:DAYLIGHT
BEGIN:STANDARD
TZOFFSETFROM:-0400
TZOFFSETTO:-0500
TZNAME:EST
DTSTART:20251102T060000
END:STANDARD
BEGIN:DAYLIGHT
TZOFFSETFROM:-0500
TZOFFSETTO:-0400
TZNAME:EDT
DTSTART:20260308T070000
END:DAYLIGHT
BEGIN:STANDARD
TZOFFSETFROM:-0400
TZOFFSETTO:-0500
TZNAME:EST
DTSTART:20261101T060000
END:STANDARD
BEGIN:DAYLIGHT
TZOFFSETFROM:-0500
TZOFFSETTO:-0400
TZNAME:EDT
DTSTART:20270314T070000
END:DAYLIGHT
BEGIN:STANDARD
TZOFFSETFROM:-0400
TZOFFSETTO:-0500
TZNAME:EST
DTSTART:20271107T060000
END:STANDARD
END:VTIMEZONE
BEGIN:VEVENT
DTSTART;TZID=America/New_York:20260405T163000
DTEND;TZID=America/New_York:20260405T201500
DTSTAMP:20260424T212834
CREATED:20260318T173349Z
LAST-MODIFIED:20260415T224759Z
UID:10054541-1775406600-1775420100@livemusicasheville.com
SUMMARY:Live Music at the Bandstand
DESCRIPTION:April Schedule: \nFri. 4/17 – BRUCE LANG BAND\, Swing\, Light Rock \nSat. 4/18 – FREEPORT JAZZ\, Smooth Jazz \nFri. 4/24 – CLAY LUNSFORD BAND\, Americana \nSat. 4/25 – KELLEY AND THE COWBOYS\, Country Western \nTo enjoy this complimentary event\, guest must have a daytime ticket\, a Biltmore Annual Pass\, or a stay at one of the estate’s splendid overnight properties. 
URL:https://livemusicasheville.com/calendar/live-music-at-the-bandstand-5/2026-04-05/
LOCATION:Antler Hill Village\, Biltmore Estate
CATEGORIES:Asheville Area,Live Music
END:VEVENT
BEGIN:VEVENT
DTSTART;TZID=America/New_York:20260405T163000
DTEND;TZID=America/New_York:20260405T230000
DTSTAMP:20260424T212834
CREATED:20260208T161244Z
LAST-MODIFIED:20260412T125251Z
UID:10056244-1775406600-1775430000@livemusicasheville.com
SUMMARY:Sunday Open Mic/Jams
DESCRIPTION:  \nBluegrass & Jam @ Zillacoah Beer Co –  4:30-7:30pm (every other Sunday) \nOpen Bluegrass Circle @ The Hound Lounge – 6-9pm (discontinued til spring) \nStory Parlor – 6-9pm (1st Sundays of the month) \nPisgah Brewing Sunday Jam 6:30-9pm \nElevated Kava Lounge – 8-11pm \n 
URL:https://livemusicasheville.com/calendar/sunday-open-mic-2-2/2026-04-05/
LOCATION:Asheville Area
CATEGORIES:Asheville Area,Black Mountain,Madison County,Open MIc/Jam,Weaverville
END:VEVENT
BEGIN:VEVENT
DTSTART;TZID=America/New_York:20260405T170000
DTEND;TZID=America/New_York:20260405T190000
DTSTAMP:20260424T212834
CREATED:20250521T122937Z
LAST-MODIFIED:20260401T111220Z
UID:10014608-1775408400-1775415600@livemusicasheville.com
SUMMARY:Singer Songwriter Sundays w/ Daniel Ullom & Emma Rast
DESCRIPTION:
URL:https://livemusicasheville.com/calendar/joe-troops-truth-machine-daniel-ullom-emma-rast/
LOCATION:Lookout Brewing Company Black Mountain
CATEGORIES:Asheville Area,Live Music
GEO:35.6193199;-82.3178787
END:VEVENT
BEGIN:VEVENT
DTSTART;TZID=America/New_York:20260405T170000
DTEND;TZID=America/New_York:20260405T200000
DTSTAMP:20260424T212834
CREATED:20260326T193838Z
LAST-MODIFIED:20260423T185157Z
UID:10052893-1775408400-1775419200@livemusicasheville.com
SUMMARY:Sunday Jazz Sessions with Mr. Jimmy (Courtyard)
DESCRIPTION:Sunday Jazz Sessions with Mr. Jimmy (Courtyard)Free – No RSVP Needed\nApril 5th is Kicking off Hotel Eve’s Sunday opening – drop in for cocktails and jazz each Sunday.\nHosted by Mr. Jimmy (Jim “Ang” Anderson)\, a longtime Chicago musician\, these sessions pay tribute to the legends in a laid-back\, open-air setting (moves indoors to the Listening Room if the weather turns).\nFind us through the gate between Virtue & Dane Wells Gallery56 N Lexington Ave · Downtown Asheville\n  \n*Reserve a table in advance\, or join us impromptu the night of the show. Reservations/advance tickets are recommended for preferred seating\, but not required. Tickets are available at the door on a first-come\, first-served basis.  Event Details and Tickets \nHotel Eve is your locally rooted\, speakeasy jazz club & cocktail bar\, hidden in the heart of Downtown Asheville. Mysteriously not a hotel…check in for spirits\, souls and jazz! We’re tucked away\, on purpose. You’ll find us behind the gate nestled between Virtue Boutique and Dane Wells Gallery at 56 N Lexington Avenue in downtown Asheville. Step through\, take a left into the courtyard\, check in for Spirits\, Souls & Jazz. We’ll be waiting on the other side. hotelevejazz.com \n 
URL:https://livemusicasheville.com/calendar/sunday-jazz-sessions-with-mr-jimmy-courtyard/2026-04-05/
LOCATION:Hotel Eve Jazz\, 56 N Lexington Avenue\, Asheville\, NC\, 28801\, United States
CATEGORIES:Asheville Area,Live Music
ATTACH;FMTTYPE=image/jpeg:https://livemusicasheville.com/wp-content/uploads/2026/03/656218829_122124713217134797_698108698520459204_n-e1774553962123.jpg
GEO:35.5967716;-82.5530826
X-APPLE-STRUCTURED-LOCATION;VALUE=URI;X-ADDRESS=Hotel Eve Jazz 56 N Lexington Avenue Asheville NC 28801 United States;X-APPLE-RADIUS=500;X-TITLE=56 N Lexington Avenue:geo:-82.5530826,35.5967716
END:VEVENT
BEGIN:VEVENT
DTSTART;TZID=America/New_York:20260405T173000
DTEND;TZID=America/New_York:20260405T193000
DTSTAMP:20260424T212834
CREATED:20250707T122847Z
LAST-MODIFIED:20260406T001057Z
UID:10017043-1775410200-1775417400@livemusicasheville.com
SUMMARY:Riyen Roots Blues
DESCRIPTION:
URL:https://livemusicasheville.com/calendar/riyen-roots-brunch-blues/
LOCATION:Turgua Brewing Fairview
CATEGORIES:Asheville Area,Fairview,Live Music
GEO:35.5129836;-82.4095217
END:VEVENT
BEGIN:VEVENT
DTSTART;TZID=America/New_York:20260405T180000
DTEND;TZID=America/New_York:20260405T210000
DTSTAMP:20260424T212834
CREATED:20260331T005139Z
LAST-MODIFIED:20260331T005141Z
UID:10053893-1775412000-1775422800@livemusicasheville.com
SUMMARY:New Dawn Starkestra: Space Bunny Apocalypse & Easter Egg Hunt
DESCRIPTION:Sunday\, April 5\, 2026 6:00 PM | $19.45 adv. Event Details and Tickets\n\nJoin us for some Easter Sunday fun with some surprises and New Dawn Starkestra.\n\nNew Dawn Starkestra is a new collaboration between four heavyweights of the Western North Carolina music scene: vocalist and songwriter Rebekah Todd\, guitarist Isaac Hadden\, bassist Quinn Sternberg\, and drummer Jeff Sipe\, a veteran of the jam and jazz worlds known for his work with Aquarium Rescue Unit and beyond. Together\, they’ve formed something that feels less like a supergroup and more like a conversation — one that’s unfolding live\, night after night.\n\nIn their short time together\, they’ve already begun turning heads at venues and festivals throughout the Southeast\, with performances that feel more like experiences than sets. There’s no spectacle here\, no posturing. Just four artists showing up\, tuning in\, and chasing whatever spark happens to catch that night.
URL:https://livemusicasheville.com/calendar/new-dawn-starkestra-space-bunny-apocalypse-easter-egg-hunt/
LOCATION:The Grey Eagle\, 185 Clingman Ave\, Asheville\, NC\, United States
CATEGORIES:Asheville Area,Live Music
GEO:35.5870871;-82.5643936
X-APPLE-STRUCTURED-LOCATION;VALUE=URI;X-ADDRESS=The Grey Eagle 185 Clingman Ave Asheville NC United States;X-APPLE-RADIUS=500;X-TITLE=185 Clingman Ave:geo:-82.5643936,35.5870871
END:VEVENT
BEGIN:VEVENT
DTSTART;TZID=America/New_York:20260405T183000
DTEND;TZID=America/New_York:20260405T210000
DTSTAMP:20260424T212834
CREATED:20250725T113745Z
LAST-MODIFIED:20260404T133106Z
UID:10007310-1775413800-1775422800@livemusicasheville.com
SUMMARY:Pisgah Sunday Jam hosted by Melissa McKinney & Friends
DESCRIPTION:Every Sunday | Bar: 2PM | Deli 4PM | Music: 6:30PM\n\nSunday. A special time with friends and musicians alike and with what has become a Sunday tradition\, Pisgah Brewing Company hosts the Pisgah Sunday Jam – an open jam every Sunday evening (with a few exceptions) on the taproom stage.\nAny and all musicians are welcome to come sit in! Some of America’s finest\, touring artists will be featured each week. Jam starts at 6:30pm and is free to the public. The Jam is hosted by rotating special guests.\n  \nFounded in 2005\, Pisgah is known for producing some of the most sought after craft ales in Western North Carolina. Pisgah Brewing Company currently operates an indoor taproom and an open air outdoor bar in the summer and fall months with live music several days a week. Check out our upcoming schedule at pisgahbrewing.com/events
URL:https://livemusicasheville.com/calendar/pisgah-sunday-jam-2-2-2-2-2/
LOCATION:Pisgah Brewing Company Black Mountain\, 2948 US-70\, Black Mountain\, NC\, 28711
CATEGORIES:Asheville Area,Black Mountain,Live Music
GEO:35.6068069;-82.3568213
X-APPLE-STRUCTURED-LOCATION;VALUE=URI;X-ADDRESS=Pisgah Brewing Company Black Mountain 2948 US-70 Black Mountain NC 28711;X-APPLE-RADIUS=500;X-TITLE=2948 US-70:geo:-82.3568213,35.6068069
END:VEVENT
BEGIN:VEVENT
DTSTART;TZID=America/New_York:20260405T190000
DTEND;TZID=America/New_York:20260405T220000
DTSTAMP:20260424T212834
CREATED:20251222T160824Z
LAST-MODIFIED:20251222T160824Z
UID:10029376-1775415600-1775426400@livemusicasheville.com
SUMMARY:Bruce Lang in The Great Hall
DESCRIPTION:
URL:https://livemusicasheville.com/calendar/bruce-lang-in-the-great-hall/2026-04-05/
LOCATION:The Omni Grove Park Inn
CATEGORIES:Asheville Area,Live Music
GEO:35.6206376;-82.5422977
END:VEVENT
BEGIN:VEVENT
DTSTART;TZID=America/New_York:20260405T190000
DTEND;TZID=America/New_York:20260405T230000
DTSTAMP:20260424T212834
CREATED:20260405T213700Z
LAST-MODIFIED:20260405T213700Z
UID:10054808-1775415600-1775430000@livemusicasheville.com
SUMMARY:Lurky Skunk / Lucky Flip / Paul Petrol / BoyGirl Rising
DESCRIPTION:
URL:https://livemusicasheville.com/calendar/lurky-skunk-lucky-flip-paul-petrol-boygirl-rising/
LOCATION:Sly Grog Lounge
CATEGORIES:Asheville Area,Live Music
GEO:35.5942606;-82.5628302
END:VEVENT
BEGIN:VEVENT
DTSTART;TZID=America/New_York:20260405T190000
DTEND;TZID=America/New_York:20260405T233000
DTSTAMP:20260424T212834
CREATED:20250322T150845Z
LAST-MODIFIED:20251214T215054Z
UID:10027462-1775415600-1775431800@livemusicasheville.com
SUMMARY:Save Our Website to Your Home Screen 📲
DESCRIPTION:As an interactive calendar\, we often add events to our calendar as we find out about them\, sometimes even from our phone while we are out supporting local live music. By adding our website\, LiveMusicAsheville.com to your home screen\, we will always be right at your fingertips. Here’s how:\n\n\n\n\niPhone (using Safari):\n\n\n\nOpen Safari and navigate to the website: you want to add as a shortcut. \n\n\n\n\n\n\n\n\nTap the Share button: (a square with an arrow pointing out of the top). \n\n\n\n\n\n\n\n\nScroll down and tap “Add to Home Screen” . \n\n\n\n\n\n\n\n\nChoose a name for the shortcut: and tap “Add”. \n\n\n\n\n\n\n\n\nThe shortcut will appear on your home screen as an icon. \n\n\n\n\n\n\n\n\n\n\n\nAndroid (using Chrome or other browsers):\n\n\n\nOpen Chrome (or your preferred browser) and navigate to the website: you want to add.\nTap the three-dot menu icon: (usually in the top right corner).\nSelect “Add to Home Screen” .\nCustomize the name of the shortcut: if desired\, and then tap “Add”.\nThe shortcut will appear on your home screen as an icon. 
URL:https://livemusicasheville.com/calendar/add-our-website-to-your-home-screen/2026-04-05/
LOCATION:NC
CATEGORIES:Asheville Area
END:VEVENT
BEGIN:VEVENT
DTSTART;TZID=America/New_York:20260405T200000
DTEND;TZID=America/New_York:20260405T230000
DTSTAMP:20260424T212834
CREATED:20260401T160017Z
LAST-MODIFIED:20260401T160017Z
UID:10054516-1775419200-1775430000@livemusicasheville.com
SUMMARY:Juvenile with The 400 Degreez Band & Special Guests
DESCRIPTION:
URL:https://livemusicasheville.com/calendar/juvenile-with-the-400-degreez-band-special-guests/
LOCATION:The Orange Peel
CATEGORIES:Asheville Area,Live Music
GEO:35.5914061;-82.5510137
END:VEVENT
BEGIN:VEVENT
DTSTART;TZID=America/New_York:20260405T200000
DTEND;TZID=America/New_York:20260405T230000
DTSTAMP:20260424T212834
CREATED:20260401T173724Z
LAST-MODIFIED:20260401T173724Z
UID:10054530-1775419200-1775430000@livemusicasheville.com
SUMMARY:In Color w/ Eden Joel
DESCRIPTION:
URL:https://livemusicasheville.com/calendar/in-color-w-eden-joel/
LOCATION:Asheville Music Hall\, 31 Patton Ave\, Asheville\, NC\, 28801\, United States
CATEGORIES:Asheville Area,Live Music
GEO:35.5949233;-82.5530398
X-APPLE-STRUCTURED-LOCATION;VALUE=URI;X-ADDRESS=Asheville Music Hall 31 Patton Ave Asheville NC 28801 United States;X-APPLE-RADIUS=500;X-TITLE=31 Patton Ave:geo:-82.5530398,35.5949233
END:VEVENT
BEGIN:VEVENT
DTSTART;TZID=America/New_York:20260405T200000
DTEND;TZID=America/New_York:20260406T020000
DTSTAMP:20260424T212834
CREATED:20260208T155221Z
LAST-MODIFIED:20260208T155221Z
UID:10043616-1775419200-1775440800@livemusicasheville.com
SUMMARY:All Request Piano Show
DESCRIPTION:
URL:https://livemusicasheville.com/calendar/all-request-piano-show-2/2026-04-05/
LOCATION:Off the Wagon
CATEGORIES:Asheville Area,Live Music
GEO:41.4302231;-81.3909542
END:VEVENT
BEGIN:VEVENT
DTSTART;TZID=America/New_York:20260405T203000
DTEND;TZID=America/New_York:20260405T233000
DTSTAMP:20260424T212834
CREATED:20260401T144512Z
LAST-MODIFIED:20260401T144512Z
UID:10054492-1775421000-1775431800@livemusicasheville.com
SUMMARY:Expensive $hit / Cooling Prongs
DESCRIPTION:
URL:https://livemusicasheville.com/calendar/expensive-hit-cooling-prongs/
LOCATION:Static Age Records
CATEGORIES:Asheville Area,DJ/Electronic,Live Music
GEO:35.5985631;-82.5538043
END:VEVENT
BEGIN:VEVENT
DTSTART;TZID=America/New_York:20260405T210000
DTEND;TZID=America/New_York:20260406T000000
DTSTAMP:20260424T212834
CREATED:20260104T055429Z
LAST-MODIFIED:20260107T184413Z
UID:10032602-1775422800-1775433600@livemusicasheville.com
SUMMARY:Shakedown Sunday
DESCRIPTION:
URL:https://livemusicasheville.com/calendar/shakedown-sunday-2-2-2-2-2/2026-04-05/
LOCATION:The One Stop
CATEGORIES:Asheville Area,Live Music,Open MIc/Jam
END:VEVENT
BEGIN:VEVENT
DTSTART;VALUE=DATE:20260406
DTEND;VALUE=DATE:20260408
DTSTAMP:20260424T212834
CREATED:20260115T155240Z
LAST-MODIFIED:20260423T154010Z
UID:10057541-1775444400-1775530799@livemusicasheville.com
SUMMARY:Love What We Do .......... Buy Us A Beer!
DESCRIPTION:We hope you enjoy our guide to the Asheville area’s dynamic music scene. \nIf we somehow help to brighten up your day\, please consider a small donation to help support our efforts in providing the area’s most reliable local live music calendar. \nVenmo: click here  \nLast 4 digits – 3383 \nPayPal: click here \n 
URL:https://livemusicasheville.com/calendar/greetings-fellow-music-lovers-2-2/2026-04-06/
LOCATION:Asheville Area
CATEGORIES:Asheville Area
ATTACH;FMTTYPE=image/jpeg:https://livemusicasheville.com/wp-content/uploads/2019/01/alcohol-alcoholic-beverages-beer-1624263-e1776958791382.jpg
END:VEVENT
BEGIN:VEVENT
DTSTART;TZID=America/New_York:20260406T170000
DTEND;TZID=America/New_York:20260406T223000
DTSTAMP:20260424T212834
CREATED:20251216T174756Z
LAST-MODIFIED:20260321T173633Z
UID:10030210-1775494800-1775514600@livemusicasheville.com
SUMMARY:Monday Open Mics/Jams
DESCRIPTION:Musicians In The Round @Urban Orchard South Slope – 6-8:30pm (5:30 sign up) (exclude 2/2) \nOld Time Jam @Dirty Jack’s – 5:30-9pm \nJazz/Blues Jam @ Zillacoah Brewing – 6-8pm \nBlue Mountain Pizza Weaverville – 6-9pm (last Thursday of the month excluding December) \nMarshall Bluegrass Jam @ Mals’ Bar – 6:30-9pm \nHaywood Country Club – 7-10:30pm  \nOne World Brewing Downtown – 7:30-10:30pm \n  \n  \n\n 
URL:https://livemusicasheville.com/calendar/monday-open-mics-jams-2-2/2026-04-06/
LOCATION:Asheville Area
CATEGORIES:Asheville Area,Open MIc/Jam
END:VEVENT
BEGIN:VEVENT
DTSTART;TZID=America/New_York:20260406T180000
DTEND;TZID=America/New_York:20260406T200000
DTSTAMP:20260424T212834
CREATED:20251209T024030Z
LAST-MODIFIED:20260321T173441Z
UID:10050831-1775498400-1775505600@livemusicasheville.com
SUMMARY:Jazz/Blues Jam hosted by Paul Helou
DESCRIPTION:
URL:https://livemusicasheville.com/calendar/jazz-night-2/2026-04-06/
LOCATION:Zillicoah Beer Company
CATEGORIES:Asheville Area,Live Music
END:VEVENT
BEGIN:VEVENT
DTSTART;TZID=America/New_York:20260406T180000
DTEND;TZID=America/New_York:20260407T020000
DTSTAMP:20260424T212834
CREATED:20241226T132023Z
LAST-MODIFIED:20260308T081314Z
UID:10027628-1775498400-1775527200@livemusicasheville.com
SUMMARY:Monday Weekly DJs
DESCRIPTION:Although we are primarily a Live Music Calendar\, we often come across Electronic & DJ events in the area and list them for you as we find out about them. Please verify the DJ\, times and cover charges with the venue. \nAntidote – 6-9pm \nCoffee Art Music Type Place (CAMP) – 7-9pm (swing) \nLazy Diamond- 10pm-2am \nCheck with the venue on tonight’s djs and cover charges.
URL:https://livemusicasheville.com/calendar/monday-djs/2026-04-06/
LOCATION:Asheville Area
CATEGORIES:Asheville Area,DJ/Electronic
END:VEVENT
BEGIN:VEVENT
DTSTART;TZID=America/New_York:20260406T190000
DTEND;TZID=America/New_York:20260406T210000
DTSTAMP:20260424T212834
CREATED:20250702T121700Z
LAST-MODIFIED:20260304T145213Z
UID:10028521-1775502000-1775509200@livemusicasheville.com
SUMMARY:Blues with Mr Jimmy & Friends
DESCRIPTION:
URL:https://livemusicasheville.com/calendar/blues-with-mr-jimmy-friends-2/2026-04-06/
LOCATION:The Joint Next Door Fairview
CATEGORIES:Asheville Area,Fairview,Live Music
GEO:35.5251372;-82.424797
END:VEVENT
BEGIN:VEVENT
DTSTART;TZID=America/New_York:20260406T190000
DTEND;TZID=America/New_York:20260406T210000
DTSTAMP:20260424T212834
CREATED:20260126T214751Z
LAST-MODIFIED:20260418T133814Z
UID:10029740-1775502000-1775509200@livemusicasheville.com
SUMMARY:Music Mondays with host Ashley Heath
DESCRIPTION:  \n\n\n\n\n\n\n\n\n\n\n\n\n\n\n\n\n\n\n\n\n\n\n\n\nCheck with the venue on Ashley’s future guests.
URL:https://livemusicasheville.com/calendar/ashley-heath-mondays-2-2-2-2-2-2-2/2026-04-06/
LOCATION:Town Pump Tavern Black Mountain
CATEGORIES:Asheville Area,Black Mountain,Live Music
GEO:35.6162458;-82.320259
END:VEVENT
BEGIN:VEVENT
DTSTART;TZID=America/New_York:20260406T190000
DTEND;TZID=America/New_York:20260406T220000
DTSTAMP:20260424T212834
CREATED:20250424T122951Z
LAST-MODIFIED:20260401T124410Z
UID:10013330-1775502000-1775512800@livemusicasheville.com
SUMMARY:Free Jazz Monday w/ Quinn Sternberg's Mind Beach
DESCRIPTION:Quinn Sternberg – Bass\nJacob Rodriguez – Saxophone\nJoe Enright – Drums\nAlex Taub – Piano\n\n\n\n“Simply put\, Little Jumbo should be at the top of your list of places for cocktails in Asheville. The drinks and service are both top-notch\, and the atmosphere is reminiscent of a relaxed speakeasy\, without a trace of the pretention that can sometimes be found in such places.” ~ The SmokyMountains.com Local Expert Team  littlejumbobar.com
URL:https://livemusicasheville.com/calendar/free-jazz-monday-w-brian-felix-organ-trio-level-up-2lp-release-party/
LOCATION:Little Jumbo\, 241 Broadway St\, Asheville\, NC\, 28801
CATEGORIES:Asheville Area,Live Music
GEO:35.6024336;-82.5568463
X-APPLE-STRUCTURED-LOCATION;VALUE=URI;X-ADDRESS=Little Jumbo 241 Broadway St Asheville NC 28801;X-APPLE-RADIUS=500;X-TITLE=241 Broadway St:geo:-82.5568463,35.6024336
END:VEVENT
BEGIN:VEVENT
DTSTART;TZID=America/New_York:20260406T190000
DTEND;TZID=America/New_York:20260406T220000
DTSTAMP:20260424T212834
CREATED:20260223T193302Z
LAST-MODIFIED:20260223T193303Z
UID:10026825-1775502000-1775512800@livemusicasheville.com
SUMMARY:Asheville Monday Night Contra Dance
DESCRIPTION:
URL:https://livemusicasheville.com/calendar/asheville-monday-night-contra-dance-2-2-2/2026-04-06/
LOCATION:The Ivy Building at AB Tech
CATEGORIES:Asheville Area,Live Music
GEO:35.6104607;-82.5676894
END:VEVENT
BEGIN:VEVENT
DTSTART;TZID=America/New_York:20260406T190000
DTEND;TZID=America/New_York:20260407T020000
DTSTAMP:20260424T212834
CREATED:20241226T131635Z
LAST-MODIFIED:20260309T201711Z
UID:10024699-1775502000-1775527200@livemusicasheville.com
SUMMARY:Monday Karaoke
DESCRIPTION:The Social East Asheville – 7-11pm \nBen’s TuneUp – 7-10pm \nEda’a Hideaway Weaverville – 7-10pm \nIce Bar Arden – 8-11pm (March 2) \n27 Club – 9pm-2am \nFleetwood’s – 9pm-12am (7pm start on 2/2) \nDaytrip – 9pm – (verify with the venue) \nThe Double Crown – Country Karaoke- 10pm-2am \nBe sure to check times and KJ with the venue. \n 
URL:https://livemusicasheville.com/calendar/monday-karaoke/2026-04-06/
LOCATION:NC
CATEGORIES:Asheville Area,Karaoke
END:VEVENT
BEGIN:VEVENT
DTSTART;TZID=America/New_York:20260406T200000
DTEND;TZID=America/New_York:20260406T220000
DTSTAMP:20260424T212834
CREATED:20251029T155436Z
LAST-MODIFIED:20260331T122039Z
UID:10023244-1775505600-1775512800@livemusicasheville.com
SUMMARY:Celtic/Irish/Folk w/ Double In Town
DESCRIPTION:Celtic/Irish/Folk w/ Craig Kellberg & Kristina Miller
URL:https://livemusicasheville.com/calendar/celtic-irish-folk-w-double-in-town/
LOCATION:5 Walnut Wine Bar
CATEGORIES:Asheville Area,Live Music
GEO:35.596654;-82.5525389
END:VEVENT
BEGIN:VEVENT
DTSTART;TZID=America/New_York:20260406T200000
DTEND;TZID=America/New_York:20260406T230000
DTSTAMP:20260424T212834
CREATED:20260401T161007Z
LAST-MODIFIED:20260401T161007Z
UID:10054522-1775505600-1775516400@livemusicasheville.com
SUMMARY:John Cowan Trio
DESCRIPTION:
URL:https://livemusicasheville.com/calendar/john-cowan-trio/
LOCATION:The Grey Eagle\, 185 Clingman Ave\, Asheville\, NC\, United States
CATEGORIES:Asheville Area,Live Music
GEO:35.5870871;-82.5643936
X-APPLE-STRUCTURED-LOCATION;VALUE=URI;X-ADDRESS=The Grey Eagle 185 Clingman Ave Asheville NC United States;X-APPLE-RADIUS=500;X-TITLE=185 Clingman Ave:geo:-82.5643936,35.5870871
END:VEVENT
BEGIN:VEVENT
DTSTART;TZID=America/New_York:20260406T233000
DTEND;TZID=America/New_York:20260407T000000
DTSTAMP:20260424T212834
CREATED:20260209T161352Z
LAST-MODIFIED:20260406T221553Z
UID:10044382-1775518200-1775520000@livemusicasheville.com
SUMMARY:Live Band Honky Tonk Karaoke w/ Take The Wheel
DESCRIPTION:
URL:https://livemusicasheville.com/calendar/live-band-honky-tonk-karaoke-w-take-the-wheel-4/
LOCATION:Shakey’s Dive Bar
CATEGORIES:Asheville Area,Karaoke,Live Music
END:VEVENT
BEGIN:VEVENT
DTSTART;VALUE=DATE:20260407
DTEND;VALUE=DATE:20260409
DTSTAMP:20260424T212834
CREATED:20260127T162323Z
LAST-MODIFIED:20260420T011548Z
UID:10057853-1775530800-1775617199@livemusicasheville.com
SUMMARY:COMING SATURDAY April 25 | Pisgah Palooza 2026 - (21 Years of Pisgah Brewing)
DESCRIPTION:Saturday April 25\, 2026 6:00 PM | Doors Open: 5:00 PM | Advance Tickets are on sale now – 2 for $21! Event Details and Tickets\nJoin us on April 25th to celebrate 21 years of Pisgah Brewing with Sqwerv\, Airshow and Pocketful of Gold.\n\nDenver’s electrifying Indie-Jam Band\, Sqwerv is a nationally touring quartet that brings elements of classic rock\, psychedelic music\, funk\, and jam fusion for an experience like no other. The band explores rich sonic realms with a depth of improvisational virtuosity. Their passion for well crafted songs and blended harmonies set this group apart in their scene. The band released 2 full length studio albums in 2024\, ‘Mirage’ and ‘Hors d’Oeuvres’ and has a new full length record on the way in 2025. They have opened for acts such as George Clinton and Parliament Funkadelic\, Pigeons Playing Ping Pong\, Eggy\, Big Something\, Spafford and many more.\n–\nAirshow is a high-flying\, Nashville-based jam band featuring a unique contrast of familiar acoustic and mind-bending electric sounds that transports listeners from a campfire picking-party to the outer reaches of the multiverse. Formed by longtime friends Cody Chelius (Mandolin / Vocals) and Steve Gallagher (Guitar / Vocals)\, the group’s lineup was completed with the addition of Bill Baker (Bass/ Vocals) and John Rodrigue (Drums/ Vocals) in 2016. While each member has different musical influences\, it is their shared passion for exploring uncharted sonic territories that has propelled their ascension to the top of Nashville’s jamband scene— and they won’t be landing anytime soon.\n–\nPocketful of Gold\, Asheville’s newest Led Zeppelin Experience\, makes their debut on Pisgah’s Outdoor Stage! Featuring Hannah Ramsey\, Alex Bazemore\, Jackson Chisholm\, and Zach Jones\, these frizzy-haired folk bring their love of Led Zeppelin together to offer a musical experience that both honors their iconic sound and showcases the inspiration that it’s had on each member’s personal musicianship.\n  \nFounded in 2005\, Pisgah is known for producing some of the most sought after craft ales in Western North Carolina. Pisgah Brewing Company currently operates the new indoor taproom & deli\, with live music several days a week\, plus an open air outdoor bar in the summer and fall months. Check out our upcoming schedule at pisgahbrewing.com/events
URL:https://livemusicasheville.com/calendar/pisgah-palooza-2026/2026-04-07/
LOCATION:Pisgah Brewing Company Black Mountain\, 2948 US-70\, Black Mountain\, NC\, 28711
CATEGORIES:Asheville Area,Black Mountain,Live Music
ATTACH;FMTTYPE=image/jpeg:https://livemusicasheville.com/wp-content/uploads/2026/01/617704239_1358962522924587_2721723407800321272_n-e1769530924423.jpg
GEO:35.6068069;-82.3568213
X-APPLE-STRUCTURED-LOCATION;VALUE=URI;X-ADDRESS=Pisgah Brewing Company Black Mountain 2948 US-70 Black Mountain NC 28711;X-APPLE-RADIUS=500;X-TITLE=2948 US-70:geo:-82.3568213,35.6068069
END:VEVENT
BEGIN:VEVENT
DTSTART;TZID=America/New_York:20260407T153000
DTEND;TZID=America/New_York:20260407T183000
DTSTAMP:20260424T212834
CREATED:20260406T170531Z
LAST-MODIFIED:20260406T170531Z
UID:10054816-1775575800-1775586600@livemusicasheville.com
SUMMARY:Live Music at The Market
DESCRIPTION:Every Tuesday afternoon\, enjoy live music while stocking up on fresh produce and goodies from local favorites.
URL:https://livemusicasheville.com/calendar/live-music-at-the-market/2026-04-07/
LOCATION:West Asheville Tailgate Market.\, 718 Haywood Rd\, Asheville\, NC\, United States
CATEGORIES:Asheville Area,Live Music
ATTACH;FMTTYPE=image/jpeg:https://livemusicasheville.com/wp-content/uploads/2026/04/658860598_18577196326005885_7368238720050299296_n-e1775495083903.jpg
GEO:35.5770686;-82.5923882
X-APPLE-STRUCTURED-LOCATION;VALUE=URI;X-ADDRESS=West Asheville Tailgate Market. 718 Haywood Rd Asheville NC United States;X-APPLE-RADIUS=500;X-TITLE=718 Haywood Rd:geo:-82.5923882,35.5770686
END:VEVENT
BEGIN:VEVENT
DTSTART;TZID=America/New_York:20260407T153000
DTEND;TZID=America/New_York:20260407T233000
DTSTAMP:20260424T212834
CREATED:20241226T154009Z
LAST-MODIFIED:20260421T161506Z
UID:10027679-1775575800-1775604600@livemusicasheville.com
SUMMARY:Tuesday Open Mics/Jams
DESCRIPTION:Irish Session @ Diatribe Brewing – 4-6pm \nModerate Old Time Jam @ Cork & Keg – 5-6:30pm (1st & 3rd Tuesdays) \nNoble Cider – 5-8pm \nAcoustic Jam @ Turgua Brewing Fairview – 5:30-7pm (1st Tuesday-Old Time\, 2nd Tuesday-Irish Session\, 3rd Tuesday-Americana\, 4th Tuesday-Gypsy Jazz) (December 30-Irish Session) \nOpen Mic with Mike & Pat @ Sweeten Creek Brewing – 6-8:30pm (open bluegrass jam Feb 10) \nBluegrass Jam with Alex Bazemore @ Eda’s Hideaway Weaverville – 6:30-10pm \nScratch Ankle Fillin’ Station Candler – 7-9pm \nBeans & Tunes Old Time Jam w/ Banjo Mitch @Mals Bar Marshall – 7-9pm \nMudpuppies – 7-10pm \nEarly Tuesday Jam @ The One Stop – 7-10pm  \nOpen Mic w/Hamza @ The Social East Asheville – 7-11pm \nThe Open Jam with The Lactones @ Sovereign Kava – 8-11pm  \nWeaverville Open Mic @ Vintage Kava Weaverville – 9-11:30pm \n\n 
URL:https://livemusicasheville.com/calendar/tuesday-open-mics-jams/2026-04-07/
LOCATION:Asheville Area
CATEGORIES:Asheville Area,Black Mountain,Fairview,Open MIc/Jam,Weaverville
ATTACH;FMTTYPE=image/jpeg:https://livemusicasheville.com/wp-content/uploads/2024/12/IMG_9400-e1743027161179.jpeg
END:VEVENT
END:VCALENDAR