BEGIN:VCALENDAR
VERSION:2.0
PRODID:-//LiveMusicAsheville.com - ECPv6.15.20//NONSGML v1.0//EN
CALSCALE:GREGORIAN
METHOD:PUBLISH
X-WR-CALNAME:LiveMusicAsheville.com
X-ORIGINAL-URL:https://livemusicasheville.com
X-WR-CALDESC:Events for LiveMusicAsheville.com
REFRESH-INTERVAL;VALUE=DURATION:PT1H
X-Robots-Tag:noindex
X-PUBLISHED-TTL:PT1H
BEGIN:VTIMEZONE
TZID:America/New_York
BEGIN:DAYLIGHT
TZOFFSETFROM:-0500
TZOFFSETTO:-0400
TZNAME:EDT
DTSTART:20250309T070000
END:DAYLIGHT
BEGIN:STANDARD
TZOFFSETFROM:-0400
TZOFFSETTO:-0500
TZNAME:EST
DTSTART:20251102T060000
END:STANDARD
BEGIN:DAYLIGHT
TZOFFSETFROM:-0500
TZOFFSETTO:-0400
TZNAME:EDT
DTSTART:20260308T070000
END:DAYLIGHT
BEGIN:STANDARD
TZOFFSETFROM:-0400
TZOFFSETTO:-0500
TZNAME:EST
DTSTART:20261101T060000
END:STANDARD
BEGIN:DAYLIGHT
TZOFFSETFROM:-0500
TZOFFSETTO:-0400
TZNAME:EDT
DTSTART:20270314T070000
END:DAYLIGHT
BEGIN:STANDARD
TZOFFSETFROM:-0400
TZOFFSETTO:-0500
TZNAME:EST
DTSTART:20271107T060000
END:STANDARD
END:VTIMEZONE
BEGIN:VEVENT
DTSTART;TZID=America/New_York:20260318T173000
DTEND;TZID=America/New_York:20260318T193000
DTSTAMP:20260424T230522
CREATED:20251231T135204Z
LAST-MODIFIED:20260204T195847Z
UID:10042682-1773855000-1773862200@livemusicasheville.com
SUMMARY:The Candleers
DESCRIPTION:weather dependent
URL:https://livemusicasheville.com/calendar/the-candleers-4-2/2026-03-18/
LOCATION:Eluvium Brewing Company Weaverville
CATEGORIES:Asheville Area,Live Music,Weaverville
END:VEVENT
BEGIN:VEVENT
DTSTART;TZID=America/New_York:20260318T180000
DTEND;TZID=America/New_York:20260318T200000
DTSTAMP:20260424T230522
CREATED:20250602T201723Z
LAST-MODIFIED:20260114T215511Z
UID:10036407-1773856800-1773864000@livemusicasheville.com
SUMMARY:Guitar & Vocal Jazz w/ Linda Mitchell
DESCRIPTION:
URL:https://livemusicasheville.com/calendar/guitar-vocal-jazz-w-linda-mitchell/2026-03-18/
LOCATION:The Bush Farmhouse Black Mountain
CATEGORIES:Asheville Area,Black Mountain,Live Music
GEO:35.6171865;-82.3170606
END:VEVENT
BEGIN:VEVENT
DTSTART;TZID=America/New_York:20260318T180000
DTEND;TZID=America/New_York:20260318T200000
DTSTAMP:20260424T230522
CREATED:20260107T185729Z
LAST-MODIFIED:20260401T151556Z
UID:10023698-1773856800-1773864000@livemusicasheville.com
SUMMARY:Well Crafted Music Series with Matt Smith
DESCRIPTION:  \n4/1- Amanda Anne Platt\n4/8- A. Lee Edwards w Zack Page\n4/15- Datrian Johnson w Duane Simpson\, Tony Black and Mike Rhodes\n4/22- Silas Hamilton w Zach Smith and Evan Martin\n4/29- Lyndsay Pruett w Rick Cooper and Zach Smith \nCheck with the venue for Matt’s upcoming guest(s).
URL:https://livemusicasheville.com/calendar/well-crafted-wednesday-with-matt-smith-2-2-2-2-2-2/2026-03-18/
LOCATION:Highland Brewing
CATEGORIES:Asheville Area,Live Music
END:VEVENT
BEGIN:VEVENT
DTSTART;TZID=America/New_York:20260318T180000
DTEND;TZID=America/New_York:20260318T200000
DTSTAMP:20260424T230522
CREATED:20260223T171144Z
LAST-MODIFIED:20260223T171144Z
UID:10046240-1773856800-1773864000@livemusicasheville.com
SUMMARY:The JackTown Ramblers
DESCRIPTION:The JackTown Ramblers\, hailing proudly from Morganton\, NC\, embody the true spirit of bluegrass music with their infectious energy and deep-rooted passion. Consisting of four musicians with a deep history in the music\, they have carved out a name for themselves as stalwarts of the local music scene\, captivating audiences with their distinctive blend of swingy bluegrass and traditional mountain melodies. \nWhenever on stage\, The JackTown Ramblers exude a genuine enthusiasm for their music\, infusing every note with heartfelt sincerity and joy. Their live performances are characterized by lively instrumentation\, tight harmonies\, and a palpable sense of camaraderie that invites audiences to join in the celebration and fun. \n  \nFounded in 2005\, Pisgah is known for producing some of the most sought after craft ales in Western North Carolina. Pisgah Brewing Company currently operates the new indoor taproom & deli\, with live music several days a week\, plus an open air outdoor bar in the summer and fall months. Check out our upcoming schedule at pisgahbrewing.com/events
URL:https://livemusicasheville.com/calendar/the-jacktown-ramblers-2/
LOCATION:Pisgah Brewing Company Black Mountain\, 2948 US-70\, Black Mountain\, NC\, 28711
CATEGORIES:Asheville Area,Black Mountain,Live Music
GEO:35.6068069;-82.3568213
X-APPLE-STRUCTURED-LOCATION;VALUE=URI;X-ADDRESS=Pisgah Brewing Company Black Mountain 2948 US-70 Black Mountain NC 28711;X-APPLE-RADIUS=500;X-TITLE=2948 US-70:geo:-82.3568213,35.6068069
END:VEVENT
BEGIN:VEVENT
DTSTART;TZID=America/New_York:20260318T180000
DTEND;TZID=America/New_York:20260318T210000
DTSTAMP:20260424T230522
CREATED:20260114T160602Z
LAST-MODIFIED:20260114T160604Z
UID:10022411-1773856800-1773867600@livemusicasheville.com
SUMMARY:Country Line Dance Lessons and Dancing
DESCRIPTION:
URL:https://livemusicasheville.com/calendar/country-line-dance-lessons-and-dancing-2/2026-03-18/
LOCATION:Eda’s Hide-a-Way Weaverville
CATEGORIES:Asheville Area,DJ/Electronic,Weaverville
GEO:35.6970547;-82.5606851
END:VEVENT
BEGIN:VEVENT
DTSTART;TZID=America/New_York:20260318T190000
DTEND;TZID=America/New_York:20260318T210000
DTSTAMP:20260424T230522
CREATED:20260204T175641Z
LAST-MODIFIED:20260204T175642Z
UID:10030092-1773860400-1773867600@livemusicasheville.com
SUMMARY:Bam-A Lam with Jason Krekel & Craig Kellberg
DESCRIPTION:
URL:https://livemusicasheville.com/calendar/bam-a-lam-with-jason-krekel-craig-kellberg-2-2-2-2-2-2/2026-03-18/
LOCATION:5 Walnut Wine Bar
CATEGORIES:Asheville Area,Live Music
GEO:35.596654;-82.5525389
END:VEVENT
BEGIN:VEVENT
DTSTART;TZID=America/New_York:20260318T190000
DTEND;TZID=America/New_York:20260318T210000
DTSTAMP:20260424T230522
CREATED:20260211T120425Z
LAST-MODIFIED:20260311T113614Z
UID:10044399-1773860400-1773867600@livemusicasheville.com
SUMMARY:Jazz Showcase with Dr. Bill Bares & UNCA Songwriters Night
DESCRIPTION:
URL:https://livemusicasheville.com/calendar/jazz-showcase-with-dr-bill-bares/
LOCATION:White Horse at The Monte Vista Black Mountain
CATEGORIES:Asheville Area,Black Mountain,Live Music
END:VEVENT
BEGIN:VEVENT
DTSTART;TZID=America/New_York:20260318T190000
DTEND;TZID=America/New_York:20260318T220000
DTSTAMP:20260424T230522
CREATED:20250507T110630Z
LAST-MODIFIED:20260311T130348Z
UID:10013857-1773860400-1773871200@livemusicasheville.com
SUMMARY:Raphael Graves duo
DESCRIPTION:
URL:https://livemusicasheville.com/calendar/friday-music-series-w-raphael-graves-christopher-everett/
LOCATION:The Joint Next Door Fairview
CATEGORIES:Asheville Area,Fairview,Live Music
GEO:35.5251372;-82.424797
END:VEVENT
BEGIN:VEVENT
DTSTART;TZID=America/New_York:20260318T190000
DTEND;TZID=America/New_York:20260318T220000
DTSTAMP:20260424T230522
CREATED:20250902T235040Z
LAST-MODIFIED:20260219T020732Z
UID:10037187-1773860400-1773871200@livemusicasheville.com
SUMMARY:Swing Asheville Dance and Lesson
DESCRIPTION:We have moved our Wednesday night location to Coffee Art Music type Place (CAMP) at 1 Kenilworth Knolls #1\, Asheville\, NC 28805!!!\nJoin us for our weekly dance series Wednesday night at Coffee Art Music type Place!\n\n\n\nA lesson is included with your $10 entry. ($5 for students with i.d.)
URL:https://livemusicasheville.com/calendar/swing-asheville-dance-and-lesson-2-2-3/2026-03-18/
LOCATION:Coffee Art Music type Place\, 1 Kenilworth Knolls Suite 1\, Asheville\, NC\,
CATEGORIES:Asheville Area,DJ/Electronic
GEO:35.5895785;-82.5285828
X-APPLE-STRUCTURED-LOCATION;VALUE=URI;X-ADDRESS=Coffee Art Music type Place 1 Kenilworth Knolls Suite 1 Asheville NC;X-APPLE-RADIUS=500;X-TITLE=1 Kenilworth Knolls Suite 1\, Asheville\, NC\,:geo:-82.5285828,35.5895785
END:VEVENT
BEGIN:VEVENT
DTSTART;TZID=America/New_York:20260318T190000
DTEND;TZID=America/New_York:20260318T220000
DTSTAMP:20260424T230522
CREATED:20251222T160644Z
LAST-MODIFIED:20251222T160644Z
UID:10029238-1773860400-1773871200@livemusicasheville.com
SUMMARY:The B's Trio in The Great Hall
DESCRIPTION:
URL:https://livemusicasheville.com/calendar/the-bs-trio-in-the-great-hall-2/2026-03-18/
LOCATION:The Omni Grove Park Inn
CATEGORIES:Asheville Area,Live Music
GEO:35.6206376;-82.5422977
END:VEVENT
BEGIN:VEVENT
DTSTART;TZID=America/New_York:20260318T190000
DTEND;TZID=America/New_York:20260318T220000
DTSTAMP:20260424T230522
CREATED:20260104T213202Z
LAST-MODIFIED:20260316T122316Z
UID:10030193-1773860400-1773871200@livemusicasheville.com
SUMMARY:Danny Iannucci Trio
DESCRIPTION:Danny Iannucci is a professional bassist known for his deep groove\, sharp instincts\, and genre-bending versatility. Equally at home on upright and electric bass\, he brings a bold musical voice to every stage he steps on. Based in Asheville\, North Carolina\, Danny earned his Bachelor’s degree in Music from Western Carolina University in 2010\, laying a strong foundation in jazz and classical traditions.\n\nA full-time freelance musician\, Danny moves fluidly across styles—jazz\, funk\, hip-hop\, soul\, R&B\, classical\, and blues—infusing each performance with precision\, feel\, and fearless creativity. Whether holding down the low end in a smoky jazz trio\, laying down fat grooves in a soul band\, or navigating the dynamic shifts of a musical theatre pit\, his adaptability and depth make him an in-demand collaborator across the Southeast and beyond.\nDanny doesn’t just play the bass—he listens\, he responds\, and he elevates the entire ensemble.\n\n$10 at the door (all ticket proceeds are 100% passed to the band\, backed by a living wage guarantee from Hotel Eve) \n*Reserve a table in advance\, or join us impromptu the night of the show. Reservations/advance tickets are recommended for preferred seating\, but not required. Tickets are available at the door on a first-come\, first-served basis.  Event Details and Tickets \nHotel Eve is your locally rooted\, speakeasy jazz club & cocktail bar\, hidden in the heart of Downtown Asheville. Mysteriously not a hotel…check in for spirits\, souls and jazz! We’re tucked away\, on purpose. You’ll find us behind the gate nestled between Virtue Boutique and Dane Wells Gallery at 56 N Lexington Avenue in downtown Asheville. Step through\, take a left into the courtyard\, check in for Spirits\, Souls & Jazz. We’ll be waiting on the other side. hotelevejazz.com \n 
URL:https://livemusicasheville.com/calendar/danny-iannucci-trio/
LOCATION:Hotel Eve Jazz\, 56 N Lexington Avenue\, Asheville\, NC\, 28801\, United States
CATEGORIES:Asheville Area,Live Music
GEO:35.5967716;-82.5530826
X-APPLE-STRUCTURED-LOCATION;VALUE=URI;X-ADDRESS=Hotel Eve Jazz 56 N Lexington Avenue Asheville NC 28801 United States;X-APPLE-RADIUS=500;X-TITLE=56 N Lexington Avenue:geo:-82.5530826,35.5967716
END:VEVENT
BEGIN:VEVENT
DTSTART;TZID=America/New_York:20260318T200000
DTEND;TZID=America/New_York:20260318T230000
DTSTAMP:20260424T230522
CREATED:20260311T181704Z
LAST-MODIFIED:20260311T181704Z
UID:10049206-1773864000-1773874800@livemusicasheville.com
SUMMARY:Worry Club w/ Bike Routes & Bugsy
DESCRIPTION:
URL:https://livemusicasheville.com/calendar/worry-club-w-bike-routes-bugsy/
LOCATION:Eulogy\, 10 Buxton Ave\, Asheville\, NC\, 28801
CATEGORIES:Asheville Area,Live Music
GEO:35.5883468;-82.5539256
X-APPLE-STRUCTURED-LOCATION;VALUE=URI;X-ADDRESS=Eulogy 10 Buxton Ave Asheville NC 28801;X-APPLE-RADIUS=500;X-TITLE=10 Buxton Ave:geo:-82.5539256,35.5883468
END:VEVENT
BEGIN:VEVENT
DTSTART;TZID=America/New_York:20260318T200000
DTEND;TZID=America/New_York:20260318T230000
DTSTAMP:20260424T230522
CREATED:20260311T183216Z
LAST-MODIFIED:20260311T183216Z
UID:10049213-1773864000-1773874800@livemusicasheville.com
SUMMARY:Alla Prima / Proxima System / The Roosevelt Room / Lily of the Valley
DESCRIPTION:
URL:https://livemusicasheville.com/calendar/alla-prima-proxima-system-the-roosevelt-room-lily-of-the-valley/
LOCATION:PULP Speakeasy and Sound Lounge\, 103 Hilliard Ave\, Asheville\, NC\, 28801
CATEGORIES:Asheville Area,Live Music
GEO:35.5912524;-82.5510465
X-APPLE-STRUCTURED-LOCATION;VALUE=URI;X-ADDRESS=PULP Speakeasy and Sound Lounge 103 Hilliard Ave Asheville NC 28801;X-APPLE-RADIUS=500;X-TITLE=103 Hilliard Ave:geo:-82.5510465,35.5912524
END:VEVENT
BEGIN:VEVENT
DTSTART;TZID=America/New_York:20260318T200000
DTEND;TZID=America/New_York:20260318T233000
DTSTAMP:20260424T230522
CREATED:20260311T205225Z
LAST-MODIFIED:20260311T205225Z
UID:10049227-1773864000-1773876600@livemusicasheville.com
SUMMARY:Invisible Cities / SAINT CURE / Ever After
DESCRIPTION:
URL:https://livemusicasheville.com/calendar/invisible-cities-saint-cure-ever-after/
LOCATION:Sly Grog Lounge
CATEGORIES:Asheville Area,Live Music
GEO:35.5942606;-82.5628302
END:VEVENT
BEGIN:VEVENT
DTSTART;TZID=America/New_York:20260318T200000
DTEND;TZID=America/New_York:20260319T000000
DTSTAMP:20260424T230522
CREATED:20260216T132108Z
LAST-MODIFIED:20260324T165526Z
UID:10024024-1773864000-1773878400@livemusicasheville.com
SUMMARY:Latin Night Wednesdays
DESCRIPTION:
URL:https://livemusicasheville.com/calendar/latin-night-wednesdays-2-2-2-2/2026-03-18/
LOCATION:One World Brewing – West\, 520 Haywood Rd\, Asheville\, North Carolina\, 28806
CATEGORIES:Asheville Area,DJ/Electronic
GEO:35.5783642;-82.5848526
X-APPLE-STRUCTURED-LOCATION;VALUE=URI;X-ADDRESS=One World Brewing – West 520 Haywood Rd Asheville North Carolina 28806;X-APPLE-RADIUS=500;X-TITLE=520 Haywood Rd:geo:-82.5848526,35.5783642
END:VEVENT
BEGIN:VEVENT
DTSTART;TZID=America/New_York:20260318T200000
DTEND;TZID=America/New_York:20260319T020000
DTSTAMP:20260424T230522
CREATED:20251222T163440Z
LAST-MODIFIED:20260408T184720Z
UID:10027949-1773864000-1773885600@livemusicasheville.com
SUMMARY:Wednesday Weekly DJs
DESCRIPTION:Although we are primarily a Live Music Calendar\, we often come across Electronic & DJ events in the area and list them for you as we find out about them. Please verify the DJ\, times and cover charges with the venue. \nOne World Brewing West – 8pm-12am (Latin dance) \nThe One Stop -9pm-12am (until 5/27) \nShakeys Dive Bar – 10pm-2am \nVerify with the venue for the DJs and cover charges. \n 
URL:https://livemusicasheville.com/calendar/wednesday-weekely-djs-2/2026-03-18/
LOCATION:Asheville Area
CATEGORIES:Asheville Area,DJ/Electronic
END:VEVENT
BEGIN:VEVENT
DTSTART;TZID=America/New_York:20260318T200000
DTEND;TZID=America/New_York:20260319T020000
DTSTAMP:20260424T230522
CREATED:20251223T121045Z
LAST-MODIFIED:20260407T133820Z
UID:10029480-1773864000-1773885600@livemusicasheville.com
SUMMARY:Wednesday Karaoke
DESCRIPTION:Kootie Lounge Asheville at Haikuavl – 7-9pm (1st\, 2nd & 4th Wednesdays) \nPeri Social House Black Mountain – 7-9pm (April 1) \nThe Social East Asheville – 8-11pm \nOHenrys – 8-11:30pm \nSticks on Broadway – 8-11pm (March 4) \nFleetwoods – PSK – 9pm-1am (March 18) \nThe Lazy Diamond – 10pm-2am \n The Odd – 9pm-1am (exclude 4/8 & 4/29) \nPlease verify times and KJ with the venue. \n  \n\n 
URL:https://livemusicasheville.com/calendar/wednesday-karaoke-2/2026-03-18/
LOCATION:Asheville Area
CATEGORIES:Asheville Area,Black Mountain,Karaoke,Mills River
END:VEVENT
BEGIN:VEVENT
DTSTART;TZID=America/New_York:20260318T200000
DTEND;TZID=America/New_York:20260319T020000
DTSTAMP:20260424T230522
CREATED:20260208T155221Z
LAST-MODIFIED:20260208T155221Z
UID:10043608-1773864000-1773885600@livemusicasheville.com
SUMMARY:All Request Piano Show
DESCRIPTION:
URL:https://livemusicasheville.com/calendar/all-request-piano-show-2/2026-03-18/
LOCATION:Off the Wagon
CATEGORIES:Asheville Area,Live Music
GEO:41.4302231;-81.3909542
END:VEVENT
BEGIN:VEVENT
DTSTART;TZID=America/New_York:20260318T210000
DTEND;TZID=America/New_York:20260319T000000
DTSTAMP:20260424T230522
CREATED:20251217T183948Z
LAST-MODIFIED:20260311T203153Z
UID:10028965-1773867600-1773878400@livemusicasheville.com
SUMMARY:Funkgettaboutit
DESCRIPTION:
URL:https://livemusicasheville.com/calendar/funkgettaboutit-2/
LOCATION:The One Stop
CATEGORIES:Asheville Area,Live Music
END:VEVENT
BEGIN:VEVENT
DTSTART;VALUE=DATE:20260319
DTEND;VALUE=DATE:20260321
DTSTAMP:20260424T230522
CREATED:20260115T155240Z
LAST-MODIFIED:20260423T154010Z
UID:10037458-1773889200-1773975599@livemusicasheville.com
SUMMARY:Love What We Do .......... Buy Us A Beer!
DESCRIPTION:We hope you enjoy our guide to the Asheville area’s dynamic music scene. \nIf we somehow help to brighten up your day\, please consider a small donation to help support our efforts in providing the area’s most reliable local live music calendar. \nVenmo: click here  \nLast 4 digits – 3383 \nPayPal: click here \n 
URL:https://livemusicasheville.com/calendar/greetings-fellow-music-lovers-2-2/2026-03-19/
LOCATION:Asheville Area
CATEGORIES:Asheville Area
ATTACH;FMTTYPE=image/jpeg:https://livemusicasheville.com/wp-content/uploads/2019/01/alcohol-alcoholic-beverages-beer-1624263-e1776958791382.jpg
END:VEVENT
BEGIN:VEVENT
DTSTART;VALUE=DATE:20260319
DTEND;VALUE=DATE:20260321
DTSTAMP:20260424T230522
CREATED:20260308T155921Z
LAST-MODIFIED:20260320T011727Z
UID:10050294-1773889200-1773975599@livemusicasheville.com
SUMMARY:Asheville Fringe Arts Festival
DESCRIPTION:Fringe is a performing arts tradition that started in Edinburgh\, Scotland in 1947. The Asheville Fringe Arts Festival began in 2003 after Susan and Giles Collard of Asheville Contemporary Dance Theatre experienced Fringe festivals in San Francisco and Toronto. The Festival is now a multi-day\, multi-venue performing arts extravaganza\, with performances in theatres\, galleries\, clubs and odd spaces that even include the LaZoom bus. Asheville Fringe continues to ask artists to explore the edges of their work\, to collaborate across genres and to bring new and innovative performances to culturally adventurous audiences. https://www.ashevillefringe.org/
URL:https://livemusicasheville.com/calendar/asheville-fringe-arts-festival-2/2026-03-19/
LOCATION:NC
CATEGORIES:Asheville Area
END:VEVENT
BEGIN:VEVENT
DTSTART;VALUE=DATE:20260319
DTEND;VALUE=DATE:20260321
DTSTAMP:20260424T230522
CREATED:20260316T235434Z
LAST-MODIFIED:20260316T235434Z
UID:10049665-1773889200-1773975599@livemusicasheville.com
SUMMARY:COMING SATURDAY\, March 28 | LowDown Brass Band w/sg Rebekah Todd
DESCRIPTION:Saturday\, March 28 // Doors: 7 pm // Show: 8 pm // $22.14 adv. Event Details and Tickets \nChicago’s Lowdown Brass Band is back in town on March 28 at Grey Eagle. Rebekah Todd is also on the show to kick off the night. \n\n\n\n\n\n\n\n\n\nEmbodying the vibrant Chicago music culture\, LowDown Brass Band is a one-of-a-kind horn ensemble weaving the rhythm of the streets with conscious hip hop\, reggae\, and soul.  Rigorously touring\, LowDown has performed on the most unique stages\, from the Montreal Jazz Fest to the Cotai Jazz Fest. \nDespite the last four years\, LowDown has stayed busy\, releasing Three albums\, “The Reel Sessions\, LowDown Nights and $itizens of the World”\, which showcase their unique sound and further push the boundaries of their genre.  \nLeaning on their talent and unconventional style\, LowDown Brass Band continues to carve out a path\, defying convention and charting their own course in the ever-evolving landscape of music. lowdownbrassband.com \nRebekah Todd’s brand of “Cosmic Soul Rock” is a force to be reckoned with! Now based out of Asheville\, Rebekah brings a fresh energy to each performance\, which carries fans to a place that can only be described as unforgettable. Pulling from a wide range of influences from Hiatus Kaiyote to Tedeschi Trucks Band\, Todd focuses on the art of expression\, above all else. rebekahtodd.com \nCurrently touring full time as the female vocalist of the mighty Dumpstaphunk out of New Orleans as well as local powerhouse quartet\, New Dawn Starkestra. “It has been over a year since I’ve had time to do a solo run to test out new originals. I’ll also be playing some of the older material and will have all of my merchandise with me for those of you who have been asking about my hoodies and vinyl.” – Rebekah Todd \n\n\n\n\n\n\n\n\n\n\n\n\n\n 
URL:https://livemusicasheville.com/calendar/coming-saturday-march-28-lowdown-brass-band-w-sg-rebekah-todd/2026-03-19/
LOCATION:The Grey Eagle\, 185 Clingman Ave\, Asheville\, NC\, United States
CATEGORIES:Asheville Area,Live Music
GEO:35.5870871;-82.5643936
X-APPLE-STRUCTURED-LOCATION;VALUE=URI;X-ADDRESS=The Grey Eagle 185 Clingman Ave Asheville NC United States;X-APPLE-RADIUS=500;X-TITLE=185 Clingman Ave:geo:-82.5643936,35.5870871
END:VEVENT
BEGIN:VEVENT
DTSTART;TZID=America/New_York:20260319T120000
DTEND;TZID=America/New_York:20260319T130000
DTSTAMP:20260424T230522
CREATED:20250916T210709Z
LAST-MODIFIED:20260318T171402Z
UID:10049974-1773921600-1773925200@livemusicasheville.com
SUMMARY:Live at Lunch
DESCRIPTION:Please join the music department for a fantastic afternoon of music.\n\n\n 
URL:https://livemusicasheville.com/calendar/live-at-lunch-2/2026-03-19/
LOCATION:Reed Plaza\, UNCA
CATEGORIES:Asheville Area,Live Music
ATTACH;FMTTYPE=image/jpeg:https://livemusicasheville.com/wp-content/uploads/2025/09/650654521_1663580465141803_8045641685461310352_n-e1773906174812.jpg
END:VEVENT
BEGIN:VEVENT
DTSTART;TZID=America/New_York:20260319T170000
DTEND;TZID=America/New_York:20260319T190000
DTSTAMP:20260424T230522
CREATED:20251124T135638Z
LAST-MODIFIED:20260314T125245Z
UID:10013709-1773939600-1773946800@livemusicasheville.com
SUMMARY:The Candleers
DESCRIPTION:
URL:https://livemusicasheville.com/calendar/the-candleers-5/
LOCATION:Weaverville Community Center
CATEGORIES:Asheville Area,Live Music,Weaverville
END:VEVENT
BEGIN:VEVENT
DTSTART;TZID=America/New_York:20260319T173000
DTEND;TZID=America/New_York:20260319T193000
DTSTAMP:20260424T230522
CREATED:20250611T205958Z
LAST-MODIFIED:20260311T163019Z
UID:10015799-1773941400-1773948600@livemusicasheville.com
SUMMARY:Frances Eliza
DESCRIPTION:
URL:https://livemusicasheville.com/calendar/frances-eliza-3/
LOCATION:12 Bones Brewing
CATEGORIES:Asheville Area,Live Music,South Asheville/Arden/Fletcher
END:VEVENT
BEGIN:VEVENT
DTSTART;TZID=America/New_York:20260319T180000
DTEND;TZID=America/New_York:20260319T200000
DTSTAMP:20260424T230522
CREATED:20250213T150710Z
LAST-MODIFIED:20260108T140919Z
UID:10033570-1773943200-1773950400@livemusicasheville.com
SUMMARY:Trevor Darden
DESCRIPTION:
URL:https://livemusicasheville.com/calendar/trevor-darden/2026-03-19/
LOCATION:The Bush Farmhouse Black Mountain
CATEGORIES:Asheville Area,Black Mountain,Live Music
GEO:35.6171865;-82.3170606
END:VEVENT
BEGIN:VEVENT
DTSTART;TZID=America/New_York:20260319T180000
DTEND;TZID=America/New_York:20260319T200000
DTSTAMP:20260424T230522
CREATED:20260218T222138Z
LAST-MODIFIED:20260218T222139Z
UID:10045491-1773943200-1773950400@livemusicasheville.com
SUMMARY:Albi Podrizki
DESCRIPTION:
URL:https://livemusicasheville.com/calendar/albi-podrizki-3-2-2/2026-03-19/
LOCATION:Filo Post 70 East Asheville
CATEGORIES:Asheville Area,Live Music
END:VEVENT
BEGIN:VEVENT
DTSTART;TZID=America/New_York:20260319T180000
DTEND;TZID=America/New_York:20260319T200000
DTSTAMP:20260424T230522
CREATED:20260319T193235Z
LAST-MODIFIED:20260319T204713Z
UID:10050282-1773943200-1773950400@livemusicasheville.com
SUMMARY:Adam Bachman Band
DESCRIPTION:
URL:https://livemusicasheville.com/calendar/adam-bachman/
LOCATION:Wedge at Foundation
CATEGORIES:Asheville Area,Live Music
END:VEVENT
BEGIN:VEVENT
DTSTART;TZID=America/New_York:20260319T180000
DTEND;TZID=America/New_York:20260319T210000
DTSTAMP:20260424T230522
CREATED:20251015T124659Z
LAST-MODIFIED:20260311T125849Z
UID:10022716-1773943200-1773954000@livemusicasheville.com
SUMMARY:Connor Hunt Duo
DESCRIPTION:
URL:https://livemusicasheville.com/calendar/connor-hunt-3/
LOCATION:Mills River Brewing Co.\, 336 Banner Farm Rd\,\, Mills River\, NC\, 28759
CATEGORIES:Asheville Area,Live Music,Mills River
GEO:35.380515;-82.5654984
X-APPLE-STRUCTURED-LOCATION;VALUE=URI;X-ADDRESS=Mills River Brewing Co. 336 Banner Farm Rd Mills River NC 28759;X-APPLE-RADIUS=500;X-TITLE=336 Banner Farm Rd\,:geo:-82.5654984,35.380515
END:VEVENT
BEGIN:VEVENT
DTSTART;TZID=America/New_York:20260319T180000
DTEND;TZID=America/New_York:20260319T210000
DTSTAMP:20260424T230522
CREATED:20251121T203137Z
LAST-MODIFIED:20260107T125034Z
UID:10024957-1773943200-1773954000@livemusicasheville.com
SUMMARY:BUTTS & BOOTS :: Line Dancing
DESCRIPTION:
URL:https://livemusicasheville.com/calendar/butts-boots-line-dancing-3/2026-03-19/
LOCATION:Banks Ave
CATEGORIES:Asheville Area,DJ/Electronic
GEO:35.5892908;-82.5536382
END:VEVENT
END:VCALENDAR