BEGIN:VCALENDAR
VERSION:2.0
PRODID:-//LiveMusicAsheville.com - ECPv6.15.20//NONSGML v1.0//EN
CALSCALE:GREGORIAN
METHOD:PUBLISH
X-ORIGINAL-URL:https://livemusicasheville.com
X-WR-CALDESC:Events for LiveMusicAsheville.com
REFRESH-INTERVAL;VALUE=DURATION:PT1H
X-Robots-Tag:noindex
X-PUBLISHED-TTL:PT1H
BEGIN:VTIMEZONE
TZID:America/New_York
BEGIN:DAYLIGHT
TZOFFSETFROM:-0500
TZOFFSETTO:-0400
TZNAME:EDT
DTSTART:20250309T070000
END:DAYLIGHT
BEGIN:STANDARD
TZOFFSETFROM:-0400
TZOFFSETTO:-0500
TZNAME:EST
DTSTART:20251102T060000
END:STANDARD
BEGIN:DAYLIGHT
TZOFFSETFROM:-0500
TZOFFSETTO:-0400
TZNAME:EDT
DTSTART:20260308T070000
END:DAYLIGHT
BEGIN:STANDARD
TZOFFSETFROM:-0400
TZOFFSETTO:-0500
TZNAME:EST
DTSTART:20261101T060000
END:STANDARD
BEGIN:DAYLIGHT
TZOFFSETFROM:-0500
TZOFFSETTO:-0400
TZNAME:EDT
DTSTART:20270314T070000
END:DAYLIGHT
BEGIN:STANDARD
TZOFFSETFROM:-0400
TZOFFSETTO:-0500
TZNAME:EST
DTSTART:20271107T060000
END:STANDARD
END:VTIMEZONE
BEGIN:VEVENT
DTSTART;TZID=America/New_York:20260117T203000
DTEND;TZID=America/New_York:20260117T233000
DTSTAMP:20260425T202220
CREATED:20250827T174335Z
LAST-MODIFIED:20260114T133751Z
UID:10020327-1768681800-1768692600@livemusicasheville.com
SUMMARY:Kass Blount & The Burners
DESCRIPTION:
URL:https://livemusicasheville.com/calendar/kass-blount-the-burners/
LOCATION:Crow and Quill
CATEGORIES:Asheville Area,Live Music
GEO:35.5984495;-82.5537921
END:VEVENT
BEGIN:VEVENT
DTSTART;TZID=America/New_York:20260117T203000
DTEND;TZID=America/New_York:20260117T233000
DTSTAMP:20260425T202220
CREATED:20260113T143850Z
LAST-MODIFIED:20260113T143850Z
UID:10035198-1768681800-1768692600@livemusicasheville.com
SUMMARY:Will Willis & Friends
DESCRIPTION:
URL:https://livemusicasheville.com/calendar/will-willis-friends/
LOCATION:Jack Of The Wood\, 95 Patton Ave\, asheville\, NC\, United States
CATEGORIES:Asheville Area,Live Music
GEO:35.5944492;-82.5558221
X-APPLE-STRUCTURED-LOCATION;VALUE=URI;X-ADDRESS=Jack Of The Wood 95 Patton Ave asheville NC United States;X-APPLE-RADIUS=500;X-TITLE=95 Patton Ave:geo:-82.5558221,35.5944492
END:VEVENT
BEGIN:VEVENT
DTSTART;TZID=America/New_York:20260117T203000
DTEND;TZID=America/New_York:20260118T010000
DTSTAMP:20260425T202220
CREATED:20251224T142533Z
LAST-MODIFIED:20251224T142535Z
UID:10028261-1768681800-1768698000@livemusicasheville.com
SUMMARY:Elaine’s Dueling Piano Bar
DESCRIPTION:
URL:https://livemusicasheville.com/calendar/elaines-dueling-piano-bar-2/2026-01-17/
LOCATION:The Omni Grove Park Inn
CATEGORIES:Asheville Area,Live Music
GEO:35.6206376;-82.5422977
END:VEVENT
BEGIN:VEVENT
DTSTART;TZID=America/New_York:20260117T203000
DTEND;TZID=America/New_York:20260118T010000
DTSTAMP:20260425T202220
CREATED:20260114T161406Z
LAST-MODIFIED:20260114T161406Z
UID:10036113-1768681800-1768698000@livemusicasheville.com
SUMMARY:haunt3d / Girl Brutal / Machine 13 / DJ Tommy M
DESCRIPTION:
URL:https://livemusicasheville.com/calendar/haunt3d-girl-brutal-machine-13-dj-tommy-m/
LOCATION:Static Age Records
CATEGORIES:Asheville Area,DJ/Electronic,Live Music
GEO:35.5985631;-82.5538043
END:VEVENT
BEGIN:VEVENT
DTSTART;TZID=America/New_York:20260117T210000
DTEND;TZID=America/New_York:20260118T000000
DTSTAMP:20260425T202220
CREATED:20250305T201336Z
LAST-MODIFIED:20260114T120140Z
UID:10009481-1768683600-1768694400@livemusicasheville.com
SUMMARY:JLAD — Jimmi Lang's Almost Doors
DESCRIPTION:
URL:https://livemusicasheville.com/calendar/jlad-jimmi-langs-almost-doors-2/
LOCATION:One World Brewing – West\, 520 Haywood Rd\, Asheville\, North Carolina\, 28806
CATEGORIES:Asheville Area,Live Music
GEO:35.5783642;-82.5848526
X-APPLE-STRUCTURED-LOCATION;VALUE=URI;X-ADDRESS=One World Brewing – West 520 Haywood Rd Asheville North Carolina 28806;X-APPLE-RADIUS=500;X-TITLE=520 Haywood Rd:geo:-82.5848526,35.5783642
END:VEVENT
BEGIN:VEVENT
DTSTART;TZID=America/New_York:20260117T210000
DTEND;TZID=America/New_York:20260118T000000
DTSTAMP:20260425T202220
CREATED:20250409T111114Z
LAST-MODIFIED:20260115T072623Z
UID:10012379-1768683600-1768694400@livemusicasheville.com
SUMMARY:The Showboat Band
DESCRIPTION:
URL:https://livemusicasheville.com/calendar/the-showboat-band/
LOCATION:Silverados Black Mountain
CATEGORIES:Asheville Area,Black Mountain,Live Music
END:VEVENT
BEGIN:VEVENT
DTSTART;TZID=America/New_York:20260117T210000
DTEND;TZID=America/New_York:20260118T000000
DTSTAMP:20260425T202220
CREATED:20260114T182400Z
LAST-MODIFIED:20260114T182400Z
UID:10036128-1768683600-1768694400@livemusicasheville.com
SUMMARY:Mike Mattison & Trash Magic w/ Ralph Roddenbery
DESCRIPTION:
URL:https://livemusicasheville.com/calendar/mike-mattison-trash-magic-w-ralph-roddenbery/
LOCATION:Asheville Music Hall\, 31 Patton Ave\, Asheville\, NC\, 28801\, United States
CATEGORIES:Asheville Area,Live Music
GEO:35.5949233;-82.5530398
X-APPLE-STRUCTURED-LOCATION;VALUE=URI;X-ADDRESS=Asheville Music Hall 31 Patton Ave Asheville NC 28801 United States;X-APPLE-RADIUS=500;X-TITLE=31 Patton Ave:geo:-82.5530398,35.5949233
END:VEVENT
BEGIN:VEVENT
DTSTART;TZID=America/New_York:20260117T220000
DTEND;TZID=America/New_York:20260118T010000
DTSTAMP:20260425T202220
CREATED:20260114T182600Z
LAST-MODIFIED:20260114T182600Z
UID:10036129-1768687200-1768698000@livemusicasheville.com
SUMMARY:Gordon Sterling and The People
DESCRIPTION:
URL:https://livemusicasheville.com/calendar/gordon-sterling-and-the-people-2/
LOCATION:The One Stop
CATEGORIES:Asheville Area,Live Music
END:VEVENT
BEGIN:VEVENT
DTSTART;VALUE=DATE:20260118
DTEND;VALUE=DATE:20260120
DTSTAMP:20260425T202220
CREATED:20260115T155437Z
LAST-MODIFIED:20260416T121636Z
UID:10038398-1768705200-1768791599@livemusicasheville.com
SUMMARY:Support Your Local Music Calendar
DESCRIPTION:We hope you enjoy our guide to the Asheville area’s dynamic music scene. \nIf we somehow help to brighten up your day\, please consider a small donation to help support our efforts in providing the area’s most complete local live music calendar. \nVenmo: click here  \nLast 4 digits – 3383 \nPayPal: click here \n \n 
URL:https://livemusicasheville.com/calendar/support-your-local-music-calendar-2-2/2026-01-18/
LOCATION:North Carolina
CATEGORIES:Asheville Area
END:VEVENT
BEGIN:VEVENT
DTSTART;TZID=America/New_York:20260118T110000
DTEND;TZID=America/New_York:20260119T020000
DTSTAMP:20260425T202220
CREATED:20241225T203202Z
LAST-MODIFIED:20260415T173939Z
UID:10055130-1768734000-1768788000@livemusicasheville.com
SUMMARY:Sunday Weekly DJ Events
DESCRIPTION:Bens Tune Up – 11am-3pm \nWaterstreet – 3-7pm \nLA Pizza Party Rooftop – 6-9pm \nVOWL – 7-11pm \nCheck with the venue for the DJ and cover charges.
URL:https://livemusicasheville.com/calendar/sunday-weekly-dj/2026-01-18/
LOCATION:Asheville Area
CATEGORIES:Asheville Area,DJ/Electronic
END:VEVENT
BEGIN:VEVENT
DTSTART;TZID=America/New_York:20260118T120000
DTEND;TZID=America/New_York:20260118T150000
DTSTAMP:20260425T202220
CREATED:20241225T153845Z
LAST-MODIFIED:20251203T153146Z
UID:10026470-1768737600-1768748400@livemusicasheville.com
SUMMARY:Bluegrass Brunch Is Back!!
DESCRIPTION:Y’ALL! The best dang BLUEGRASS BRUNCH in town is BACK AT JACK — with our own BLUEGRASS BRUNCH BOYS taking the stage at NOON! 🎻🍳 \nWhether you’re in the mood for a FRIED CHICKEN BISCUIT topped with our house-made blackberry jam or spicy SHRIMP & CHEDDAR GRITS with a side of collards or that perfect BURGER (beef OR veggie) with hand-cut pub fries\, you’ll find exactly what you’re craving at — and did we mention our brunch beverage specials from the bar? 🥂🍊 \nBrunch is served until 3pm (or until we run out!)\, with our pub fare menu starting immediately after. \nAnd to round out your SUNDAY FUNDAY\, our TRADITIONAL IRISH MUSIC SESSION starts at 3:30 — and goes until close! 🍺🍀\n \n\nJack Of The Wood still a downtown hot spot for food\, brews and drink since 1997 and founders Joan and Joe Eckert who still own it\, have maintained the original lively English and Irish vibe. The old-time mountain and Irish music jams continue\, including a hot bluegrass jam Thursdays and brunch every Sunday. The venue extends a welcoming feeling to regulars and newcomers to this day. https://jackofthewood.com/
URL:https://livemusicasheville.com/calendar/the-bluegrass-boys/2026-01-18/
LOCATION:Jack Of The Wood\, 95 Patton Ave\, asheville\, NC\, United States
CATEGORIES:Asheville Area,Live Music
ATTACH;FMTTYPE=image/jpeg:https://livemusicasheville.com/wp-content/uploads/2024/12/521057437_1508890810466928_6057889169935657981_n-e1754136196712.jpg
GEO:35.5944492;-82.5558221
X-APPLE-STRUCTURED-LOCATION;VALUE=URI;X-ADDRESS=Jack Of The Wood 95 Patton Ave asheville NC United States;X-APPLE-RADIUS=500;X-TITLE=95 Patton Ave:geo:-82.5558221,35.5944492
END:VEVENT
BEGIN:VEVENT
DTSTART;TZID=America/New_York:20260118T130000
DTEND;TZID=America/New_York:20260118T150000
DTSTAMP:20260425T202220
CREATED:20250906T140229Z
LAST-MODIFIED:20260125T153523Z
UID:10020737-1768741200-1768748400@livemusicasheville.com
SUMMARY:Brazilian Roda De Samba
DESCRIPTION:Come to celebrate Gauchinho’s anniversary with 50% OFF on their all-you-can-eat rodizio and the traditional Brazilian “Roda de samba” we all love!!\nSunday\, January 25th\, at 1 PM
URL:https://livemusicasheville.com/calendar/brazilian-roda-de-samba/
LOCATION:Gauchinho Brazilian Steakhouse
CATEGORIES:Asheville Area,Live Music,Open MIc/Jam
END:VEVENT
BEGIN:VEVENT
DTSTART;TZID=America/New_York:20260118T130000
DTEND;TZID=America/New_York:20260119T000000
DTSTAMP:20260425T202220
CREATED:20241225T204249Z
LAST-MODIFIED:20260118T214741Z
UID:10027405-1768741200-1768780800@livemusicasheville.com
SUMMARY:Sunday Open Mic/Jams
DESCRIPTION:Open Jam @ T-Birds Weaverville 1-4 \nBluegrass & Jam @ Zillacoah Beer Co –  4:30-7:30pm (every other Sunday) Jan 11\, 25 Feb 8\, 22 March 8\, 22 \nOpen Bluegrass Circle @ The Hound Lounge – 6-9pm (discontinued til spring) \nStory Parlor – 6-9pm (1st Sundays of the month) \nPisgah Brewing Sunday Jam 6:30-9pm \nEda’s Hideaway Weaverville – 7-9pm \nPlant Bar South Slope – 7-9pm (last Sunday of the month) \nElevated Kava Lounge – 8-11pm \n 
URL:https://livemusicasheville.com/calendar/sunday-open-mic/2026-01-18/
LOCATION:Asheville Area
CATEGORIES:Asheville Area,Black Mountain,Madison County,Open MIc/Jam,Weaverville
END:VEVENT
BEGIN:VEVENT
DTSTART;TZID=America/New_York:20260118T140000
DTEND;TZID=America/New_York:20260118T160000
DTSTAMP:20260425T202220
CREATED:20260114T121047Z
LAST-MODIFIED:20260114T121047Z
UID:10035443-1768744800-1768752000@livemusicasheville.com
SUMMARY:Swing Dance with the Asheville Jazz Orchestra
DESCRIPTION:
URL:https://livemusicasheville.com/calendar/swing-dance-with-the-asheville-jazz-orchestra/
LOCATION:White Horse Black Mountain
CATEGORIES:Asheville Area,Black Mountain,Live Music
GEO:35.6178579;-82.3211924
END:VEVENT
BEGIN:VEVENT
DTSTART;TZID=America/New_York:20260118T140000
DTEND;TZID=America/New_York:20260118T170000
DTSTAMP:20260425T202220
CREATED:20260114T125830Z
LAST-MODIFIED:20260114T125830Z
UID:10035870-1768744800-1768755600@livemusicasheville.com
SUMMARY:Dillon Wray
DESCRIPTION:
URL:https://livemusicasheville.com/calendar/dillon-wray/
LOCATION:Mills River Brewing Co.\, 336 Banner Farm Rd\,\, Mills River\, NC\, 28759
GEO:35.380515;-82.5654984
X-APPLE-STRUCTURED-LOCATION;VALUE=URI;X-ADDRESS=Mills River Brewing Co. 336 Banner Farm Rd Mills River NC 28759;X-APPLE-RADIUS=500;X-TITLE=336 Banner Farm Rd\,:geo:-82.5654984,35.380515
END:VEVENT
BEGIN:VEVENT
DTSTART;TZID=America/New_York:20260118T150000
DTEND;TZID=America/New_York:20260118T170000
DTSTAMP:20260425T202220
CREATED:20260109T142128Z
LAST-MODIFIED:20260109T142340Z
UID:10002410-1768748400-1768755600@livemusicasheville.com
SUMMARY:Vintage Swing w/ Parker’s Back
DESCRIPTION:
URL:https://livemusicasheville.com/calendar/vintage-swing-w-parkers-back-2-2/2026-01-18/
LOCATION:Battery Park Book Exchange & Champagne Bar
CATEGORIES:Asheville Area,Live Music
GEO:35.5951042;-82.556633
END:VEVENT
BEGIN:VEVENT
DTSTART;TZID=America/New_York:20260118T150000
DTEND;TZID=America/New_York:20260118T180000
DTSTAMP:20260425T202220
CREATED:20251019T134327Z
LAST-MODIFIED:20251221T024501Z
UID:10013174-1768748400-1768759200@livemusicasheville.com
SUMMARY:Reggae Sunday w/ CHALWA
DESCRIPTION:This 8-member Mountain Reggae powerhouse packs it full of roots meditations and high grade jams that awaken your spirit and soul! Chalwa’s high energy shows are one of a kind\, featuring smooth vocals\, percussion\, bass\, lead guitar\, keys and saxophone. Their extensive collection of original music is interlaced with music from some of the Greats including\, Bob Marley\, Peter Tosh\, Burning Spear\, Bunny Wailer and even Jerry Garcia and the Grateful Dead. \nFrench Broad River Brewery is more than just a place to enjoy a drink—it’s a community hub where great beer\, delicious pizza\, live music\, and good times come together. Just minutes from the Biltmore Estate & Downtown\, our taproom is a gathering spot for locals and visitors alike. We regularly host live music and entertainment in our taproom\, making French Broad River Brewery a lively hub of local activity. From bluegrass to reggae\, there’s always something happening. Check out our Events Page to see what’s coming up next! \nNo brewery experience is complete without great food. That’s why we offer French Broad River Pizza\, serving up hot\, hand-tossed pizzas made to order. Whether you’re here for a quick slice or a full meal\, our pizza perfectly complements our craft beers and the lively atmosphere of our taproom. frenchbroadbrewery.com/pizza \n 
URL:https://livemusicasheville.com/calendar/chalwa-returns-2-2/2026-01-18/
LOCATION:French Broad River Brewery\, 101 Fairview Rd\, Asheville\, NC\, United States
CATEGORIES:Asheville Area,Live Music
ATTACH;FMTTYPE=image/png:https://livemusicasheville.com/wp-content/uploads/2025/10/Screenshot-2025-12-20-214144-e1766285002169.png
GEO:35.5662722;-82.5374054
X-APPLE-STRUCTURED-LOCATION;VALUE=URI;X-ADDRESS=French Broad River Brewery 101 Fairview Rd Asheville NC United States;X-APPLE-RADIUS=500;X-TITLE=101 Fairview Rd:geo:-82.5374054,35.5662722
END:VEVENT
BEGIN:VEVENT
DTSTART;TZID=America/New_York:20260118T150000
DTEND;TZID=America/New_York:20260118T180000
DTSTAMP:20260425T202220
CREATED:20260115T070457Z
LAST-MODIFIED:20260115T070605Z
UID:10002357-1768748400-1768759200@livemusicasheville.com
SUMMARY:Iggy Radio
DESCRIPTION:
URL:https://livemusicasheville.com/calendar/iggy-radio-6/2026-01-18/
LOCATION:Asheville Yacht Club
CATEGORIES:Asheville Area,Live Music
GEO:35.5944176;-82.5554715
END:VEVENT
BEGIN:VEVENT
DTSTART;TZID=America/New_York:20260118T153000
DTEND;TZID=America/New_York:20260118T200000
DTSTAMP:20260425T202220
CREATED:20260111T022539Z
LAST-MODIFIED:20260118T082410Z
UID:10039181-1768750200-1768766400@livemusicasheville.com
SUMMARY:Jack’s Traditional Irish/Celtic Jam Session
DESCRIPTION:Stop in for the pub’s long running Traditional Irish Session each Sunday afternoon beginning around 3:30pm. Many talented local musicians come from WNC to jam away into the night – all on our pub stage! Sunday is a perfect day to enjoy a pint or afternoon Irish coffee! Slaínte! \nJack Of The Wood is still a downtown hot spot for food\, brews and drink since 1997 and founders Joan and Joe Eckert who still own it\, have maintained the original lively English and Irish vibe. The old-time mountain and Irish music jams continue\, including a hot bluegrass jam Thursdays and brunch every Sunday. The venue extends a welcoming feeling to regulars and newcomers to this day. https://jackofthewood.com/
URL:https://livemusicasheville.com/calendar/jacks-traditional-irish-celtic-jam-session-2-2/
LOCATION:Jack Of The Wood\, 95 Patton Ave\, asheville\, NC\, United States
CATEGORIES:Asheville Area,Live Music,Open MIc/Jam
ATTACH;FMTTYPE=image/jpeg:https://livemusicasheville.com/wp-content/uploads/2025/02/520234226_634124486372464_8974916319488110849_n-e1754135686660.jpg
GEO:35.5944492;-82.5558221
X-APPLE-STRUCTURED-LOCATION;VALUE=URI;X-ADDRESS=Jack Of The Wood 95 Patton Ave asheville NC United States;X-APPLE-RADIUS=500;X-TITLE=95 Patton Ave:geo:-82.5558221,35.5944492
END:VEVENT
BEGIN:VEVENT
DTSTART;TZID=America/New_York:20260118T160000
DTEND;TZID=America/New_York:20260118T190000
DTSTAMP:20260425T202220
CREATED:20250809T155921Z
LAST-MODIFIED:20260107T125152Z
UID:10027994-1768752000-1768762800@livemusicasheville.com
SUMMARY:BUTTS & BOOTS :: Line Dancing
DESCRIPTION:
URL:https://livemusicasheville.com/calendar/butts-boots-line-dancing-2-2-2/2026-01-18/
LOCATION:Banks Ave
CATEGORIES:Asheville Area,DJ/Electronic
GEO:35.5892908;-82.5536382
END:VEVENT
BEGIN:VEVENT
DTSTART;TZID=America/New_York:20260118T160000
DTEND;TZID=America/New_York:20260118T190000
DTSTAMP:20260425T202220
CREATED:20251009T120205Z
LAST-MODIFIED:20260116T212701Z
UID:10022641-1768752000-1768762800@livemusicasheville.com
SUMMARY:Albi & The Lifters
DESCRIPTION:
URL:https://livemusicasheville.com/calendar/albi-and-the-lifters/
LOCATION:Antidote Cocktail Lounge
CATEGORIES:Asheville Area,Live Music
GEO:35.5890217;-82.5550209
END:VEVENT
BEGIN:VEVENT
DTSTART;TZID=America/New_York:20260118T160000
DTEND;TZID=America/New_York:20260119T020000
DTSTAMP:20260425T202220
CREATED:20241225T203811Z
LAST-MODIFIED:20260104T123715Z
UID:10026757-1768752000-1768788000@livemusicasheville.com
SUMMARY:Sunday Karaoke
DESCRIPTION:T Birds Weaverville – 4-8pm \nBush Farmhouse Black Mountain – 6-9pm (January 4 & 18) \nThe Draftsman – 8-11pm \nBanks Ave – 9pm-12am \nThe Social East Asheville – 9pm-12am \nThe Double Crown – 10pm-2am \nPlease verify with the venue on times and KJ. \n 
URL:https://livemusicasheville.com/calendar/sunday-karaoke/2026-01-18/
LOCATION:Asheville Area
CATEGORIES:Asheville Area,Black Mountain,Karaoke,South Asheville/Arden/Fletcher,Weaverville
END:VEVENT
BEGIN:VEVENT
DTSTART;TZID=America/New_York:20260118T170000
DTEND;TZID=America/New_York:20260118T210000
DTSTAMP:20260425T202220
CREATED:20260114T162936Z
LAST-MODIFIED:20260114T162936Z
UID:10036115-1768755600-1768770000@livemusicasheville.com
SUMMARY:Old Farmer's Ball Annual Meeting & Free dance
DESCRIPTION:
URL:https://livemusicasheville.com/calendar/old-farmers-ball-annual-meeting-free-dance/
LOCATION:Warren Wilson College Swannanoa\, 701 Warren Wilson Road\, Swannanoa\, NC
CATEGORIES:Asheville Area,Black Mountain,Live Music
GEO:35.611126;-82.4422791
X-APPLE-STRUCTURED-LOCATION;VALUE=URI;X-ADDRESS=Warren Wilson College Swannanoa 701 Warren Wilson Road Swannanoa NC;X-APPLE-RADIUS=500;X-TITLE=701 Warren Wilson Road:geo:-82.4422791,35.611126
END:VEVENT
BEGIN:VEVENT
DTSTART;TZID=America/New_York:20260118T170000
DTEND;TZID=America/New_York:20260118T230000
DTSTAMP:20260425T202220
CREATED:20251219T155851Z
LAST-MODIFIED:20251219T155851Z
UID:10029093-1768755600-1768777200@livemusicasheville.com
SUMMARY:Coverfest V: A Benefit For Asheville Middle School
DESCRIPTION:Coverfest V: A Benefit for Asheville Middle School\n\n\nJoin us on Sunday\, January 18\, 2026 at the Grey Eagle for Coverfest V\, a family-friendly\, all-ages community concert featuring 12 local bands.\n\n\nThis event is a benefit for Asheville Middle School\, with ticket proceeds helping ensure every 8th grade student can attend their Washington\, DC trip — regardless of financial circumstances at home.\n\n\n Live music 5pm-11pm\n Tickets support students through live music\n All-ages welcome\, family-friendly community event\n\n\nWe hope you’ll join us in supporting local musicians\, local students\, and local education.\n\n\nFrom $17.95 Event Details and Tickets
URL:https://livemusicasheville.com/calendar/coverfest-v-a-benefit-for-asheville-middle-school/
LOCATION:The Grey Eagle\, 185 Clingman Ave\, Asheville\, NC\, United States
CATEGORIES:Asheville Area,Live Music
GEO:35.5870871;-82.5643936
X-APPLE-STRUCTURED-LOCATION;VALUE=URI;X-ADDRESS=The Grey Eagle 185 Clingman Ave Asheville NC United States;X-APPLE-RADIUS=500;X-TITLE=185 Clingman Ave:geo:-82.5643936,35.5870871
END:VEVENT
BEGIN:VEVENT
DTSTART;TZID=America/New_York:20260118T183000
DTEND;TZID=America/New_York:20260118T203000
DTSTAMP:20260425T202220
CREATED:20250306T171807Z
LAST-MODIFIED:20250907T221607Z
UID:10020904-1768761000-1768768200@livemusicasheville.com
SUMMARY:Leo Johnson/Phil Alley guitar duo
DESCRIPTION:
URL:https://livemusicasheville.com/calendar/liliana-hudgens/2026-01-18/
LOCATION:The Lobster Trap
CATEGORIES:Asheville Area,Live Music
GEO:33.3427223;-118.3257271
END:VEVENT
BEGIN:VEVENT
DTSTART;TZID=America/New_York:20260118T183000
DTEND;TZID=America/New_York:20260118T210000
DTSTAMP:20260425T202220
CREATED:20260118T152209Z
LAST-MODIFIED:20260118T152209Z
UID:10039444-1768761000-1768770000@livemusicasheville.com
SUMMARY:Asheville Fringe Society fundraiser w/ Deviled Eggs
DESCRIPTION:
URL:https://livemusicasheville.com/calendar/asheville-fringe-society-fundraiser-w-deviled-eggs/
LOCATION:Sly Grog Lounge
CATEGORIES:Asheville Area,Live Music
GEO:35.5942606;-82.5628302
END:VEVENT
BEGIN:VEVENT
DTSTART;TZID=America/New_York:20260118T190000
DTEND;TZID=America/New_York:20260118T210000
DTSTAMP:20260425T202220
CREATED:20260113T141213Z
LAST-MODIFIED:20260119T013351Z
UID:10035197-1768762800-1768770000@livemusicasheville.com
SUMMARY:SUNDAY NIGHT | You Can Call Me Paul – A Paul Simon Tribute (last minute 20% discount)
DESCRIPTION:20% off Promotional Code code: “me and Julio“ \nSunday January 18\, 2026 | Doors at 6:00pm | Show at 7:00 p.m. Event Details and Tickets \nReturning to the Diana Wortham Theatre at The Wortham Center for the Performing Arts\, Paul Simon tribute You Can Call Me pAuL performs a lively and emotional concert with all the classic hits from Simon’s solo era and more! Enjoy an evening of memorable and nostalgic music presented authentically and vibrantly by singer Benjamin Falcon and a supremely talented twelve member ensemble. Doors at 6pm. Sponsored by Town and Mountain Realty. \n  \n\n\nBenjamin Falcon formed a love of the Simon & Garfunkel songbook while growing up outside of DC\, in Alexandria\, VA\, through his parents fondness and nostalgia for Simon’s early work\, as well as Falcon’s frequent exposure to the music in radio and media. In college\, Falcon began to explore the larger catalogue of both Simon’s early and solo material. \nFalcon studied music from an early age and also performed in music theater. He ultimately decided to focus on drumming\, eventually moving to Asheville\, NC and earning a degree in music from UNC- Asheville in 2009\, with a concentration in jazz performance. Over the years\, Ben incorporated Simon’s songs while performing regionally as a drummer\, and increasingly\, as a vocalist. \nIn a serendipitous happenstance\, Falcon suggested a Paul Simon theme when invited to perform as a guest vocalist in 2022 at The JLloyd Mashup\, a weekly residency some local musician friends hosted Mondays in West Asheville. From there the vision grew. \nAfter building and refining the band\, sourcing from Asheville’s disproportionate population of talented musicians\, Falcon set out to grow and share the magic of Simon’s music.
URL:https://livemusicasheville.com/calendar/you-can-call-me-paul-a-paul-simon-tribute/
LOCATION:Wortham Center for the Performing Arts
CATEGORIES:Asheville Area,Live Music
GEO:35.5943091;-82.5509521
END:VEVENT
BEGIN:VEVENT
DTSTART;TZID=America/New_York:20260118T190000
DTEND;TZID=America/New_York:20260118T210000
DTSTAMP:20260425T202220
CREATED:20260114T121139Z
LAST-MODIFIED:20260114T121139Z
UID:10035444-1768762800-1768770000@livemusicasheville.com
SUMMARY:Anya Hinkle with Libby Weitnauer
DESCRIPTION:
URL:https://livemusicasheville.com/calendar/anya-hinkle-with-libby-weitnauer/
LOCATION:White Horse Black Mountain
CATEGORIES:Asheville Area,Black Mountain,Live Music
GEO:35.6178579;-82.3211924
END:VEVENT
BEGIN:VEVENT
DTSTART;TZID=America/New_York:20260118T190000
DTEND;TZID=America/New_York:20260118T213000
DTSTAMP:20260425T202220
CREATED:20260114T165153Z
LAST-MODIFIED:20260114T165153Z
UID:10036120-1768762800-1768771800@livemusicasheville.com
SUMMARY:D. Portner (of Animal Collective & Avey Tare) / Glyn Maier / Infiniti Kiss + Farewell Phoenix
DESCRIPTION:
URL:https://livemusicasheville.com/calendar/d-portner-of-animal-collective-avey-tare-glyn-maier-infiniti-kiss-farewell-phoenix/
LOCATION:Revolve Gallery
CATEGORIES:Asheville Area,DJ/Electronic,Live Music
END:VEVENT
BEGIN:VEVENT
DTSTART;TZID=America/New_York:20260118T190000
DTEND;TZID=America/New_York:20260118T220000
DTSTAMP:20260425T202220
CREATED:20251222T160824Z
LAST-MODIFIED:20251222T160824Z
UID:10029365-1768762800-1768773600@livemusicasheville.com
SUMMARY:Bruce Lang in The Great Hall
DESCRIPTION:
URL:https://livemusicasheville.com/calendar/bruce-lang-in-the-great-hall/2026-01-18/
LOCATION:The Omni Grove Park Inn
CATEGORIES:Asheville Area,Live Music
GEO:35.6206376;-82.5422977
END:VEVENT
END:VCALENDAR