BEGIN:VCALENDAR
VERSION:2.0
PRODID:-//LiveMusicAsheville.com - ECPv6.15.20//NONSGML v1.0//EN
CALSCALE:GREGORIAN
METHOD:PUBLISH
X-WR-CALNAME:LiveMusicAsheville.com
X-ORIGINAL-URL:https://livemusicasheville.com
X-WR-CALDESC:Events for LiveMusicAsheville.com
REFRESH-INTERVAL;VALUE=DURATION:PT1H
X-Robots-Tag:noindex
X-PUBLISHED-TTL:PT1H
BEGIN:VTIMEZONE
TZID:America/New_York
BEGIN:DAYLIGHT
TZOFFSETFROM:-0500
TZOFFSETTO:-0400
TZNAME:EDT
DTSTART:20250309T070000
END:DAYLIGHT
BEGIN:STANDARD
TZOFFSETFROM:-0400
TZOFFSETTO:-0500
TZNAME:EST
DTSTART:20251102T060000
END:STANDARD
BEGIN:DAYLIGHT
TZOFFSETFROM:-0500
TZOFFSETTO:-0400
TZNAME:EDT
DTSTART:20260308T070000
END:DAYLIGHT
BEGIN:STANDARD
TZOFFSETFROM:-0400
TZOFFSETTO:-0500
TZNAME:EST
DTSTART:20261101T060000
END:STANDARD
BEGIN:DAYLIGHT
TZOFFSETFROM:-0500
TZOFFSETTO:-0400
TZNAME:EDT
DTSTART:20270314T070000
END:DAYLIGHT
BEGIN:STANDARD
TZOFFSETFROM:-0400
TZOFFSETTO:-0500
TZNAME:EST
DTSTART:20271107T060000
END:STANDARD
END:VTIMEZONE
BEGIN:VEVENT
DTSTART;TZID=America/New_York:20260108T190000
DTEND;TZID=America/New_York:20260108T220000
DTSTAMP:20260425T183924
CREATED:20251230T184933Z
LAST-MODIFIED:20251230T184934Z
UID:10019544-1767898800-1767909600@livemusicasheville.com
SUMMARY:Jazz Showcase & Jam
DESCRIPTION:Thursdays\, 7 PM – 10 PM: An evening of smooth sounds and great vibes at Shamrock Irons with live Jazz performances followed by an Open Jam Session!\n\nJoin us every Thursday for our Jazz Showcase — an evening of smooth sounds\, great vibes\, and unbeatable specials.\nSip on a rich Espresso Martini or grab a $5 Draft beer while the music takes you away.\nPlus\, don’t miss our delicious daily food specials!\nThe music kicks off at 7 PM and rolls through until 10 PM\, with an open jam session lighting up the second half. Come for the cocktails\, stay for the jazz.\n\n\n\n\nShamrock Irons Irish Pub – \nShamrock Irons Irish Pub – Asheville’s newest Irish Pub experience! We’re bringing back the fun with a fresh look\, perfect pours\, and the best live music downtown. Whether you’re a regular or a first-timer\, there’s always room for one more at Shamrock Irons. shamrockirons.com
URL:https://livemusicasheville.com/calendar/jazz-showcase-jam-curated-by-steven-alvarez-2/2026-01-08/
LOCATION:Shamrock Irons Irish Pub\, 4 College St\, Asheville\, NC\, 28801\, United States
CATEGORIES:Asheville Area,Live Music,Open MIc/Jam
ATTACH;FMTTYPE=image/jpeg:https://livemusicasheville.com/wp-content/uploads/2025/08/IMG_2950-e1762311638292.jpeg
GEO:35.9844236;-80.0221361
X-APPLE-STRUCTURED-LOCATION;VALUE=URI;X-ADDRESS=Shamrock Irons Irish Pub 4 College St Asheville NC 28801 United States;X-APPLE-RADIUS=500;X-TITLE=4 College St:geo:-80.0221361,35.9844236
END:VEVENT
BEGIN:VEVENT
DTSTART;TZID=America/New_York:20260108T190000
DTEND;TZID=America/New_York:20260108T220000
DTSTAMP:20260425T183924
CREATED:20251231T113853Z
LAST-MODIFIED:20251231T113853Z
UID:10029789-1767898800-1767909600@livemusicasheville.com
SUMMARY:The Belle Curves
DESCRIPTION:
URL:https://livemusicasheville.com/calendar/the-belle-curves/
LOCATION:One World Brewing Downtown\, 10 Patton Ave\, Asheville\, NC\, 28801
CATEGORIES:Asheville Area,Live Music
GEO:35.5947396;-82.5522724
X-APPLE-STRUCTURED-LOCATION;VALUE=URI;X-ADDRESS=One World Brewing Downtown 10 Patton Ave Asheville NC 28801;X-APPLE-RADIUS=500;X-TITLE=10 Patton Ave:geo:-82.5522724,35.5947396
END:VEVENT
BEGIN:VEVENT
DTSTART;TZID=America/New_York:20260108T190000
DTEND;TZID=America/New_York:20260108T233000
DTSTAMP:20260425T183924
CREATED:20250322T150845Z
LAST-MODIFIED:20251214T215054Z
UID:10010525-1767898800-1767915000@livemusicasheville.com
SUMMARY:Save Our Website to Your Home Screen 📲
DESCRIPTION:As an interactive calendar\, we often add events to our calendar as we find out about them\, sometimes even from our phone while we are out supporting local live music. By adding our website\, LiveMusicAsheville.com to your home screen\, we will always be right at your fingertips. Here’s how:\n\n\n\n\niPhone (using Safari):\n\n\n\nOpen Safari and navigate to the website: you want to add as a shortcut. \n\n\n\n\n\n\n\n\nTap the Share button: (a square with an arrow pointing out of the top). \n\n\n\n\n\n\n\n\nScroll down and tap “Add to Home Screen” . \n\n\n\n\n\n\n\n\nChoose a name for the shortcut: and tap “Add”. \n\n\n\n\n\n\n\n\nThe shortcut will appear on your home screen as an icon. \n\n\n\n\n\n\n\n\n\n\n\nAndroid (using Chrome or other browsers):\n\n\n\nOpen Chrome (or your preferred browser) and navigate to the website: you want to add.\nTap the three-dot menu icon: (usually in the top right corner).\nSelect “Add to Home Screen” .\nCustomize the name of the shortcut: if desired\, and then tap “Add”.\nThe shortcut will appear on your home screen as an icon. 
URL:https://livemusicasheville.com/calendar/add-our-website-to-your-home-screen/2026-01-08/
LOCATION:North Carolina
CATEGORIES:Asheville Area
END:VEVENT
BEGIN:VEVENT
DTSTART;TZID=America/New_York:20260108T190000
DTEND;TZID=America/New_York:20260109T020000
DTSTAMP:20260425T183924
CREATED:20251121T203604Z
LAST-MODIFIED:20260422T115043Z
UID:10033296-1767898800-1767924000@livemusicasheville.com
SUMMARY:Thursday Karaoke
DESCRIPTION:Please verify times and KJ with the venue! \n  \nTurgua Brewing Fairview – 6-8pm (April 16) \nAsheville Sports Club – 7-10pm \nThe Social East Asheville – 7-11pm \nDaddy Mac’s Downhome Dive – 8-11pm \nShiloh and Gaines – 8-11pm \nVOWL – 8-11pm  \nFleetwoods – 8pm-12am (April 23 indie/punk) \nStatic Age Loft 10pm-2am \nShakeys Dive Bar 9pm-2am
URL:https://livemusicasheville.com/calendar/thursday-weekly-karaoke-2/2026-01-08/
LOCATION:Asheville Area
CATEGORIES:Asheville Area,Karaoke,Madison County,South Asheville/Arden/Fletcher
END:VEVENT
BEGIN:VEVENT
DTSTART;TZID=America/New_York:20260108T193000
DTEND;TZID=America/New_York:20260108T230000
DTSTAMP:20260425T183924
CREATED:20251223T163554Z
LAST-MODIFIED:20260107T163257Z
UID:10027201-1767900600-1767913200@livemusicasheville.com
SUMMARY:Old Farmers Ball Contra Dance
DESCRIPTION:
URL:https://livemusicasheville.com/calendar/old-farmers-ball-contra-dance-2/2026-01-08/
LOCATION:Warren Wilson College Swannanoa\, 701 Warren Wilson Road\, Swannanoa\, NC
CATEGORIES:Asheville Area,Live Music
GEO:35.611126;-82.4422791
X-APPLE-STRUCTURED-LOCATION;VALUE=URI;X-ADDRESS=Warren Wilson College Swannanoa 701 Warren Wilson Road Swannanoa NC;X-APPLE-RADIUS=500;X-TITLE=701 Warren Wilson Road:geo:-82.4422791,35.611126
END:VEVENT
BEGIN:VEVENT
DTSTART;TZID=America/New_York:20260108T200000
DTEND;TZID=America/New_York:20260108T230000
DTSTAMP:20260425T183924
CREATED:20251231T114037Z
LAST-MODIFIED:20260325T110829Z
UID:10025213-1767902400-1767913200@livemusicasheville.com
SUMMARY:Fee Fi PHaux fISH
DESCRIPTION:
URL:https://livemusicasheville.com/calendar/fee-fi-phaux-fish-4-2-2-2/2026-01-08/
LOCATION:One World Brewing – West\, 520 Haywood Rd\, Asheville\, North Carolina\, 28806
CATEGORIES:Asheville Area,Live Music
GEO:35.5783642;-82.5848526
X-APPLE-STRUCTURED-LOCATION;VALUE=URI;X-ADDRESS=One World Brewing – West 520 Haywood Rd Asheville North Carolina 28806;X-APPLE-RADIUS=500;X-TITLE=520 Haywood Rd:geo:-82.5848526,35.5783642
END:VEVENT
BEGIN:VEVENT
DTSTART;TZID=America/New_York:20260108T200000
DTEND;TZID=America/New_York:20260108T230000
DTSTAMP:20260425T183924
CREATED:20251231T143454Z
LAST-MODIFIED:20251231T143454Z
UID:10029961-1767902400-1767913200@livemusicasheville.com
SUMMARY:SOLD OUT | Charlie Starr
DESCRIPTION:
URL:https://livemusicasheville.com/calendar/sold-out-charlie-starr/
LOCATION:The Orange Peel
CATEGORIES:Asheville Area,Live Music
GEO:35.5914061;-82.5510137
END:VEVENT
BEGIN:VEVENT
DTSTART;TZID=America/New_York:20260108T203000
DTEND;TZID=America/New_York:20260109T000000
DTSTAMP:20260425T183924
CREATED:20251121T204451Z
LAST-MODIFIED:20251121T204452Z
UID:10025418-1767904200-1767916800@livemusicasheville.com
SUMMARY:Bachata Thursday
DESCRIPTION:
URL:https://livemusicasheville.com/calendar/bachata-thursday-2/2026-01-08/
LOCATION:Urban Orchard Cider Co
CATEGORIES:Asheville Area,DJ/Electronic
END:VEVENT
BEGIN:VEVENT
DTSTART;TZID=America/New_York:20260108T210000
DTEND;TZID=America/New_York:20260109T000000
DTSTAMP:20260425T183924
CREATED:20251231T122822Z
LAST-MODIFIED:20251231T122822Z
UID:10029794-1767906000-1767916800@livemusicasheville.com
SUMMARY:Lily of the Sea // Paprika // Jackie Kelsh
DESCRIPTION:
URL:https://livemusicasheville.com/calendar/lily-of-the-sea-paprika-jackie-kelsh/
LOCATION:Fleetwood’s\, 496 Haywood Rd\, Asheville\, NC\, 28806\, United States
CATEGORIES:Asheville Area,Live Music
GEO:35.578126;-82.583757
X-APPLE-STRUCTURED-LOCATION;VALUE=URI;X-ADDRESS=Fleetwood’s 496 Haywood Rd Asheville NC 28806 United States;X-APPLE-RADIUS=500;X-TITLE=496 Haywood Rd:geo:-82.583757,35.578126
END:VEVENT
BEGIN:VEVENT
DTSTART;TZID=America/New_York:20260108T213000
DTEND;TZID=America/New_York:20260108T233000
DTSTAMP:20260425T183924
CREATED:20251231T130354Z
LAST-MODIFIED:20251231T130354Z
UID:10029899-1767907800-1767915000@livemusicasheville.com
SUMMARY:Morgan Bevis w/ Fully Processed
DESCRIPTION:
URL:https://livemusicasheville.com/calendar/morgan-bevis-w-fully-processed/
LOCATION:The Burger Bar
CATEGORIES:Asheville Area,Live Music
GEO:37.8422553;-85.9362392
END:VEVENT
BEGIN:VEVENT
DTSTART;TZID=America/New_York:20260109T180000
DTEND;TZID=America/New_York:20260109T200000
DTSTAMP:20260425T183924
CREATED:20250813T122946Z
LAST-MODIFIED:20260107T125323Z
UID:10019057-1767981600-1767988800@livemusicasheville.com
SUMMARY:Friday Music Series ft. Elizabeth McCorvey & Her Band
DESCRIPTION:
URL:https://livemusicasheville.com/calendar/friday-music-series-ft-elizabeth-mccorvey-her-band/
LOCATION:Lookout Brewing Company Black Mountain
CATEGORIES:Asheville Area,Black Mountain,Live Music
GEO:35.6193199;-82.3178787
END:VEVENT
BEGIN:VEVENT
DTSTART;TZID=America/New_York:20260109T180000
DTEND;TZID=America/New_York:20260109T210000
DTSTAMP:20260425T183924
CREATED:20250605T011809Z
LAST-MODIFIED:20260107T144758Z
UID:10015488-1767981600-1767992400@livemusicasheville.com
SUMMARY:Live Music w/ Tom Keever
DESCRIPTION:
URL:https://livemusicasheville.com/calendar/live-music-w-tom-keever/
LOCATION:Mad Co. Brew House Marshall
CATEGORIES:Asheville Area,Live Music,Madison County
END:VEVENT
BEGIN:VEVENT
DTSTART;TZID=America/New_York:20260109T180000
DTEND;TZID=America/New_York:20260109T210000
DTSTAMP:20260425T183924
CREATED:20250807T170912Z
LAST-MODIFIED:20260107T122055Z
UID:10018683-1767981600-1767992400@livemusicasheville.com
SUMMARY:The Right Fit - Jennifer Allsbrook and Rick Reles
DESCRIPTION:
URL:https://livemusicasheville.com/calendar/the-right-fit-jennifer-allsbrook-and-rick-reles-2/
LOCATION:River Arts District Brewing\, 13 Mystery St\, Asheville\, NC\, 28801\, United States
CATEGORIES:Asheville Area,Live Music
GEO:35.5846876;-82.5649928
X-APPLE-STRUCTURED-LOCATION;VALUE=URI;X-ADDRESS=River Arts District Brewing 13 Mystery St Asheville NC 28801 United States;X-APPLE-RADIUS=500;X-TITLE=13 Mystery St:geo:-82.5649928,35.5846876
END:VEVENT
BEGIN:VEVENT
DTSTART;TZID=America/New_York:20260109T180000
DTEND;TZID=America/New_York:20260109T210000
DTSTAMP:20260425T183924
CREATED:20251121T152720Z
LAST-MODIFIED:20260107T190004Z
UID:10024902-1767981600-1767992400@livemusicasheville.com
SUMMARY:TD Hicks Acoustic
DESCRIPTION:
URL:https://livemusicasheville.com/calendar/td-hicks/
LOCATION:Hickory Tavern Biltmore Park
CATEGORIES:Asheville Area,Live Music,South Asheville/Arden/Fletcher
END:VEVENT
BEGIN:VEVENT
DTSTART;TZID=America/New_York:20260109T180000
DTEND;TZID=America/New_York:20260109T210000
DTSTAMP:20260425T183924
CREATED:20260107T144551Z
LAST-MODIFIED:20260107T144551Z
UID:10032142-1767981600-1767992400@livemusicasheville.com
SUMMARY:Bridget Gossett
DESCRIPTION:
URL:https://livemusicasheville.com/calendar/bridget-gossett-2/
LOCATION:Auction House Food Hall Fletcher
CATEGORIES:Asheville Area,Live Music,South Asheville/Arden/Fletcher
GEO:35.4306652;-82.5019658
END:VEVENT
BEGIN:VEVENT
DTSTART;TZID=America/New_York:20260109T180000
DTEND;TZID=America/New_York:20260109T220000
DTSTAMP:20260425T183924
CREATED:20260104T000456Z
LAST-MODIFIED:20260108T223125Z
UID:10030191-1767981600-1767996000@livemusicasheville.com
SUMMARY:Dub Cartel & The Yard Sales | Benefit Concert for Bridge Meals
DESCRIPTION:Come hungry\, leave full\, and enjoy some great music! Join us January 9th for the Benefit Concert for Bridge Meals. A donation based event helping Bridge feed neighbors who need a meal. Pasta & Prana’s will be onsite serving up free eats for everyone!\nDub Cartel (Reggae/Dub/Ska) & The Yard Sales (surf rock) bringing the vibes. All ages welcome. Roll through at 6pm and be part of something good!!!\n  \n\n\n‘The Mule’ – Tasting Room \n\n\n\n\n\nSay hello to The Mule – a full-service bar/event space in the home of Devil’s Foot Beverage’s production facility. Draft soda\, beer\, & wine – as well as delicious cocktails & mocktails featuring Devil’s Foot craft sodas and the largest collection of NC-made spirits in Asheville – all at your fingertips just outside of Biltmore Village! Open now for all of your beverage & party needs! devilsfootbrew.com/the-mule
URL:https://livemusicasheville.com/calendar/dub-cartel-the-yard-sales-benefit-concert-for-bridge-meals/
LOCATION:The Mule at Devils Foot Beverages\, 131 Sweeten Creek Road\, Asheville\, NC\, 28803\, United States
CATEGORIES:Asheville Area,Live Music
GEO:35.5588369;-82.5218977
X-APPLE-STRUCTURED-LOCATION;VALUE=URI;X-ADDRESS=The Mule at Devils Foot Beverages 131 Sweeten Creek Road Asheville NC 28803 United States;X-APPLE-RADIUS=500;X-TITLE=131 Sweeten Creek Road:geo:-82.5218977,35.5588369
END:VEVENT
BEGIN:VEVENT
DTSTART;TZID=America/New_York:20260109T180000
DTEND;TZID=America/New_York:20260109T230000
DTSTAMP:20260425T183924
CREATED:20250207T164158Z
LAST-MODIFIED:20260422T131528Z
UID:10026020-1767981600-1767999600@livemusicasheville.com
SUMMARY:Friday Open Mic/Jam
DESCRIPTION:Flora Asheville – 5:30-7:30pm (April 17) \nTurgua Brewing Fairview – 6-8pm (2nd & 4th Fridays) \nCoffee\, Art\, Music type Place – 6-8pm (First Fridays) \nWagWorld Pub Fletcher – 6:30-9:30pm \nElevated Kava Downtown – 8-11
URL:https://livemusicasheville.com/calendar/friday-open-mic-jam/2026-01-09/
LOCATION:Asheville Area
CATEGORIES:Asheville Area,Madison County,Open MIc/Jam,South Asheville/Arden/Fletcher
END:VEVENT
BEGIN:VEVENT
DTSTART;TZID=America/New_York:20260109T180000
DTEND;TZID=America/New_York:20260110T020000
DTSTAMP:20260425T183924
CREATED:20241225T134450Z
LAST-MODIFIED:20260415T173808Z
UID:10027296-1767981600-1768010400@livemusicasheville.com
SUMMARY:Friday Weekly DJ's
DESCRIPTION:Although we are primarily a Live Music Calendar\, we often come across Electronic & DJ events in the area and list them for you as we find out about them. Please verify the DJ\, times and cover charges with the venue. \nLA Pizza Party Rooftop – 6-9pm \nThe Radical – 6-11pm \nPotential New Boyfriend – 7:30-11pm \nCapella On 9 – 8-11pm \nBen’s Tune Up – 8-11pm \nAntidote – 9-11pm \nBanks Ave – 9-11:30pm \nVOWL – 9pm-1am \nDouble Crown – 9pm-2am \nHavana Miami – 9pm-2am \nStatic Age Loft – 9pm-2am \nWaterstreet – 9pm-2am \nLa Pizza Party – 10pm-2am \nThe Barksdale – 10pm-2am \nLazy Diamond – 10pm-2am \nSticks On Broadway – 10pm-2am \nStrange Magic Bar – 10pm-2am \nShakeys – 10pm-2am \n  \nVerify with the venue on times\, cover charges and tonight’s DJ.
URL:https://livemusicasheville.com/calendar/friday-weekly-dj-schedule/2026-01-09/
LOCATION:Asheville Area
CATEGORIES:Asheville Area,DJ/Electronic
END:VEVENT
BEGIN:VEVENT
DTSTART;TZID=America/New_York:20260109T183000
DTEND;TZID=America/New_York:20260109T213000
DTSTAMP:20260425T183924
CREATED:20250122T121142Z
LAST-MODIFIED:20260107T132430Z
UID:10006811-1767983400-1767994200@livemusicasheville.com
SUMMARY:Falspring (Taylor Knighton & Thomas Yon)
DESCRIPTION:
URL:https://livemusicasheville.com/calendar/falspring/
LOCATION:Mills River Brewing Co.\, 336 Banner Farm Rd\,\, Mills River\, NC\, 28759
CATEGORIES:Asheville Area,Live Music,Mills River
GEO:35.380515;-82.5654984
X-APPLE-STRUCTURED-LOCATION;VALUE=URI;X-ADDRESS=Mills River Brewing Co. 336 Banner Farm Rd Mills River NC 28759;X-APPLE-RADIUS=500;X-TITLE=336 Banner Farm Rd\,:geo:-82.5654984,35.380515
END:VEVENT
BEGIN:VEVENT
DTSTART;TZID=America/New_York:20260109T190000
DTEND;TZID=America/New_York:20260109T210000
DTSTAMP:20260425T183924
CREATED:20251029T132808Z
LAST-MODIFIED:20260415T133603Z
UID:10056839-1767985200-1767992400@livemusicasheville.com
SUMMARY:Grass Is Back!
DESCRIPTION:No Cover – Donations accepted!\n\n\n\n\nApril 17 – Lynn Goldsmith & The Jeter Mountain Band\nApril 24 – New Carolina Connection Band\nMay 1 – Harlan County Grass\nMay 8 – Mulley Holler Band\nMay 15- Travis Watts & Mountain Blessings\nMay 22 – Hit or Miss Bluegrass & Country Band
URL:https://livemusicasheville.com/calendar/grass-is-back-3/2026-01-09/
LOCATION:Feed and Seed Fletcher
CATEGORIES:Asheville Area,Live Music,South Asheville/Arden/Fletcher
END:VEVENT
BEGIN:VEVENT
DTSTART;TZID=America/New_York:20260109T190000
DTEND;TZID=America/New_York:20260109T210000
DTSTAMP:20260425T183924
CREATED:20260106T171801Z
LAST-MODIFIED:20260106T171801Z
UID:10030393-1767985200-1767992400@livemusicasheville.com
SUMMARY:Asheville Swing Ensemble
DESCRIPTION:
URL:https://livemusicasheville.com/calendar/asheville-swing-ensemble/
LOCATION:5 Walnut Wine Bar
CATEGORIES:Asheville Area,Live Music
GEO:35.596654;-82.5525389
END:VEVENT
BEGIN:VEVENT
DTSTART;TZID=America/New_York:20260109T190000
DTEND;TZID=America/New_York:20260109T213000
DTSTAMP:20260425T183924
CREATED:20260107T163452Z
LAST-MODIFIED:20260107T163452Z
UID:10032365-1767985200-1767994200@livemusicasheville.com
SUMMARY:Twain
DESCRIPTION:
URL:https://livemusicasheville.com/calendar/twain/
LOCATION:AyurPrana Listening Room\, 312 Haywood Rd\, Asheville\, NC\, 28806
CATEGORIES:Asheville Area,Live Music
GEO:35.5775962;-82.5760261
X-APPLE-STRUCTURED-LOCATION;VALUE=URI;X-ADDRESS=AyurPrana Listening Room 312 Haywood Rd Asheville NC 28806;X-APPLE-RADIUS=500;X-TITLE=312 Haywood Rd:geo:-82.5760261,35.5775962
END:VEVENT
BEGIN:VEVENT
DTSTART;TZID=America/New_York:20260109T190000
DTEND;TZID=America/New_York:20260109T220000
DTSTAMP:20260425T183924
CREATED:20251113T101742Z
LAST-MODIFIED:20260327T002508Z
UID:10052975-1767985200-1767996000@livemusicasheville.com
SUMMARY:Blues with Mr Jimmy
DESCRIPTION:
URL:https://livemusicasheville.com/calendar/blues-with-mr-jimmy-2-2-2/2026-01-09/
LOCATION:The Station Black Mountain
CATEGORIES:Asheville Area,Black Mountain,Live Music
END:VEVENT
BEGIN:VEVENT
DTSTART;TZID=America/New_York:20260109T190000
DTEND;TZID=America/New_York:20260109T220000
DTSTAMP:20260425T183924
CREATED:20251216T143930Z
LAST-MODIFIED:20260105T194142Z
UID:10028860-1767985200-1767996000@livemusicasheville.com
SUMMARY:Cactus Kate & The Pricks
DESCRIPTION:Bar: 2PM | Music: 7PM \nCactus Kate and the Pricks is an Asheville based country-Americana band whose heartfelt original songs range from sentimental to witty dive bar country. Their music features vocal harmonies\, fiddle solos\, and plenty of small town gossip. Core members include singer-songwriter/fiddler Kate Leigh Bryant\, cellist/bassist Ashlee Booth\, guitarist Curtis Killian\, and drummer Scott Voloshin. \n  \nFounded in 2005\, Pisgah is known for producing some of the most sought after craft ales in Western North Carolina. Pisgah Brewing Company currently operates the new indoor taproom & deli\, with live music several days a week\, plus an open air outdoor bar in the summer and fall months. Check out our upcoming schedule at pisgahbrewing.com/events
URL:https://livemusicasheville.com/calendar/cactus-kate-the-pricks/
LOCATION:Pisgah Brewing Company Black Mountain\, 2948 US-70\, Black Mountain\, NC\, 28711
CATEGORIES:Asheville Area,Black Mountain,Live Music
GEO:35.6068069;-82.3568213
X-APPLE-STRUCTURED-LOCATION;VALUE=URI;X-ADDRESS=Pisgah Brewing Company Black Mountain 2948 US-70 Black Mountain NC 28711;X-APPLE-RADIUS=500;X-TITLE=2948 US-70:geo:-82.3568213,35.6068069
END:VEVENT
BEGIN:VEVENT
DTSTART;TZID=America/New_York:20260109T190000
DTEND;TZID=America/New_York:20260109T220000
DTSTAMP:20260425T183924
CREATED:20251222T160644Z
LAST-MODIFIED:20251222T160644Z
UID:10029210-1767985200-1767996000@livemusicasheville.com
SUMMARY:The B's Trio in The Great Hall
DESCRIPTION:
URL:https://livemusicasheville.com/calendar/the-bs-trio-in-the-great-hall-2/2026-01-09/
LOCATION:The Omni Grove Park Inn
CATEGORIES:Asheville Area,Live Music
GEO:35.6206376;-82.5422977
END:VEVENT
BEGIN:VEVENT
DTSTART;TZID=America/New_York:20260109T190000
DTEND;TZID=America/New_York:20260109T220000
DTSTAMP:20260425T183924
CREATED:20260107T114410Z
LAST-MODIFIED:20260107T114410Z
UID:10031221-1767985200-1767996000@livemusicasheville.com
SUMMARY:Lexi Weege with Matt McWaters
DESCRIPTION:
URL:https://livemusicasheville.com/calendar/lexi-weege-with-matt-mcwaters/
LOCATION:One World Brewing Downtown\, 10 Patton Ave\, Asheville\, NC\, 28801
CATEGORIES:Asheville Area,Live Music
GEO:35.5947396;-82.5522724
X-APPLE-STRUCTURED-LOCATION;VALUE=URI;X-ADDRESS=One World Brewing Downtown 10 Patton Ave Asheville NC 28801;X-APPLE-RADIUS=500;X-TITLE=10 Patton Ave:geo:-82.5522724,35.5947396
END:VEVENT
BEGIN:VEVENT
DTSTART;TZID=America/New_York:20260109T190000
DTEND;TZID=America/New_York:20260109T220000
DTSTAMP:20260425T183925
CREATED:20260107T133445Z
LAST-MODIFIED:20260107T193653Z
UID:10032004-1767985200-1767996000@livemusicasheville.com
SUMMARY:The Desilvis\, Briley\, Falbo Trio
DESCRIPTION:
URL:https://livemusicasheville.com/calendar/the-trio/
LOCATION:The Joint Next Door Fairview
CATEGORIES:Asheville Area,Fairview,Live Music
GEO:35.5251372;-82.424797
END:VEVENT
BEGIN:VEVENT
DTSTART;TZID=America/New_York:20260109T190000
DTEND;TZID=America/New_York:20260109T230000
DTSTAMP:20260425T183925
CREATED:20260107T164809Z
LAST-MODIFIED:20260107T164809Z
UID:10032367-1767985200-1767999600@livemusicasheville.com
SUMMARY:Cliff B. Worsham w/ Jacob Danielson Moore\, Chancelor Lawson & Laney Barnett
DESCRIPTION:
URL:https://livemusicasheville.com/calendar/cliff-b-worsham-w-jacob-danielson-moore-chancelor-lawson-laney-barnett/
LOCATION:Eulogy\, 10 Buxton Ave\, Asheville\, NC\, 28801
CATEGORIES:Asheville Area,Live Music
GEO:35.5883468;-82.5539256
X-APPLE-STRUCTURED-LOCATION;VALUE=URI;X-ADDRESS=Eulogy 10 Buxton Ave Asheville NC 28801;X-APPLE-RADIUS=500;X-TITLE=10 Buxton Ave:geo:-82.5539256,35.5883468
END:VEVENT
BEGIN:VEVENT
DTSTART;TZID=America/New_York:20260109T190000
DTEND;TZID=America/New_York:20260110T010000
DTSTAMP:20260425T183925
CREATED:20241225T141623Z
LAST-MODIFIED:20260416T110217Z
UID:10056322-1767985200-1768006800@livemusicasheville.com
SUMMARY:Friday Karaoke
DESCRIPTION:  \n7-10pm – Mal’s Bar Marshall (February 20) \n7-10pm- Noble Cider (April 10) \n8pm-12am – Silverados Black Mountain \n8-11pm – Dalton Distillery (April 17) \n8-11pm – T Birds Weaverville \n8:30-11pm – The Village Porch Woodfin (April 17) \n8pm-1am – Fleetwoods (Feb 27) \n9pm-12am – Brewskies Fairview   \n9pm-12am – Little Creek Tavern Fletcher  \n9pm-1am – Handlebar & Grill \n9pm- 1am – O’Henrys \n9:30pm-1:30am – The Crowbar Downtown \n10pm – 2am – Shakeys \nVerify time and KJ with The Venue. \n  \n  \n\n 
URL:https://livemusicasheville.com/calendar/friday-weekly-karaoke/2026-01-09/
LOCATION:Asheville Area
CATEGORIES:Asheville Area,Black Mountain,Fairview,Karaoke,Madison County,Weaverville
END:VEVENT
BEGIN:VEVENT
DTSTART;TZID=America/New_York:20260109T190000
DTEND;TZID=America/New_York:20260110T020000
DTSTAMP:20260425T183925
CREATED:20241225T123126Z
LAST-MODIFIED:20251122T132355Z
UID:10025518-1767985200-1768010400@livemusicasheville.com
SUMMARY:Dueling Piano Show
DESCRIPTION:
URL:https://livemusicasheville.com/calendar/dueling-piano-show/2026-01-09/
LOCATION:Off the Wagon
CATEGORIES:Asheville Area,Live Music
GEO:41.4302231;-81.3909542
END:VEVENT
END:VCALENDAR