BEGIN:VCALENDAR
VERSION:2.0
PRODID:-//LiveMusicAsheville.com - ECPv6.15.20//NONSGML v1.0//EN
CALSCALE:GREGORIAN
METHOD:PUBLISH
X-WR-CALNAME:LiveMusicAsheville.com
X-ORIGINAL-URL:https://livemusicasheville.com
X-WR-CALDESC:Events for LiveMusicAsheville.com
REFRESH-INTERVAL;VALUE=DURATION:PT1H
X-Robots-Tag:noindex
X-PUBLISHED-TTL:PT1H
BEGIN:VTIMEZONE
TZID:America/New_York
BEGIN:DAYLIGHT
TZOFFSETFROM:-0500
TZOFFSETTO:-0400
TZNAME:EDT
DTSTART:20240310T070000
END:DAYLIGHT
BEGIN:STANDARD
TZOFFSETFROM:-0400
TZOFFSETTO:-0500
TZNAME:EST
DTSTART:20241103T060000
END:STANDARD
BEGIN:DAYLIGHT
TZOFFSETFROM:-0500
TZOFFSETTO:-0400
TZNAME:EDT
DTSTART:20250309T070000
END:DAYLIGHT
BEGIN:STANDARD
TZOFFSETFROM:-0400
TZOFFSETTO:-0500
TZNAME:EST
DTSTART:20251102T060000
END:STANDARD
BEGIN:DAYLIGHT
TZOFFSETFROM:-0500
TZOFFSETTO:-0400
TZNAME:EDT
DTSTART:20260308T070000
END:DAYLIGHT
BEGIN:STANDARD
TZOFFSETFROM:-0400
TZOFFSETTO:-0500
TZNAME:EST
DTSTART:20261101T060000
END:STANDARD
END:VTIMEZONE
BEGIN:VEVENT
DTSTART;TZID=America/New_York:20251219T160000
DTEND;TZID=America/New_York:20251219T173000
DTSTAMP:20260425T095645
CREATED:20251209T142311Z
LAST-MODIFIED:20251209T142311Z
UID:10026983-1766160000-1766165400@livemusicasheville.com
SUMMARY:PAN HARMONIA: Yuletide!
DESCRIPTION:Now an annual tradition\, Kate Steinbeck and Jessica Schaeffer bring the soothing\, light-filled sounds of flute and harp to the darkest days of the year. Enjoy a blend of traditional carols and lesser-known works; we also celebrate founder Kate Steinbeck’s birthday this day!\nwith Kate Steinbeck Flute and Jessica Schaeffer Harp\nFriday\, December 19\, 12 pm · St. Matthias Church\, Asheville ORFriday\, December 19\, 4 pm · East Asheville Library\nAs ever\, PAN HARMONIA offers Donation-based\, Pay-as-You-Can Community Concerts. All are welcome!\npanharmonia.org
URL:https://livemusicasheville.com/calendar/pan-harmonia-yuletide-2/
LOCATION:East Asheville Public Library
CATEGORIES:Asheville Area,Live Music
GEO:35.5881654;-82.503253
END:VEVENT
BEGIN:VEVENT
DTSTART;TZID=America/New_York:20251219T173000
DTEND;TZID=America/New_York:20251219T193000
DTSTAMP:20260425T095645
CREATED:20250115T170305Z
LAST-MODIFIED:20251214T223120Z
UID:10006470-1766165400-1766172600@livemusicasheville.com
SUMMARY:Hank and Vollie
DESCRIPTION:
URL:https://livemusicasheville.com/calendar/hank-and-vollie/2025-12-19/
LOCATION:Battery Park Book Exchange & Champagne Bar
CATEGORIES:Asheville Area,Live Music
GEO:35.5951042;-82.556633
END:VEVENT
BEGIN:VEVENT
DTSTART;TZID=America/New_York:20251219T180000
DTEND;TZID=America/New_York:20251219T210000
DTSTAMP:20260425T095645
CREATED:20250924T124702Z
LAST-MODIFIED:20251217T150528Z
UID:10021556-1766167200-1766178000@livemusicasheville.com
SUMMARY:Dirt Yard Choir
DESCRIPTION:
URL:https://livemusicasheville.com/calendar/dirt-yard-choir/
LOCATION:Auction House Food Hall Fletcher
CATEGORIES:Asheville Area,Live Music,South Asheville/Arden/Fletcher
GEO:35.4306652;-82.5019658
END:VEVENT
BEGIN:VEVENT
DTSTART;TZID=America/New_York:20251219T180000
DTEND;TZID=America/New_York:20251219T210000
DTSTAMP:20260425T095645
CREATED:20251217T133651Z
LAST-MODIFIED:20251217T133651Z
UID:10028935-1766167200-1766178000@livemusicasheville.com
SUMMARY:Live Music: The Trophy Husbands
DESCRIPTION:
URL:https://livemusicasheville.com/calendar/live-music-the-trophy-husbands/
LOCATION:Bold Rock Hard Cider – Mills River
CATEGORIES:Asheville Area,Live Music,Mills River
GEO:35.3763918;-82.5592839
END:VEVENT
BEGIN:VEVENT
DTSTART;TZID=America/New_York:20251219T180000
DTEND;TZID=America/New_York:20251219T220000
DTSTAMP:20260425T095645
CREATED:20251007T130234Z
LAST-MODIFIED:20251116T161904Z
UID:10024591-1766167200-1766181600@livemusicasheville.com
SUMMARY:Winter Lights
DESCRIPTION:We look forward to welcoming you back for another year of Asheville’s Brightest Holiday Tradition! Winter Lights is a spectacular open-air walk-through light show made from over one million lights! Located at the North Carolina Arboretum in Asheville\, North Carolina\, this year’s event features favorites like the famously tall 50-foot lighted tree and the Quilt Garden\, along with enchanting new details designed to delight and surprise. \nTroll sightings are anticipated at this year’s Winter Lights\, as six of Dambo’s Trolls will be experiencing the show for themselves. Meet them in the gardens at Winter Lights! \nWinter Lights features live entertainment nightly and food and beverages from the Bent Creek Bistro\, the Cocoa Shack and the Cocoa Cabin! Open nightly from 6:00 – 10:00 p.m. \nTickets on Sale Now! Event Details and Tickets \nFor more than 35 years…Cultivating Connections between People\, Plants and Places…amid a 434-acre public garden\, The North Carolina Arboretum is located within the Bent Creek Experimental Forest just south of Asheville and adjacent to the Blue Ridge Parkway at Milepost 393. Surrounded and crisscrossed by forested coves and meandering creeks in the botanically diverse Southern Appalachian Mountains\, The North Carolina Arboretum is set in one of the most beautiful natural settings in America. ncarboretum.org \n  \n 
URL:https://livemusicasheville.com/calendar/winter-lights-2/2025-12-19/
LOCATION:The North Carolina Arboretum
CATEGORIES:Asheville Area,Live Music
END:VEVENT
BEGIN:VEVENT
DTSTART;TZID=America/New_York:20251219T180000
DTEND;TZID=America/New_York:20251219T230000
DTSTAMP:20260425T095645
CREATED:20250207T164158Z
LAST-MODIFIED:20260422T131528Z
UID:10026017-1766167200-1766185200@livemusicasheville.com
SUMMARY:Friday Open Mic/Jam
DESCRIPTION:Flora Asheville – 5:30-7:30pm (April 17) \nTurgua Brewing Fairview – 6-8pm (2nd & 4th Fridays) \nCoffee\, Art\, Music type Place – 6-8pm (First Fridays) \nWagWorld Pub Fletcher – 6:30-9:30pm \nElevated Kava Downtown – 8-11
URL:https://livemusicasheville.com/calendar/friday-open-mic-jam/2025-12-19/
LOCATION:Asheville Area
CATEGORIES:Asheville Area,Madison County,Open MIc/Jam,South Asheville/Arden/Fletcher
END:VEVENT
BEGIN:VEVENT
DTSTART;TZID=America/New_York:20251219T180000
DTEND;TZID=America/New_York:20251220T020000
DTSTAMP:20260425T095645
CREATED:20241225T134450Z
LAST-MODIFIED:20260415T173808Z
UID:10021402-1766167200-1766196000@livemusicasheville.com
SUMMARY:Friday Weekly DJ's
DESCRIPTION:Although we are primarily a Live Music Calendar\, we often come across Electronic & DJ events in the area and list them for you as we find out about them. Please verify the DJ\, times and cover charges with the venue. \nLA Pizza Party Rooftop – 6-9pm \nThe Radical – 6-11pm \nPotential New Boyfriend – 7:30-11pm \nCapella On 9 – 8-11pm \nBen’s Tune Up – 8-11pm \nAntidote – 9-11pm \nBanks Ave – 9-11:30pm \nVOWL – 9pm-1am \nDouble Crown – 9pm-2am \nHavana Miami – 9pm-2am \nStatic Age Loft – 9pm-2am \nWaterstreet – 9pm-2am \nLa Pizza Party – 10pm-2am \nThe Barksdale – 10pm-2am \nLazy Diamond – 10pm-2am \nSticks On Broadway – 10pm-2am \nStrange Magic Bar – 10pm-2am \nShakeys – 10pm-2am \n  \nVerify with the venue on times\, cover charges and tonight’s DJ.
URL:https://livemusicasheville.com/calendar/friday-weekly-dj-schedule/2025-12-19/
LOCATION:Asheville Area
CATEGORIES:Asheville Area,DJ/Electronic
END:VEVENT
BEGIN:VEVENT
DTSTART;TZID=America/New_York:20251219T183000
DTEND;TZID=America/New_York:20251219T213000
DTSTAMP:20260425T095645
CREATED:20250611T123750Z
LAST-MODIFIED:20251217T132300Z
UID:10015746-1766169000-1766179800@livemusicasheville.com
SUMMARY:Jon Cox Band
DESCRIPTION:
URL:https://livemusicasheville.com/calendar/jon-cox-band/
LOCATION:Mills River Brewing Co.\, 336 Banner Farm Rd\,\, Mills River\, NC\, 28759
CATEGORIES:Asheville Area,Live Music,Mills River
GEO:35.380515;-82.5654984
X-APPLE-STRUCTURED-LOCATION;VALUE=URI;X-ADDRESS=Mills River Brewing Co. 336 Banner Farm Rd Mills River NC 28759;X-APPLE-RADIUS=500;X-TITLE=336 Banner Farm Rd\,:geo:-82.5654984,35.380515
END:VEVENT
BEGIN:VEVENT
DTSTART;TZID=America/New_York:20251219T190000
DTEND;TZID=America/New_York:20251219T210000
DTSTAMP:20260425T095645
CREATED:20251029T132808Z
LAST-MODIFIED:20260415T133603Z
UID:10056836-1766170800-1766178000@livemusicasheville.com
SUMMARY:Grass Is Back!
DESCRIPTION:No Cover – Donations accepted!\n\n\n\n\nApril 17 – Lynn Goldsmith & The Jeter Mountain Band\nApril 24 – New Carolina Connection Band\nMay 1 – Harlan County Grass\nMay 8 – Mulley Holler Band\nMay 15- Travis Watts & Mountain Blessings\nMay 22 – Hit or Miss Bluegrass & Country Band
URL:https://livemusicasheville.com/calendar/grass-is-back-3/2025-12-19/
LOCATION:Feed and Seed Fletcher
CATEGORIES:Asheville Area,Live Music,South Asheville/Arden/Fletcher
END:VEVENT
BEGIN:VEVENT
DTSTART;TZID=America/New_York:20251219T190000
DTEND;TZID=America/New_York:20251219T210000
DTSTAMP:20260425T095645
CREATED:20251217T151900Z
LAST-MODIFIED:20251217T151900Z
UID:10028946-1766170800-1766178000@livemusicasheville.com
SUMMARY:Vienna Light Orchestra
DESCRIPTION:
URL:https://livemusicasheville.com/calendar/vienna-light-orchestra/2025-12-19/2/
LOCATION:Harrah’s Cherokee Center – Asheville
CATEGORIES:Asheville Area,Live Music
GEO:35.5975104;-82.5460563
END:VEVENT
BEGIN:VEVENT
DTSTART;TZID=America/New_York:20251219T190000
DTEND;TZID=America/New_York:20251219T210000
DTSTAMP:20260425T095645
CREATED:20251217T185211Z
LAST-MODIFIED:20251217T185211Z
UID:10028969-1766170800-1766178000@livemusicasheville.com
SUMMARY:Kuf Knotz & Christine Elise
DESCRIPTION:
URL:https://livemusicasheville.com/calendar/kuf-knotz-christine-elise/
LOCATION:Highland Brewing
END:VEVENT
BEGIN:VEVENT
DTSTART;TZID=America/New_York:20251219T190000
DTEND;TZID=America/New_York:20251219T220000
DTSTAMP:20260425T095645
CREATED:20241227T142247Z
LAST-MODIFIED:20251217T115024Z
UID:10004005-1766170800-1766181600@livemusicasheville.com
SUMMARY:The Lads avl
DESCRIPTION:
URL:https://livemusicasheville.com/calendar/the-lads-avl-2/
LOCATION:Pillar Rooftop Bar
CATEGORIES:Asheville Area,Live Music
GEO:35.5970115;-82.5461959
END:VEVENT
BEGIN:VEVENT
DTSTART;TZID=America/New_York:20251219T190000
DTEND;TZID=America/New_York:20251219T220000
DTSTAMP:20260425T095645
CREATED:20251113T101742Z
LAST-MODIFIED:20260327T002508Z
UID:10052972-1766170800-1766181600@livemusicasheville.com
SUMMARY:Blues with Mr Jimmy
DESCRIPTION:
URL:https://livemusicasheville.com/calendar/blues-with-mr-jimmy-2-2-2/2025-12-19/
LOCATION:The Station Black Mountain
CATEGORIES:Asheville Area,Black Mountain,Live Music
END:VEVENT
BEGIN:VEVENT
DTSTART;TZID=America/New_York:20251219T190000
DTEND;TZID=America/New_York:20251220T010000
DTSTAMP:20260425T095645
CREATED:20241225T141623Z
LAST-MODIFIED:20260416T110217Z
UID:10056319-1766170800-1766192400@livemusicasheville.com
SUMMARY:Friday Karaoke
DESCRIPTION:  \n7-10pm – Mal’s Bar Marshall (February 20) \n7-10pm- Noble Cider (April 10) \n8pm-12am – Silverados Black Mountain \n8-11pm – Dalton Distillery (April 17) \n8-11pm – T Birds Weaverville \n8:30-11pm – The Village Porch Woodfin (April 17) \n8pm-1am – Fleetwoods (Feb 27) \n9pm-12am – Brewskies Fairview   \n9pm-12am – Little Creek Tavern Fletcher  \n9pm-1am – Handlebar & Grill \n9pm- 1am – O’Henrys \n9:30pm-1:30am – The Crowbar Downtown \n10pm – 2am – Shakeys \nVerify time and KJ with The Venue. \n  \n  \n\n 
URL:https://livemusicasheville.com/calendar/friday-weekly-karaoke/2025-12-19/
LOCATION:Asheville Area
CATEGORIES:Asheville Area,Black Mountain,Fairview,Karaoke,Madison County,Weaverville
END:VEVENT
BEGIN:VEVENT
DTSTART;TZID=America/New_York:20251219T190000
DTEND;TZID=America/New_York:20251220T020000
DTSTAMP:20260425T095645
CREATED:20241225T123126Z
LAST-MODIFIED:20251122T132355Z
UID:10000627-1766170800-1766196000@livemusicasheville.com
SUMMARY:Dueling Piano Show
DESCRIPTION:
URL:https://livemusicasheville.com/calendar/dueling-piano-show/2025-12-19/
LOCATION:Off the Wagon
CATEGORIES:Asheville Area,Live Music
GEO:41.4302231;-81.3909542
END:VEVENT
BEGIN:VEVENT
DTSTART;TZID=America/New_York:20251219T193000
DTEND;TZID=America/New_York:20251219T213000
DTSTAMP:20260425T095645
CREATED:20251215T215525Z
LAST-MODIFIED:20251215T215525Z
UID:10028786-1766172600-1766179800@livemusicasheville.com
SUMMARY:Winter Soiree ft. live music from Kelle Jolly
DESCRIPTION:
URL:https://livemusicasheville.com/calendar/winter-soiree-ft-live-music-from-kelle-jolly/
LOCATION:Story Parlor
CATEGORIES:Asheville Area,Live Music
END:VEVENT
BEGIN:VEVENT
DTSTART;TZID=America/New_York:20251219T193000
DTEND;TZID=America/New_York:20251219T213000
DTSTAMP:20260425T095645
CREATED:20251217T181556Z
LAST-MODIFIED:20251217T181808Z
UID:10028955-1766172600-1766179800@livemusicasheville.com
SUMMARY:Christmas in Appalachia: A singin'\, strummin'\, family show!
DESCRIPTION:Appalachian and holiday music and storytelling!\n\n\n\nAppalachian and holiday music and storytelling\, audience participation and sing-a-longs are all on tap for Christmas in Appalachia: A singin’\, strummin’\, family show! at BMCA. Join acclaimed old time musician Travis Stuart\, actor/storyteller John Hall and friends as they share stories and songs about Appalachian Christmas traditions and memories. Learn the stories behind “Old Christmas”\, “Ruling Days”\, “Serenading” and how St. Nick began putting presents in stockings. Experience the beauty of seasonal music played on traditional Appalachian instruments\, and sing along to everyone’s favorite holiday tunes. Bring the family to enjoy Christmas in Appalachia! \n— \nTickets are $15 for adults and $10 for youth (up to age17). Event Details and Tickets \nDoors open 30 minutes prior to showtime. Seating is general admission\, first come first served. Online ticket sales end 1 hour prior to showtime. There may still be tickets available for purchase in the office after online sales have ended. Please call BMCA at 828-669-0930 for more information.
URL:https://livemusicasheville.com/calendar/christmas-in-appalachia-a-singin-strummin-family-show/2025-12-19/
LOCATION:Black Mountain Center for the Arts
CATEGORIES:Asheville Area,Black Mountain,Live Music
GEO:35.6161175;-82.321505
END:VEVENT
BEGIN:VEVENT
DTSTART;TZID=America/New_York:20251219T200000
DTEND;TZID=America/New_York:20251219T220000
DTSTAMP:20260425T095645
CREATED:20250212T152622Z
LAST-MODIFIED:20260401T141115Z
UID:10026294-1766174400-1766181600@livemusicasheville.com
SUMMARY:Will Hartz
DESCRIPTION:
URL:https://livemusicasheville.com/calendar/will-hartz-4/2025-12-19/
LOCATION:The Whale Outpost Haw Creek
CATEGORIES:Asheville Area,Live Music
GEO:35.5919991;-82.5054695
END:VEVENT
BEGIN:VEVENT
DTSTART;TZID=America/New_York:20251219T200000
DTEND;TZID=America/New_York:20251219T220000
DTSTAMP:20260425T095645
CREATED:20250304T164444Z
LAST-MODIFIED:20251217T180652Z
UID:10009358-1766174400-1766181600@livemusicasheville.com
SUMMARY:Iggy Radio
DESCRIPTION:
URL:https://livemusicasheville.com/calendar/iggy-radio-4/
LOCATION:Mudpuppies Arden
CATEGORIES:Asheville Area,Live Music,South Asheville/Arden/Fletcher
GEO:35.4440387;-82.5322387
END:VEVENT
BEGIN:VEVENT
DTSTART;TZID=America/New_York:20251219T200000
DTEND;TZID=America/New_York:20251219T223000
DTSTAMP:20260425T095645
CREATED:20251217T142030Z
LAST-MODIFIED:20251217T142030Z
UID:10028937-1766174400-1766183400@livemusicasheville.com
SUMMARY:Brody Hunt & The Silent Knights
DESCRIPTION:
URL:https://livemusicasheville.com/calendar/brody-hunt-the-silent-knights/
LOCATION:Cork & Keg
CATEGORIES:Asheville Area,Live Music
END:VEVENT
BEGIN:VEVENT
DTSTART;TZID=America/New_York:20251219T200000
DTEND;TZID=America/New_York:20251219T223000
DTSTAMP:20260425T095645
CREATED:20251217T182023Z
LAST-MODIFIED:20251217T182023Z
UID:10028959-1766174400-1766183400@livemusicasheville.com
SUMMARY:Jon Stickley Trio
DESCRIPTION:
URL:https://livemusicasheville.com/calendar/jon-stickley-trio/
LOCATION:Eulogy\, 10 Buxton Ave\, Asheville\, NC\, 28801
CATEGORIES:Asheville Area,Live Music
GEO:35.5883468;-82.5539256
X-APPLE-STRUCTURED-LOCATION;VALUE=URI;X-ADDRESS=Eulogy 10 Buxton Ave Asheville NC 28801;X-APPLE-RADIUS=500;X-TITLE=10 Buxton Ave:geo:-82.5539256,35.5883468
END:VEVENT
BEGIN:VEVENT
DTSTART;TZID=America/New_York:20251219T200000
DTEND;TZID=America/New_York:20251219T230000
DTSTAMP:20260425T095645
CREATED:20250711T192233Z
LAST-MODIFIED:20260116T152048Z
UID:10028203-1766174400-1766185200@livemusicasheville.com
SUMMARY:Commodore Fox Band
DESCRIPTION:
URL:https://livemusicasheville.com/calendar/commodore-fox-band-2/2025-12-19/
LOCATION:Wild Wing Cafe South
CATEGORIES:Live Music,South Asheville/Arden/Fletcher
END:VEVENT
BEGIN:VEVENT
DTSTART;TZID=America/New_York:20251219T200000
DTEND;TZID=America/New_York:20251219T230000
DTSTAMP:20260425T095645
CREATED:20251210T204716Z
LAST-MODIFIED:20251210T204716Z
UID:10027263-1766174400-1766185200@livemusicasheville.com
SUMMARY:Thievery Corporation w/ City Of The Sun
DESCRIPTION:
URL:https://livemusicasheville.com/calendar/thievery-corporation-w-city-of-the-sun/2025-12-19/
LOCATION:NC
CATEGORIES:Asheville Area,Live Music
END:VEVENT
BEGIN:VEVENT
DTSTART;TZID=America/New_York:20251219T200000
DTEND;TZID=America/New_York:20251219T230000
DTSTAMP:20260425T095645
CREATED:20251217T174644Z
LAST-MODIFIED:20251217T174644Z
UID:10028952-1766174400-1766185200@livemusicasheville.com
SUMMARY:Dylan Earl w/ Christopher Seymore
DESCRIPTION:
URL:https://livemusicasheville.com/calendar/dylan-earl-w-christopher-seymore/
LOCATION:Eda’s Hide-a-Way Weaverville
CATEGORIES:Asheville Area,Live Music,Weaverville
GEO:35.6970547;-82.5606851
END:VEVENT
BEGIN:VEVENT
DTSTART;TZID=America/New_York:20251219T203000
DTEND;TZID=America/New_York:20251219T233000
DTSTAMP:20260425T095645
CREATED:20250101T174346Z
LAST-MODIFIED:20251216T142152Z
UID:10004771-1766176200-1766187000@livemusicasheville.com
SUMMARY:Lock\, Stock & Teardrops
DESCRIPTION:
URL:https://livemusicasheville.com/calendar/old-school-country-w-lock-stock-teardrops/
LOCATION:Jack Of The Wood\, 95 Patton Ave\, asheville\, NC\, United States
CATEGORIES:Asheville Area,Live Music
GEO:35.5944492;-82.5558221
X-APPLE-STRUCTURED-LOCATION;VALUE=URI;X-ADDRESS=Jack Of The Wood 95 Patton Ave asheville NC United States;X-APPLE-RADIUS=500;X-TITLE=95 Patton Ave:geo:-82.5558221,35.5944492
END:VEVENT
BEGIN:VEVENT
DTSTART;TZID=America/New_York:20251219T203000
DTEND;TZID=America/New_York:20251220T010000
DTSTAMP:20260425T095645
CREATED:20241225T140756Z
LAST-MODIFIED:20251214T224332Z
UID:10001528-1766176200-1766192400@livemusicasheville.com
SUMMARY:Elaine’s Dueling Piano Bar
DESCRIPTION:
URL:https://livemusicasheville.com/calendar/elaines-dueling-piano-bar/2025-12-19/
LOCATION:The Omni Grove Park Inn
CATEGORIES:Asheville Area,Live Music
GEO:35.6206376;-82.5422977
END:VEVENT
BEGIN:VEVENT
DTSTART;TZID=America/New_York:20251219T210000
DTEND;TZID=America/New_York:20251220T000000
DTSTAMP:20260425T095645
CREATED:20251201T224519Z
LAST-MODIFIED:20251220T183636Z
UID:10026306-1766178000-1766188800@livemusicasheville.com
SUMMARY:The Cool Yule Club: Honky Tonk Nights
DESCRIPTION:Step into THE COOL YULE CLUB\, a 70s Christmas pop-up experience inside Fitz & The Wolfe’s Palm Room. Every Friday + Saturday we flip the room into two distinct throwback nights within one very groovy decade experience.. \n• A retro Honky Tonk listening room 🤠✨\n• A vintage Jazz Club night 🎷🌟 \n\n\n\nExpect warm tinsel lit twang\, mellow energy\, and classic country storytelling in a cozy sit-and-listen setting. Think Merle Haggard\, Loretta Lynn\, Buck Owen’s\, Dolly Parton and more.. \nHONKY TONK Lineup: \nDec 26 – Chris Vita Band \n\n\n$10 covers both the Showroom and Palm Room music.\n  \n\n  \nFitz\, she’s the party. Wolfe\, he’s the epicure. 2 levels\, 3 vibes. 🎶 Live Music |🍸Sips & Noms 🥪 | 🕹️ Artcade | 🗝️Speakeasy | Private Events \nFitz and the Wolfe is a cocktail and music venue shaped by the spirit of improvisation\, storytelling\, and the kind of nights that feel too good to end. Here\, every night brings a new soundtrack. Jazz\, swing\, honky-tonk\, and sometimes things a little more esoteric—if it moves people\, we book it. The music fills the space like a second heartbeat\, sometimes rowdy\, sometimes intimate\, always memorable. It’s not background noise. It’s the reason you’re here. fitzandthewolfe.com
URL:https://livemusicasheville.com/calendar/the-cool-yule-club-honky-tonk-nights/2025-12-19/
LOCATION:Fitz and the Wolfe\, 1 Battery Park Ave\, Asheville\, NC\, 28801\, United States
CATEGORIES:Asheville Area,Live Music
GEO:35.5954515;-82.5548502
X-APPLE-STRUCTURED-LOCATION;VALUE=URI;X-ADDRESS=Fitz and the Wolfe 1 Battery Park Ave Asheville NC 28801 United States;X-APPLE-RADIUS=500;X-TITLE=1 Battery Park Ave:geo:-82.5548502,35.5954515
END:VEVENT
BEGIN:VEVENT
DTSTART;TZID=America/New_York:20251219T210000
DTEND;TZID=America/New_York:20251220T000000
DTSTAMP:20260425T095645
CREATED:20251217T142808Z
LAST-MODIFIED:20251217T142808Z
UID:10028939-1766178000-1766188800@livemusicasheville.com
SUMMARY:Blankstate\, Motocrossed\, Dish\, Porcelain Parrot
DESCRIPTION:
URL:https://livemusicasheville.com/calendar/blankstate-motocrossed-dish-porcelain-parrot/
LOCATION:The Odd
CATEGORIES:Asheville Area,Live Music
END:VEVENT
BEGIN:VEVENT
DTSTART;TZID=America/New_York:20251219T210000
DTEND;TZID=America/New_York:20251220T000000
DTSTAMP:20260425T095645
CREATED:20251217T152930Z
LAST-MODIFIED:20251217T152930Z
UID:10028948-1766178000-1766188800@livemusicasheville.com
SUMMARY:Halogi / VRAS / Graven Lore
DESCRIPTION:
URL:https://livemusicasheville.com/calendar/halogi-vras-graven-lore/
LOCATION:Static Age Records
CATEGORIES:Asheville Area,Live Music
GEO:35.5985631;-82.5538043
END:VEVENT
BEGIN:VEVENT
DTSTART;TZID=America/New_York:20251219T210000
DTEND;TZID=America/New_York:20251220T000000
DTSTAMP:20260425T095645
CREATED:20251217T153414Z
LAST-MODIFIED:20251218T161738Z
UID:10028950-1766178000-1766188800@livemusicasheville.com
SUMMARY:Beat The Holiday Blues w/ MAMA
DESCRIPTION:MAMA is led by Melissa McKinney\, Renowned for her powerful vocals\, Melissa is passionate about her community and is dedicated to using her voice for good. Blues\, Rock\, and Heavy on the Soul\, you can dance\, cry\, and laugh all in one set. Featuring Nik Hope on drums\, Chris Everett on guitar\, and Carey Walter on bass\, this local band’s love is infectious.\n$10 Cover\nWe will be doing a Coat & Food drive for BeLoved Asheville at this event!\n\n\nThe West Asheville taproom hosts a wide variety of special and regular events\, from yoga to an electronic music & beer festival\, and everything in between. Check out our upcoming schedule: click here
URL:https://livemusicasheville.com/calendar/beat-the-holiday-blues-w-mama/
LOCATION:One World Brewing – West\, 520 Haywood Rd\, Asheville\, North Carolina\, 28806
CATEGORIES:Asheville Area,Live Music
GEO:35.5783642;-82.5848526
X-APPLE-STRUCTURED-LOCATION;VALUE=URI;X-ADDRESS=One World Brewing – West 520 Haywood Rd Asheville North Carolina 28806;X-APPLE-RADIUS=500;X-TITLE=520 Haywood Rd:geo:-82.5848526,35.5783642
END:VEVENT
END:VCALENDAR