BEGIN:VCALENDAR
VERSION:2.0
PRODID:-//LiveMusicAsheville.com - ECPv6.15.20//NONSGML v1.0//EN
CALSCALE:GREGORIAN
METHOD:PUBLISH
X-WR-CALNAME:LiveMusicAsheville.com
X-ORIGINAL-URL:https://livemusicasheville.com
X-WR-CALDESC:Events for LiveMusicAsheville.com
REFRESH-INTERVAL;VALUE=DURATION:PT1H
X-Robots-Tag:noindex
X-PUBLISHED-TTL:PT1H
BEGIN:VTIMEZONE
TZID:America/New_York
BEGIN:DAYLIGHT
TZOFFSETFROM:-0500
TZOFFSETTO:-0400
TZNAME:EDT
DTSTART:20240310T070000
END:DAYLIGHT
BEGIN:STANDARD
TZOFFSETFROM:-0400
TZOFFSETTO:-0500
TZNAME:EST
DTSTART:20241103T060000
END:STANDARD
BEGIN:DAYLIGHT
TZOFFSETFROM:-0500
TZOFFSETTO:-0400
TZNAME:EDT
DTSTART:20250309T070000
END:DAYLIGHT
BEGIN:STANDARD
TZOFFSETFROM:-0400
TZOFFSETTO:-0500
TZNAME:EST
DTSTART:20251102T060000
END:STANDARD
BEGIN:DAYLIGHT
TZOFFSETFROM:-0500
TZOFFSETTO:-0400
TZNAME:EDT
DTSTART:20260308T070000
END:DAYLIGHT
BEGIN:STANDARD
TZOFFSETFROM:-0400
TZOFFSETTO:-0500
TZNAME:EST
DTSTART:20261101T060000
END:STANDARD
END:VTIMEZONE
BEGIN:VEVENT
DTSTART;TZID=America/New_York:20251112T170000
DTEND;TZID=America/New_York:20251112T190000
DTSTAMP:20260419T175519
CREATED:20250101T160426Z
LAST-MODIFIED:20250205T124827Z
UID:10007605-1762966800-1762974000@livemusicasheville.com
SUMMARY:Irish Session
DESCRIPTION:
URL:https://livemusicasheville.com/calendar/irish-session-3/2025-11-12/
LOCATION:White Horse Black Mountain
CATEGORIES:Black Mountain,Live Music,Open MIc/Jam
GEO:35.6178579;-82.3211924
END:VEVENT
BEGIN:VEVENT
DTSTART;TZID=America/New_York:20251112T170000
DTEND;TZID=America/New_York:20251112T210000
DTSTAMP:20260419T175519
CREATED:20241226T150016Z
LAST-MODIFIED:20260211T135450Z
UID:10003258-1762966800-1762981200@livemusicasheville.com
SUMMARY:Jack’s Old-Time Jam
DESCRIPTION:Grab some dinner and a pint while enjoying our long-running Old-Time Jam! Featuring many talented musicians from the local WNC area\, our traditional Appalachian mountain music jam runs from 5-9pm every Wednesday night at Jack of the Wood! \nJack Of The Wood is still a downtown hot spot for food\, brews and drink since 1997 and founders Joan and Joe Eckert who still own it\, have maintained the original lively English and Irish vibe. The old-time mountain and Irish music jams continue\, including a hot bluegrass jam Thursdays and brunch every Sunday. The venue extends a welcoming feeling to regulars and newcomers to this day. https://jackofthewood.com/
URL:https://livemusicasheville.com/calendar/jacks-old-time-jam/2025-11-12/
LOCATION:Jack Of The Wood\, 95 Patton Ave\, asheville\, NC\, United States
CATEGORIES:Asheville Area,Live Music,Open MIc/Jam
ATTACH;FMTTYPE=image/jpeg:https://livemusicasheville.com/wp-content/uploads/2024/12/IMG_8922-e1741818303811.jpeg
GEO:35.5944492;-82.5558221
X-APPLE-STRUCTURED-LOCATION;VALUE=URI;X-ADDRESS=Jack Of The Wood 95 Patton Ave asheville NC United States;X-APPLE-RADIUS=500;X-TITLE=95 Patton Ave:geo:-82.5558221,35.5944492
END:VEVENT
BEGIN:VEVENT
DTSTART;TZID=America/New_York:20251112T180000
DTEND;TZID=America/New_York:20251112T200000
DTSTAMP:20260419T175519
CREATED:20250430T124109Z
LAST-MODIFIED:20251126T225808Z
UID:10026262-1762970400-1762977600@livemusicasheville.com
SUMMARY:Jazz Night
DESCRIPTION:
URL:https://livemusicasheville.com/calendar/jazz-night/2025-11-12/
LOCATION:Cellarest Beer Project
CATEGORIES:Asheville Area,Live Music
GEO:35.5780646;-82.5794685
END:VEVENT
BEGIN:VEVENT
DTSTART;TZID=America/New_York:20251112T180000
DTEND;TZID=America/New_York:20251112T200000
DTSTAMP:20260419T175519
CREATED:20251006T120343Z
LAST-MODIFIED:20251111T181436Z
UID:10024320-1762970400-1762977600@livemusicasheville.com
SUMMARY:The Old Marshall Jail Ballad Swap
DESCRIPTION:
URL:https://livemusicasheville.com/calendar/the-old-marshall-jail-ballad-swap-2/2025-11-12/
LOCATION:Zadies Market at The Old Marshall Jail Hotel
CATEGORIES:Live Music,Madison County
END:VEVENT
BEGIN:VEVENT
DTSTART;TZID=America/New_York:20251112T180000
DTEND;TZID=America/New_York:20251112T200000
DTSTAMP:20260419T175519
CREATED:20251021T140032Z
LAST-MODIFIED:20251021T140429Z
UID:10022866-1762970400-1762977600@livemusicasheville.com
SUMMARY:Innocent Mischief
DESCRIPTION:Emily Martin and her band is a blend of intrepid lyrics and modern folk-mountain sound\, born in Asheville\, North Carolina. Cheeky-haunting originals collage with covers that explore the edge where change and tradition meet\, asking open-ended questions.\n\nEmily found Sarah Schultz (violin\, mandolin\, vocals\, keys) and Bryan Streett (guitar\, harmonica\, vocals) through the good grace of fate\, but her sister Charlotte Martin (vocals) cinched the line-up\, and Josh Anderson joined in 2024 adding bass guitar to the sound. While occasionally calling on other local musicians to provide drums and pedal steel for performances and recording\, the band is a collaborative force inspired by Em’s original songwriting.\n  \nFounded in 2005\, Pisgah is known for producing some of the most sought after craft ales in Western North Carolina. Pisgah Brewing Company currently operates the new indoor taproom & deli\, with live music several days a week\, plus an open air outdoor bar in the summer and fall months. Check out our upcoming schedule at pisgahbrewing.com/events
URL:https://livemusicasheville.com/calendar/innocent-mischief/
LOCATION:Pisgah Brewing Company Black Mountain\, 2948 US-70\, Black Mountain\, NC\, 28711
CATEGORIES:Asheville Area,Black Mountain,Live Music
GEO:35.6068069;-82.3568213
X-APPLE-STRUCTURED-LOCATION;VALUE=URI;X-ADDRESS=Pisgah Brewing Company Black Mountain 2948 US-70 Black Mountain NC 28711;X-APPLE-RADIUS=500;X-TITLE=2948 US-70:geo:-82.3568213,35.6068069
END:VEVENT
BEGIN:VEVENT
DTSTART;TZID=America/New_York:20251112T180000
DTEND;TZID=America/New_York:20251112T200000
DTSTAMP:20260419T175519
CREATED:20251029T095115Z
LAST-MODIFIED:20251217T201828Z
UID:10022244-1762970400-1762977600@livemusicasheville.com
SUMMARY:Wednesday Sessions: A Jazz Series Curated by Danny Iannucci
DESCRIPTION:Wednesday Sessions brings a fresh take on live jazz to Asheville\, curated by acclaimed bassist and composer Danny Iannucci. Known for his work with groups like The Resonant Rogues and Brushfire Stankgrass\, Danny brings together some of the region’s most talented and versatile musicians for one-of-a-kind performances.\nAt the heart of Wednesday Sessions is Danny’s deep love for jazz—his original compositions and spontaneous collaborations set the tone for an evening that’s intimate\, exploratory\, and uniquely Asheville.\nJoin us select Wednesdays to experience live music from masterful artists\, often performing together for the very first time. No cover\, just incredible music and good company at The Mule.\n\n\nWe’ve been loving our jazzy Wednesdays so much\, we wanna keep it rolling! Come on down between 6-8p to enjoy the rotating jazz trio and enjoy a selection of wines for just $5 and BOGO 1/2 OFF 4pks!\n\n\n\n\n‘The Mule’ – Tasting Room \n\n\n\n\n\nSay hello to The Mule – a full-service bar/event space in the home of Devil’s Foot Beverage’s production facility. Draft soda\, beer\, & wine – as well as delicious cocktails & mocktails featuring Devil’s Foot craft sodas and the largest collection of NC-made spirits in Asheville – all at your fingertips just outside of Biltmore Village! Open now for all of your beverage & party needs! devilsfootbrew.com/the-mule
URL:https://livemusicasheville.com/calendar/jazz-trio-wednesdays-2-2-2/2025-11-12/
LOCATION:The Mule at Devils Foot Beverages\, 131 Sweeten Creek Road\, Asheville\, NC\, 28803\, United States
CATEGORIES:Asheville Area,Live Music
GEO:35.5588369;-82.5218977
X-APPLE-STRUCTURED-LOCATION;VALUE=URI;X-ADDRESS=The Mule at Devils Foot Beverages 131 Sweeten Creek Road Asheville NC 28803 United States;X-APPLE-RADIUS=500;X-TITLE=131 Sweeten Creek Road:geo:-82.5218977,35.5588369
END:VEVENT
BEGIN:VEVENT
DTSTART;TZID=America/New_York:20251112T180000
DTEND;TZID=America/New_York:20251112T200000
DTSTAMP:20260419T175519
CREATED:20251104T171012Z
LAST-MODIFIED:20251201T162040Z
UID:10004303-1762970400-1762977600@livemusicasheville.com
SUMMARY:Well Crafted Music Series with Matt Smith
DESCRIPTION:  \n12/3 – w/ Cynthia McDermott \nCheck with the venue for Matt’s upcoming guest(s).
URL:https://livemusicasheville.com/calendar/well-crafted-wednesday-with-matt-smith-2-2-2-2/2025-11-12/
LOCATION:Highland Brewing
CATEGORIES:Asheville Area,Live Music
END:VEVENT
BEGIN:VEVENT
DTSTART;TZID=America/New_York:20251112T180000
DTEND;TZID=America/New_York:20251112T210000
DTSTAMP:20260419T175519
CREATED:20250917T142755Z
LAST-MODIFIED:20251216T125559Z
UID:10022393-1762970400-1762981200@livemusicasheville.com
SUMMARY:Country Line Dance Lessons and Dancing
DESCRIPTION:
URL:https://livemusicasheville.com/calendar/country-line-dance-lessons-and-dancing/2025-11-12/
LOCATION:Eda’s Hide-a-Way Weaverville
CATEGORIES:Asheville Area,DJ/Electronic,Weaverville
GEO:35.6970547;-82.5606851
END:VEVENT
BEGIN:VEVENT
DTSTART;TZID=America/New_York:20251112T183000
DTEND;TZID=America/New_York:20251112T210000
DTSTAMP:20260419T175519
CREATED:20250205T201820Z
LAST-MODIFIED:20250205T201820Z
UID:10007794-1762972200-1762981200@livemusicasheville.com
SUMMARY:Folk Club curated by Old Sap
DESCRIPTION:
URL:https://livemusicasheville.com/calendar/folk-club-curated-by-old-sap/2025-11-12/
LOCATION:Leveller Brewing Weaverville
CATEGORIES:Asheville Area,Live Music,Weaverville
END:VEVENT
BEGIN:VEVENT
DTSTART;TZID=America/New_York:20251112T190000
DTEND;TZID=America/New_York:20251112T210000
DTSTAMP:20260419T175519
CREATED:20250115T164758Z
LAST-MODIFIED:20251112T225045Z
UID:10020723-1762974000-1762981200@livemusicasheville.com
SUMMARY:The Old Marshall Jail Ballad Swap
DESCRIPTION:
URL:https://livemusicasheville.com/calendar/the-old-marshall-jail-ballad-swap/
LOCATION:The Grey Eagle\, 185 Clingman Ave\, Asheville\, NC\, United States
CATEGORIES:Asheville Area,Live Music
GEO:35.5870871;-82.5643936
X-APPLE-STRUCTURED-LOCATION;VALUE=URI;X-ADDRESS=The Grey Eagle 185 Clingman Ave Asheville NC United States;X-APPLE-RADIUS=500;X-TITLE=185 Clingman Ave:geo:-82.5643936,35.5870871
END:VEVENT
BEGIN:VEVENT
DTSTART;TZID=America/New_York:20251112T190000
DTEND;TZID=America/New_York:20251112T210000
DTSTAMP:20260419T175519
CREATED:20250709T170628Z
LAST-MODIFIED:20251231T154358Z
UID:10030076-1762974000-1762981200@livemusicasheville.com
SUMMARY:Bam-A Lam with Jason Krekel & Craig Kellberg
DESCRIPTION:
URL:https://livemusicasheville.com/calendar/bam-a-lam-with-jason-krekel-craig-kellberg-2-2-2-2/2025-11-12/
LOCATION:5 Walnut Wine Bar
CATEGORIES:Asheville Area,Live Music
GEO:35.596654;-82.5525389
END:VEVENT
BEGIN:VEVENT
DTSTART;TZID=America/New_York:20251112T190000
DTEND;TZID=America/New_York:20251112T213000
DTSTAMP:20260419T175519
CREATED:20251105T205015Z
LAST-MODIFIED:20251105T205015Z
UID:10023975-1762974000-1762983000@livemusicasheville.com
SUMMARY:Ak'chamel with Andy the Doorbum
DESCRIPTION:
URL:https://livemusicasheville.com/calendar/akchamel-with-andy-the-doorbum/
LOCATION:AyurPrana Listening Room\, 312 Haywood Rd\, Asheville\, NC\, 28806
CATEGORIES:Asheville Area,Live Music
GEO:35.5775962;-82.5760261
X-APPLE-STRUCTURED-LOCATION;VALUE=URI;X-ADDRESS=AyurPrana Listening Room 312 Haywood Rd Asheville NC 28806;X-APPLE-RADIUS=500;X-TITLE=312 Haywood Rd:geo:-82.5760261,35.5775962
END:VEVENT
BEGIN:VEVENT
DTSTART;TZID=America/New_York:20251112T200000
DTEND;TZID=America/New_York:20251112T220000
DTSTAMP:20260419T175519
CREATED:20250425T131052Z
LAST-MODIFIED:20251112T220202Z
UID:10013347-1762977600-1762984800@livemusicasheville.com
SUMMARY:Evan Martin Jazz Trio
DESCRIPTION:
URL:https://livemusicasheville.com/calendar/evan-martins-crawlspace-w-zack-page-rick-cooper/
LOCATION:Town Pump Tavern Black Mountain
CATEGORIES:Asheville Area,Black Mountain,Live Music
GEO:35.6162458;-82.320259
END:VEVENT
BEGIN:VEVENT
DTSTART;TZID=America/New_York:20251112T200000
DTEND;TZID=America/New_York:20251112T230000
DTSTAMP:20260419T175519
CREATED:20251105T210911Z
LAST-MODIFIED:20251105T210911Z
UID:10023978-1762977600-1762988400@livemusicasheville.com
SUMMARY:Durand Jones & The Indications The Psycodelics
DESCRIPTION:
URL:https://livemusicasheville.com/calendar/durand-jones-the-indications-the-psycodelics/
LOCATION:The Orange Peel
CATEGORIES:Asheville Area,Live Music
GEO:35.5914061;-82.5510137
END:VEVENT
BEGIN:VEVENT
DTSTART;TZID=America/New_York:20251112T200000
DTEND;TZID=America/New_York:20251112T230000
DTSTAMP:20260419T175519
CREATED:20251105T211726Z
LAST-MODIFIED:20251105T211726Z
UID:10023984-1762977600-1762988400@livemusicasheville.com
SUMMARY:Caleb Klauder and Reeb Willms Country Band
DESCRIPTION:
URL:https://livemusicasheville.com/calendar/caleb-klauder-and-reeb-willms-country-band/
LOCATION:The Grey Eagle\, 185 Clingman Ave\, Asheville\, NC\, United States
CATEGORIES:Asheville Area,Live Music
GEO:35.5870871;-82.5643936
X-APPLE-STRUCTURED-LOCATION;VALUE=URI;X-ADDRESS=The Grey Eagle 185 Clingman Ave Asheville NC United States;X-APPLE-RADIUS=500;X-TITLE=185 Clingman Ave:geo:-82.5643936,35.5870871
END:VEVENT
BEGIN:VEVENT
DTSTART;TZID=America/New_York:20251112T200000
DTEND;TZID=America/New_York:20251112T230000
DTSTAMP:20260419T175519
CREATED:20251105T214108Z
LAST-MODIFIED:20251105T214108Z
UID:10023999-1762977600-1762988400@livemusicasheville.com
SUMMARY:Shwayze
DESCRIPTION:
URL:https://livemusicasheville.com/calendar/shwayze/
LOCATION:Asheville Music Hall\, 31 Patton Ave\, Asheville\, NC\, 28801\, United States
CATEGORIES:Asheville Area,Live Music
GEO:35.5949233;-82.5530398
X-APPLE-STRUCTURED-LOCATION;VALUE=URI;X-ADDRESS=Asheville Music Hall 31 Patton Ave Asheville NC 28801 United States;X-APPLE-RADIUS=500;X-TITLE=31 Patton Ave:geo:-82.5530398,35.5949233
END:VEVENT
BEGIN:VEVENT
DTSTART;TZID=America/New_York:20251112T200000
DTEND;TZID=America/New_York:20251112T230000
DTSTAMP:20260419T175519
CREATED:20251105T224349Z
LAST-MODIFIED:20251105T224349Z
UID:10024007-1762977600-1762988400@livemusicasheville.com
SUMMARY:Militarie Gun w/ Liquid Mike & Public Opinion
DESCRIPTION:
URL:https://livemusicasheville.com/calendar/militarie-gun-w-liquid-mike-public-opinion/
LOCATION:Eulogy\, 10 Buxton Ave\, Asheville\, NC\, 28801
CATEGORIES:Asheville Area,Live Music
GEO:35.5883468;-82.5539256
X-APPLE-STRUCTURED-LOCATION;VALUE=URI;X-ADDRESS=Eulogy 10 Buxton Ave Asheville NC 28801;X-APPLE-RADIUS=500;X-TITLE=10 Buxton Ave:geo:-82.5539256,35.5883468
END:VEVENT
BEGIN:VEVENT
DTSTART;TZID=America/New_York:20251112T200000
DTEND;TZID=America/New_York:20251113T020000
DTSTAMP:20260419T175519
CREATED:20241226T155419Z
LAST-MODIFIED:20251216T124703Z
UID:10026972-1762977600-1762999200@livemusicasheville.com
SUMMARY:Wednesday Weekly DJs
DESCRIPTION:One World Brewing West – 8pm-12am  \nImperial – 9pm-12am  \nShakeys Dive Bar – 10pm-2am \nVerify with the venue for the DJs and cover charges. \n 
URL:https://livemusicasheville.com/calendar/wednesday-weekely-djs/2025-11-12/
LOCATION:Asheville Area
CATEGORIES:Asheville Area,DJ/Electronic
END:VEVENT
BEGIN:VEVENT
DTSTART;TZID=America/New_York:20251112T204500
DTEND;TZID=America/New_York:20251113T000000
DTSTAMP:20260419T175519
CREATED:20251106T142431Z
LAST-MODIFIED:20251112T011547Z
UID:10024013-1762980300-1762992000@livemusicasheville.com
SUMMARY:Special Edition Live Band Latin Night w/ La Sonora Carolina
DESCRIPTION:La Sonora Carolina is a high-energy salsa orchestra bringing salsa dura classics to the Carolina mountains. With driving percussion\, soaring horns\, and soulful vocals\, every show is a celebration of Latine culture sure to get you on the dance floor.\n8:45-9:45pm-Salsa Lesson9:45-10:15pm-DJ Mountain Vibez10:15pm-La Senora Carolina\n$10 Cover\n\nThe West Asheville taproom hosts a wide variety of special and regular events\, from yoga to an electronic music & beer festival\, and everything in between. Check out our upcoming schedule: click here
URL:https://livemusicasheville.com/calendar/special-edition-live-band-latin-night-w-la-sonora-carolina/
LOCATION:One World Brewing – West\, 520 Haywood Rd\, Asheville\, North Carolina\, 28806
CATEGORIES:Asheville Area,DJ/Electronic,Live Music
GEO:35.5783642;-82.5848526
X-APPLE-STRUCTURED-LOCATION;VALUE=URI;X-ADDRESS=One World Brewing – West 520 Haywood Rd Asheville North Carolina 28806;X-APPLE-RADIUS=500;X-TITLE=520 Haywood Rd:geo:-82.5848526,35.5783642
END:VEVENT
BEGIN:VEVENT
DTSTART;TZID=America/New_York:20251112T210000
DTEND;TZID=America/New_York:20251113T000000
DTSTAMP:20260419T175519
CREATED:20251106T141716Z
LAST-MODIFIED:20251106T141716Z
UID:10024012-1762981200-1762992000@livemusicasheville.com
SUMMARY:Aymen Saleh (Holy Pinto)  / Steve Kelly (ManDancing) / Silver Kyrie / Bum Monk
DESCRIPTION:
URL:https://livemusicasheville.com/calendar/aymen-saleh-holy-pinto-steve-kelly-mandancing-silver-kyrie-bum-monk/
LOCATION:27 Club Asheville
CATEGORIES:Asheville Area,Live Music
GEO:35.5933012;-82.5592961
END:VEVENT
BEGIN:VEVENT
DTSTART;TZID=America/New_York:20251112T220000
DTEND;TZID=America/New_York:20251113T010000
DTSTAMP:20260419T175519
CREATED:20251029T185835Z
LAST-MODIFIED:20251105T212914Z
UID:10023989-1762984800-1762995600@livemusicasheville.com
SUMMARY:Coyote Rodeo
DESCRIPTION:
URL:https://livemusicasheville.com/calendar/coyote-rodeo/2025-11-12/
LOCATION:The One Stop
CATEGORIES:Asheville Area,Live Music
END:VEVENT
BEGIN:VEVENT
DTSTART;VALUE=DATE:20251113
DTEND;VALUE=DATE:20251115
DTSTAMP:20260419T175519
CREATED:20250125T140528Z
LAST-MODIFIED:20251210T122935Z
UID:10017422-1763002800-1763089199@livemusicasheville.com
SUMMARY:Love What We Do?
DESCRIPTION:We hope you enjoy our guide to the Asheville area’s dynamic music scene. \nIf we somehow help to brighten up your day\, please consider a $5 donation to help support our efforts in providing the area’s most reliable local live music calendar. \nVenmo: click here  \nLast 4 digits – 3383 \nPayPal: click here \n 
URL:https://livemusicasheville.com/calendar/greetings-fellow-music-lovers-2/2025-11-13/
LOCATION:Asheville Area
CATEGORIES:Asheville Area
END:VEVENT
BEGIN:VEVENT
DTSTART;TZID=America/New_York:20251113T170000
DTEND;TZID=America/New_York:20251113T220000
DTSTAMP:20260419T175519
CREATED:20251103T143053Z
LAST-MODIFIED:20251112T165806Z
UID:10023416-1763053200-1763071200@livemusicasheville.com
SUMMARY:Country Club Thirstdays
DESCRIPTION:Thirsty? We’ve got the cure. Join us Thursdays in The Showroom for live country music\, outlaw drink specials\, and a party that rolls after work til bed time! \n🎶 Live Country Music 5PM & 7PM\n🍸 $8 Espresso Martinis\n🥃 $9 Old Fashioneds\n🍻 $10 Beer Buckets \nDownstairs The Den is open with arcade games\, board games\, and billiards.. it’s the ultimate Thirstday hangout. \nNov 13 – Braelyn Grooms Acoustic Country (5-7pm) | Fancy & the 45s (7-10pm) \nNov 20 – Laron Huntley Acoustic (5-7pm) | Nick Mac & the Noise (7-10pm) \n  \nFitz\, she’s the party. Wolfe\, he’s the epicure. 2 levels\, 3 vibes. 🎶 Live Music |🍸Sips & Noms 🥪 | 🕹️ Artcade | 🗝️Speakeasy | Private Events \nFitz and the Wolfe is a cocktail and music venue shaped by the spirit of improvisation\, storytelling\, and the kind of nights that feel too good to end. Here\, every night brings a new soundtrack. Jazz\, swing\, honky-tonk\, and sometimes things a little more esoteric—if it moves people\, we book it. The music fills the space like a second heartbeat\, sometimes rowdy\, sometimes intimate\, always memorable. It’s not background noise. It’s the reason you’re here. fitzandthewolfe.com
URL:https://livemusicasheville.com/calendar/country-club-thirstdays/2025-11-13/
LOCATION:Fitz and the Wolfe\, 1 Battery Park Ave\, Asheville\, NC\, 28801\, United States
CATEGORIES:Asheville Area,Live Music
GEO:35.5954515;-82.5548502
X-APPLE-STRUCTURED-LOCATION;VALUE=URI;X-ADDRESS=Fitz and the Wolfe 1 Battery Park Ave Asheville NC 28801 United States;X-APPLE-RADIUS=500;X-TITLE=1 Battery Park Ave:geo:-82.5548502,35.5954515
END:VEVENT
BEGIN:VEVENT
DTSTART;TZID=America/New_York:20251113T173000
DTEND;TZID=America/New_York:20251113T193000
DTSTAMP:20260419T175519
CREATED:20250604T190958Z
LAST-MODIFIED:20251105T184843Z
UID:10015452-1763055000-1763062200@livemusicasheville.com
SUMMARY:Jackson Grimm
DESCRIPTION:
URL:https://livemusicasheville.com/calendar/jackson-grimm/
LOCATION:12 Bones Brewing
CATEGORIES:Asheville Area,Live Music,South Asheville/Arden/Fletcher
END:VEVENT
BEGIN:VEVENT
DTSTART;TZID=America/New_York:20251113T173000
DTEND;TZID=America/New_York:20251113T210000
DTSTAMP:20260419T175519
CREATED:20241224T223942Z
LAST-MODIFIED:20251209T220150Z
UID:10000153-1763055000-1763067600@livemusicasheville.com
SUMMARY:Irish Session
DESCRIPTION:
URL:https://livemusicasheville.com/calendar/irish-session-2/2025-11-13/
LOCATION:Leveller Brewing Weaverville
CATEGORIES:Live Music,Open MIc/Jam,Weaverville
END:VEVENT
BEGIN:VEVENT
DTSTART;TZID=America/New_York:20251113T180000
DTEND;TZID=America/New_York:20251113T200000
DTSTAMP:20260419T175519
CREATED:20250626T002019Z
LAST-MODIFIED:20251108T190307Z
UID:10016255-1763056800-1763064000@livemusicasheville.com
SUMMARY:Vaden Landers
DESCRIPTION:
URL:https://livemusicasheville.com/calendar/vaden-landers-2/
LOCATION:Highland Brewing
CATEGORIES:Asheville Area,Live Music
END:VEVENT
BEGIN:VEVENT
DTSTART;TZID=America/New_York:20251113T180000
DTEND;TZID=America/New_York:20251113T210000
DTSTAMP:20260419T175519
CREATED:20241226T165039Z
LAST-MODIFIED:20241226T201027Z
UID:10003699-1763056800-1763067600@livemusicasheville.com
SUMMARY:BUTTS & BOOTS :: Line Dancing
DESCRIPTION:
URL:https://livemusicasheville.com/calendar/butts-boots-line-dancing/2025-11-13/
LOCATION:Banks Ave
CATEGORIES:Asheville Area,DJ/Electronic
GEO:35.5892908;-82.5536382
END:VEVENT
BEGIN:VEVENT
DTSTART;TZID=America/New_York:20251113T180000
DTEND;TZID=America/New_York:20251113T210000
DTSTAMP:20260419T175519
CREATED:20250116T160533Z
LAST-MODIFIED:20250116T160533Z
UID:10000201-1763056800-1763067600@livemusicasheville.com
SUMMARY:Aaron LaFalce
DESCRIPTION:
URL:https://livemusicasheville.com/calendar/aaron-lafalce-2/2025-11-13/
LOCATION:131 Main Biltmore Park
CATEGORIES:Live Music,South Asheville/Arden/Fletcher
END:VEVENT
BEGIN:VEVENT
DTSTART;TZID=America/New_York:20251113T180000
DTEND;TZID=America/New_York:20251113T210000
DTSTAMP:20260419T175519
CREATED:20250312T135243Z
LAST-MODIFIED:20251105T150459Z
UID:10009820-1763056800-1763067600@livemusicasheville.com
SUMMARY:Possum Royale
DESCRIPTION:
URL:https://livemusicasheville.com/calendar/possum-royale/
LOCATION:Mills River Brewing Co.\, 336 Banner Farm Rd\,\, Mills River\, NC\, 28759
CATEGORIES:Asheville Area,Live Music,Mills River
GEO:35.380515;-82.5654984
X-APPLE-STRUCTURED-LOCATION;VALUE=URI;X-ADDRESS=Mills River Brewing Co. 336 Banner Farm Rd Mills River NC 28759;X-APPLE-RADIUS=500;X-TITLE=336 Banner Farm Rd\,:geo:-82.5654984,35.380515
END:VEVENT
BEGIN:VEVENT
DTSTART;TZID=America/New_York:20251113T180000
DTEND;TZID=America/New_York:20251113T210000
DTSTAMP:20260419T175519
CREATED:20251016T184500Z
LAST-MODIFIED:20251016T184501Z
UID:10013111-1763056800-1763067600@livemusicasheville.com
SUMMARY:Jerry’s Dead Thursdays
DESCRIPTION:Jerry’s Dead from Asheville is a fast growing\, fan favorite\, tribute to the music of Jerry Garcia. Members include Lee Kram on drums and vocals\, Gus Vigo on keys and vocals\, Dan Pederson on bass and vocals and features Tim Marsh on guitar and lead vocals. Drawing from over a hundred and fifty songs from The Grateful Dead and Jerry Garcia Band catalog\, this quartet delivers with fervor and improvisational spirit intact. \nFrench Broad River Brewery is more than just a place to enjoy a drink—it’s a community hub where great beer\, live music\, and good times come together. Just minutes from the Biltmore Estate & Downtown\, our taproom is a gathering spot for locals and visitors alike. frenchbroadbrewery.com
URL:https://livemusicasheville.com/calendar/jerrys-dead-2-2-2-2-2/2025-11-13/
LOCATION:French Broad River Brewery\, 101 Fairview Rd\, Asheville\, NC\, United States
CATEGORIES:Asheville Area,Live Music
ATTACH;FMTTYPE=image/jpeg:https://livemusicasheville.com/wp-content/uploads/2025/03/480733944_955764170010259_7959141011877987736_n-e1746972963507.jpg
GEO:35.5662722;-82.5374054
X-APPLE-STRUCTURED-LOCATION;VALUE=URI;X-ADDRESS=French Broad River Brewery 101 Fairview Rd Asheville NC United States;X-APPLE-RADIUS=500;X-TITLE=101 Fairview Rd:geo:-82.5374054,35.5662722
END:VEVENT
END:VCALENDAR