BEGIN:VCALENDAR
VERSION:2.0
PRODID:-//LiveMusicAsheville.com - ECPv6.15.20//NONSGML v1.0//EN
CALSCALE:GREGORIAN
METHOD:PUBLISH
X-ORIGINAL-URL:https://livemusicasheville.com
X-WR-CALDESC:Events for LiveMusicAsheville.com
REFRESH-INTERVAL;VALUE=DURATION:PT1H
X-Robots-Tag:noindex
X-PUBLISHED-TTL:PT1H
BEGIN:VTIMEZONE
TZID:America/New_York
BEGIN:DAYLIGHT
TZOFFSETFROM:-0500
TZOFFSETTO:-0400
TZNAME:EDT
DTSTART:20240310T070000
END:DAYLIGHT
BEGIN:STANDARD
TZOFFSETFROM:-0400
TZOFFSETTO:-0500
TZNAME:EST
DTSTART:20241103T060000
END:STANDARD
BEGIN:DAYLIGHT
TZOFFSETFROM:-0500
TZOFFSETTO:-0400
TZNAME:EDT
DTSTART:20250309T070000
END:DAYLIGHT
BEGIN:STANDARD
TZOFFSETFROM:-0400
TZOFFSETTO:-0500
TZNAME:EST
DTSTART:20251102T060000
END:STANDARD
BEGIN:DAYLIGHT
TZOFFSETFROM:-0500
TZOFFSETTO:-0400
TZNAME:EDT
DTSTART:20260308T070000
END:DAYLIGHT
BEGIN:STANDARD
TZOFFSETFROM:-0400
TZOFFSETTO:-0500
TZNAME:EST
DTSTART:20261101T060000
END:STANDARD
END:VTIMEZONE
BEGIN:VEVENT
DTSTART;TZID=America/New_York:20251218T180000
DTEND;TZID=America/New_York:20251218T200000
DTSTAMP:20260419T212409
CREATED:20251007T144029Z
LAST-MODIFIED:20251218T011611Z
UID:10009456-1766080800-1766088000@livemusicasheville.com
SUMMARY:Jay Brown One-Man-Band
DESCRIPTION:
URL:https://livemusicasheville.com/calendar/jay-brown-one-man-band-3/
LOCATION:The Cheshire Arms Black Mountain
CATEGORIES:Asheville Area,Black Mountain,Live Music
END:VEVENT
BEGIN:VEVENT
DTSTART;TZID=America/New_York:20251218T180000
DTEND;TZID=America/New_York:20251218T200000
DTSTAMP:20260419T212409
CREATED:20251204T231746Z
LAST-MODIFIED:20251204T231747Z
UID:10026734-1766080800-1766088000@livemusicasheville.com
SUMMARY:Albi Podrizki
DESCRIPTION:
URL:https://livemusicasheville.com/calendar/albi-podrizki-3-2/2025-12-18/
LOCATION:Filo Post 70 East Asheville
CATEGORIES:Asheville Area,Live Music
END:VEVENT
BEGIN:VEVENT
DTSTART;TZID=America/New_York:20251218T180000
DTEND;TZID=America/New_York:20251218T200000
DTSTAMP:20260419T212409
CREATED:20251210T143103Z
LAST-MODIFIED:20251210T143103Z
UID:10027155-1766080800-1766088000@livemusicasheville.com
SUMMARY:Holiday Edition of Acoustic Roots & Blues Holiday Song Sing-Along with Peggy and Aaron Price
DESCRIPTION:
URL:https://livemusicasheville.com/calendar/holiday-edition-of-acoustic-roots-blues-holiday-song-sing-along-with-peggy-and-aaron-price/
LOCATION:River Arts District Brewing\, 13 Mystery St\, Asheville\, NC\, 28801\, United States
CATEGORIES:Asheville Area,Live Music
GEO:35.5846876;-82.5649928
X-APPLE-STRUCTURED-LOCATION;VALUE=URI;X-ADDRESS=River Arts District Brewing 13 Mystery St Asheville NC 28801 United States;X-APPLE-RADIUS=500;X-TITLE=13 Mystery St:geo:-82.5649928,35.5846876
END:VEVENT
BEGIN:VEVENT
DTSTART;TZID=America/New_York:20251218T180000
DTEND;TZID=America/New_York:20251218T200000
DTSTAMP:20260419T212409
CREATED:20251210T204413Z
LAST-MODIFIED:20251210T204413Z
UID:10027260-1766080800-1766088000@livemusicasheville.com
SUMMARY:Jamie Hendrickson Band
DESCRIPTION:
URL:https://livemusicasheville.com/calendar/jamie-hendrickson-band/
LOCATION:Wedge at Foundation
CATEGORIES:Asheville Area,Live Music
END:VEVENT
BEGIN:VEVENT
DTSTART;TZID=America/New_York:20251218T180000
DTEND;TZID=America/New_York:20251218T210000
DTSTAMP:20260419T212409
CREATED:20250820T104309Z
LAST-MODIFIED:20251016T082730Z
UID:10022787-1766080800-1766091600@livemusicasheville.com
SUMMARY:Third Thursday Dinner and Barn Jam
DESCRIPTION:Join us every THIRD THURSDAY from 6-9pm for a community dinner & barn jam! \nThe Garren Creek Foundation is proud to welcome everyone to the new Community Barn for a monthly community dinner and jam session. All instruments and levels welcome! \nEverything we do at the GCF Barn is free\, with donations to the foundation welcome\, but not expected. We hope to see you there! \n 
URL:https://livemusicasheville.com/calendar/third-thursday-dinner-and-barn-jam/2025-12-18/
LOCATION:Garren Creek Foundation Community Barn\, 1198 Garren Creek Rd\, Fairview\, NC\, 28730\, United States
CATEGORIES:Asheville Area,Fairview,Live Music,Open MIc/Jam,South Asheville/Arden/Fletcher
GEO:35.5301064;-82.3249524
X-APPLE-STRUCTURED-LOCATION;VALUE=URI;X-ADDRESS=Garren Creek Foundation Community Barn 1198 Garren Creek Rd Fairview NC 28730 United States;X-APPLE-RADIUS=500;X-TITLE=1198 Garren Creek Rd:geo:-82.3249524,35.5301064
END:VEVENT
BEGIN:VEVENT
DTSTART;TZID=America/New_York:20251218T180000
DTEND;TZID=America/New_York:20251218T210000
DTSTAMP:20260419T212409
CREATED:20251121T203137Z
LAST-MODIFIED:20260107T125034Z
UID:10003704-1766080800-1766091600@livemusicasheville.com
SUMMARY:BUTTS & BOOTS :: Line Dancing
DESCRIPTION:
URL:https://livemusicasheville.com/calendar/butts-boots-line-dancing-3/2025-12-18/
LOCATION:Banks Ave
CATEGORIES:Asheville Area,DJ/Electronic
GEO:35.5892908;-82.5536382
END:VEVENT
BEGIN:VEVENT
DTSTART;TZID=America/New_York:20251218T180000
DTEND;TZID=America/New_York:20251218T210000
DTSTAMP:20260419T212409
CREATED:20251121T203256Z
LAST-MODIFIED:20251203T113432Z
UID:10013116-1766080800-1766091600@livemusicasheville.com
SUMMARY:Jerry’s Dead Thursdays
DESCRIPTION:Jerry’s Dead from Asheville is a fast growing\, fan favorite\, tribute to the music of Jerry Garcia. Members include Lee Kram on drums and vocals\, Gus Vigo on keys and vocals\, Dan Pederson on bass and vocals and features Tim Marsh on guitar and lead vocals. Drawing from over a hundred and fifty songs from The Grateful Dead and Jerry Garcia Band catalog\, this quartet delivers with fervor and improvisational spirit intact. \nFrench Broad River Brewery is more than just a place to enjoy a drink—it’s a community hub where great beer\, delicious pizza\, live music\, and good times come together. Just minutes from the Biltmore Estate & Downtown\, our taproom is a gathering spot for locals and visitors alike. We regularly host live music and entertainment in our taproom\, making French Broad River Brewery a lively hub of local activity. From bluegrass to reggae\, there’s always something happening. Check out our Events Page to see what’s coming up next! \nNo brewery experience is complete without great food. That’s why we offer French Broad River Pizza\, serving up hot\, hand-tossed pizzas made to order. Whether you’re here for a quick slice or a full meal\, our pizza perfectly complements our craft beers and the lively atmosphere of our taproom. frenchbroadbrewery.com/pizza \n 
URL:https://livemusicasheville.com/calendar/jerrys-dead-2-2-2-2-2-2/2025-12-18/
LOCATION:French Broad River Brewery\, 101 Fairview Rd\, Asheville\, NC\, United States
CATEGORIES:Asheville Area,Live Music
ATTACH;FMTTYPE=image/jpeg:https://livemusicasheville.com/wp-content/uploads/2025/03/480733944_955764170010259_7959141011877987736_n-e1746972963507.jpg
GEO:35.5662722;-82.5374054
X-APPLE-STRUCTURED-LOCATION;VALUE=URI;X-ADDRESS=French Broad River Brewery 101 Fairview Rd Asheville NC United States;X-APPLE-RADIUS=500;X-TITLE=101 Fairview Rd:geo:-82.5374054,35.5662722
END:VEVENT
BEGIN:VEVENT
DTSTART;TZID=America/New_York:20251218T180000
DTEND;TZID=America/New_York:20251218T210000
DTSTAMP:20260419T212409
CREATED:20251210T155627Z
LAST-MODIFIED:20251210T155627Z
UID:10027162-1766080800-1766091600@livemusicasheville.com
SUMMARY:Chuck Greene & New Timey
DESCRIPTION:
URL:https://livemusicasheville.com/calendar/chuck-greene-new-timey/
LOCATION:Mills River Brewing Co.\, 336 Banner Farm Rd\,\, Mills River\, NC\, 28759
CATEGORIES:Asheville Area,Live Music,Mills River
GEO:35.380515;-82.5654984
X-APPLE-STRUCTURED-LOCATION;VALUE=URI;X-ADDRESS=Mills River Brewing Co. 336 Banner Farm Rd Mills River NC 28759;X-APPLE-RADIUS=500;X-TITLE=336 Banner Farm Rd\,:geo:-82.5654984,35.380515
END:VEVENT
BEGIN:VEVENT
DTSTART;TZID=America/New_York:20251218T180000
DTEND;TZID=America/New_York:20251218T210000
DTSTAMP:20260419T212409
CREATED:20251211T185526Z
LAST-MODIFIED:20251211T185528Z
UID:10000205-1766080800-1766091600@livemusicasheville.com
SUMMARY:Aaron LaFalce
DESCRIPTION:
URL:https://livemusicasheville.com/calendar/aaron-lafalce-2-2-2/2025-12-18/
LOCATION:131 Main Biltmore Park
CATEGORIES:Live Music,South Asheville/Arden/Fletcher
END:VEVENT
BEGIN:VEVENT
DTSTART;TZID=America/New_York:20251218T180000
DTEND;TZID=America/New_York:20251218T220000
DTSTAMP:20260419T212409
CREATED:20251007T130234Z
LAST-MODIFIED:20251116T161904Z
UID:10024590-1766080800-1766095200@livemusicasheville.com
SUMMARY:Winter Lights
DESCRIPTION:We look forward to welcoming you back for another year of Asheville’s Brightest Holiday Tradition! Winter Lights is a spectacular open-air walk-through light show made from over one million lights! Located at the North Carolina Arboretum in Asheville\, North Carolina\, this year’s event features favorites like the famously tall 50-foot lighted tree and the Quilt Garden\, along with enchanting new details designed to delight and surprise. \nTroll sightings are anticipated at this year’s Winter Lights\, as six of Dambo’s Trolls will be experiencing the show for themselves. Meet them in the gardens at Winter Lights! \nWinter Lights features live entertainment nightly and food and beverages from the Bent Creek Bistro\, the Cocoa Shack and the Cocoa Cabin! Open nightly from 6:00 – 10:00 p.m. \nTickets on Sale Now! Event Details and Tickets \nFor more than 35 years…Cultivating Connections between People\, Plants and Places…amid a 434-acre public garden\, The North Carolina Arboretum is located within the Bent Creek Experimental Forest just south of Asheville and adjacent to the Blue Ridge Parkway at Milepost 393. Surrounded and crisscrossed by forested coves and meandering creeks in the botanically diverse Southern Appalachian Mountains\, The North Carolina Arboretum is set in one of the most beautiful natural settings in America. ncarboretum.org \n  \n 
URL:https://livemusicasheville.com/calendar/winter-lights-2/2025-12-18/
LOCATION:The North Carolina Arboretum
CATEGORIES:Asheville Area,Live Music
END:VEVENT
BEGIN:VEVENT
DTSTART;TZID=America/New_York:20251218T180000
DTEND;TZID=America/New_York:20251218T230000
DTSTAMP:20260419T212409
CREATED:20251121T202643Z
LAST-MODIFIED:20260416T174209Z
UID:10007398-1766080800-1766098800@livemusicasheville.com
SUMMARY:Thursday Open Mics / Jams
DESCRIPTION:Bluegrass Jam @ Zuma Coffee Marshall – 6-8pm (first & third Thursdays) \nTrue Home Open Mic Night @Flood Gallery Fine Art Center (new location) 6-8:30pm \nBlunt Pretzels Swannanoa – 6-9pm \n \nGarden Creek Foundation Community Barn Jam – 6-9pm (Third Thursdays) \nOld Time or Irish Session @Leveller Brewing Co Weaverville – 6-9pm (Old Time 1st & 3rd Thursdays\, Irish Session 2nd & 4th Thursdays) \nHi Wire South Slope – 6-9pm \nWheelhouse South Slope – 7-10pm \nPlant Bar South Slope – 7-9pm (1st & 3rd Thursdays) \nBens Tune Up – 8-11pm (open mic/decks) \n  \n  \n 
URL:https://livemusicasheville.com/calendar/thursday-open-mics-jams-2/2025-12-18/
LOCATION:Asheville Area
CATEGORIES:Asheville Area,DJ/Electronic,Open MIc/Jam
END:VEVENT
BEGIN:VEVENT
DTSTART;TZID=America/New_York:20251218T180000
DTEND;TZID=America/New_York:20251219T020000
DTSTAMP:20260419T212409
CREATED:20251121T203413Z
LAST-MODIFIED:20260408T094503Z
UID:10017498-1766080800-1766109600@livemusicasheville.com
SUMMARY:Thursday Weekly DJs
DESCRIPTION:Although we are primarily a Live Music Calendar\, we often come across Electronic & DJ events in the area and list them for you as we find out about them. Please verify the DJ\, times and cover charges with the venue. \nThe Mule at Devils Foot Beverages – 4-9pm (Starts April 23) \nEda Rhyne Distilling – 6-9pm \nPotential New Boyfriend – 7-10pm \nSticks on Broadway – 10pm -2am \nLazy Diamond – 10pm-2am \nThe Double Crown – 10pm-2am \nCheck with the for DJs and covers.
URL:https://livemusicasheville.com/calendar/thursday-weekly-djs-2/2025-12-18/
LOCATION:Asheville Area
CATEGORIES:Asheville Area,DJ/Electronic
END:VEVENT
BEGIN:VEVENT
DTSTART;TZID=America/New_York:20251218T183000
DTEND;TZID=America/New_York:20251218T203000
DTSTAMP:20260419T212409
CREATED:20251203T123439Z
LAST-MODIFIED:20251203T123441Z
UID:10023216-1766082600-1766089800@livemusicasheville.com
SUMMARY:Billy Owens and Friends
DESCRIPTION:
URL:https://livemusicasheville.com/calendar/billy-owens-and-friends-3-2/2025-12-18/
LOCATION:Blue Mountain Pizza Weaverville
CATEGORIES:Asheville Area,Live Music,Weaverville
GEO:35.698228;-82.560231
END:VEVENT
BEGIN:VEVENT
DTSTART;TZID=America/New_York:20251218T183000
DTEND;TZID=America/New_York:20251218T203000
DTSTAMP:20260419T212409
CREATED:20251210T202857Z
LAST-MODIFIED:20251210T202857Z
UID:10027255-1766082600-1766089800@livemusicasheville.com
SUMMARY:Third Thursday w/ Altamont Jazz Ensemble
DESCRIPTION:Free for Members or included with Museum admission. Buncombe County residents receive 20% off admission.
URL:https://livemusicasheville.com/calendar/third-thursday-w-altamont-jazz-ensemble/
LOCATION:Asheville Art Museum
CATEGORIES:Asheville Area,Live Music
GEO:35.5946714;-82.5512827
END:VEVENT
BEGIN:VEVENT
DTSTART;TZID=America/New_York:20251218T190000
DTEND;TZID=America/New_York:20251218T210000
DTSTAMP:20260419T212409
CREATED:20251121T203926Z
LAST-MODIFIED:20251216T065445Z
UID:10003811-1766084400-1766091600@livemusicasheville.com
SUMMARY:Americano Sessions with Billy Presnell & Friends
DESCRIPTION:
URL:https://livemusicasheville.com/calendar/americano-sessions-with-billy-presnell-friends-2-2-2-2/2025-12-18/
LOCATION:Old Town District Black Mountain\, 110 Black Mountain Ave\, Black Mountain\, NC\, 28711\, United States
CATEGORIES:Black Mountain,Live Music
GEO:35.6144382;-82.320515
X-APPLE-STRUCTURED-LOCATION;VALUE=URI;X-ADDRESS=Old Town District Black Mountain 110 Black Mountain Ave Black Mountain NC 28711 United States;X-APPLE-RADIUS=500;X-TITLE=110 Black Mountain Ave:geo:-82.320515,35.6144382
END:VEVENT
BEGIN:VEVENT
DTSTART;TZID=America/New_York:20251218T190000
DTEND;TZID=America/New_York:20251218T220000
DTSTAMP:20260419T212409
CREATED:20250612T012411Z
LAST-MODIFIED:20251204T153043Z
UID:10026722-1766084400-1766095200@livemusicasheville.com
SUMMARY:The Passing Tones
DESCRIPTION:
URL:https://livemusicasheville.com/calendar/the-passing-tones/2025-12-18/
LOCATION:District 42
CATEGORIES:Asheville Area,Live Music
END:VEVENT
BEGIN:VEVENT
DTSTART;TZID=America/New_York:20251218T190000
DTEND;TZID=America/New_York:20251218T220000
DTSTAMP:20260419T212409
CREATED:20250818T145953Z
LAST-MODIFIED:20251112T125841Z
UID:10019542-1766084400-1766095200@livemusicasheville.com
SUMMARY:Jazz Showcase & Jam
DESCRIPTION:Thursdays\, 7 PM – 10 PM: An evening of smooth sounds and great vibes at Shamrock Irons with live Jazz performances followed by an Open Jam Session!\n\nJoin us every Thursday for our Jazz Showcase — an evening of smooth sounds\, great vibes\, and unbeatable specials.\nSip on a rich Espresso Martini or grab a $5 Draft beer while the music takes you away.\nPlus\, don’t miss our delicious daily food specials!\nThe music kicks off at 7 PM and rolls through until 10 PM\, with an open jam session lighting up the second half. Come for the cocktails\, stay for the jazz.\n\n\n\n\nShamrock Irons Irish Pub – \nShamrock Irons Irish Pub – Asheville’s newest Irish Pub experience! We’re bringing back the fun with a fresh look\, perfect pours\, and the best live music downtown. Whether you’re a regular or a first-timer\, there’s always room for one more at Shamrock Irons. shamrockirons.com
URL:https://livemusicasheville.com/calendar/jazz-showcase-jam-curated-by-steven-alvarez/2025-12-18/
LOCATION:Shamrock Irons Irish Pub\, 4 College St\, Asheville\, NC\, 28801\, United States
CATEGORIES:Asheville Area,Live Music,Open MIc/Jam
ATTACH;FMTTYPE=image/jpeg:https://livemusicasheville.com/wp-content/uploads/2025/08/IMG_2950-e1762311638292.jpeg
GEO:35.9844236;-80.0221361
X-APPLE-STRUCTURED-LOCATION;VALUE=URI;X-ADDRESS=Shamrock Irons Irish Pub 4 College St Asheville NC 28801 United States;X-APPLE-RADIUS=500;X-TITLE=4 College St:geo:-80.0221361,35.9844236
END:VEVENT
BEGIN:VEVENT
DTSTART;TZID=America/New_York:20251218T190000
DTEND;TZID=America/New_York:20251218T220000
DTSTAMP:20260419T212409
CREATED:20251113T144701Z
LAST-MODIFIED:20251113T144814Z
UID:10013797-1766084400-1766095200@livemusicasheville.com
SUMMARY:Bill Bares Jazz Trio
DESCRIPTION:
URL:https://livemusicasheville.com/calendar/bill-bares-jazz-trio-2/
LOCATION:Soprana Rooftop Cucina
CATEGORIES:Asheville Area,Live Music
END:VEVENT
BEGIN:VEVENT
DTSTART;TZID=America/New_York:20251218T190000
DTEND;TZID=America/New_York:20251218T220000
DTSTAMP:20260419T212409
CREATED:20251210T135111Z
LAST-MODIFIED:20251210T135152Z
UID:10027152-1766084400-1766095200@livemusicasheville.com
SUMMARY:Thursday Local Live Music w/ Nathan Robinson
DESCRIPTION:
URL:https://livemusicasheville.com/calendar/thursday-local-live-music-w-nathan-robinson/
LOCATION:One World Brewing Downtown\, 10 Patton Ave\, Asheville\, NC\, 28801
CATEGORIES:Asheville Area,Live Music
GEO:35.5947396;-82.5522724
X-APPLE-STRUCTURED-LOCATION;VALUE=URI;X-ADDRESS=One World Brewing Downtown 10 Patton Ave Asheville NC 28801;X-APPLE-RADIUS=500;X-TITLE=10 Patton Ave:geo:-82.5522724,35.5947396
END:VEVENT
BEGIN:VEVENT
DTSTART;TZID=America/New_York:20251218T190000
DTEND;TZID=America/New_York:20251218T233000
DTSTAMP:20260419T212409
CREATED:20250322T150845Z
LAST-MODIFIED:20251214T215054Z
UID:10010513-1766084400-1766100600@livemusicasheville.com
SUMMARY:Save Our Website to Your Home Screen 📲
DESCRIPTION:As an interactive calendar\, we often add events to our calendar as we find out about them\, sometimes even from our phone while we are out supporting local live music. By adding our website\, LiveMusicAsheville.com to your home screen\, we will always be right at your fingertips. Here’s how:\n\n\n\n\niPhone (using Safari):\n\n\n\nOpen Safari and navigate to the website: you want to add as a shortcut. \n\n\n\n\n\n\n\n\nTap the Share button: (a square with an arrow pointing out of the top). \n\n\n\n\n\n\n\n\nScroll down and tap “Add to Home Screen” . \n\n\n\n\n\n\n\n\nChoose a name for the shortcut: and tap “Add”. \n\n\n\n\n\n\n\n\nThe shortcut will appear on your home screen as an icon. \n\n\n\n\n\n\n\n\n\n\n\nAndroid (using Chrome or other browsers):\n\n\n\nOpen Chrome (or your preferred browser) and navigate to the website: you want to add.\nTap the three-dot menu icon: (usually in the top right corner).\nSelect “Add to Home Screen” .\nCustomize the name of the shortcut: if desired\, and then tap “Add”.\nThe shortcut will appear on your home screen as an icon. 
URL:https://livemusicasheville.com/calendar/add-our-website-to-your-home-screen/2025-12-18/
CATEGORIES:Asheville Area
END:VEVENT
BEGIN:VEVENT
DTSTART;TZID=America/New_York:20251218T190000
DTEND;TZID=America/New_York:20251218T233000
DTSTAMP:20260419T212409
CREATED:20251203T134145Z
LAST-MODIFIED:20251203T134147Z
UID:10000683-1766084400-1766100600@livemusicasheville.com
SUMMARY:The Thursday Bluegrass Jam hosted by Drew Matulich
DESCRIPTION:Our amazing Thursday BlueGrass jam curated by the talented Drew Matulich! Don’t miss your chance to check out some of the best pickers from all over WNC! A real show-stopping performance only at Jack of the Wood! The Bluegrass Jam will start after the host band at 9:30 and go to 11:30pm. Pickers bring your instruments! Enjoy $1 OFF all our bourbons every Thursday \nJack Of The Wood is still a downtown hot spot for food\, brews and drink since 1997 and founders Joan and Joe Eckert who still own it\, have maintained the original lively English and Irish vibe. The old-time mountain and Irish music jams continue\, including a hot bluegrass jam Thursdays and brunch every Sunday. The venue extends a welcoming feeling to regulars and newcomers to this day. https://jackofthewood.com/
URL:https://livemusicasheville.com/calendar/the-thursday-bluegrass-jam-hosted-by-drew-matulich-2-2-2-2-2/2025-12-18/
LOCATION:Jack Of The Wood\, 95 Patton Ave\, asheville\, NC\, United States
CATEGORIES:Asheville Area,Live Music,Open MIc/Jam
ATTACH;FMTTYPE=image/jpeg:https://livemusicasheville.com/wp-content/uploads/2025/04/IMG_0947-e1750964014171.jpeg
GEO:35.5944492;-82.5558221
X-APPLE-STRUCTURED-LOCATION;VALUE=URI;X-ADDRESS=Jack Of The Wood 95 Patton Ave asheville NC United States;X-APPLE-RADIUS=500;X-TITLE=95 Patton Ave:geo:-82.5558221,35.5944492
END:VEVENT
BEGIN:VEVENT
DTSTART;TZID=America/New_York:20251218T190000
DTEND;TZID=America/New_York:20251218T233000
DTSTAMP:20260419T212409
CREATED:20251210T203601Z
LAST-MODIFIED:20251210T203601Z
UID:10027257-1766084400-1766100600@livemusicasheville.com
SUMMARY:Solstice Celebration w/ Rodent\, Richard Devine\, Jamie Lidell & DJ Forestfloor
DESCRIPTION:
URL:https://livemusicasheville.com/calendar/solstice-celebration-w-rodent-richard-devine-jamie-lidell-dj-forestfloor/
LOCATION:Eulogy\, 10 Buxton Ave\, Asheville\, NC\, 28801
CATEGORIES:Asheville Area,DJ/Electronic,Live Music
GEO:35.5883468;-82.5539256
X-APPLE-STRUCTURED-LOCATION;VALUE=URI;X-ADDRESS=Eulogy 10 Buxton Ave Asheville NC 28801;X-APPLE-RADIUS=500;X-TITLE=10 Buxton Ave:geo:-82.5539256,35.5883468
END:VEVENT
BEGIN:VEVENT
DTSTART;TZID=America/New_York:20251218T190000
DTEND;TZID=America/New_York:20251219T020000
DTSTAMP:20260419T212409
CREATED:20251121T203604Z
LAST-MODIFIED:20260408T185204Z
UID:10033294-1766084400-1766109600@livemusicasheville.com
SUMMARY:Thursday Karaoke
DESCRIPTION:Please verify times and KJ with the venue! \n  \nTurgua Brewing Fairview – 6-8pm (April 16) \nAsheville Sports Club – 7-10pm \nThe Social East Asheville – 7-11pm \nDaddy Mac’s Downhome Dive – 8-11pm \nShiloh and Gaines – 8-11pm \nVOWL – 8-11pm \nPapertown Billiards Canton – 8-11pm  \nStatic Age Loft 10pm-2am \nShakeys Dive Bar 9pm-2am
URL:https://livemusicasheville.com/calendar/thursday-weekly-karaoke-2/2025-12-18/
LOCATION:Asheville Area
CATEGORIES:Asheville Area,Karaoke,Madison County,South Asheville/Arden/Fletcher
END:VEVENT
BEGIN:VEVENT
DTSTART;TZID=America/New_York:20251218T193000
DTEND;TZID=America/New_York:20251218T230000
DTSTAMP:20260419T212409
CREATED:20241225T130550Z
LAST-MODIFIED:20251210T201947Z
UID:10000736-1766086200-1766098800@livemusicasheville.com
SUMMARY:Old Farmers Ball Contra Dance
DESCRIPTION:
URL:https://livemusicasheville.com/calendar/old-farmers-ball-contra-dance/2025-12-18/
LOCATION:Warren Wilson College Swannanoa\, 701 Warren Wilson Road\, Swannanoa\, NC
CATEGORIES:Asheville Area,Live Music
GEO:35.611126;-82.4422791
X-APPLE-STRUCTURED-LOCATION;VALUE=URI;X-ADDRESS=Warren Wilson College Swannanoa 701 Warren Wilson Road Swannanoa NC;X-APPLE-RADIUS=500;X-TITLE=701 Warren Wilson Road:geo:-82.4422791,35.611126
END:VEVENT
BEGIN:VEVENT
DTSTART;TZID=America/New_York:20251218T200000
DTEND;TZID=America/New_York:20251218T220000
DTSTAMP:20260419T212409
CREATED:20251121T204118Z
LAST-MODIFIED:20251121T204119Z
UID:10009540-1766088000-1766095200@livemusicasheville.com
SUMMARY:Rock n Soul with Pleasure Chest
DESCRIPTION:
URL:https://livemusicasheville.com/calendar/rock-n-soul-with-pleasure-chest-2-2-2-2-2/2025-12-18/
LOCATION:5 Walnut Wine Bar
CATEGORIES:Asheville Area,Live Music
GEO:35.596654;-82.5525389
END:VEVENT
BEGIN:VEVENT
DTSTART;TZID=America/New_York:20251218T200000
DTEND;TZID=America/New_York:20251218T230000
DTSTAMP:20260419T212409
CREATED:20251210T161744Z
LAST-MODIFIED:20251210T161744Z
UID:10027164-1766088000-1766098800@livemusicasheville.com
SUMMARY:Drayton & The Dreamboats Christmas Special
DESCRIPTION:
URL:https://livemusicasheville.com/calendar/drayton-the-dreamboats-christmas-special/
LOCATION:Crow and Quill
CATEGORIES:Asheville Area,Live Music
GEO:35.5984495;-82.5537921
END:VEVENT
BEGIN:VEVENT
DTSTART;TZID=America/New_York:20251218T200000
DTEND;TZID=America/New_York:20251218T230000
DTSTAMP:20260419T212409
CREATED:20251210T204716Z
LAST-MODIFIED:20251210T204716Z
UID:10027262-1766088000-1766098800@livemusicasheville.com
SUMMARY:Thievery Corporation w/ City Of The Sun
DESCRIPTION:
URL:https://livemusicasheville.com/calendar/thievery-corporation-w-city-of-the-sun/2025-12-18/
CATEGORIES:Asheville Area,Live Music
END:VEVENT
BEGIN:VEVENT
DTSTART;TZID=America/New_York:20251218T200000
DTEND;TZID=America/New_York:20251218T233000
DTSTAMP:20260419T212409
CREATED:20251217T142657Z
LAST-MODIFIED:20251217T142657Z
UID:10028938-1766088000-1766100600@livemusicasheville.com
SUMMARY:Sh4rk-Mass a Hiphop Toy Drive
DESCRIPTION:A Hiphop show where the entry fee is a toy donation!We are asking for toys\, art supplies\, science kits and more to be donated. Age rage 1 year – 17 years old.All toys that are collected will be donated and distributed by Beloved Asheville.\nShow is all agesDoors 7Shows 8\nStarringSh4rk N4tionLy Ra VegaMusik Man TPEaze DoggPac “O.J”Legacy FamilyCity Jordan
URL:https://livemusicasheville.com/calendar/sh4rk-mass-a-hiphop-toy-drive/
LOCATION:The Odd
CATEGORIES:Asheville Area,DJ/Electronic,Live Music
END:VEVENT
BEGIN:VEVENT
DTSTART;TZID=America/New_York:20251218T200000
DTEND;TZID=America/New_York:20251219T020000
DTSTAMP:20260419T212409
CREATED:20251126T223442Z
LAST-MODIFIED:20251216T131059Z
UID:10026037-1766088000-1766109600@livemusicasheville.com
SUMMARY:All Request Piano Show
DESCRIPTION:
URL:https://livemusicasheville.com/calendar/all-request-piano-show-3/2025-12-18/
LOCATION:Off the Wagon
CATEGORIES:Asheville Area,Live Music
GEO:41.4302231;-81.3909542
END:VEVENT
BEGIN:VEVENT
DTSTART;TZID=America/New_York:20251218T203000
DTEND;TZID=America/New_York:20251218T233000
DTSTAMP:20260419T212409
CREATED:20251210T190937Z
LAST-MODIFIED:20251210T190937Z
UID:10027193-1766089800-1766100600@livemusicasheville.com
SUMMARY:Decide Today / Dylan Metz / Corpse Dust
DESCRIPTION:
URL:https://livemusicasheville.com/calendar/decide-today-dylan-metz-corpse-dust/
LOCATION:Static Age Records
CATEGORIES:Asheville Area,Live Music
GEO:35.5985631;-82.5538043
END:VEVENT
END:VCALENDAR