BEGIN:VCALENDAR
VERSION:2.0
PRODID:-//LiveMusicAsheville.com - ECPv6.15.20//NONSGML v1.0//EN
CALSCALE:GREGORIAN
METHOD:PUBLISH
X-WR-CALNAME:LiveMusicAsheville.com
X-ORIGINAL-URL:https://livemusicasheville.com
X-WR-CALDESC:Events for LiveMusicAsheville.com
REFRESH-INTERVAL;VALUE=DURATION:PT1H
X-Robots-Tag:noindex
X-PUBLISHED-TTL:PT1H
BEGIN:VTIMEZONE
TZID:America/New_York
BEGIN:DAYLIGHT
TZOFFSETFROM:-0500
TZOFFSETTO:-0400
TZNAME:EDT
DTSTART:20240310T070000
END:DAYLIGHT
BEGIN:STANDARD
TZOFFSETFROM:-0400
TZOFFSETTO:-0500
TZNAME:EST
DTSTART:20241103T060000
END:STANDARD
BEGIN:DAYLIGHT
TZOFFSETFROM:-0500
TZOFFSETTO:-0400
TZNAME:EDT
DTSTART:20250309T070000
END:DAYLIGHT
BEGIN:STANDARD
TZOFFSETFROM:-0400
TZOFFSETTO:-0500
TZNAME:EST
DTSTART:20251102T060000
END:STANDARD
BEGIN:DAYLIGHT
TZOFFSETFROM:-0500
TZOFFSETTO:-0400
TZNAME:EDT
DTSTART:20260308T070000
END:DAYLIGHT
BEGIN:STANDARD
TZOFFSETFROM:-0400
TZOFFSETTO:-0500
TZNAME:EST
DTSTART:20261101T060000
END:STANDARD
END:VTIMEZONE
BEGIN:VEVENT
DTSTART;TZID=America/New_York:20251116T140000
DTEND;TZID=America/New_York:20251116T170000
DTSTAMP:20260423T110742
CREATED:20251112T212828Z
LAST-MODIFIED:20251112T212828Z
UID:10024506-1763301600-1763312400@livemusicasheville.com
SUMMARY:Hazy Music Series | Dustin Furlow
DESCRIPTION:Dustin Furlow is an internationally-recognized singer/songwriter/instrumental-guitarist whose body of work occupies its own niche in the contemporary folk music scene. With comparisons to Ray LaMontagne and Gregory Alan Isakov\, his voice is earthy and unassuming–conjuring subtle traces of soul and Americana\, and supported by a well-informed background of guitar ranging from Celtic to Jazz. \nFor show details and our upcoming event line-up click here! \nThe view from our tree-lined brewery is something special no matter the season. Cool down in the Taproom with a farm-fresh salad and small plates\, or soak in the sun on our Back Porch with a beer and a snack. \nFounded in 1980\, Sierra Nevada Brewing Co. is one of America’s premier craft breweries\, highly regarded for using only the finest quality ingredients.  Sierra Nevada has set the standard for craft brewers worldwide with innovations in the brewhouse as well as advances in sustainability. Sierra Nevada has set the standard for artisan brewers worldwide as a winner of numerous awards for a wide variety of beers and ales\, including the legendary Pale Ale. \n 
URL:https://livemusicasheville.com/calendar/hazy-music-series-dustin-furlow/
LOCATION:Sierra Nevada Mills River\, 100 Sierra Nevada Way\, Mills River\, NC\, 28732
CATEGORIES:Asheville Area,Live Music,Mills River
GEO:35.4308568;-82.5535594
X-APPLE-STRUCTURED-LOCATION;VALUE=URI;X-ADDRESS=Sierra Nevada Mills River 100 Sierra Nevada Way Mills River NC 28732;X-APPLE-RADIUS=500;X-TITLE=100 Sierra Nevada Way:geo:-82.5535594,35.4308568
END:VEVENT
BEGIN:VEVENT
DTSTART;TZID=America/New_York:20251116T143000
DTEND;TZID=America/New_York:20251116T163000
DTSTAMP:20260423T110742
CREATED:20250112T160044Z
LAST-MODIFIED:20250601T210834Z
UID:10002298-1763303400-1763310600@livemusicasheville.com
SUMMARY:Sunday Jazz Jam
DESCRIPTION:
URL:https://livemusicasheville.com/calendar/sunday-jazz-jam-2/2025-11-16/
LOCATION:Ginger’s Revenge
CATEGORIES:Asheville Area,Live Music,Open MIc/Jam
END:VEVENT
BEGIN:VEVENT
DTSTART;TZID=America/New_York:20251116T150000
DTEND;TZID=America/New_York:20251116T163000
DTSTAMP:20260423T110742
CREATED:20250520T141123Z
LAST-MODIFIED:20251116T020000Z
UID:10014523-1763305200-1763310600@livemusicasheville.com
SUMMARY:The Smoky Mountain Brass Band Concert
DESCRIPTION:Experience the power and pageantry of live brass! Now in their 44th season\, the Smoky Mountain Brass Band continues the rich tradition of British-style brass ensembles\, bringing audiences a program filled with stirring marches\, lyrical melodies\, and dazzling showpieces. Under the direction of Dr. JT Womack\, the band showcases both ensemble brilliance and virtuosic solo moments\, celebrating the warmth\, energy\, and versatility of brass music. With its sweeping sounds and spirited performance\, the SMBB concert promises an afternoon of musical celebration. Free and open to the public.
URL:https://livemusicasheville.com/calendar/smoky-mountain-brass-band-spring-concert/
LOCATION:Fletcher United Methodist Church\, 50 Library Rd\, Fletcher\, NC\, 28732
CATEGORIES:Asheville Area,Live Music,South Asheville/Arden/Fletcher
GEO:35.435321;-82.5032066
X-APPLE-STRUCTURED-LOCATION;VALUE=URI;X-ADDRESS=Fletcher United Methodist Church 50 Library Rd Fletcher NC 28732;X-APPLE-RADIUS=500;X-TITLE=50 Library Rd:geo:-82.5032066,35.435321
END:VEVENT
BEGIN:VEVENT
DTSTART;TZID=America/New_York:20251116T150000
DTEND;TZID=America/New_York:20251116T163000
DTSTAMP:20260423T110742
CREATED:20251113T145348Z
LAST-MODIFIED:20251113T145348Z
UID:10024543-1763305200-1763310600@livemusicasheville.com
SUMMARY:The Breakfast Club Ensemble
DESCRIPTION:This Sunday! Come relive the radical music 1980s with the Breakfast Club!
URL:https://livemusicasheville.com/calendar/the-breakfast-club-ensemble/
LOCATION:UNC-Asheville
CATEGORIES:Asheville Area,Live Music
END:VEVENT
BEGIN:VEVENT
DTSTART;TZID=America/New_York:20251116T150000
DTEND;TZID=America/New_York:20251116T170000
DTSTAMP:20260423T110742
CREATED:20250910T202409Z
LAST-MODIFIED:20250910T202411Z
UID:10002404-1763305200-1763312400@livemusicasheville.com
SUMMARY:Vintage Swing w/ Parker’s Back
DESCRIPTION:
URL:https://livemusicasheville.com/calendar/vintage-swing-w-parkers-back-2/2025-11-16/
LOCATION:Battery Park Book Exchange & Champagne Bar
CATEGORIES:Asheville Area,Live Music
GEO:35.5951042;-82.556633
END:VEVENT
BEGIN:VEVENT
DTSTART;TZID=America/New_York:20251116T150000
DTEND;TZID=America/New_York:20251116T180000
DTSTAMP:20260423T110742
CREATED:20241225T202243Z
LAST-MODIFIED:20250528T165144Z
UID:10002351-1763305200-1763316000@livemusicasheville.com
SUMMARY:Iggy Radio
DESCRIPTION:
URL:https://livemusicasheville.com/calendar/iggy-radio/2025-11-16/
LOCATION:Asheville Yacht Club
CATEGORIES:Asheville Area,Live Music
GEO:35.5944176;-82.5554715
END:VEVENT
BEGIN:VEVENT
DTSTART;TZID=America/New_York:20251116T150000
DTEND;TZID=America/New_York:20251116T180000
DTSTAMP:20260423T110742
CREATED:20251019T134327Z
LAST-MODIFIED:20251221T024501Z
UID:10013165-1763305200-1763316000@livemusicasheville.com
SUMMARY:Reggae Sunday w/ CHALWA
DESCRIPTION:This 8-member Mountain Reggae powerhouse packs it full of roots meditations and high grade jams that awaken your spirit and soul! Chalwa’s high energy shows are one of a kind\, featuring smooth vocals\, percussion\, bass\, lead guitar\, keys and saxophone. Their extensive collection of original music is interlaced with music from some of the Greats including\, Bob Marley\, Peter Tosh\, Burning Spear\, Bunny Wailer and even Jerry Garcia and the Grateful Dead. \nFrench Broad River Brewery is more than just a place to enjoy a drink—it’s a community hub where great beer\, delicious pizza\, live music\, and good times come together. Just minutes from the Biltmore Estate & Downtown\, our taproom is a gathering spot for locals and visitors alike. We regularly host live music and entertainment in our taproom\, making French Broad River Brewery a lively hub of local activity. From bluegrass to reggae\, there’s always something happening. Check out our Events Page to see what’s coming up next! \nNo brewery experience is complete without great food. That’s why we offer French Broad River Pizza\, serving up hot\, hand-tossed pizzas made to order. Whether you’re here for a quick slice or a full meal\, our pizza perfectly complements our craft beers and the lively atmosphere of our taproom. frenchbroadbrewery.com/pizza \n 
URL:https://livemusicasheville.com/calendar/chalwa-returns-2-2/2025-11-16/
LOCATION:French Broad River Brewery\, 101 Fairview Rd\, Asheville\, NC\, United States
CATEGORIES:Asheville Area,Live Music
ATTACH;FMTTYPE=image/png:https://livemusicasheville.com/wp-content/uploads/2025/10/Screenshot-2025-12-20-214144-e1766285002169.png
GEO:35.5662722;-82.5374054
X-APPLE-STRUCTURED-LOCATION;VALUE=URI;X-ADDRESS=French Broad River Brewery 101 Fairview Rd Asheville NC United States;X-APPLE-RADIUS=500;X-TITLE=101 Fairview Rd:geo:-82.5374054,35.5662722
END:VEVENT
BEGIN:VEVENT
DTSTART;TZID=America/New_York:20251116T150000
DTEND;TZID=America/New_York:20251116T193000
DTSTAMP:20260423T110742
CREATED:20251006T015201Z
LAST-MODIFIED:20251201T170250Z
UID:10021241-1763305200-1763321400@livemusicasheville.com
SUMMARY:Asheville Guitar Bar "on the road" presents: The Sunday Jam
DESCRIPTION:
URL:https://livemusicasheville.com/calendar/asheville-guitar-bar-on-the-road-presents-the-sunday-jam-2-2/2025-11-16/
LOCATION:Terra Nova Beer Company Asheville
CATEGORIES:Asheville Area,Live Music,Open MIc/Jam
END:VEVENT
BEGIN:VEVENT
DTSTART;TZID=America/New_York:20251116T153000
DTEND;TZID=America/New_York:20251116T200000
DTSTAMP:20260423T110742
CREATED:20250209T143153Z
LAST-MODIFIED:20250929T004024Z
UID:10001766-1763307000-1763323200@livemusicasheville.com
SUMMARY:Jack’s Traditional Irish/Celtic Jam Session
DESCRIPTION:Stop in for the pub’s long running Traditional Irish Session each Sunday afternoon beginning around 3:30pm. Many talented local musicians come from WNC to jam away into the night – all on our pub stage! Sunday is a perfect day to enjoy a pint or afternoon Irish coffee! Slaínte! \nJack Of The Wood is still a downtown hot spot for food\, brews and drink since 1997 and founders Joan and Joe Eckert who still own it\, have maintained the original lively English and Irish vibe. The old-time mountain and Irish music jams continue\, including a hot bluegrass jam Thursdays and brunch every Sunday. The venue extends a welcoming feeling to regulars and newcomers to this day. https://jackofthewood.com/
URL:https://livemusicasheville.com/calendar/jacks-traditional-irish-celtic-jam-session-2/2025-11-16/
LOCATION:Jack Of The Wood\, 95 Patton Ave\, asheville\, NC\, United States
CATEGORIES:Asheville Area,Live Music,Open MIc/Jam
ATTACH;FMTTYPE=image/jpeg:https://livemusicasheville.com/wp-content/uploads/2025/02/520234226_634124486372464_8974916319488110849_n-e1754135686660.jpg
GEO:35.5944492;-82.5558221
X-APPLE-STRUCTURED-LOCATION;VALUE=URI;X-ADDRESS=Jack Of The Wood 95 Patton Ave asheville NC United States;X-APPLE-RADIUS=500;X-TITLE=95 Patton Ave:geo:-82.5558221,35.5944492
END:VEVENT
BEGIN:VEVENT
DTSTART;TZID=America/New_York:20251116T160000
DTEND;TZID=America/New_York:20251116T190000
DTSTAMP:20260423T110742
CREATED:20250809T155921Z
LAST-MODIFIED:20260107T125152Z
UID:10018694-1763308800-1763319600@livemusicasheville.com
SUMMARY:BUTTS & BOOTS :: Line Dancing
DESCRIPTION:
URL:https://livemusicasheville.com/calendar/butts-boots-line-dancing-2-2-2/2025-11-16/
LOCATION:Banks Ave
CATEGORIES:Asheville Area,DJ/Electronic
GEO:35.5892908;-82.5536382
END:VEVENT
BEGIN:VEVENT
DTSTART;TZID=America/New_York:20251116T160000
DTEND;TZID=America/New_York:20251117T020000
DTSTAMP:20260423T110742
CREATED:20241225T203811Z
LAST-MODIFIED:20260104T123715Z
UID:10010186-1763308800-1763344800@livemusicasheville.com
SUMMARY:Sunday Karaoke
DESCRIPTION:T Birds Weaverville – 4-8pm \nBush Farmhouse Black Mountain – 6-9pm (January 4 & 18) \nThe Draftsman – 8-11pm \nBanks Ave – 9pm-12am \nThe Social East Asheville – 9pm-12am \nThe Double Crown – 10pm-2am \nPlease verify with the venue on times and KJ. \n 
URL:https://livemusicasheville.com/calendar/sunday-karaoke/2025-11-16/
LOCATION:Asheville Area
CATEGORIES:Asheville Area,Black Mountain,Karaoke,South Asheville/Arden/Fletcher,Weaverville
END:VEVENT
BEGIN:VEVENT
DTSTART;TZID=America/New_York:20251116T163000
DTEND;TZID=America/New_York:20251116T193000
DTSTAMP:20260423T110742
CREATED:20250903T135708Z
LAST-MODIFIED:20250903T135708Z
UID:10020557-1763310600-1763321400@livemusicasheville.com
SUMMARY:Sunday Bluegrass & Jam On The River
DESCRIPTION:A rotating local host band will play from 4:30 to 5:30\, and then an open bluegrass jam from 5:30 to 7:30.
URL:https://livemusicasheville.com/calendar/sunday-bluegrass-jam-on-the-river/2025-11-16/
LOCATION:Zillicoah Beer Company
CATEGORIES:Asheville Area,Live Music,Open MIc/Jam
END:VEVENT
BEGIN:VEVENT
DTSTART;TZID=America/New_York:20251116T173000
DTEND;TZID=America/New_York:20251116T193000
DTSTAMP:20260423T110742
CREATED:20251112T133156Z
LAST-MODIFIED:20251112T133156Z
UID:10024466-1763314200-1763321400@livemusicasheville.com
SUMMARY:Wes Collins Band
DESCRIPTION:
URL:https://livemusicasheville.com/calendar/wes-collins-band/
LOCATION:White Horse Black Mountain
CATEGORIES:Asheville Area,Black Mountain,Live Music
GEO:35.6178579;-82.3211924
END:VEVENT
BEGIN:VEVENT
DTSTART;TZID=America/New_York:20251116T173000
DTEND;TZID=America/New_York:20251116T213000
DTSTAMP:20260423T110742
CREATED:20251112T224655Z
LAST-MODIFIED:20251112T224748Z
UID:10024529-1763314200-1763328600@livemusicasheville.com
SUMMARY:Pedal Stroke 2025 ft. Several Dudes\, Karma Dogs\, and Mission Accomplished
DESCRIPTION:This year’s event will bring three bands (Several Dudes\, Karma Dogs\, and Mission Accomplished) to the stage for an evening of music and FUNdraising for the United Stroke Alliance and Asheville on Bikes. These organizations work to improve lives through advocacy\, education\, and social support. Our goal is to not only raise money but also raise awareness of time-sensitive emergencies\, stroke\, heart attacks and trauma. The event will include education on cycling safety and stroke and heart disease prevention and early treatment and recovery. We will have patient and health care provider testimonials to emphasize the importance of calling 911 and getting to the closest intervention treatment center. \nEvent Details and Tickets
URL:https://livemusicasheville.com/calendar/pedal-stroke-2025-ft-several-dudes-karma-dogs-and-mission-accomplished/
LOCATION:The Grey Eagle\, 185 Clingman Ave\, Asheville\, NC\, United States
CATEGORIES:Asheville Area,Live Music
GEO:35.5870871;-82.5643936
X-APPLE-STRUCTURED-LOCATION;VALUE=URI;X-ADDRESS=The Grey Eagle 185 Clingman Ave Asheville NC United States;X-APPLE-RADIUS=500;X-TITLE=185 Clingman Ave:geo:-82.5643936,35.5870871
END:VEVENT
BEGIN:VEVENT
DTSTART;TZID=America/New_York:20251116T180000
DTEND;TZID=America/New_York:20251116T200000
DTSTAMP:20260423T110742
CREATED:20251112T184341Z
LAST-MODIFIED:20251112T184643Z
UID:10024482-1763316000-1763323200@livemusicasheville.com
SUMMARY:2nd Anniversary w/ 5J Barrow
DESCRIPTION:
URL:https://livemusicasheville.com/calendar/nd-anniversary-w-5j-barrow/
LOCATION:Doug McElvy’s Mountain Fly Outfitters Canton\, 18 Church St\, Canton\, NC
CATEGORIES:Asheville Area,Canton/Candler,Live Music
GEO:35.532968;-82.83724
X-APPLE-STRUCTURED-LOCATION;VALUE=URI;X-ADDRESS=Doug McElvy’s Mountain Fly Outfitters Canton 18 Church St Canton NC;X-APPLE-RADIUS=500;X-TITLE=18 Church St:geo:-82.83724,35.532968
END:VEVENT
BEGIN:VEVENT
DTSTART;TZID=America/New_York:20251116T180000
DTEND;TZID=America/New_York:20251116T220000
DTSTAMP:20260423T110742
CREATED:20251007T130234Z
LAST-MODIFIED:20251116T161904Z
UID:10024558-1763316000-1763330400@livemusicasheville.com
SUMMARY:Winter Lights
DESCRIPTION:We look forward to welcoming you back for another year of Asheville’s Brightest Holiday Tradition! Winter Lights is a spectacular open-air walk-through light show made from over one million lights! Located at the North Carolina Arboretum in Asheville\, North Carolina\, this year’s event features favorites like the famously tall 50-foot lighted tree and the Quilt Garden\, along with enchanting new details designed to delight and surprise. \nTroll sightings are anticipated at this year’s Winter Lights\, as six of Dambo’s Trolls will be experiencing the show for themselves. Meet them in the gardens at Winter Lights! \nWinter Lights features live entertainment nightly and food and beverages from the Bent Creek Bistro\, the Cocoa Shack and the Cocoa Cabin! Open nightly from 6:00 – 10:00 p.m. \nTickets on Sale Now! Event Details and Tickets \nFor more than 35 years…Cultivating Connections between People\, Plants and Places…amid a 434-acre public garden\, The North Carolina Arboretum is located within the Bent Creek Experimental Forest just south of Asheville and adjacent to the Blue Ridge Parkway at Milepost 393. Surrounded and crisscrossed by forested coves and meandering creeks in the botanically diverse Southern Appalachian Mountains\, The North Carolina Arboretum is set in one of the most beautiful natural settings in America. ncarboretum.org \n  \n 
URL:https://livemusicasheville.com/calendar/winter-lights-2/2025-11-16/
LOCATION:The North Carolina Arboretum
CATEGORIES:Asheville Area,Live Music
END:VEVENT
BEGIN:VEVENT
DTSTART;TZID=America/New_York:20251116T183000
DTEND;TZID=America/New_York:20251116T203000
DTSTAMP:20260423T110742
CREATED:20250306T171807Z
LAST-MODIFIED:20250907T221607Z
UID:10020895-1763317800-1763325000@livemusicasheville.com
SUMMARY:Leo Johnson/Phil Alley guitar duo
DESCRIPTION:
URL:https://livemusicasheville.com/calendar/liliana-hudgens/2025-11-16/
LOCATION:The Lobster Trap
CATEGORIES:Asheville Area,Live Music
GEO:33.3427223;-118.3257271
END:VEVENT
BEGIN:VEVENT
DTSTART;TZID=America/New_York:20251116T190000
DTEND;TZID=America/New_York:20251116T220000
DTSTAMP:20260423T110742
CREATED:20250707T201951Z
LAST-MODIFIED:20251217T154603Z
UID:10016985-1763319600-1763330400@livemusicasheville.com
SUMMARY:One Love Sundays w/ Strong Fire
DESCRIPTION:Ashevilles newest Ska/Rocksteady/Early Reggae band\, “Strong Fire!” return to One Love Sundays at One World West this Sunday!\n\nBand members:JLloyd – Vocals/TromboneBen Colvin – SaxAndre Lyles – BassJon Lauterer – DrumsBuffalo Brown – GuitarCharlie Evans – Keys\n\n$10 Cover\n\n\n\n\nThe West Asheville taproom hosts a wide variety of special and regular events\, from yoga to an electronic music & beer festival\, and everything in between. Check out our upcoming schedule: click here
URL:https://livemusicasheville.com/calendar/one-love-sunday-w-strong-fire/2025-11-16/
LOCATION:One World Brewing – West\, 520 Haywood Rd\, Asheville\, North Carolina\, 28806
CATEGORIES:Asheville Area,Live Music
GEO:35.5783642;-82.5848526
X-APPLE-STRUCTURED-LOCATION;VALUE=URI;X-ADDRESS=One World Brewing – West 520 Haywood Rd Asheville North Carolina 28806;X-APPLE-RADIUS=500;X-TITLE=520 Haywood Rd:geo:-82.5848526,35.5783642
END:VEVENT
BEGIN:VEVENT
DTSTART;TZID=America/New_York:20251116T190000
DTEND;TZID=America/New_York:20251116T233000
DTSTAMP:20260423T110742
CREATED:20250322T150845Z
LAST-MODIFIED:20251214T215054Z
UID:10010495-1763319600-1763335800@livemusicasheville.com
SUMMARY:Save Our Website to Your Home Screen 📲
DESCRIPTION:As an interactive calendar\, we often add events to our calendar as we find out about them\, sometimes even from our phone while we are out supporting local live music. By adding our website\, LiveMusicAsheville.com to your home screen\, we will always be right at your fingertips. Here’s how:\n\n\n\n\niPhone (using Safari):\n\n\n\nOpen Safari and navigate to the website: you want to add as a shortcut. \n\n\n\n\n\n\n\n\nTap the Share button: (a square with an arrow pointing out of the top). \n\n\n\n\n\n\n\n\nScroll down and tap “Add to Home Screen” . \n\n\n\n\n\n\n\n\nChoose a name for the shortcut: and tap “Add”. \n\n\n\n\n\n\n\n\nThe shortcut will appear on your home screen as an icon. \n\n\n\n\n\n\n\n\n\n\n\nAndroid (using Chrome or other browsers):\n\n\n\nOpen Chrome (or your preferred browser) and navigate to the website: you want to add.\nTap the three-dot menu icon: (usually in the top right corner).\nSelect “Add to Home Screen” .\nCustomize the name of the shortcut: if desired\, and then tap “Add”.\nThe shortcut will appear on your home screen as an icon. 
URL:https://livemusicasheville.com/calendar/add-our-website-to-your-home-screen/2025-11-16/
CATEGORIES:Asheville Area
END:VEVENT
BEGIN:VEVENT
DTSTART;TZID=America/New_York:20251116T193000
DTEND;TZID=America/New_York:20251116T223000
DTSTAMP:20260423T110742
CREATED:20251112T204117Z
LAST-MODIFIED:20251112T204117Z
UID:10024491-1763321400-1763332200@livemusicasheville.com
SUMMARY:NEEDTOBREATHE
DESCRIPTION:
URL:https://livemusicasheville.com/calendar/needtobreathe/
LOCATION:Harrah’s Cherokee Center – Asheville
CATEGORIES:Asheville Area,Live Music
GEO:35.5975104;-82.5460563
END:VEVENT
BEGIN:VEVENT
DTSTART;TZID=America/New_York:20251116T200000
DTEND;TZID=America/New_York:20251116T220000
DTSTAMP:20260423T110742
CREATED:20250219T131901Z
LAST-MODIFIED:20251123T191931Z
UID:10008788-1763323200-1763330400@livemusicasheville.com
SUMMARY:Breakfast for Dinner
DESCRIPTION:
URL:https://livemusicasheville.com/calendar/breakfast-for-dinner-2/
LOCATION:5 Walnut Wine Bar
CATEGORIES:Asheville Area,Live Music
GEO:35.596654;-82.5525389
END:VEVENT
BEGIN:VEVENT
DTSTART;TZID=America/New_York:20251116T200000
DTEND;TZID=America/New_York:20251116T230000
DTSTAMP:20260423T110742
CREATED:20251112T185428Z
LAST-MODIFIED:20251112T185428Z
UID:10024485-1763323200-1763334000@livemusicasheville.com
SUMMARY:The Furious Bongos ft. Chad Wackerman
DESCRIPTION:
URL:https://livemusicasheville.com/calendar/the-furious-bongos-ft-chad-wackerman/
LOCATION:Third Room\, 46 Wall Street\, Asheville\, NC\, NC\, 28803\, United States
CATEGORIES:Asheville Area,Live Music
GEO:35.5943967;-82.5559625
X-APPLE-STRUCTURED-LOCATION;VALUE=URI;X-ADDRESS=Third Room 46 Wall Street Asheville NC NC 28803 United States;X-APPLE-RADIUS=500;X-TITLE=46 Wall Street:geo:-82.5559625,35.5943967
END:VEVENT
BEGIN:VEVENT
DTSTART;TZID=America/New_York:20251116T200000
DTEND;TZID=America/New_York:20251116T230000
DTSTAMP:20260423T110742
CREATED:20251112T220816Z
LAST-MODIFIED:20251112T220816Z
UID:10024516-1763323200-1763334000@livemusicasheville.com
SUMMARY:Saintseneca w/ Radiator Hospital & Becca Leigh
DESCRIPTION:
URL:https://livemusicasheville.com/calendar/saintseneca-w-radiator-hospital-becca-leigh/
LOCATION:Eulogy\, 10 Buxton Ave\, Asheville\, NC\, 28801
CATEGORIES:Asheville Area,Live Music
GEO:35.5883468;-82.5539256
X-APPLE-STRUCTURED-LOCATION;VALUE=URI;X-ADDRESS=Eulogy 10 Buxton Ave Asheville NC 28801;X-APPLE-RADIUS=500;X-TITLE=10 Buxton Ave:geo:-82.5539256,35.5883468
END:VEVENT
BEGIN:VEVENT
DTSTART;TZID=America/New_York:20251116T200000
DTEND;TZID=America/New_York:20251116T233000
DTSTAMP:20260423T110742
CREATED:20251112T170115Z
LAST-MODIFIED:20251112T170115Z
UID:10024479-1763323200-1763335800@livemusicasheville.com
SUMMARY:Eyewash (PA)\, Tanner York\, Headringer\, Caelan Burris & The Laurels
DESCRIPTION:
URL:https://livemusicasheville.com/calendar/eyewash-pa-tanner-york-headringer-caelan-burris-the-laurels/
LOCATION:The Odd
CATEGORIES:Asheville Area,Live Music
END:VEVENT
BEGIN:VEVENT
DTSTART;TZID=America/New_York:20251116T200000
DTEND;TZID=America/New_York:20251116T233000
DTSTAMP:20260423T110742
CREATED:20251115T152738Z
LAST-MODIFIED:20251115T152738Z
UID:10024555-1763323200-1763335800@livemusicasheville.com
SUMMARY:Bad Ties / Holland Negative / YAWNi / boy a/c
DESCRIPTION:
URL:https://livemusicasheville.com/calendar/bad-ties-holland-negative-yawni-boy-a-c/
LOCATION:Sly Grog Lounge
CATEGORIES:Asheville Area,Live Music
GEO:35.5942606;-82.5628302
END:VEVENT
BEGIN:VEVENT
DTSTART;TZID=America/New_York:20251116T200000
DTEND;TZID=America/New_York:20251117T000000
DTSTAMP:20260423T110742
CREATED:20251112T140055Z
LAST-MODIFIED:20251112T140055Z
UID:10024470-1763323200-1763337600@livemusicasheville.com
SUMMARY:Derro// Hashwitch // Slumbering Sun
DESCRIPTION:
URL:https://livemusicasheville.com/calendar/derro-hashwitch-slumbering-sun/
LOCATION:Fleetwood’s\, 496 Haywood Rd\, Asheville\, NC\, 28806\, United States
CATEGORIES:Asheville Area,Live Music
GEO:35.578126;-82.583757
X-APPLE-STRUCTURED-LOCATION;VALUE=URI;X-ADDRESS=Fleetwood’s 496 Haywood Rd Asheville NC 28806 United States;X-APPLE-RADIUS=500;X-TITLE=496 Haywood Rd:geo:-82.583757,35.578126
END:VEVENT
BEGIN:VEVENT
DTSTART;TZID=America/New_York:20251116T210000
DTEND;TZID=America/New_York:20251117T000000
DTSTAMP:20260423T110743
CREATED:20250903T200545Z
LAST-MODIFIED:20250921T205026Z
UID:10021507-1763326800-1763337600@livemusicasheville.com
SUMMARY:Shakedown Sunday
DESCRIPTION:
URL:https://livemusicasheville.com/calendar/shakedown-sunday-2-2-2-2/2025-11-16/
LOCATION:The One Stop
CATEGORIES:Asheville Area,Live Music,Open MIc/Jam
END:VEVENT
BEGIN:VEVENT
DTSTART;TZID=America/New_York:20251116T210000
DTEND;TZID=America/New_York:20251117T000000
DTSTAMP:20260423T110743
CREATED:20251026T134405Z
LAST-MODIFIED:20251026T134405Z
UID:10023031-1763326800-1763337600@livemusicasheville.com
SUMMARY:Benefit supporting Leanne & Lily with RAVAGERS // DESIGNER // Mockery
DESCRIPTION:
URL:https://livemusicasheville.com/calendar/benefit-supporting-leanne-lily-with-ravagers-designer-mockery/
LOCATION:The Lazy Diamond
CATEGORIES:Asheville Area,Live Music
END:VEVENT
BEGIN:VEVENT
DTSTART;TZID=America/New_York:20251116T210000
DTEND;TZID=America/New_York:20251117T010000
DTSTAMP:20260423T110743
CREATED:20251112T203131Z
LAST-MODIFIED:20251112T203206Z
UID:10024488-1763326800-1763341200@livemusicasheville.com
SUMMARY:Academy Order / Teardux / Saint Cure
DESCRIPTION:
URL:https://livemusicasheville.com/calendar/academy-order-teardux-saint-cure/
LOCATION:27 Club Asheville
CATEGORIES:Asheville Area,Live Music
GEO:35.5933012;-82.5592961
END:VEVENT
BEGIN:VEVENT
DTSTART;VALUE=DATE:20251117
DTEND;VALUE=DATE:20251119
DTSTAMP:20260423T110743
CREATED:20250121T072030Z
LAST-MODIFIED:20251210T122902Z
UID:10020175-1763348400-1763434799@livemusicasheville.com
SUMMARY:Support Your Local Music Calendar
DESCRIPTION:We hope you enjoy our guide to the Asheville area’s dynamic music scene. \nIf we somehow help to brighten up your day\, please consider a $5 donation to help support our efforts in providing the area’s most complete local live music calendar. \nVenmo: click here  \nLast 4 digits – 3383 \nPayPal: click here \n \n 
URL:https://livemusicasheville.com/calendar/support-your-local-music-calendar-2/2025-11-17/
CATEGORIES:Asheville Area
END:VEVENT
END:VCALENDAR