BEGIN:VCALENDAR
VERSION:2.0
PRODID:-//LiveMusicAsheville.com - ECPv6.15.20//NONSGML v1.0//EN
CALSCALE:GREGORIAN
METHOD:PUBLISH
X-ORIGINAL-URL:https://livemusicasheville.com
X-WR-CALDESC:Events for LiveMusicAsheville.com
REFRESH-INTERVAL;VALUE=DURATION:PT1H
X-Robots-Tag:noindex
X-PUBLISHED-TTL:PT1H
BEGIN:VTIMEZONE
TZID:America/New_York
BEGIN:DAYLIGHT
TZOFFSETFROM:-0500
TZOFFSETTO:-0400
TZNAME:EDT
DTSTART:20240310T070000
END:DAYLIGHT
BEGIN:STANDARD
TZOFFSETFROM:-0400
TZOFFSETTO:-0500
TZNAME:EST
DTSTART:20241103T060000
END:STANDARD
BEGIN:DAYLIGHT
TZOFFSETFROM:-0500
TZOFFSETTO:-0400
TZNAME:EDT
DTSTART:20250309T070000
END:DAYLIGHT
BEGIN:STANDARD
TZOFFSETFROM:-0400
TZOFFSETTO:-0500
TZNAME:EST
DTSTART:20251102T060000
END:STANDARD
BEGIN:DAYLIGHT
TZOFFSETFROM:-0500
TZOFFSETTO:-0400
TZNAME:EDT
DTSTART:20260308T070000
END:DAYLIGHT
BEGIN:STANDARD
TZOFFSETFROM:-0400
TZOFFSETTO:-0500
TZNAME:EST
DTSTART:20261101T060000
END:STANDARD
END:VTIMEZONE
BEGIN:VEVENT
DTSTART;TZID=America/New_York:20251121T190000
DTEND;TZID=America/New_York:20251122T010000
DTSTAMP:20260423T024418
CREATED:20241225T141623Z
LAST-MODIFIED:20260416T110217Z
UID:10056315-1763751600-1763773200@livemusicasheville.com
SUMMARY:Friday Karaoke
DESCRIPTION:  \n7-10pm – Mal’s Bar Marshall (February 20) \n7-10pm- Noble Cider (April 10) \n8pm-12am – Silverados Black Mountain \n8-11pm – Dalton Distillery (April 17) \n8-11pm – T Birds Weaverville \n8:30-11pm – The Village Porch Woodfin (April 17) \n8pm-1am – Fleetwoods (Feb 27) \n9pm-12am – Brewskies Fairview   \n9pm-12am – Little Creek Tavern Fletcher  \n9pm-1am – Handlebar & Grill \n9pm- 1am – O’Henrys \n9:30pm-1:30am – The Crowbar Downtown \n10pm – 2am – Shakeys \nVerify time and KJ with The Venue. \n  \n  \n\n 
URL:https://livemusicasheville.com/calendar/friday-weekly-karaoke/2025-11-21/
LOCATION:Asheville Area
CATEGORIES:Asheville Area,Black Mountain,Fairview,Karaoke,Madison County,Weaverville
END:VEVENT
BEGIN:VEVENT
DTSTART;TZID=America/New_York:20251121T190000
DTEND;TZID=America/New_York:20251122T020000
DTSTAMP:20260423T024418
CREATED:20241225T123126Z
LAST-MODIFIED:20251122T132355Z
UID:10000619-1763751600-1763776800@livemusicasheville.com
SUMMARY:Dueling Piano Show
DESCRIPTION:
URL:https://livemusicasheville.com/calendar/dueling-piano-show/2025-11-21/
LOCATION:Off the Wagon
CATEGORIES:Asheville Area,Live Music
GEO:41.4302231;-81.3909542
END:VEVENT
BEGIN:VEVENT
DTSTART;TZID=America/New_York:20251121T193000
DTEND;TZID=America/New_York:20251121T213000
DTSTAMP:20260423T024418
CREATED:20251119T124005Z
LAST-MODIFIED:20251119T124005Z
UID:10024793-1763753400-1763760600@livemusicasheville.com
SUMMARY:Martha Spencer & The Wonderland Country Band
DESCRIPTION:
URL:https://livemusicasheville.com/calendar/martha-spencer-the-wonderland-country-band-2/
LOCATION:White Horse Black Mountain
CATEGORIES:Asheville Area,Black Mountain,Live Music
GEO:35.6178579;-82.3211924
END:VEVENT
BEGIN:VEVENT
DTSTART;TZID=America/New_York:20251121T200000
DTEND;TZID=America/New_York:20251121T223000
DTSTAMP:20260423T024418
CREATED:20241227T161145Z
LAST-MODIFIED:20251119T161119Z
UID:10004031-1763755200-1763764200@livemusicasheville.com
SUMMARY:Swing Dance w/ Parker's Back
DESCRIPTION:
URL:https://livemusicasheville.com/calendar/vocal-jazz-swing-w-parkers-back/
LOCATION:Cork & Keg
CATEGORIES:Asheville Area,Live Music
END:VEVENT
BEGIN:VEVENT
DTSTART;TZID=America/New_York:20251121T200000
DTEND;TZID=America/New_York:20251121T230000
DTSTAMP:20260423T024418
CREATED:20250711T192233Z
LAST-MODIFIED:20260116T152048Z
UID:10028199-1763755200-1763766000@livemusicasheville.com
SUMMARY:Commodore Fox Band
DESCRIPTION:
URL:https://livemusicasheville.com/calendar/commodore-fox-band-2/2025-11-21/
LOCATION:Wild Wing Cafe South
CATEGORIES:Live Music,South Asheville/Arden/Fletcher
END:VEVENT
BEGIN:VEVENT
DTSTART;TZID=America/New_York:20251121T200000
DTEND;TZID=America/New_York:20251121T230000
DTSTAMP:20260423T024418
CREATED:20251119T190627Z
LAST-MODIFIED:20251119T190627Z
UID:10024828-1763755200-1763766000@livemusicasheville.com
SUMMARY:Dulci Band plus RAFFLEMANIA
DESCRIPTION:
URL:https://livemusicasheville.com/calendar/dulci-band-plus-rafflemania/
LOCATION:Eda’s Hide-a-Way Weaverville
CATEGORIES:Asheville Area,Live Music,Weaverville
GEO:35.6970547;-82.5606851
END:VEVENT
BEGIN:VEVENT
DTSTART;TZID=America/New_York:20251121T200000
DTEND;TZID=America/New_York:20251121T230000
DTSTAMP:20260423T024418
CREATED:20251119T192749Z
LAST-MODIFIED:20251119T192749Z
UID:10024832-1763755200-1763766000@livemusicasheville.com
SUMMARY:Ben Kweller w/ Modern Love Child
DESCRIPTION:
URL:https://livemusicasheville.com/calendar/ben-kweller-w-modern-love-child/
LOCATION:Eulogy\, 10 Buxton Ave\, Asheville\, NC\, 28801
CATEGORIES:Asheville Area,Live Music
GEO:35.5883468;-82.5539256
X-APPLE-STRUCTURED-LOCATION;VALUE=URI;X-ADDRESS=Eulogy 10 Buxton Ave Asheville NC 28801;X-APPLE-RADIUS=500;X-TITLE=10 Buxton Ave:geo:-82.5539256,35.5883468
END:VEVENT
BEGIN:VEVENT
DTSTART;TZID=America/New_York:20251121T200000
DTEND;TZID=America/New_York:20251121T230000
DTSTAMP:20260423T024418
CREATED:20251119T194710Z
LAST-MODIFIED:20251119T194710Z
UID:10024836-1763755200-1763766000@livemusicasheville.com
SUMMARY:SOLD OUT | Watchhouse w/Sam Moss
DESCRIPTION:
URL:https://livemusicasheville.com/calendar/sold-out-watchhouse-w-sam-moss/
LOCATION:The Orange Peel
CATEGORIES:Asheville Area,Live Music
GEO:35.5914061;-82.5510137
END:VEVENT
BEGIN:VEVENT
DTSTART;TZID=America/New_York:20251121T200000
DTEND;TZID=America/New_York:20251121T230000
DTSTAMP:20260423T024418
CREATED:20251119T195129Z
LAST-MODIFIED:20251119T195129Z
UID:10024838-1763755200-1763766000@livemusicasheville.com
SUMMARY:Willi Carlisle w/ Clover County
DESCRIPTION:
URL:https://livemusicasheville.com/calendar/willi-carlisle-w-clover-county/
LOCATION:The Grey Eagle\, 185 Clingman Ave\, Asheville\, NC\, United States
CATEGORIES:Asheville Area,Live Music
GEO:35.5870871;-82.5643936
X-APPLE-STRUCTURED-LOCATION;VALUE=URI;X-ADDRESS=The Grey Eagle 185 Clingman Ave Asheville NC United States;X-APPLE-RADIUS=500;X-TITLE=185 Clingman Ave:geo:-82.5643936,35.5870871
END:VEVENT
BEGIN:VEVENT
DTSTART;TZID=America/New_York:20251121T203000
DTEND;TZID=America/New_York:20251121T233000
DTSTAMP:20260423T024418
CREATED:20250219T132207Z
LAST-MODIFIED:20251121T145044Z
UID:10008790-1763757000-1763767800@livemusicasheville.com
SUMMARY:Organ Fairchild
DESCRIPTION:7:30 doors | 8:30pm show | $12 advance or $15 day of show (if available) Event Details and Tickets\n\nNationally touring instrumental jam powerhouse Organ Fairchild return to Asheville for a do-not-miss Friday night throwdown at One World Brewing West!\n\n\nNot your grandmother’s organ trio. Hailed as a “fast-rising NY band” by Live For Live Music\, and a group that’s “making waves in the scene” by JamBase\, Organ Fairchild craft their organ-trio-meets-rock-band sound — described as “adventurous\, vital and alive” by Glide Magazine — by synthesizing influences ranging from The Grateful Dead and The Allman Brothers to The Meters\, Steely Dan and Medeski\, Martin & Wood. And when they’re on stage completely captivating an audience without a bass player – and nobody singing – there is no confusing them for any other artist on today’s scene.\n\nAs Atlanta’s FunkCity writes\, “Get ready to be bowled over by this terrific trio – old school funk fusion with new era notions of jam.” organfairchild.com\n\n\n\nThe West Asheville taproom hosts a wide variety of special and regular events\, from yoga to an electronic music & beer festival\, and everything in between. Check out our upcoming schedule: click here
URL:https://livemusicasheville.com/calendar/organ-fairchild/
LOCATION:One World Brewing – West\, 520 Haywood Rd\, Asheville\, North Carolina\, 28806
CATEGORIES:Asheville Area,Live Music
GEO:35.5783642;-82.5848526
X-APPLE-STRUCTURED-LOCATION;VALUE=URI;X-ADDRESS=One World Brewing – West 520 Haywood Rd Asheville North Carolina 28806;X-APPLE-RADIUS=500;X-TITLE=520 Haywood Rd:geo:-82.5848526,35.5783642
END:VEVENT
BEGIN:VEVENT
DTSTART;TZID=America/New_York:20251121T203000
DTEND;TZID=America/New_York:20251121T233000
DTSTAMP:20260423T024418
CREATED:20251119T115309Z
LAST-MODIFIED:20251119T115309Z
UID:10024790-1763757000-1763767800@livemusicasheville.com
SUMMARY:Upstream Rebellion Bluegrass
DESCRIPTION:
URL:https://livemusicasheville.com/calendar/upstream-rebellion-bluegrass/
LOCATION:Jack Of The Wood\, 95 Patton Ave\, asheville\, NC\, United States
CATEGORIES:Asheville Area,Live Music
GEO:35.5944492;-82.5558221
X-APPLE-STRUCTURED-LOCATION;VALUE=URI;X-ADDRESS=Jack Of The Wood 95 Patton Ave asheville NC United States;X-APPLE-RADIUS=500;X-TITLE=95 Patton Ave:geo:-82.5558221,35.5944492
END:VEVENT
BEGIN:VEVENT
DTSTART;TZID=America/New_York:20251121T203000
DTEND;TZID=America/New_York:20251122T003000
DTSTAMP:20260423T024418
CREATED:20251119T170510Z
LAST-MODIFIED:20251119T170510Z
UID:10024816-1763757000-1763771400@livemusicasheville.com
SUMMARY:Vincent Antone w/ Jason Leech & McNice
DESCRIPTION:
URL:https://livemusicasheville.com/calendar/vincent-antone-w-jason-leech-mcnice/
LOCATION:Third Room\, 46 Wall Street\, Asheville\, NC\, NC\, 28803\, United States
CATEGORIES:Asheville Area,DJ/Electronic,Live Music
GEO:35.5943967;-82.5559625
X-APPLE-STRUCTURED-LOCATION;VALUE=URI;X-ADDRESS=Third Room 46 Wall Street Asheville NC NC 28803 United States;X-APPLE-RADIUS=500;X-TITLE=46 Wall Street:geo:-82.5559625,35.5943967
END:VEVENT
BEGIN:VEVENT
DTSTART;TZID=America/New_York:20251121T203000
DTEND;TZID=America/New_York:20251122T010000
DTSTAMP:20260423T024418
CREATED:20241225T140756Z
LAST-MODIFIED:20251214T224332Z
UID:10001520-1763757000-1763773200@livemusicasheville.com
SUMMARY:Elaine’s Dueling Piano Bar
DESCRIPTION:
URL:https://livemusicasheville.com/calendar/elaines-dueling-piano-bar/2025-11-21/
LOCATION:The Omni Grove Park Inn
CATEGORIES:Asheville Area,Live Music
GEO:35.6206376;-82.5422977
END:VEVENT
BEGIN:VEVENT
DTSTART;TZID=America/New_York:20251121T210000
DTEND;TZID=America/New_York:20251122T000000
DTSTAMP:20260423T024418
CREATED:20250428T130030Z
LAST-MODIFIED:20251119T155235Z
UID:10005610-1763758800-1763769600@livemusicasheville.com
SUMMARY:Riyen Roots
DESCRIPTION:
URL:https://livemusicasheville.com/calendar/riyen-roots-3-2-2-2-2/
LOCATION:Daddy Mac’s Down Home Dive
CATEGORIES:Asheville Area,Live Music
END:VEVENT
BEGIN:VEVENT
DTSTART;TZID=America/New_York:20251121T210000
DTEND;TZID=America/New_York:20251122T000000
DTSTAMP:20260423T024418
CREATED:20251116T024604Z
LAST-MODIFIED:20251117T173838Z
UID:10024557-1763758800-1763769600@livemusicasheville.com
SUMMARY:The Corey Bowers Band w/sg Ashley Heath
DESCRIPTION:Join us for an unforgettable evening with The Corey Bowers Band! Cory is an aspiring country musician chasing his dreams\, playing originals\, country\, and blues!
URL:https://livemusicasheville.com/calendar/the-corey-bowers-band-w-sg-ashley-heath/
LOCATION:Town Pump Tavern Black Mountain
CATEGORIES:Asheville Area,Black Mountain,Live Music
GEO:35.6162458;-82.320259
END:VEVENT
BEGIN:VEVENT
DTSTART;TZID=America/New_York:20251121T210000
DTEND;TZID=America/New_York:20251122T000000
DTSTAMP:20260423T024418
CREATED:20251119T113817Z
LAST-MODIFIED:20251119T113817Z
UID:10024738-1763758800-1763769600@livemusicasheville.com
SUMMARY:Honeycutt & Co.
DESCRIPTION:
URL:https://livemusicasheville.com/calendar/honeycutt-co/
LOCATION:Shamrock Irons Irish Pub\, 4 College St\, Asheville\, NC\, 28801\, United States
CATEGORIES:Asheville Area,Live Music
GEO:35.9844236;-80.0221361
X-APPLE-STRUCTURED-LOCATION;VALUE=URI;X-ADDRESS=Shamrock Irons Irish Pub 4 College St Asheville NC 28801 United States;X-APPLE-RADIUS=500;X-TITLE=4 College St:geo:-80.0221361,35.9844236
END:VEVENT
BEGIN:VEVENT
DTSTART;TZID=America/New_York:20251121T210000
DTEND;TZID=America/New_York:20251122T000000
DTSTAMP:20260423T024418
CREATED:20251119T135011Z
LAST-MODIFIED:20251119T135011Z
UID:10024801-1763758800-1763769600@livemusicasheville.com
SUMMARY:Madder Max w/ Rhinestone Pickup Truck & Basement Healer
DESCRIPTION:
URL:https://livemusicasheville.com/calendar/madder-max-w-rhinestone-pickup-truck-basement-healer/
LOCATION:The Odd
CATEGORIES:Asheville Area,Live Music
END:VEVENT
BEGIN:VEVENT
DTSTART;TZID=America/New_York:20251121T210000
DTEND;TZID=America/New_York:20251122T010000
DTSTAMP:20260423T024418
CREATED:20251119T134255Z
LAST-MODIFIED:20251119T134255Z
UID:10024798-1763758800-1763773200@livemusicasheville.com
SUMMARY:Janx Spirit //Tiny City // The Reappearing
DESCRIPTION:
URL:https://livemusicasheville.com/calendar/janx-spirit-tiny-city-the-reappearing/
LOCATION:Fleetwood’s\, 496 Haywood Rd\, Asheville\, NC\, 28806\, United States
CATEGORIES:Asheville Area,Live Music
GEO:35.578126;-82.583757
X-APPLE-STRUCTURED-LOCATION;VALUE=URI;X-ADDRESS=Fleetwood’s 496 Haywood Rd Asheville NC 28806 United States;X-APPLE-RADIUS=500;X-TITLE=496 Haywood Rd:geo:-82.583757,35.578126
END:VEVENT
BEGIN:VEVENT
DTSTART;TZID=America/New_York:20251121T210000
DTEND;TZID=America/New_York:20251122T010000
DTSTAMP:20260423T024418
CREATED:20251119T223330Z
LAST-MODIFIED:20251119T223330Z
UID:10024855-1763758800-1763773200@livemusicasheville.com
SUMMARY:JAINUS // DAKOTA PROCTOR // Van Horton // Indelible Sauce // DJ Red Wild // Gavin J. Kelly
DESCRIPTION:
URL:https://livemusicasheville.com/calendar/jainus-dakota-proctor-van-horton-indelible-sauce-dj-red-wild-gavin-j-kelly/
LOCATION:Sly Grog Lounge
CATEGORIES:Asheville Area,DJ/Electronic,Live Music
GEO:35.5942606;-82.5628302
END:VEVENT
BEGIN:VEVENT
DTSTART;TZID=America/New_York:20251121T220000
DTEND;TZID=America/New_York:20251122T010000
DTSTAMP:20260423T024418
CREATED:20251119T200134Z
LAST-MODIFIED:20251119T200134Z
UID:10024843-1763762400-1763773200@livemusicasheville.com
SUMMARY:The Ocho
DESCRIPTION:
URL:https://livemusicasheville.com/calendar/the-ocho/
LOCATION:The One Stop
CATEGORIES:Asheville Area,Live Music
END:VEVENT
BEGIN:VEVENT
DTSTART;VALUE=DATE:20251122
DTEND;VALUE=DATE:20251124
DTSTAMP:20260423T024418
CREATED:20251103T164738Z
LAST-MODIFIED:20251121T201433Z
UID:10023487-1763780400-1763866799@livemusicasheville.com
SUMMARY:SATURDAY NIGHT | New Dawn Starkestra
DESCRIPTION:Doors: 7pm | Show: 8pm | Tickets: Early Bird – $12 | Day of Show – $15 Event Details and Tickets \nNew Dawn Starkestra is a new collaboration between four heavyweights of the Western North Carolina music scene: vocalist and songwriter Rebekah Todd\, guitarist Isaac Hadden\, bassist Quinn Sternberg\, and drummer Jeff Sipe\, a veteran of the jam and jazz worlds known for his work with Aquarium Rescue Unit and beyond. Together\, they’ve formed something that feels less like a supergroup and more like a conversation — one that’s unfolding live\, night after night. \nFounded in 2005\, Pisgah is known for producing some of the most sought after craft ales in Western North Carolina. Pisgah Brewing Company currently operates the new indoor taproom & deli\, with live music several days a week\, plus an open air outdoor bar in the summer and fall months. Check out our upcoming schedule at pisgahbrewing.com/events
URL:https://livemusicasheville.com/calendar/new-dawn-starkestra-2/
LOCATION:Pisgah Brewing Company Black Mountain\, 2948 US-70\, Black Mountain\, NC\, 28711
CATEGORIES:Asheville Area,Black Mountain,Live Music
GEO:35.6068069;-82.3568213
X-APPLE-STRUCTURED-LOCATION;VALUE=URI;X-ADDRESS=Pisgah Brewing Company Black Mountain 2948 US-70 Black Mountain NC 28711;X-APPLE-RADIUS=500;X-TITLE=2948 US-70:geo:-82.3568213,35.6068069
END:VEVENT
BEGIN:VEVENT
DTSTART;VALUE=DATE:20251122
DTEND;VALUE=DATE:20251124
DTSTAMP:20260423T024418
CREATED:20250121T072030Z
LAST-MODIFIED:20251210T122902Z
UID:10020177-1763780400-1763866799@livemusicasheville.com
SUMMARY:Support Your Local Music Calendar
DESCRIPTION:We hope you enjoy our guide to the Asheville area’s dynamic music scene. \nIf we somehow help to brighten up your day\, please consider a $5 donation to help support our efforts in providing the area’s most complete local live music calendar. \nVenmo: click here  \nLast 4 digits – 3383 \nPayPal: click here \n \n 
URL:https://livemusicasheville.com/calendar/support-your-local-music-calendar-2/2025-11-22/
CATEGORIES:Asheville Area
END:VEVENT
BEGIN:VEVENT
DTSTART;TZID=America/New_York:20251122T090000
DTEND;TZID=America/New_York:20251122T120000
DTSTAMP:20260423T024418
CREATED:20250314T190842Z
LAST-MODIFIED:20251121T204928Z
UID:10010098-1763802000-1763812800@livemusicasheville.com
SUMMARY:Market Musicians: Brian Glover
DESCRIPTION:
URL:https://livemusicasheville.com/calendar/brian-glover/
LOCATION:Asheville City Market
CATEGORIES:Asheville Area,Live Music
GEO:35.5975664;-82.5512582
END:VEVENT
BEGIN:VEVENT
DTSTART;TZID=America/New_York:20251122T110000
DTEND;TZID=America/New_York:20251122T140000
DTSTAMP:20260423T024418
CREATED:20251117T175338Z
LAST-MODIFIED:20251117T175805Z
UID:10024667-1763809200-1763820000@livemusicasheville.com
SUMMARY:Asheville Holiday Parade
DESCRIPTION:Getting to the parade has never been easier. All public parking decks will remain open\, and Charlotte Street will stay open throughout the event. The parade now kicks off at its new starting point: Biltmore & Hilliard\, right in front of The Orange Peel.
URL:https://livemusicasheville.com/calendar/asheville-holiday-parade/
LOCATION:Downtown Asheville
CATEGORIES:Asheville Area,DJ/Electronic,Live Music
END:VEVENT
BEGIN:VEVENT
DTSTART;TZID=America/New_York:20251122T110000
DTEND;TZID=America/New_York:20251123T010000
DTSTAMP:20260423T024418
CREATED:20241225T201123Z
LAST-MODIFIED:20260422T210726Z
UID:10053587-1763809200-1763859600@livemusicasheville.com
SUMMARY:Saturday Karaoke
DESCRIPTION:Ben’s Tune Up – 11am-2pm (1st & 3rd Saturdays) \nWagworld Pub – 6-9pm (April 25) \nLookout Brewing Black Mountain – 7-10pm (April 18) \nThe Whale South Slope – 7-10pm (April 18) \nIce Bar Arden – 8pm-12am (April 25) \nLiondog Lounge Weaverville – 8pm-12am (every other week) \nT Birds Weaverville – 8-11pm \nThe Burger Bar – 8pm-1am \nThe Social East Asheville – 9pm-1am \n  \n  \nPlease verify times and KJ with the venue.
URL:https://livemusicasheville.com/calendar/saturday-karaoke/2025-11-22/
CATEGORIES:Asheville Area,Karaoke
END:VEVENT
BEGIN:VEVENT
DTSTART;TZID=America/New_York:20251122T120000
DTEND;TZID=America/New_York:20251122T130000
DTSTAMP:20260423T024418
CREATED:20251119T224507Z
LAST-MODIFIED:20251119T224507Z
UID:10024856-1763812800-1763816400@livemusicasheville.com
SUMMARY:Celtic Songs and Storytelling w/ Acting Up
DESCRIPTION:Join us at the Plaid Festival at Mills River Brewery for a set of song\, story\, and Celtic magic.
URL:https://livemusicasheville.com/calendar/celtic-songs-and-storytelling-w-acting-up/
LOCATION:Mills River Brewing Co.\, 336 Banner Farm Rd\,\, Mills River\, NC\, 28759
CATEGORIES:Asheville Area,Live Music,Mills River
GEO:35.380515;-82.5654984
X-APPLE-STRUCTURED-LOCATION;VALUE=URI;X-ADDRESS=Mills River Brewing Co. 336 Banner Farm Rd Mills River NC 28759;X-APPLE-RADIUS=500;X-TITLE=336 Banner Farm Rd\,:geo:-82.5654984,35.380515
END:VEVENT
BEGIN:VEVENT
DTSTART;TZID=America/New_York:20251122T120000
DTEND;TZID=America/New_York:20251122T140000
DTSTAMP:20260423T024418
CREATED:20250608T131127Z
LAST-MODIFIED:20251105T112914Z
UID:10023738-1763812800-1763820000@livemusicasheville.com
SUMMARY:Yala Cultural Tour w/ Adama Dembele
DESCRIPTION:Visit LEAF Global Arts every Saturday for an in-house cultural exchange with Adama Dembele. Experience the Ivory Coast with our Culture Keeper from the House of Djembe.\nYala Culture Tour includes drumming\, dancing\, and stories from Ivory Coast. Drums are provided! Families are welcome.
URL:https://livemusicasheville.com/calendar/yala-cultural-tour-w-adama-dembele-3/2025-11-22/
LOCATION:LEAF Global Arts\, 19 Eagle St\, Asheville\, NC\, 28801
CATEGORIES:Asheville Area,Live Music
GEO:35.5938244;-82.5505196
X-APPLE-STRUCTURED-LOCATION;VALUE=URI;X-ADDRESS=LEAF Global Arts 19 Eagle St Asheville NC 28801;X-APPLE-RADIUS=500;X-TITLE=19 Eagle St:geo:-82.5505196,35.5938244
END:VEVENT
BEGIN:VEVENT
DTSTART;TZID=America/New_York:20251122T130000
DTEND;TZID=America/New_York:20251122T180000
DTSTAMP:20260423T024418
CREATED:20251112T213142Z
LAST-MODIFIED:20251120T014513Z
UID:10024507-1763816400-1763834400@livemusicasheville.com
SUMMARY:Hazy Music Series | Peggy Ratusz and the Daddy Long Legs + Brian Felix Trio
DESCRIPTION:Peggy “Blues Chanteuse” Ratusz\, has won best in Blues awards for the past 17 years as well as best vocalist and most notable local musician who gives back to the community. A three-time semi-finalist in the International Blues Challenge held in Memphis\, TN for the past 36 years\, Ratusz produces her own shows including “Love Letter: A Tribute to Bonnie Raitt\,” and “Blues In the Night” a collection of torchy and tantalizing Jazz standards\, Swing tunes and Blues Shuffles. Genre: Traditional & Modern Blues & Swing\, Old School Soul & Originals. \nBrian Felix is widely recognized as an accomplished and versatile jazz keyboardist. Felix leads his working trio — Tim Fischer on guitar and Evan Martin on drums — whose telepathic interplay and extraordinary musicianship bring his diverse body of work to life. Felix\, Fisher\, and Martin will bring this original music to Sierra Nevada along with interesting jazz/funk reworkings of Beatles tunes and other surprises. \nFor show details and our upcoming event line-up click here! \nThe view from our tree-lined brewery is something special no matter the season. Cool down in the Taproom with a farm-fresh salad and small plates\, or soak in the sun on our Back Porch with a beer and a snack. \nFounded in 1980\, Sierra Nevada Brewing Co. is one of America’s premier craft breweries\, highly regarded for using only the finest quality ingredients.  Sierra Nevada has set the standard for craft brewers worldwide with innovations in the brewhouse as well as advances in sustainability. Sierra Nevada has set the standard for artisan brewers worldwide as a winner of numerous awards for a wide variety of beers and ales\, including the legendary Pale Ale. \n 
URL:https://livemusicasheville.com/calendar/hazy-music-series-peggy-ratusz-and-the-daddy-long-legs/
LOCATION:Sierra Nevada Mills River\, 100 Sierra Nevada Way\, Mills River\, NC\, 28732
CATEGORIES:Asheville Area,Live Music,Mills River
GEO:35.4308568;-82.5535594
X-APPLE-STRUCTURED-LOCATION;VALUE=URI;X-ADDRESS=Sierra Nevada Mills River 100 Sierra Nevada Way Mills River NC 28732;X-APPLE-RADIUS=500;X-TITLE=100 Sierra Nevada Way:geo:-82.5535594,35.4308568
END:VEVENT
BEGIN:VEVENT
DTSTART;TZID=America/New_York:20251122T130000
DTEND;TZID=America/New_York:20251122T210000
DTSTAMP:20260423T024418
CREATED:20251117T174619Z
LAST-MODIFIED:20251120T014800Z
UID:10024666-1763816400-1763845200@livemusicasheville.com
SUMMARY:Jamaica Benefit Show
DESCRIPTION:Join Charley King’s Jamaican Jerk Truck and Oak & Grist on Saturday November 22nd for a day of food\, music\, and drinks to benefit Charley’s family and their neighbors in Jamaica following the devastation they experienced from hurricane Melissa.\nMusic Schedule:1-2 DJ (Wesley)\n2-3 Josh Sewell & Friends\n3:15-5 Sun Sippers\n5-7 Mar (indoors)\n7-9 Chalwa\nFood:Charley King will be serving up his delicious Jamaican Jerk. Proceeds from food sales will go directly to family members in Jamaica and their direct neighbors. Funds will be used to secure food/water and materials needed to rebuild.\nDrinks:Oak & Grist will be donating 50% of proceeds from all beverage sales for the day to organizations in Jamaican providing relief services.\nSilent Aution:All proceeds from the silent auction will go to organizations on the ground in Jamaica providing relief services.
URL:https://livemusicasheville.com/calendar/jamaica-benefit-show/
LOCATION:Oak and Grist Distilling Company Black Mountain
CATEGORIES:Asheville Area,Black Mountain,Live Music
END:VEVENT
BEGIN:VEVENT
DTSTART;TZID=America/New_York:20251122T140000
DTEND;TZID=America/New_York:20251122T170000
DTSTAMP:20260423T024418
CREATED:20250618T152242Z
LAST-MODIFIED:20251119T154959Z
UID:10015984-1763820000-1763830800@livemusicasheville.com
SUMMARY:Eric Congdon & Raphael Graves
DESCRIPTION:
URL:https://livemusicasheville.com/calendar/eric-congdon-raphael-graves/
LOCATION:Souther Williams Vineyard Fletcher
CATEGORIES:Asheville Area,Live Music,South Asheville/Arden/Fletcher
GEO:35.4412197;-82.4387393
END:VEVENT
END:VCALENDAR