BEGIN:VCALENDAR
VERSION:2.0
PRODID:-//LiveMusicAsheville.com - ECPv6.15.20//NONSGML v1.0//EN
CALSCALE:GREGORIAN
METHOD:PUBLISH
X-WR-CALNAME:LiveMusicAsheville.com
X-ORIGINAL-URL:https://livemusicasheville.com
X-WR-CALDESC:Events for LiveMusicAsheville.com
REFRESH-INTERVAL;VALUE=DURATION:PT1H
X-Robots-Tag:noindex
X-PUBLISHED-TTL:PT1H
BEGIN:VTIMEZONE
TZID:America/New_York
BEGIN:DAYLIGHT
TZOFFSETFROM:-0500
TZOFFSETTO:-0400
TZNAME:EDT
DTSTART:20240310T070000
END:DAYLIGHT
BEGIN:STANDARD
TZOFFSETFROM:-0400
TZOFFSETTO:-0500
TZNAME:EST
DTSTART:20241103T060000
END:STANDARD
BEGIN:DAYLIGHT
TZOFFSETFROM:-0500
TZOFFSETTO:-0400
TZNAME:EDT
DTSTART:20250309T070000
END:DAYLIGHT
BEGIN:STANDARD
TZOFFSETFROM:-0400
TZOFFSETTO:-0500
TZNAME:EST
DTSTART:20251102T060000
END:STANDARD
BEGIN:DAYLIGHT
TZOFFSETFROM:-0500
TZOFFSETTO:-0400
TZNAME:EDT
DTSTART:20260308T070000
END:DAYLIGHT
BEGIN:STANDARD
TZOFFSETFROM:-0400
TZOFFSETTO:-0500
TZNAME:EST
DTSTART:20261101T060000
END:STANDARD
END:VTIMEZONE
BEGIN:VEVENT
DTSTART;TZID=America/New_York:20251108T190000
DTEND;TZID=America/New_York:20251109T020000
DTSTAMP:20260423T152839
CREATED:20241225T123126Z
LAST-MODIFIED:20251122T132355Z
UID:10000616-1762628400-1762653600@livemusicasheville.com
SUMMARY:Dueling Piano Show
DESCRIPTION:
URL:https://livemusicasheville.com/calendar/dueling-piano-show/2025-11-08/
LOCATION:Off the Wagon
CATEGORIES:Asheville Area,Live Music
GEO:41.4302231;-81.3909542
END:VEVENT
BEGIN:VEVENT
DTSTART;TZID=America/New_York:20251108T200000
DTEND;TZID=America/New_York:20251108T220000
DTSTAMP:20260423T152839
CREATED:20250925T174336Z
LAST-MODIFIED:20250925T174337Z
UID:10009854-1762632000-1762639200@livemusicasheville.com
SUMMARY:Will Hartz
DESCRIPTION:
URL:https://livemusicasheville.com/calendar/will-hartz-3-2-2-2/2025-11-08/
LOCATION:5 Walnut Wine Bar
CATEGORIES:Asheville Area,Live Music
GEO:35.596654;-82.5525389
END:VEVENT
BEGIN:VEVENT
DTSTART;TZID=America/New_York:20251108T200000
DTEND;TZID=America/New_York:20251108T230000
DTSTAMP:20260423T152839
CREATED:20250702T144721Z
LAST-MODIFIED:20251105T184723Z
UID:10016685-1762632000-1762642800@livemusicasheville.com
SUMMARY:Masci Family Band
DESCRIPTION:
URL:https://livemusicasheville.com/calendar/masci-family-band/
LOCATION:Capella on 9
CATEGORIES:Asheville Area,Live Music
GEO:35.5956494;-82.5518016
END:VEVENT
BEGIN:VEVENT
DTSTART;TZID=America/New_York:20251108T200000
DTEND;TZID=America/New_York:20251108T230000
DTSTAMP:20260423T152839
CREATED:20250723T191200Z
LAST-MODIFIED:20251105T203422Z
UID:10018276-1762632000-1762642800@livemusicasheville.com
SUMMARY:Nordmoe & The Rodeo
DESCRIPTION:
URL:https://livemusicasheville.com/calendar/nordmoe-the-rodeo-2/
LOCATION:Eda’s Hide-a-Way Weaverville
CATEGORIES:Asheville Area,Live Music,Weaverville
GEO:35.6970547;-82.5606851
END:VEVENT
BEGIN:VEVENT
DTSTART;TZID=America/New_York:20251108T200000
DTEND;TZID=America/New_York:20251108T230000
DTSTAMP:20260423T152839
CREATED:20251103T145310Z
LAST-MODIFIED:20251108T150359Z
UID:10023482-1762632000-1762642800@livemusicasheville.com
SUMMARY:Honky Tonk & Barn Burners w/ Fancy & the Gentlemen
DESCRIPTION:$10 Cover at door\, gets you into the Palm Room as well.\n\n\n\n\n\nDark\, soulful\, and just a little haunted\, Fancy & the Gentlemen bring their signature southern gothy tonk to The Showroom for a Saturday night steeped in grit and mood. Expect twang with a shadowy edge\, storytelling that cuts deep\, and a sound that feels like a midnight drive down a backroad you can’t help but take.\n\nFitz\, she’s the party. Wolfe\, he’s the epicure. 2 levels\, 3 vibes. 🎶 Live Music |🍸Sips & Noms 🥪 | 🕹️ Artcade | 🗝️Speakeasy | Private Events\n\nFitz and the Wolfe is a cocktail and music venue shaped by the spirit of improvisation\, storytelling\, and the kind of nights that feel too good to end. Here\, every night brings a new soundtrack. Jazz\, swing\, honky-tonk\, and sometimes things a little more esoteric—if it moves people\, we book it. The music fills the space like a second heartbeat\, sometimes rowdy\, sometimes intimate\, always memorable. It’s not background noise. It’s the reason you’re here. fitzandthewolfe.com
URL:https://livemusicasheville.com/calendar/honky-tonk-barn-burners-w-fancy-the-gentlemen/
LOCATION:Fitz and the Wolfe\, 1 Battery Park Ave\, Asheville\, NC\, 28801\, United States
CATEGORIES:Asheville Area,Live Music
GEO:35.5954515;-82.5548502
X-APPLE-STRUCTURED-LOCATION;VALUE=URI;X-ADDRESS=Fitz and the Wolfe 1 Battery Park Ave Asheville NC 28801 United States;X-APPLE-RADIUS=500;X-TITLE=1 Battery Park Ave:geo:-82.5548502,35.5954515
END:VEVENT
BEGIN:VEVENT
DTSTART;TZID=America/New_York:20251108T200000
DTEND;TZID=America/New_York:20251108T230000
DTSTAMP:20260423T152839
CREATED:20251105T211156Z
LAST-MODIFIED:20251105T211156Z
UID:10023980-1762632000-1762642800@livemusicasheville.com
SUMMARY:AJ Lee & Blue Summit + East Nash Grass
DESCRIPTION:
URL:https://livemusicasheville.com/calendar/aj-lee-blue-summit-east-nash-grass/
LOCATION:The Grey Eagle\, 185 Clingman Ave\, Asheville\, NC\, United States
CATEGORIES:Asheville Area,Live Music
GEO:35.5870871;-82.5643936
X-APPLE-STRUCTURED-LOCATION;VALUE=URI;X-ADDRESS=The Grey Eagle 185 Clingman Ave Asheville NC United States;X-APPLE-RADIUS=500;X-TITLE=185 Clingman Ave:geo:-82.5643936,35.5870871
END:VEVENT
BEGIN:VEVENT
DTSTART;TZID=America/New_York:20251108T200000
DTEND;TZID=America/New_York:20251108T233000
DTSTAMP:20260423T152839
CREATED:20251105T210628Z
LAST-MODIFIED:20251105T210628Z
UID:10023976-1762632000-1762644600@livemusicasheville.com
SUMMARY:Black Stone Cherry w/Them Dirty Roses\, Ayron Jones
DESCRIPTION:
URL:https://livemusicasheville.com/calendar/black-stone-cherry-w-them-dirty-roses-ayron-jones/
LOCATION:The Orange Peel
CATEGORIES:Asheville Area,Live Music
GEO:35.5914061;-82.5510137
END:VEVENT
BEGIN:VEVENT
DTSTART;TZID=America/New_York:20251108T200000
DTEND;TZID=America/New_York:20251109T000000
DTSTAMP:20260423T152839
CREATED:20251105T185125Z
LAST-MODIFIED:20251105T185125Z
UID:10023964-1762632000-1762646400@livemusicasheville.com
SUMMARY:Psych War / YAWNi / Exfoliator / On The Block / Mockery
DESCRIPTION:
URL:https://livemusicasheville.com/calendar/psych-war-yawni-exfoliator-on-the-block-mockery/
LOCATION:Static Age Records
CATEGORIES:Asheville Area,Live Music
GEO:35.5985631;-82.5538043
END:VEVENT
BEGIN:VEVENT
DTSTART;TZID=America/New_York:20251108T203000
DTEND;TZID=America/New_York:20251109T010000
DTSTAMP:20260423T152839
CREATED:20241225T140756Z
LAST-MODIFIED:20251214T224332Z
UID:10001517-1762633800-1762650000@livemusicasheville.com
SUMMARY:Elaine’s Dueling Piano Bar
DESCRIPTION:
URL:https://livemusicasheville.com/calendar/elaines-dueling-piano-bar/2025-11-08/
LOCATION:The Omni Grove Park Inn
CATEGORIES:Asheville Area,Live Music
GEO:35.6206376;-82.5422977
END:VEVENT
BEGIN:VEVENT
DTSTART;TZID=America/New_York:20251108T210000
DTEND;TZID=America/New_York:20251109T000000
DTSTAMP:20260423T152839
CREATED:20241227T155617Z
LAST-MODIFIED:20251105T160403Z
UID:10004024-1762635600-1762646400@livemusicasheville.com
SUMMARY:Log's Electric Space Whistle Sound Bath
DESCRIPTION:
URL:https://livemusicasheville.com/calendar/logs-electric-space-whistle-sound-bath/
LOCATION:Sovereign Kava
CATEGORIES:DJ/Electronic,Live Music
GEO:35.5854657;-82.5513352
END:VEVENT
BEGIN:VEVENT
DTSTART;TZID=America/New_York:20251108T210000
DTEND;TZID=America/New_York:20251109T000000
DTSTAMP:20260423T152839
CREATED:20251029T145354Z
LAST-MODIFIED:20251106T165306Z
UID:10023233-1762635600-1762646400@livemusicasheville.com
SUMMARY:Zero Latency
DESCRIPTION:Free show! Come out and support local music! Rooted in the spirit of improvisation and camaraderie\, this six-piece band blends spontaneous grooves with rock\, funk\, and a touch of soul for a musical journey that can go in just about any direction. \nWith a 15 year history of backyard jams\, late-night musical therapy sessions as well as an occasional stage gig\, this group of longtime friends has evolved into the well-seasoned musical unit known as Zero Latency. \nRooted in the spirit of improvisation and camaraderie\, this six-piece band blends spontaneous grooves with rock\, funk\, and a touch of soul for a musical journey that can go in just about any direction. With a unique lineup featuring two guitars (Michael McDonough & Brad Burleson)\, bass (Jason Williams)\, drums (Kyle Keeler)\, keyboards (Kevin Smith)\, and a cello (Philip Constable)\, their sound is rich\, dynamic\, and full of surprises. \nWhether it’s a stretched-out instrumental\, a tight rocker\, or a familiar tune reimagined with new life\, it’s a musical ride that feels like a conversation between old friends — because that’s exactly what it is. \nShiloh & Gaines – Your neighborhood bar……no matter where you live. \nCoffee ~ Spirits ~ Pool ~ Darts ~ Live Music ~ Dog Friendly ~ Karaoke & More! Find our music schedule and more at shilohandgaines.com
URL:https://livemusicasheville.com/calendar/zero-latency/
LOCATION:Shiloh & Gaines\, 700 Hendersonville Rd\, Asheville\, NC 28803\, NC\, 28803\, United States
CATEGORIES:Asheville Area,Live Music
ATTACH;FMTTYPE=image/jpeg:https://livemusicasheville.com/wp-content/uploads/2025/10/573632653_17987020586882869_1923222811706233219_n-e1762447953825.jpg
GEO:35.5471263;-82.533941
X-APPLE-STRUCTURED-LOCATION;VALUE=URI;X-ADDRESS=Shiloh & Gaines 700 Hendersonville Rd Asheville NC 28803 NC 28803 United States;X-APPLE-RADIUS=500;X-TITLE=700 Hendersonville Rd:geo:-82.533941,35.5471263
END:VEVENT
BEGIN:VEVENT
DTSTART;TZID=America/New_York:20251108T210000
DTEND;TZID=America/New_York:20251109T000000
DTSTAMP:20260423T152839
CREATED:20251103T145824Z
LAST-MODIFIED:20251108T150647Z
UID:10023483-1762635600-1762646400@livemusicasheville.com
SUMMARY:Queen Bee & the Honeylovers | The Palm Room
DESCRIPTION:Queen Bee & the Honeylovers at Fitz and the WolfeSaturday\, November 8 · 9PM · $5 cover\nUnabashedly joyful and straight out of Asheville\, Queen Bee & the Honeylovers are in the Palm Room with all-original swing that nods to the golden age of jazz without getting stuck in it. Their tight vocals\, hot-club flair\, and feel-good grooves make it impossible not to smile — or dance. Doors at 8:30\, music at 9. Five bucks at the door.\n\n\n\n\n\nFitz\, she’s the party. Wolfe\, he’s the epicure. 2 levels\, 3 vibes. 🎶 Live Music |🍸Sips & Noms 🥪 | 🕹️ Artcade | 🗝️Speakeasy | Private Events 🍽️\n\nFitz and the Wolfe is a cocktail and music venue shaped by the spirit of improvisation\, storytelling\, and the kind of nights that feel too good to end. Here\, every night brings a new soundtrack. Jazz\, swing\, honky-tonk\, and sometimes things a little more esoteric—if it moves people\, we book it. The music fills the space like a second heartbeat\, sometimes rowdy\, sometimes intimate\, always memorable. It’s not background noise. It’s the reason you’re here. fitzandthewolfe.com
URL:https://livemusicasheville.com/calendar/queen-bee-the-honeylovers-the-palm-room/
LOCATION:Fitz and the Wolfe\, 1 Battery Park Ave\, Asheville\, NC\, 28801\, United States
CATEGORIES:Asheville Area,Live Music
GEO:35.5954515;-82.5548502
X-APPLE-STRUCTURED-LOCATION;VALUE=URI;X-ADDRESS=Fitz and the Wolfe 1 Battery Park Ave Asheville NC 28801 United States;X-APPLE-RADIUS=500;X-TITLE=1 Battery Park Ave:geo:-82.5548502,35.5954515
END:VEVENT
BEGIN:VEVENT
DTSTART;TZID=America/New_York:20251108T210000
DTEND;TZID=America/New_York:20251109T000000
DTSTAMP:20260423T152839
CREATED:20251105T191825Z
LAST-MODIFIED:20251106T164833Z
UID:10023971-1762635600-1762646400@livemusicasheville.com
SUMMARY:Velvet & Fur- Jesse Velvet & Big Fur Doubleheader
DESCRIPTION:Jesse Velvet & Big Fur join forces and invite you to their Velvet & Fur Show! Groove Like A Beast\, dress like a Legend. Wear Something Velvety or Furry! Event Details \nJESSE VELVET crafts a dynamic fusion of funk\, rock\, and psychedelic exploration\, powered by blazing guitar solos\, slick keyboard work\, deep-pocket bass lines\, and an infectious dual-percussion groove. This Asheville-based sextet unites veteran players from Pyletribe\, Scratchdog Stringband\, Get Right Band and Pronounced Heroes\, delivering original compositions that range from soul-drenched gritty funk and feel-good grooves to face-melting rock anthems. \nBIG FUR is a slick\, versatile animal of a band that pounces between genres and sounds through elaborate compositions and intense improvisation. The band cultivates an original sound that takes southern rock\, country\, and bluegrass to its highest dynamic peaks\, and most electrifying psychedelic edges. \n  \nThe West Asheville taproom hosts a wide variety of special and regular events\, from yoga to an electronic music & beer festival\, and everything in between. Check out our upcoming schedule: click here
URL:https://livemusicasheville.com/calendar/velvet-fur-jesse-velvet-big-fur-doubleheader/
LOCATION:One World Brewing – West\, 520 Haywood Rd\, Asheville\, North Carolina\, 28806
CATEGORIES:Asheville Area,Live Music
GEO:35.5783642;-82.5848526
X-APPLE-STRUCTURED-LOCATION;VALUE=URI;X-ADDRESS=One World Brewing – West 520 Haywood Rd Asheville North Carolina 28806;X-APPLE-RADIUS=500;X-TITLE=520 Haywood Rd:geo:-82.5848526,35.5783642
END:VEVENT
BEGIN:VEVENT
DTSTART;TZID=America/New_York:20251108T210000
DTEND;TZID=America/New_York:20251109T000000
DTSTAMP:20260423T152839
CREATED:20251105T213430Z
LAST-MODIFIED:20251105T213430Z
UID:10023995-1762635600-1762646400@livemusicasheville.com
SUMMARY:Jerry Joseph & The Jackmormons with Magnolia Boulevard
DESCRIPTION:
URL:https://livemusicasheville.com/calendar/jerry-joseph-the-jackmormons-with-magnolia-boulevard/
LOCATION:Asheville Music Hall\, 31 Patton Ave\, Asheville\, NC\, 28801\, United States
CATEGORIES:Asheville Area,Live Music
GEO:35.5949233;-82.5530398
X-APPLE-STRUCTURED-LOCATION;VALUE=URI;X-ADDRESS=Asheville Music Hall 31 Patton Ave Asheville NC 28801 United States;X-APPLE-RADIUS=500;X-TITLE=31 Patton Ave:geo:-82.5530398,35.5949233
END:VEVENT
BEGIN:VEVENT
DTSTART;TZID=America/New_York:20251108T210000
DTEND;TZID=America/New_York:20251109T010000
DTSTAMP:20260423T152839
CREATED:20251105T184050Z
LAST-MODIFIED:20251105T184050Z
UID:10023962-1762635600-1762650000@livemusicasheville.com
SUMMARY:Brood Faye\, Healng\, Cold Choir\, Morrow
DESCRIPTION:
URL:https://livemusicasheville.com/calendar/brood-faye-healng-cold-choir-morrow/
LOCATION:27 Club Asheville
CATEGORIES:Asheville Area,DJ/Electronic,Live Music
GEO:35.5933012;-82.5592961
END:VEVENT
BEGIN:VEVENT
DTSTART;TZID=America/New_York:20251108T220000
DTEND;TZID=America/New_York:20251109T010000
DTSTAMP:20260423T152839
CREATED:20251105T213523Z
LAST-MODIFIED:20251105T213523Z
UID:10023996-1762639200-1762650000@livemusicasheville.com
SUMMARY:Muscle Tough
DESCRIPTION:
URL:https://livemusicasheville.com/calendar/muscle-tough/
LOCATION:The One Stop
CATEGORIES:Asheville Area,Live Music
END:VEVENT
BEGIN:VEVENT
DTSTART;VALUE=DATE:20251109
DTEND;VALUE=DATE:20251111
DTSTAMP:20260423T152839
CREATED:20250125T140528Z
LAST-MODIFIED:20251210T122935Z
UID:10017420-1762657200-1762743599@livemusicasheville.com
SUMMARY:Love What We Do?
DESCRIPTION:We hope you enjoy our guide to the Asheville area’s dynamic music scene. \nIf we somehow help to brighten up your day\, please consider a $5 donation to help support our efforts in providing the area’s most reliable local live music calendar. \nVenmo: click here  \nLast 4 digits – 3383 \nPayPal: click here \n 
URL:https://livemusicasheville.com/calendar/greetings-fellow-music-lovers-2/2025-11-09/
LOCATION:Asheville Area
CATEGORIES:Asheville Area
END:VEVENT
BEGIN:VEVENT
DTSTART;TZID=America/New_York:20251109T100000
DTEND;TZID=America/New_York:20251109T170000
DTSTAMP:20260423T152839
CREATED:20251105T132902Z
LAST-MODIFIED:20251105T132902Z
UID:10023902-1762682400-1762707600@livemusicasheville.com
SUMMARY:RADFest 2.0
DESCRIPTION:NOW we have over 500 artists in the many re-opened buildings of RAD\, and we’ll have the outdoor art market of over 100 still displaced artists. It’s time to show up for us again\, and what a beautiful excuse to fill your home with unique\, amazing local art.\nYou can also expect:• Live music and DJ’s all weekend• Art demonstrations from working artists in every medium• Food trucks and local flavors to keep you fueled• Family fun with face painting\, interactive activities\, and more• Studios and galleries open for collectors\, art lovers\, and curious visitors\nFree admission\, all are welcome!November 8th and 9th\, 10am-5pm
URL:https://livemusicasheville.com/calendar/radfest-2-0/2025-11-09/
LOCATION:Asheville’s River Arts District
CATEGORIES:Asheville Area,DJ/Electronic,Live Music
END:VEVENT
BEGIN:VEVENT
DTSTART;TZID=America/New_York:20251109T110000
DTEND;TZID=America/New_York:20251109T140000
DTSTAMP:20260423T152839
CREATED:20251105T211258Z
LAST-MODIFIED:20251105T211258Z
UID:10023981-1762686000-1762696800@livemusicasheville.com
SUMMARY:Country Brunch w/ Jessie & the Jinx
DESCRIPTION:
URL:https://livemusicasheville.com/calendar/country-brunch-w-jessie-the-jinx/
LOCATION:The Grey Eagle\, 185 Clingman Ave\, Asheville\, NC\, United States
CATEGORIES:Asheville Area,Live Music
GEO:35.5870871;-82.5643936
X-APPLE-STRUCTURED-LOCATION;VALUE=URI;X-ADDRESS=The Grey Eagle 185 Clingman Ave Asheville NC United States;X-APPLE-RADIUS=500;X-TITLE=185 Clingman Ave:geo:-82.5643936,35.5870871
END:VEVENT
BEGIN:VEVENT
DTSTART;TZID=America/New_York:20251109T110000
DTEND;TZID=America/New_York:20251110T020000
DTSTAMP:20260423T152839
CREATED:20241225T203202Z
LAST-MODIFIED:20260415T173939Z
UID:10017873-1762686000-1762740000@livemusicasheville.com
SUMMARY:Sunday Weekly DJ Events
DESCRIPTION:Bens Tune Up – 11am-3pm \nWaterstreet – 3-7pm \nLA Pizza Party Rooftop – 6-9pm \nVOWL – 7-11pm \nCheck with the venue for the DJ and cover charges.
URL:https://livemusicasheville.com/calendar/sunday-weekly-dj/2025-11-09/
LOCATION:Asheville Area
CATEGORIES:Asheville Area,DJ/Electronic
END:VEVENT
BEGIN:VEVENT
DTSTART;TZID=America/New_York:20251109T120000
DTEND;TZID=America/New_York:20251109T130000
DTSTAMP:20260423T152839
CREATED:20251107T202359Z
LAST-MODIFIED:20251107T202359Z
UID:10024183-1762689600-1762693200@livemusicasheville.com
SUMMARY:Kashus Culpepper
DESCRIPTION:
URL:https://livemusicasheville.com/calendar/kashus-culpepper/
LOCATION:BRÜ Downtown
CATEGORIES:Asheville Area,Live Music
END:VEVENT
BEGIN:VEVENT
DTSTART;TZID=America/New_York:20251109T120000
DTEND;TZID=America/New_York:20251109T140000
DTSTAMP:20260423T152839
CREATED:20241225T201729Z
LAST-MODIFIED:20250914T152731Z
UID:10021159-1762689600-1762696800@livemusicasheville.com
SUMMARY:Adam Rose Jazz Duo
DESCRIPTION:
URL:https://livemusicasheville.com/calendar/adam-rose-jazz-duo/2025-11-09/
LOCATION:Battery Park Book Exchange & Champagne Bar
CATEGORIES:Asheville Area,Live Music
GEO:35.5951042;-82.556633
END:VEVENT
BEGIN:VEVENT
DTSTART;TZID=America/New_York:20251109T120000
DTEND;TZID=America/New_York:20251109T150000
DTSTAMP:20260423T152839
CREATED:20241225T153845Z
LAST-MODIFIED:20251203T153146Z
UID:10001706-1762689600-1762700400@livemusicasheville.com
SUMMARY:Bluegrass Brunch Is Back!!
DESCRIPTION:Y’ALL! The best dang BLUEGRASS BRUNCH in town is BACK AT JACK — with our own BLUEGRASS BRUNCH BOYS taking the stage at NOON! 🎻🍳 \nWhether you’re in the mood for a FRIED CHICKEN BISCUIT topped with our house-made blackberry jam or spicy SHRIMP & CHEDDAR GRITS with a side of collards or that perfect BURGER (beef OR veggie) with hand-cut pub fries\, you’ll find exactly what you’re craving at — and did we mention our brunch beverage specials from the bar? 🥂🍊 \nBrunch is served until 3pm (or until we run out!)\, with our pub fare menu starting immediately after. \nAnd to round out your SUNDAY FUNDAY\, our TRADITIONAL IRISH MUSIC SESSION starts at 3:30 — and goes until close! 🍺🍀\n \n\nJack Of The Wood still a downtown hot spot for food\, brews and drink since 1997 and founders Joan and Joe Eckert who still own it\, have maintained the original lively English and Irish vibe. The old-time mountain and Irish music jams continue\, including a hot bluegrass jam Thursdays and brunch every Sunday. The venue extends a welcoming feeling to regulars and newcomers to this day. https://jackofthewood.com/
URL:https://livemusicasheville.com/calendar/the-bluegrass-boys/2025-11-09/
LOCATION:Jack Of The Wood\, 95 Patton Ave\, asheville\, NC\, United States
CATEGORIES:Asheville Area,Live Music
ATTACH;FMTTYPE=image/jpeg:https://livemusicasheville.com/wp-content/uploads/2024/12/521057437_1508890810466928_6057889169935657981_n-e1754136196712.jpg
GEO:35.5944492;-82.5558221
X-APPLE-STRUCTURED-LOCATION;VALUE=URI;X-ADDRESS=Jack Of The Wood 95 Patton Ave asheville NC United States;X-APPLE-RADIUS=500;X-TITLE=95 Patton Ave:geo:-82.5558221,35.5944492
END:VEVENT
BEGIN:VEVENT
DTSTART;TZID=America/New_York:20251109T120000
DTEND;TZID=America/New_York:20251109T200000
DTSTAMP:20260423T152839
CREATED:20251105T215426Z
LAST-MODIFIED:20251105T215426Z
UID:10024002-1762689600-1762718400@livemusicasheville.com
SUMMARY:Cold Mountain Release w/ Detective Blind\, Secret Agent 23 Skidoo & Matt Smith’s Well-Crafted Music Series
DESCRIPTION:
URL:https://livemusicasheville.com/calendar/cold-mountain-release-w-detective-blind-secret-agent-23-skidoo-matt-smiths-well-crafted-music-series/
LOCATION:Highland Brewing
CATEGORIES:Asheville Area,Live Music
END:VEVENT
BEGIN:VEVENT
DTSTART;TZID=America/New_York:20251109T130000
DTEND;TZID=America/New_York:20251109T163000
DTSTAMP:20260423T152839
CREATED:20251102T143825Z
LAST-MODIFIED:20251102T143825Z
UID:10023357-1762693200-1762705800@livemusicasheville.com
SUMMARY:The Asheville Sessions | Community Concert ft. Songs From the Road Band\, Zoe & Cloyd\, and Newfound Gap
DESCRIPTION:Join us as we conclude the weekend of activities celebrating the Historic 1925 Asheville Recording Sessions with a free community concert featuring traditional and contemporary roots and Americana music with Western NC-based Songs From the Road Band\, Zoe & Cloyd\, and Newfound Gap.\nThis event is free. No ticket needed — just show up!
URL:https://livemusicasheville.com/calendar/the-asheville-sessions-community-concert-ft-songs-from-the-road-band-zoe-cloyd-and-newfound-gap/
LOCATION:Wicked Weed Funkatorium\, 147 Coxe Avenue\, Asheville\, NC\, 28801\, United States
CATEGORIES:Asheville Area,Live Music
GEO:35.5892462;-82.5552092
X-APPLE-STRUCTURED-LOCATION;VALUE=URI;X-ADDRESS=Wicked Weed Funkatorium 147 Coxe Avenue Asheville NC 28801 United States;X-APPLE-RADIUS=500;X-TITLE=147 Coxe Avenue:geo:-82.5552092,35.5892462
END:VEVENT
BEGIN:VEVENT
DTSTART;TZID=America/New_York:20251109T130000
DTEND;TZID=America/New_York:20251110T000000
DTSTAMP:20260423T152839
CREATED:20241225T204249Z
LAST-MODIFIED:20260118T214741Z
UID:10012144-1762693200-1762732800@livemusicasheville.com
SUMMARY:Sunday Open Mic/Jams
DESCRIPTION:Open Jam @ T-Birds Weaverville 1-4 \nBluegrass & Jam @ Zillacoah Beer Co –  4:30-7:30pm (every other Sunday) Jan 11\, 25 Feb 8\, 22 March 8\, 22 \nOpen Bluegrass Circle @ The Hound Lounge – 6-9pm (discontinued til spring) \nStory Parlor – 6-9pm (1st Sundays of the month) \nPisgah Brewing Sunday Jam 6:30-9pm \nEda’s Hideaway Weaverville – 7-9pm \nPlant Bar South Slope – 7-9pm (last Sunday of the month) \nElevated Kava Lounge – 8-11pm \n 
URL:https://livemusicasheville.com/calendar/sunday-open-mic/2025-11-09/
LOCATION:Asheville Area
CATEGORIES:Asheville Area,Black Mountain,Madison County,Open MIc/Jam,Weaverville
END:VEVENT
BEGIN:VEVENT
DTSTART;TZID=America/New_York:20251109T140000
DTEND;TZID=America/New_York:20251109T170000
DTSTAMP:20260423T152839
CREATED:20251105T162119Z
LAST-MODIFIED:20251105T162119Z
UID:10023959-1762696800-1762707600@livemusicasheville.com
SUMMARY:Hazy Music Series | The Patrick Lopez Experience
DESCRIPTION:Tremendous musicality\, versatility and the ability to entertain everyone from the casual listener to the most discriminating music aficionados. With performances that captivate and inspire his audiences\, he interacts with Trumpet\, Piano\, and Vocals to give you a true taste of a complete entertainer. Patrick puts his own unique spin on everything from Pop and Rock to R&B and Latin Jazz. \nFor show details and our upcoming event line-up click here! \nThe view from our tree-lined brewery is something special no matter the season. Cool down in the Taproom with a farm-fresh salad and small plates\, or soak in the sun on our Back Porch with a beer and a snack. \nFounded in 1980\, Sierra Nevada Brewing Co. is one of America’s premier craft breweries\, highly regarded for using only the finest quality ingredients.  Sierra Nevada has set the standard for craft brewers worldwide with innovations in the brewhouse as well as advances in sustainability. Sierra Nevada has set the standard for artisan brewers worldwide as a winner of numerous awards for a wide variety of beers and ales\, including the legendary Pale Ale. \n 
URL:https://livemusicasheville.com/calendar/hazy-music-series-the-patrick-lopez-experience/
LOCATION:Sierra Nevada Mills River\, 100 Sierra Nevada Way\, Mills River\, NC\, 28732
CATEGORIES:Asheville Area,Live Music,Mills River
GEO:35.4308568;-82.5535594
X-APPLE-STRUCTURED-LOCATION;VALUE=URI;X-ADDRESS=Sierra Nevada Mills River 100 Sierra Nevada Way Mills River NC 28732;X-APPLE-RADIUS=500;X-TITLE=100 Sierra Nevada Way:geo:-82.5535594,35.4308568
END:VEVENT
BEGIN:VEVENT
DTSTART;TZID=America/New_York:20251109T140000
DTEND;TZID=America/New_York:20251109T170000
DTSTAMP:20260423T152839
CREATED:20260121T184809Z
LAST-MODIFIED:20260123T211626Z
UID:10040083-1762696800-1762707600@livemusicasheville.com
SUMMARY:Gabriel Knows Everything
DESCRIPTION:
URL:https://livemusicasheville.com/calendar/gabriel-knows-everything/
LOCATION:Highland Brewing
CATEGORIES:Asheville Area,Live Music
END:VEVENT
BEGIN:VEVENT
DTSTART;TZID=America/New_York:20251109T140000
DTEND;TZID=America/New_York:20251109T220000
DTSTAMP:20260423T152839
CREATED:20250811T132457Z
LAST-MODIFIED:20251105T193636Z
UID:10018020-1762696800-1762725600@livemusicasheville.com
SUMMARY:Sunday at West w/ Suns Of Stars + One Love Sundays ft. Tuff Sol
DESCRIPTION:Suns Of Stars – 2-5pm | $10 cover \nOrbiting around Asheville’s grateful music scene since late 2023\, Suns Of Stars blends contemporary and traditional bluegrass with a high energy jam style. Suns Of Stars members are all hometown heros in various musical projects around town which has led to great turnout at their shows. That\, along with a massive song repertoire and growing list of original music make for a unique performance each time. \n  \n\nOne Love Sundays – 7-10pm | $5-$10 sliding scale\n\nClose your weekend off with good vibes. One Love Sundays with rotating reggae bands each Sunday. Bands include:\n\nDub Kartel – East coast reggae collective delivering classic dub rhythms. The real rockers from Asheville\, NCStrong Fire – Traditional Ska\, Rocksteady and early Reggae\nTuff Sol – slinging some reggae goodness\nBig Blue Reggae\n\nPetah Iah & The Mind Renewers – original roots reggae latin music \n\n\nThe West Asheville taproom hosts a wide variety of special and regular events\, from yoga to an electronic music & beer festival\, and everything in between. Check out our upcoming schedule: click here
URL:https://livemusicasheville.com/calendar/sunday-at-west-2/
LOCATION:One World Brewing – West\, 520 Haywood Rd\, Asheville\, North Carolina\, 28806
CATEGORIES:Asheville Area,Live Music
GEO:35.5783642;-82.5848526
X-APPLE-STRUCTURED-LOCATION;VALUE=URI;X-ADDRESS=One World Brewing – West 520 Haywood Rd Asheville North Carolina 28806;X-APPLE-RADIUS=500;X-TITLE=520 Haywood Rd:geo:-82.5848526,35.5783642
END:VEVENT
BEGIN:VEVENT
DTSTART;TZID=America/New_York:20251109T143000
DTEND;TZID=America/New_York:20251109T163000
DTSTAMP:20260423T152839
CREATED:20250112T160044Z
LAST-MODIFIED:20250601T210834Z
UID:10002297-1762698600-1762705800@livemusicasheville.com
SUMMARY:Sunday Jazz Jam
DESCRIPTION:
URL:https://livemusicasheville.com/calendar/sunday-jazz-jam-2/2025-11-09/
LOCATION:Ginger’s Revenge
CATEGORIES:Asheville Area,Live Music,Open MIc/Jam
END:VEVENT
END:VCALENDAR