BEGIN:VCALENDAR
VERSION:2.0
PRODID:-//LiveMusicAsheville.com - ECPv6.15.20//NONSGML v1.0//EN
CALSCALE:GREGORIAN
METHOD:PUBLISH
X-WR-CALNAME:LiveMusicAsheville.com
X-ORIGINAL-URL:https://livemusicasheville.com
X-WR-CALDESC:Events for LiveMusicAsheville.com
REFRESH-INTERVAL;VALUE=DURATION:PT1H
X-Robots-Tag:noindex
X-PUBLISHED-TTL:PT1H
BEGIN:VTIMEZONE
TZID:America/New_York
BEGIN:DAYLIGHT
TZOFFSETFROM:-0500
TZOFFSETTO:-0400
TZNAME:EDT
DTSTART:20250309T070000
END:DAYLIGHT
BEGIN:STANDARD
TZOFFSETFROM:-0400
TZOFFSETTO:-0500
TZNAME:EST
DTSTART:20251102T060000
END:STANDARD
BEGIN:DAYLIGHT
TZOFFSETFROM:-0500
TZOFFSETTO:-0400
TZNAME:EDT
DTSTART:20260308T070000
END:DAYLIGHT
BEGIN:STANDARD
TZOFFSETFROM:-0400
TZOFFSETTO:-0500
TZNAME:EST
DTSTART:20261101T060000
END:STANDARD
BEGIN:DAYLIGHT
TZOFFSETFROM:-0500
TZOFFSETTO:-0400
TZNAME:EDT
DTSTART:20270314T070000
END:DAYLIGHT
BEGIN:STANDARD
TZOFFSETFROM:-0400
TZOFFSETTO:-0500
TZNAME:EST
DTSTART:20271107T060000
END:STANDARD
END:VTIMEZONE
BEGIN:VEVENT
DTSTART;TZID=America/New_York:20260331T210000
DTEND;TZID=America/New_York:20260401T000000
DTSTAMP:20260424T175753
CREATED:20260325T184325Z
LAST-MODIFIED:20260325T184325Z
UID:10052655-1774990800-1775001600@livemusicasheville.com
SUMMARY:Null / Dug / Soured / Feral Wretch
DESCRIPTION:
URL:https://livemusicasheville.com/calendar/null-dug-soured-feral-wretch/
LOCATION:Static Age Records
CATEGORIES:Asheville Area,Live Music
GEO:35.5985631;-82.5538043
END:VEVENT
BEGIN:VEVENT
DTSTART;TZID=America/New_York:20260331T220000
DTEND;TZID=America/New_York:20260401T010000
DTSTAMP:20260424T175753
CREATED:20250423T212823Z
LAST-MODIFIED:20260325T195849Z
UID:10013319-1774994400-1775005200@livemusicasheville.com
SUMMARY:Rigometrics
DESCRIPTION:
URL:https://livemusicasheville.com/calendar/watkins-w-rigometrics/
LOCATION:The One Stop
CATEGORIES:Asheville Area,Live Music
END:VEVENT
BEGIN:VEVENT
DTSTART;VALUE=DATE:20260401
DTEND;VALUE=DATE:20260403
DTSTAMP:20260424T175753
CREATED:20250309T145031Z
LAST-MODIFIED:20260310T140019Z
UID:10027821-1775012400-1775098799@livemusicasheville.com
SUMMARY:Ask About Our Featured Listings
DESCRIPTION:Established in February 2019\, LiveMusicAsheville.com now reaches thousands of people every week actively searching for live music in the Asheville area. Roughly 60% of our traffic comes from Google Search as we dominate the top of the results for queries such as “Asheville live music” & “live music Asheville”. Meanwhile our direct traffic is experiencing explosive growth\, proving more locals are now using us as their go-to music calendar. \nOur free listings include just the basics of Who’s Playin’ Where & When. We offer Descriptive Listings at just $5 per event to help you guide viewers to your event. These listings include up to 30 words but do not include links.  \nOur Featured Listings really stand out among the dozens of events on the calendar every day. While we update every Wednesday for the following Friday thru Thursday\, these Featured Listings are published much sooner and include your picture or poster\, a description of the event and the venue\, website/ticket links and a Google map. We also share these events on our social media stories to help further promote your show. \n 
URL:https://livemusicasheville.com/calendar/ask-about-our-featured-listings/2026-04-01/
LOCATION:LiveMusicAsheville.com\, ASHEVILLE\, NC\, 28803\, United States
CATEGORIES:Asheville Area,Black Mountain,Fairview,Live Music,Madison County,Mills River,South Asheville/Arden/Fletcher,Weaverville
ATTACH;FMTTYPE=image/jpeg:https://livemusicasheville.com/wp-content/uploads/2026/02/IMG_4145-e1770855289327.jpeg
ORGANIZER;CN="LiveMusicAsheville.com":MAILTO:livemusicasheville@gmail.com
GEO:35.5671423;-82.5437614
END:VEVENT
BEGIN:VEVENT
DTSTART;VALUE=DATE:20260401
DTEND;VALUE=DATE:20260403
DTSTAMP:20260424T175753
CREATED:20260115T155437Z
LAST-MODIFIED:20260416T121636Z
UID:10038429-1775012400-1775098799@livemusicasheville.com
SUMMARY:Support Your Local Music Calendar
DESCRIPTION:We hope you enjoy our guide to the Asheville area’s dynamic music scene. \nIf we somehow help to brighten up your day\, please consider a small donation to help support our efforts in providing the area’s most complete local live music calendar. \nVenmo: click here  \nLast 4 digits – 3383 \nPayPal: click here \n \n 
URL:https://livemusicasheville.com/calendar/support-your-local-music-calendar-2-2/2026-04-01/
LOCATION:NC
CATEGORIES:Asheville Area
END:VEVENT
BEGIN:VEVENT
DTSTART;VALUE=DATE:20260401
DTEND;VALUE=DATE:20260403
DTSTAMP:20260424T175753
CREATED:20260127T162323Z
LAST-MODIFIED:20260420T011548Z
UID:10057851-1775012400-1775098799@livemusicasheville.com
SUMMARY:COMING SATURDAY April 25 | Pisgah Palooza 2026 - (21 Years of Pisgah Brewing)
DESCRIPTION:Saturday April 25\, 2026 6:00 PM | Doors Open: 5:00 PM | Advance Tickets are on sale now – 2 for $21! Event Details and Tickets\nJoin us on April 25th to celebrate 21 years of Pisgah Brewing with Sqwerv\, Airshow and Pocketful of Gold.\n\nDenver’s electrifying Indie-Jam Band\, Sqwerv is a nationally touring quartet that brings elements of classic rock\, psychedelic music\, funk\, and jam fusion for an experience like no other. The band explores rich sonic realms with a depth of improvisational virtuosity. Their passion for well crafted songs and blended harmonies set this group apart in their scene. The band released 2 full length studio albums in 2024\, ‘Mirage’ and ‘Hors d’Oeuvres’ and has a new full length record on the way in 2025. They have opened for acts such as George Clinton and Parliament Funkadelic\, Pigeons Playing Ping Pong\, Eggy\, Big Something\, Spafford and many more.\n–\nAirshow is a high-flying\, Nashville-based jam band featuring a unique contrast of familiar acoustic and mind-bending electric sounds that transports listeners from a campfire picking-party to the outer reaches of the multiverse. Formed by longtime friends Cody Chelius (Mandolin / Vocals) and Steve Gallagher (Guitar / Vocals)\, the group’s lineup was completed with the addition of Bill Baker (Bass/ Vocals) and John Rodrigue (Drums/ Vocals) in 2016. While each member has different musical influences\, it is their shared passion for exploring uncharted sonic territories that has propelled their ascension to the top of Nashville’s jamband scene— and they won’t be landing anytime soon.\n–\nPocketful of Gold\, Asheville’s newest Led Zeppelin Experience\, makes their debut on Pisgah’s Outdoor Stage! Featuring Hannah Ramsey\, Alex Bazemore\, Jackson Chisholm\, and Zach Jones\, these frizzy-haired folk bring their love of Led Zeppelin together to offer a musical experience that both honors their iconic sound and showcases the inspiration that it’s had on each member’s personal musicianship.\n  \nFounded in 2005\, Pisgah is known for producing some of the most sought after craft ales in Western North Carolina. Pisgah Brewing Company currently operates the new indoor taproom & deli\, with live music several days a week\, plus an open air outdoor bar in the summer and fall months. Check out our upcoming schedule at pisgahbrewing.com/events
URL:https://livemusicasheville.com/calendar/pisgah-palooza-2026/2026-04-01/
LOCATION:Pisgah Brewing Company Black Mountain\, 2948 US-70\, Black Mountain\, NC\, 28711
CATEGORIES:Asheville Area,Black Mountain,Live Music
ATTACH;FMTTYPE=image/jpeg:https://livemusicasheville.com/wp-content/uploads/2026/01/617704239_1358962522924587_2721723407800321272_n-e1769530924423.jpg
GEO:35.6068069;-82.3568213
X-APPLE-STRUCTURED-LOCATION;VALUE=URI;X-ADDRESS=Pisgah Brewing Company Black Mountain 2948 US-70 Black Mountain NC 28711;X-APPLE-RADIUS=500;X-TITLE=2948 US-70:geo:-82.3568213,35.6068069
END:VEVENT
BEGIN:VEVENT
DTSTART;VALUE=DATE:20260401
DTEND;VALUE=DATE:20260404
DTSTAMP:20260424T175753
CREATED:20260331T123909Z
LAST-MODIFIED:20260331T131312Z
UID:10051108-1775012400-1775185199@livemusicasheville.com
SUMMARY:THIS FRIDAY April 3rd | Marisa Cristina Blake "Observations From The Inside Out" Album Release Party
DESCRIPTION:Friday\, Apr 03\, 2026 | Doors: 6:00PM | Show: 7:00PM | $20 adv. / $25 d.o.s. / $150 VIP Booth (admits 4 + amenities) Event Details and Tickets \nMarisa Cristina Blake releases her multi-genre bilingual debut album\, “Observations from the Inside Out” Early show! With singer songwriters in the round: Melissa McKinney\, Elizabeth McCorvey\, and McKinney.  Followed by the full run through of the album with some extras played with an incredible band featuring Patrick Armitage\, Ben Bjorlie\, Josh Blake\, Tyler Householder\, Daniela Risquez\, Caromia\, Jacob Rodriguez\, Alex Bradley and more special guests!! \nThere will be live painting and Puerto Rican street food. With a dance party to follow by DJ MTN VIBEZ!It’s going to a beautiful evening! \nMarisa Blake is a Latina\, Bi-lingual voice and on-camera actor\, voicing everything from Animation and commercials to audiobooks and eLearning narration in both Spanish and English. Marisa is immersed in the Asheville music scene and enjoys singing and playing drums with some incredibly talented musicians she’s lucky to call friends. \nThird Room is a live music venue in a captivating visual art environment. Whether you’re here for a DJ night\, a jam band\, EDM\, or jazz\, Third Room offers wide open spaces to dance surrounded by epic motion graphics and animations\, plus cozy lounges and a full bar with cocktails\, mocktails\, elixirs\, and other non-alcoholic beverages.
URL:https://livemusicasheville.com/calendar/coming-friday-marisa-cristina-blake-observations-from-the-inside-out-album-release-party-2/
LOCATION:Third Room\, 46 Wall Street\, Asheville\, NC\, NC\, 28803\, United States
CATEGORIES:Asheville Area,Live Music
GEO:35.5943967;-82.5559625
X-APPLE-STRUCTURED-LOCATION;VALUE=URI;X-ADDRESS=Third Room 46 Wall Street Asheville NC NC 28803 United States;X-APPLE-RADIUS=500;X-TITLE=46 Wall Street:geo:-82.5559625,35.5943967
END:VEVENT
BEGIN:VEVENT
DTSTART;TZID=America/New_York:20260401T150000
DTEND;TZID=America/New_York:20260401T180000
DTSTAMP:20260424T175753
CREATED:20250319T212816Z
LAST-MODIFIED:20260401T074129Z
UID:10010226-1775055600-1775066400@livemusicasheville.com
SUMMARY:Samara Jade
DESCRIPTION:
URL:https://livemusicasheville.com/calendar/grand-opening-w-samara-jade/
LOCATION:RAD Farmers Market at New Belgium
CATEGORIES:Asheville Area,Live Music
END:VEVENT
BEGIN:VEVENT
DTSTART;TZID=America/New_York:20260401T160000
DTEND;TZID=America/New_York:20260401T230000
DTSTAMP:20260424T175753
CREATED:20241226T150904Z
LAST-MODIFIED:20260420T201126Z
UID:10027055-1775059200-1775084400@livemusicasheville.com
SUMMARY:Wednesday Open Mics/Jams
DESCRIPTION:Bluegrass/Old Time Jam @ Riverside Rhapsody Brewing – 5-8pm  \nBlunt Pretzels Swannanoa – 5-8pm \nElkhorn  Canna Co – 6-9pm (Feb 25) \nOpen Mic @ Twin Leaf Brewery – 6-8pm \nOpen Mic @ Auction House Fletcher (first Wednesdays) 6-9pm \nOpen Mic @ Camden’s Coffee House Mars Hill – 6:30-8:30pm \nOpen Mic @ Papertown Billiards Canton – 7-9pm \nWhite Horse Black Mountain – 7-9:30pm (2nd & 4th Wednesdays) \nOpen Jam w/ Hamza @ Silverados Black Mountain – 7-10pm \nOpen Mic & Decks @ Sly Grog Lounge -7-11pm \nJam Night @ Elevated Kava Lounge – 8-11pm  \nAll Genre Open Mic @ Sovereign Kava – 8:30-11pm \n 
URL:https://livemusicasheville.com/calendar/wednesday-open-mics-jams/2026-04-01/
LOCATION:Asheville Area
CATEGORIES:Asheville Area,Black Mountain,Open MIc/Jam
ATTACH;FMTTYPE=image/jpeg:https://livemusicasheville.com/wp-content/uploads/2024/12/IMG_9400-e1743027161179.jpeg
END:VEVENT
BEGIN:VEVENT
DTSTART;TZID=America/New_York:20260401T170000
DTEND;TZID=America/New_York:20260401T200000
DTSTAMP:20260424T175753
CREATED:20250108T062549Z
LAST-MODIFIED:20260331T013142Z
UID:10005384-1775062800-1775073600@livemusicasheville.com
SUMMARY:Asheville Ukulele Society Library Jam
DESCRIPTION:
URL:https://livemusicasheville.com/calendar/asheville-ukulele-society-library-jam/
LOCATION:East Asheville Public Library
CATEGORIES:Asheville Area,Live Music,Open MIc/Jam
GEO:35.5881654;-82.503253
END:VEVENT
BEGIN:VEVENT
DTSTART;TZID=America/New_York:20260401T170000
DTEND;TZID=America/New_York:20260401T210000
DTSTAMP:20260424T175753
CREATED:20260211T135505Z
LAST-MODIFIED:20260224T220301Z
UID:10027003-1775062800-1775077200@livemusicasheville.com
SUMMARY:Jack’s Old-Time Jam
DESCRIPTION:Grab some dinner and a pint while enjoying our long-running Old-Time Jam! Featuring many talented musicians from the local WNC area\, our traditional Appalachian mountain music jam runs from 5-9pm every Wednesday night at Jack of the Wood! \nJack Of The Wood is still a downtown hot spot for food\, brews and drink since 1997 and founders Joan and Joe Eckert who still own it\, have maintained the original lively English and Irish vibe. The old-time mountain and Irish music jams continue\, including a hot bluegrass jam Thursdays and brunch every Sunday. The venue extends a welcoming feeling to regulars and newcomers to this day. https://jackofthewood.com/
URL:https://livemusicasheville.com/calendar/jacks-old-time-jam-2/2026-04-01/
LOCATION:Jack Of The Wood\, 95 Patton Ave\, asheville\, NC\, United States
CATEGORIES:Asheville Area,Live Music,Open MIc/Jam
ATTACH;FMTTYPE=image/jpeg:https://livemusicasheville.com/wp-content/uploads/2026/02/JOTW_WED-OldTimeJam_2025-RollingStoneQuote_IG_1080x1350-e1771970572897.jpg
GEO:35.5944492;-82.5558221
X-APPLE-STRUCTURED-LOCATION;VALUE=URI;X-ADDRESS=Jack Of The Wood 95 Patton Ave asheville NC United States;X-APPLE-RADIUS=500;X-TITLE=95 Patton Ave:geo:-82.5558221,35.5944492
END:VEVENT
BEGIN:VEVENT
DTSTART;TZID=America/New_York:20260401T173000
DTEND;TZID=America/New_York:20260401T193000
DTSTAMP:20260424T175753
CREATED:20251231T135204Z
LAST-MODIFIED:20260204T195847Z
UID:10042684-1775064600-1775071800@livemusicasheville.com
SUMMARY:The Candleers
DESCRIPTION:weather dependent
URL:https://livemusicasheville.com/calendar/the-candleers-4-2/2026-04-01/
LOCATION:Eluvium Brewing Company Weaverville
CATEGORIES:Asheville Area,Live Music,Weaverville
END:VEVENT
BEGIN:VEVENT
DTSTART;TZID=America/New_York:20260401T180000
DTEND;TZID=America/New_York:20260401T200000
DTSTAMP:20260424T175753
CREATED:20250602T201723Z
LAST-MODIFIED:20260114T215511Z
UID:10036409-1775066400-1775073600@livemusicasheville.com
SUMMARY:Guitar & Vocal Jazz w/ Linda Mitchell
DESCRIPTION:
URL:https://livemusicasheville.com/calendar/guitar-vocal-jazz-w-linda-mitchell/2026-04-01/
LOCATION:The Bush Farmhouse Black Mountain
CATEGORIES:Asheville Area,Black Mountain,Live Music
GEO:35.6171865;-82.3170606
END:VEVENT
BEGIN:VEVENT
DTSTART;TZID=America/New_York:20260401T180000
DTEND;TZID=America/New_York:20260401T200000
DTSTAMP:20260424T175753
CREATED:20250723T201047Z
LAST-MODIFIED:20260325T131020Z
UID:10017069-1775066400-1775073600@livemusicasheville.com
SUMMARY:Taps & Tunes w/ Frances Eliza
DESCRIPTION:
URL:https://livemusicasheville.com/calendar/frances-eliza-7/
LOCATION:White Labs Brewing Co – Asheville Kitchen & Tap
CATEGORIES:Asheville Area,Live Music
END:VEVENT
BEGIN:VEVENT
DTSTART;TZID=America/New_York:20260401T180000
DTEND;TZID=America/New_York:20260401T200000
DTSTAMP:20260424T175753
CREATED:20251123T150704Z
LAST-MODIFIED:20260331T123335Z
UID:10025675-1775066400-1775073600@livemusicasheville.com
SUMMARY:Reverie Woods
DESCRIPTION:
URL:https://livemusicasheville.com/calendar/reverie-woods/
LOCATION:The Old Haywood Filling Station Mills River
CATEGORIES:Asheville Area,Live Music,Mills River
END:VEVENT
BEGIN:VEVENT
DTSTART;TZID=America/New_York:20260401T180000
DTEND;TZID=America/New_York:20260401T200000
DTSTAMP:20260424T175753
CREATED:20260107T185729Z
LAST-MODIFIED:20260401T151556Z
UID:10023700-1775066400-1775073600@livemusicasheville.com
SUMMARY:Well Crafted Music Series with Matt Smith
DESCRIPTION:  \n4/1- Amanda Anne Platt\n4/8- A. Lee Edwards w Zack Page\n4/15- Datrian Johnson w Duane Simpson\, Tony Black and Mike Rhodes\n4/22- Silas Hamilton w Zach Smith and Evan Martin\n4/29- Lyndsay Pruett w Rick Cooper and Zach Smith \nCheck with the venue for Matt’s upcoming guest(s).
URL:https://livemusicasheville.com/calendar/well-crafted-wednesday-with-matt-smith-2-2-2-2-2-2/2026-04-01/
LOCATION:Highland Brewing
CATEGORIES:Asheville Area,Live Music
END:VEVENT
BEGIN:VEVENT
DTSTART;TZID=America/New_York:20260401T180000
DTEND;TZID=America/New_York:20260401T200000
DTSTAMP:20260424T175753
CREATED:20260324T194518Z
LAST-MODIFIED:20260324T194518Z
UID:10051916-1775066400-1775073600@livemusicasheville.com
SUMMARY:Roots and Dore
DESCRIPTION:Roots and Dore are an American blues\, roots and soul group from the music rich mountains of Asheville\, North Carolina. With their unique style and captivating original songs and covers from some of the best in blues\, southern soul and rock history\, they are one of the busiest acts in the in the south east.  “Always a great time when Roots and Dore Band are playing.” \n  \nFounded in 2005\, Pisgah is known for producing some of the most sought after craft ales in Western North Carolina. Pisgah Brewing Company currently operates the new indoor taproom & deli\, with live music several days a week\, plus an open air outdoor bar in the summer and fall months. Check out our upcoming schedule at pisgahbrewing.com/events
URL:https://livemusicasheville.com/calendar/roots-and-dore-3/
LOCATION:Pisgah Brewing Company Black Mountain\, 2948 US-70\, Black Mountain\, NC\, 28711
CATEGORIES:Asheville Area,Black Mountain,Live Music
ATTACH;FMTTYPE=image/jpeg:https://livemusicasheville.com/wp-content/uploads/2026/03/641531945_1388790236608482_8232380270115127488_n-1-e1774381478746.jpg
GEO:35.6068069;-82.3568213
X-APPLE-STRUCTURED-LOCATION;VALUE=URI;X-ADDRESS=Pisgah Brewing Company Black Mountain 2948 US-70 Black Mountain NC 28711;X-APPLE-RADIUS=500;X-TITLE=2948 US-70:geo:-82.3568213,35.6068069
END:VEVENT
BEGIN:VEVENT
DTSTART;TZID=America/New_York:20260401T180000
DTEND;TZID=America/New_York:20260401T200000
DTSTAMP:20260424T175753
CREATED:20260409T144530Z
LAST-MODIFIED:20260409T144618Z
UID:10036411-1775066400-1775073600@livemusicasheville.com
SUMMARY:Guitar & Vocal Jazz w/ Linda Mitchell
DESCRIPTION:
URL:https://livemusicasheville.com/calendar/guitar-vocal-jazz-w-linda-mitchell-2/
LOCATION:The Bush Farmhouse Black Mountain
CATEGORIES:Asheville Area,Black Mountain,Live Music
GEO:35.6171865;-82.3170606
END:VEVENT
BEGIN:VEVENT
DTSTART;TZID=America/New_York:20260401T180000
DTEND;TZID=America/New_York:20260401T210000
DTSTAMP:20260424T175753
CREATED:20250805T224118Z
LAST-MODIFIED:20260401T003407Z
UID:10020297-1775066400-1775077200@livemusicasheville.com
SUMMARY:Mills River Brewing Bluegrass Jam
DESCRIPTION:Appalachia Haze will be hosting The bluegrass Jam Session on Wednesday\, April 1st (no fooling). The band performs from 6pm – 7pm // open jam from 7pm – 9pm. All are welcom
URL:https://livemusicasheville.com/calendar/bear-creek-string-bandits-bluegrass-jam-2/2026-04-01/
LOCATION:Mills River Brewing Co.\, 336 Banner Farm Rd\,\, Mills River\, NC\, 28759
CATEGORIES:Asheville Area,Live Music,Mills River,Open MIc/Jam
GEO:35.380515;-82.5654984
X-APPLE-STRUCTURED-LOCATION;VALUE=URI;X-ADDRESS=Mills River Brewing Co. 336 Banner Farm Rd Mills River NC 28759;X-APPLE-RADIUS=500;X-TITLE=336 Banner Farm Rd\,:geo:-82.5654984,35.380515
END:VEVENT
BEGIN:VEVENT
DTSTART;TZID=America/New_York:20260401T180000
DTEND;TZID=America/New_York:20260401T210000
DTSTAMP:20260424T175753
CREATED:20260114T160602Z
LAST-MODIFIED:20260114T160604Z
UID:10022413-1775066400-1775077200@livemusicasheville.com
SUMMARY:Country Line Dance Lessons and Dancing
DESCRIPTION:
URL:https://livemusicasheville.com/calendar/country-line-dance-lessons-and-dancing-2/2026-04-01/
LOCATION:Eda’s Hide-a-Way Weaverville
CATEGORIES:Asheville Area,DJ/Electronic,Weaverville
GEO:35.6970547;-82.5606851
END:VEVENT
BEGIN:VEVENT
DTSTART;TZID=America/New_York:20260401T180000
DTEND;TZID=America/New_York:20260401T210000
DTSTAMP:20260424T175753
CREATED:20260401T175836Z
LAST-MODIFIED:20260401T175950Z
UID:10054536-1775066400-1775077200@livemusicasheville.com
SUMMARY:Blue Nickels Jazz Band
DESCRIPTION:
URL:https://livemusicasheville.com/calendar/blue-nickels/
LOCATION:Workshop Lounge at The Foundry Hotel
CATEGORIES:Asheville Area,Black Mountain
END:VEVENT
BEGIN:VEVENT
DTSTART;TZID=America/New_York:20260401T190000
DTEND;TZID=America/New_York:20260401T210000
DTSTAMP:20260424T175753
CREATED:20260331T172522Z
LAST-MODIFIED:20260401T075925Z
UID:10054039-1775070000-1775077200@livemusicasheville.com
SUMMARY:Honky Tonk Night!
DESCRIPTION:Everybody get your dancin’ shoes ready for Honky Tonk night! Wednesday at 7:00 pm\, c’mon out for a great time in the Green House by the library. Dance lesson from 7:00–7:30\, a great band 7:30–8:00\, and then the music department’s very own Bluegrass Ensemble from 8:00–9:00!
URL:https://livemusicasheville.com/calendar/honky-tonk-night/
LOCATION:UNC-Asheville
CATEGORIES:Asheville Area,Live Music
END:VEVENT
BEGIN:VEVENT
DTSTART;TZID=America/New_York:20260401T190000
DTEND;TZID=America/New_York:20260401T220000
DTSTAMP:20260424T175753
CREATED:20250423T125959Z
LAST-MODIFIED:20260325T203942Z
UID:10013210-1775070000-1775080800@livemusicasheville.com
SUMMARY:Circus Mutt
DESCRIPTION:
URL:https://livemusicasheville.com/calendar/circus-mutt-3/
LOCATION:The Joint Next Door Fairview
CATEGORIES:Asheville Area,Fairview,Live Music
GEO:35.5251372;-82.424797
END:VEVENT
BEGIN:VEVENT
DTSTART;TZID=America/New_York:20260401T190000
DTEND;TZID=America/New_York:20260401T220000
DTSTAMP:20260424T175753
CREATED:20250902T235040Z
LAST-MODIFIED:20260219T020732Z
UID:10037189-1775070000-1775080800@livemusicasheville.com
SUMMARY:Swing Asheville Dance and Lesson
DESCRIPTION:We have moved our Wednesday night location to Coffee Art Music type Place (CAMP) at 1 Kenilworth Knolls #1\, Asheville\, NC 28805!!!\nJoin us for our weekly dance series Wednesday night at Coffee Art Music type Place!\n\n\n\nA lesson is included with your $10 entry. ($5 for students with i.d.)
URL:https://livemusicasheville.com/calendar/swing-asheville-dance-and-lesson-2-2-3/2026-04-01/
LOCATION:Coffee Art Music type Place\, 1 Kenilworth Knolls Suite 1\, Asheville\, NC\,
CATEGORIES:Asheville Area,DJ/Electronic
GEO:35.5895785;-82.5285828
X-APPLE-STRUCTURED-LOCATION;VALUE=URI;X-ADDRESS=Coffee Art Music type Place 1 Kenilworth Knolls Suite 1 Asheville NC;X-APPLE-RADIUS=500;X-TITLE=1 Kenilworth Knolls Suite 1\, Asheville\, NC\,:geo:-82.5285828,35.5895785
END:VEVENT
BEGIN:VEVENT
DTSTART;TZID=America/New_York:20260401T190000
DTEND;TZID=America/New_York:20260401T220000
DTSTAMP:20260424T175753
CREATED:20251222T160644Z
LAST-MODIFIED:20251222T160644Z
UID:10029244-1775070000-1775080800@livemusicasheville.com
SUMMARY:The B's Trio in The Great Hall
DESCRIPTION:
URL:https://livemusicasheville.com/calendar/the-bs-trio-in-the-great-hall-2/2026-04-01/
LOCATION:The Omni Grove Park Inn
CATEGORIES:Asheville Area,Live Music
GEO:35.6206376;-82.5422977
END:VEVENT
BEGIN:VEVENT
DTSTART;TZID=America/New_York:20260401T190000
DTEND;TZID=America/New_York:20260401T220000
DTSTAMP:20260424T175753
CREATED:20260326T192620Z
LAST-MODIFIED:20260326T192620Z
UID:10052889-1775070000-1775080800@livemusicasheville.com
SUMMARY:Isaac Hadden’s Spatial Explorations
DESCRIPTION:Isaac Hadden’s Spatial Explorations is a genre-blurring trio rooted in improvisation\, groove\, and sonic curiosity. Featuring Isaac Hadden on guitar\, Quinn Sternberg on bass\, and Joe Enright on drums\, the group explores fluid\, spacey textures anchored by deep rhythmic interplay and a shared instinct for spontaneous conversation. Their sound leans into chill\, atmospheric fusion\, stretching familiar and unfamiliar material into expansive\, groove-driven landscapes\, while leaving room for surges of high-energy interplay when the moment calls. The result is immersive and dynamic: music that invites listening as much as it rewards it. \n$10 at the door (all ticket proceeds are 100% passed to the band\, backed by a living wage guarantee from Hotel Eve) \n*Reserve a table in advance\, or join us impromptu the night of the show. Reservations/advance tickets are recommended for preferred seating\, but not required. Tickets are available at the door on a first-come\, first-served basis.  Event Details and Tickets \nHotel Eve is your locally rooted\, speakeasy jazz club & cocktail bar\, hidden in the heart of Downtown Asheville. Mysteriously not a hotel…check in for spirits\, souls and jazz! We’re tucked away\, on purpose. You’ll find us behind the gate nestled between Virtue Boutique and Dane Wells Gallery at 56 N Lexington Avenue in downtown Asheville. Step through\, take a left into the courtyard\, check in for Spirits\, Souls & Jazz. We’ll be waiting on the other side. hotelevejazz.com \n 
URL:https://livemusicasheville.com/calendar/isaac-haddens-spatial-explorations/
LOCATION:Hotel Eve Jazz\, 56 N Lexington Avenue\, Asheville\, NC\, 28801\, United States
CATEGORIES:Asheville Area,Live Music
GEO:35.5967716;-82.5530826
X-APPLE-STRUCTURED-LOCATION;VALUE=URI;X-ADDRESS=Hotel Eve Jazz 56 N Lexington Avenue Asheville NC 28801 United States;X-APPLE-RADIUS=500;X-TITLE=56 N Lexington Avenue:geo:-82.5530826,35.5967716
END:VEVENT
BEGIN:VEVENT
DTSTART;TZID=America/New_York:20260401T193000
DTEND;TZID=America/New_York:20260401T223000
DTSTAMP:20260424T175753
CREATED:20260325T183140Z
LAST-MODIFIED:20260325T183140Z
UID:10052648-1775071800-1775082600@livemusicasheville.com
SUMMARY:ROBERT PLANT w/ SAVING GRACE AND SUZI DIAN
DESCRIPTION:
URL:https://livemusicasheville.com/calendar/robert-plant-w-saving-grace-and-suzi-dian/
LOCATION:Harrah’s Cherokee Center – Asheville
CATEGORIES:Asheville Area,Live Music
GEO:35.5975104;-82.5460563
END:VEVENT
BEGIN:VEVENT
DTSTART;TZID=America/New_York:20260401T200000
DTEND;TZID=America/New_York:20260401T220000
DTSTAMP:20260424T175753
CREATED:20250305T201112Z
LAST-MODIFIED:20260228T150603Z
UID:10047129-1775073600-1775080800@livemusicasheville.com
SUMMARY:Mojo Mountain
DESCRIPTION:
URL:https://livemusicasheville.com/calendar/mojo-mountain/2026-04-01/
LOCATION:Town Pump Tavern Black Mountain
CATEGORIES:Asheville Area,Black Mountain,Live Music
GEO:35.6162458;-82.320259
END:VEVENT
BEGIN:VEVENT
DTSTART;TZID=America/New_York:20260401T200000
DTEND;TZID=America/New_York:20260401T220000
DTSTAMP:20260424T175753
CREATED:20250903T183552Z
LAST-MODIFIED:20260324T002543Z
UID:10020633-1775073600-1775080800@livemusicasheville.com
SUMMARY:Alien Music Club Trio (formerly My Magnificent Trio)
DESCRIPTION:Alien Music Club Trio is a nerdy/sexy/eclectic/genre-bending group featuring James Kylen (drums/vocals)\, Chuck Lichtenberger (keys/vocals) and Jonathan Pearlman (guitar/vocals). All three contribute original material along with diverse covers by artists as The Beatles\, Ozzy Osborne\, Radiohead\, Taylor Swift\, Katy Perry and much more\, with a generous dose of jazz standards by the likes of Miles Davis\, Sonny Rollins\, Wes Montgomery and more. You never know what to expect! You’ll love Alien Music Club Trio!
URL:https://livemusicasheville.com/calendar/my-magnificent-nemesis-trio/
LOCATION:5 Walnut Wine Bar
CATEGORIES:Asheville Area,Live Music
ATTACH;FMTTYPE=image/jpeg:https://livemusicasheville.com/wp-content/uploads/2025/09/MyMagTrioSepia-e1774311936301.jpg
GEO:35.596654;-82.5525389
END:VEVENT
BEGIN:VEVENT
DTSTART;TZID=America/New_York:20260401T200000
DTEND;TZID=America/New_York:20260401T230000
DTSTAMP:20260424T175753
CREATED:20260325T192232Z
LAST-MODIFIED:20260325T192232Z
UID:10052661-1775073600-1775084400@livemusicasheville.com
SUMMARY:Slomosa w/ The Mainliners
DESCRIPTION:
URL:https://livemusicasheville.com/calendar/slomosa-w-the-mainliners/
LOCATION:Eulogy\, 10 Buxton Ave\, Asheville\, NC\, 28801
CATEGORIES:Asheville Area,Live Music
GEO:35.5883468;-82.5539256
X-APPLE-STRUCTURED-LOCATION;VALUE=URI;X-ADDRESS=Eulogy 10 Buxton Ave Asheville NC 28801;X-APPLE-RADIUS=500;X-TITLE=10 Buxton Ave:geo:-82.5539256,35.5883468
END:VEVENT
BEGIN:VEVENT
DTSTART;TZID=America/New_York:20260401T200000
DTEND;TZID=America/New_York:20260402T000000
DTSTAMP:20260424T175753
CREATED:20260324T165603Z
LAST-MODIFIED:20260324T165604Z
UID:10024025-1775073600-1775088000@livemusicasheville.com
SUMMARY:Latin Night Wednesdays
DESCRIPTION:
URL:https://livemusicasheville.com/calendar/latin-night-wednesdays-2-2-2-2-2/2026-04-01/
LOCATION:One World Brewing – West\, 520 Haywood Rd\, Asheville\, North Carolina\, 28806
CATEGORIES:Asheville Area,DJ/Electronic
GEO:35.5783642;-82.5848526
X-APPLE-STRUCTURED-LOCATION;VALUE=URI;X-ADDRESS=One World Brewing – West 520 Haywood Rd Asheville North Carolina 28806;X-APPLE-RADIUS=500;X-TITLE=520 Haywood Rd:geo:-82.5848526,35.5783642
END:VEVENT
END:VCALENDAR