BEGIN:VCALENDAR
VERSION:2.0
PRODID:-//LiveMusicAsheville.com - ECPv6.15.20//NONSGML v1.0//EN
CALSCALE:GREGORIAN
METHOD:PUBLISH
X-WR-CALNAME:LiveMusicAsheville.com
X-ORIGINAL-URL:https://livemusicasheville.com
X-WR-CALDESC:Events for LiveMusicAsheville.com
REFRESH-INTERVAL;VALUE=DURATION:PT1H
X-Robots-Tag:noindex
X-PUBLISHED-TTL:PT1H
BEGIN:VTIMEZONE
TZID:America/New_York
BEGIN:DAYLIGHT
TZOFFSETFROM:-0500
TZOFFSETTO:-0400
TZNAME:EDT
DTSTART:20240310T070000
END:DAYLIGHT
BEGIN:STANDARD
TZOFFSETFROM:-0400
TZOFFSETTO:-0500
TZNAME:EST
DTSTART:20241103T060000
END:STANDARD
BEGIN:DAYLIGHT
TZOFFSETFROM:-0500
TZOFFSETTO:-0400
TZNAME:EDT
DTSTART:20250309T070000
END:DAYLIGHT
BEGIN:STANDARD
TZOFFSETFROM:-0400
TZOFFSETTO:-0500
TZNAME:EST
DTSTART:20251102T060000
END:STANDARD
BEGIN:DAYLIGHT
TZOFFSETFROM:-0500
TZOFFSETTO:-0400
TZNAME:EDT
DTSTART:20260308T070000
END:DAYLIGHT
BEGIN:STANDARD
TZOFFSETFROM:-0400
TZOFFSETTO:-0500
TZNAME:EST
DTSTART:20261101T060000
END:STANDARD
END:VTIMEZONE
BEGIN:VEVENT
DTSTART;TZID=America/New_York:20251031T173000
DTEND;TZID=America/New_York:20251031T193000
DTSTAMP:20260419T201843
CREATED:20250115T170305Z
LAST-MODIFIED:20251214T223120Z
UID:10006463-1761931800-1761939000@livemusicasheville.com
SUMMARY:Hank and Vollie
DESCRIPTION:
URL:https://livemusicasheville.com/calendar/hank-and-vollie/2025-10-31/
LOCATION:Battery Park Book Exchange & Champagne Bar
CATEGORIES:Asheville Area,Live Music
GEO:35.5951042;-82.556633
END:VEVENT
BEGIN:VEVENT
DTSTART;TZID=America/New_York:20251031T173000
DTEND;TZID=America/New_York:20251031T200000
DTSTAMP:20260419T201843
CREATED:20251020T135307Z
LAST-MODIFIED:20251020T135610Z
UID:10020517-1761931800-1761940800@livemusicasheville.com
SUMMARY:Sal Landers' Party Rx presents: Weirdly Woodstock!
DESCRIPTION:Sal Landeds’ Weirdly Woodstock Halloween Bash will be a night of live music for the Woodstock generation! Featuring the delightfully unpredictable Weirdly Woodstock with “SparkPlug Sal\,” joined by the insanely talented Mark Tumo on sax\, keys\, and vocals\, and percussionist extraordinaire Jason Decristofano on drums!\n\n\nNo Cover! All Ages! Family & pet-friendly. Costume contest with prizes! Drinks and food available on-site.\n\n\n\n\nFREE YOUR INNER FLOWER-POWERED HIPPIE! ☮️ \nFrench Broad River Brewery is more than just a place to enjoy a drink—it’s a community hub where great beer\, live music\, and good times come together. Just minutes from the Biltmore Estate & Downtown\, our taproom is a gathering spot for locals and visitors alike. We regularly host live music and entertainment in our taproom\, making French Broad River Brewery a lively hub of local activity. From bluegrass to reggae\, there’s always something happening. Check out our Events Page to see what’s coming up next
URL:https://livemusicasheville.com/calendar/ka-pow-takes-over-fbrb-2/
LOCATION:French Broad River Brewery\, 101 Fairview Rd\, Asheville\, NC\, United States
CATEGORIES:Asheville Area,Live Music
GEO:35.5662722;-82.5374054
X-APPLE-STRUCTURED-LOCATION;VALUE=URI;X-ADDRESS=French Broad River Brewery 101 Fairview Rd Asheville NC United States;X-APPLE-RADIUS=500;X-TITLE=101 Fairview Rd:geo:-82.5374054,35.5662722
END:VEVENT
BEGIN:VEVENT
DTSTART;TZID=America/New_York:20251031T180000
DTEND;TZID=America/New_York:20251031T200000
DTSTAMP:20260419T201843
CREATED:20251029T141310Z
LAST-MODIFIED:20251029T141310Z
UID:10023232-1761933600-1761940800@livemusicasheville.com
SUMMARY:Brown Mountain Lighting Bugs
DESCRIPTION:
URL:https://livemusicasheville.com/calendar/brown-mountain-lighting-bugs/
LOCATION:Black Mountain Brewing
CATEGORIES:Asheville Area,Black Mountain,Live Music
GEO:35.6168393;-82.3196047
END:VEVENT
BEGIN:VEVENT
DTSTART;TZID=America/New_York:20251031T180000
DTEND;TZID=America/New_York:20251031T200000
DTSTAMP:20260419T201843
CREATED:20251029T185439Z
LAST-MODIFIED:20251029T185439Z
UID:10023282-1761933600-1761940800@livemusicasheville.com
SUMMARY:Zach & Colby
DESCRIPTION:
URL:https://livemusicasheville.com/calendar/zach-colby/
LOCATION:The One Stop
CATEGORIES:Asheville Area,Live Music
END:VEVENT
BEGIN:VEVENT
DTSTART;TZID=America/New_York:20251031T180000
DTEND;TZID=America/New_York:20251031T210000
DTSTAMP:20260419T201843
CREATED:20251029T115704Z
LAST-MODIFIED:20251029T115704Z
UID:10023138-1761933600-1761944400@livemusicasheville.com
SUMMARY:Local Gossip Party Band
DESCRIPTION:
URL:https://livemusicasheville.com/calendar/local-gossip-party-band/
LOCATION:Bold Rock Hard Cider – Mills River
CATEGORIES:Asheville Area,Live Music,Mills River
GEO:35.3763918;-82.5592839
END:VEVENT
BEGIN:VEVENT
DTSTART;TZID=America/New_York:20251031T180000
DTEND;TZID=America/New_York:20251031T220000
DTSTAMP:20260419T201843
CREATED:20250329T135201Z
LAST-MODIFIED:20250329T135201Z
UID:10011617-1761933600-1761948000@livemusicasheville.com
SUMMARY:The Friday Drum Circle
DESCRIPTION:
URL:https://livemusicasheville.com/calendar/the-friday-drum-circle/2025-10-31/
LOCATION:Pritchard Park Downtown\, 67 Patton Avenue\, Asheville\, NC\, 28801
CATEGORIES:Asheville Area,Live Music,Open MIc/Jam
GEO:35.5947402;-82.5543431
X-APPLE-STRUCTURED-LOCATION;VALUE=URI;X-ADDRESS=Pritchard Park Downtown 67 Patton Avenue Asheville NC 28801;X-APPLE-RADIUS=500;X-TITLE=67 Patton Avenue:geo:-82.5543431,35.5947402
END:VEVENT
BEGIN:VEVENT
DTSTART;TZID=America/New_York:20251031T180000
DTEND;TZID=America/New_York:20251031T230000
DTSTAMP:20260419T201843
CREATED:20250207T164158Z
LAST-MODIFIED:20260415T204956Z
UID:10026010-1761933600-1761951600@livemusicasheville.com
SUMMARY:Friday Open Mic/Jam
DESCRIPTION:Flora Asheville – 5:30-7:30pm (April 17) \nTurgua Brewing Fairview – 6-8pm (2nd & 4th Fridays) \nCoffee\, Art\, Music type Place – 6-8pm (First Fridays) \nElevated Kava Downtown – 8-11
URL:https://livemusicasheville.com/calendar/friday-open-mic-jam/2025-10-31/
LOCATION:Asheville Area
CATEGORIES:Asheville Area,Madison County,Open MIc/Jam,South Asheville/Arden/Fletcher
END:VEVENT
BEGIN:VEVENT
DTSTART;TZID=America/New_York:20251031T180000
DTEND;TZID=America/New_York:20251101T020000
DTSTAMP:20260419T201843
CREATED:20241225T134450Z
LAST-MODIFIED:20260415T173808Z
UID:10021395-1761933600-1761962400@livemusicasheville.com
SUMMARY:Friday Weekly DJ's
DESCRIPTION:Although we are primarily a Live Music Calendar\, we often come across Electronic & DJ events in the area and list them for you as we find out about them. Please verify the DJ\, times and cover charges with the venue. \nLA Pizza Party Rooftop – 6-9pm \nThe Radical – 6-11pm \nPotential New Boyfriend – 7:30-11pm \nCapella On 9 – 8-11pm \nBen’s Tune Up – 8-11pm \nAntidote – 9-11pm \nBanks Ave – 9-11:30pm \nVOWL – 9pm-1am \nDouble Crown – 9pm-2am \nHavana Miami – 9pm-2am \nStatic Age Loft – 9pm-2am \nWaterstreet – 9pm-2am \nLa Pizza Party – 10pm-2am \nThe Barksdale – 10pm-2am \nLazy Diamond – 10pm-2am \nSticks On Broadway – 10pm-2am \nStrange Magic Bar – 10pm-2am \nShakeys – 10pm-2am \n  \nVerify with the venue on times\, cover charges and tonight’s DJ.
URL:https://livemusicasheville.com/calendar/friday-weekly-dj-schedule/2025-10-31/
LOCATION:Asheville Area
CATEGORIES:Asheville Area,DJ/Electronic
END:VEVENT
BEGIN:VEVENT
DTSTART;TZID=America/New_York:20251031T183000
DTEND;TZID=America/New_York:20251031T213000
DTSTAMP:20260419T201843
CREATED:20251015T183414Z
LAST-MODIFIED:20251030T134023Z
UID:10022751-1761935400-1761946200@livemusicasheville.com
SUMMARY:We Have Ignition
DESCRIPTION:
URL:https://livemusicasheville.com/calendar/patio-we-have-ignition/
LOCATION:The Whale :: South Slope
CATEGORIES:Asheville Area,Live Music
END:VEVENT
BEGIN:VEVENT
DTSTART;TZID=America/New_York:20251031T183000
DTEND;TZID=America/New_York:20251031T220000
DTSTAMP:20260419T201843
CREATED:20251029T140840Z
LAST-MODIFIED:20251029T140840Z
UID:10023231-1761935400-1761948000@livemusicasheville.com
SUMMARY:Halloween Bash- White Oak Splits | Paint Rock
DESCRIPTION:
URL:https://livemusicasheville.com/calendar/halloween-bash-white-oak-splits-paint-rock/
LOCATION:Mad Co. Brew House Marshall
CATEGORIES:Asheville Area,Live Music,Madison County
END:VEVENT
BEGIN:VEVENT
DTSTART;TZID=America/New_York:20251031T190000
DTEND;TZID=America/New_York:20251031T220000
DTSTAMP:20260419T201843
CREATED:20250604T145305Z
LAST-MODIFIED:20251029T120011Z
UID:10015435-1761937200-1761948000@livemusicasheville.com
SUMMARY:Fairlight and the Magick
DESCRIPTION:
URL:https://livemusicasheville.com/calendar/fairlight-and-the-magick/
LOCATION:Elkhorn Canna Co. West Asheville\, Asheville\, NC
CATEGORIES:Asheville Area,Live Music
GEO:35.5975104;-82.5460563
END:VEVENT
BEGIN:VEVENT
DTSTART;TZID=America/New_York:20251031T190000
DTEND;TZID=America/New_York:20251031T220000
DTSTAMP:20260419T201843
CREATED:20251028T194607Z
LAST-MODIFIED:20251028T194607Z
UID:10023106-1761937200-1761948000@livemusicasheville.com
SUMMARY:75 Single Wide
DESCRIPTION:
URL:https://livemusicasheville.com/calendar/75-single-wide/
LOCATION:Green Man Brewing Co.
CATEGORIES:Asheville Area,Live Music
END:VEVENT
BEGIN:VEVENT
DTSTART;TZID=America/New_York:20251031T190000
DTEND;TZID=America/New_York:20251031T220000
DTSTAMP:20260419T201843
CREATED:20251029T175538Z
LAST-MODIFIED:20251029T175538Z
UID:10023264-1761937200-1761948000@livemusicasheville.com
SUMMARY:Sam Barber w/Clover County\, Barrett
DESCRIPTION:
URL:https://livemusicasheville.com/calendar/sam-barber-w-clover-county-barrett/
LOCATION:Asheville Yards
CATEGORIES:Asheville Area,Live Music
GEO:35.5920902;-82.55537
END:VEVENT
BEGIN:VEVENT
DTSTART;TZID=America/New_York:20251031T190000
DTEND;TZID=America/New_York:20251031T230000
DTSTAMP:20260419T201843
CREATED:20251029T174621Z
LAST-MODIFIED:20251029T174712Z
UID:10023260-1761937200-1761951600@livemusicasheville.com
SUMMARY:Future 26 / Long Distance Relationship
DESCRIPTION:
URL:https://livemusicasheville.com/calendar/future-26-long-distance-relationship/
LOCATION:Eda’s Hide-a-Way Weaverville
CATEGORIES:Asheville Area,Live Music,Weaverville
GEO:35.6970547;-82.5606851
END:VEVENT
BEGIN:VEVENT
DTSTART;TZID=America/New_York:20251031T190000
DTEND;TZID=America/New_York:20251101T000000
DTSTAMP:20260419T201843
CREATED:20251029T133555Z
LAST-MODIFIED:20251029T133555Z
UID:10023147-1761937200-1761955200@livemusicasheville.com
SUMMARY:Lactones\, Two Planes\, Nathan Kairis
DESCRIPTION:
URL:https://livemusicasheville.com/calendar/lactones-two-planes-nathan-kairis/
LOCATION:Sovereign Kava
CATEGORIES:Asheville Area,Live Music
GEO:35.5854657;-82.5513352
END:VEVENT
BEGIN:VEVENT
DTSTART;TZID=America/New_York:20251031T190000
DTEND;TZID=America/New_York:20251101T010000
DTSTAMP:20260419T201843
CREATED:20241225T141623Z
LAST-MODIFIED:20260416T110217Z
UID:10056312-1761937200-1761958800@livemusicasheville.com
SUMMARY:Friday Karaoke
DESCRIPTION:  \n7-10pm – Mal’s Bar Marshall (February 20) \n7-10pm- Noble Cider (April 10) \n8pm-12am – Silverados Black Mountain \n8-11pm – Dalton Distillery (April 17) \n8-11pm – T Birds Weaverville \n8:30-11pm – The Village Porch Woodfin (April 17) \n8pm-1am – Fleetwoods (Feb 27) \n9pm-12am – Brewskies Fairview   \n9pm-12am – Little Creek Tavern Fletcher  \n9pm-1am – Handlebar & Grill \n9pm- 1am – O’Henrys \n9:30pm-1:30am – The Crowbar Downtown \n10pm – 2am – Shakeys \nVerify time and KJ with The Venue. \n  \n  \n\n 
URL:https://livemusicasheville.com/calendar/friday-weekly-karaoke/2025-10-31/
LOCATION:Asheville Area
CATEGORIES:Asheville Area,Black Mountain,Fairview,Karaoke,Madison County,Weaverville
END:VEVENT
BEGIN:VEVENT
DTSTART;TZID=America/New_York:20251031T190000
DTEND;TZID=America/New_York:20251101T020000
DTSTAMP:20260419T201843
CREATED:20241225T123126Z
LAST-MODIFIED:20251122T132355Z
UID:10000614-1761937200-1761962400@livemusicasheville.com
SUMMARY:Dueling Piano Show
DESCRIPTION:
URL:https://livemusicasheville.com/calendar/dueling-piano-show/2025-10-31/
LOCATION:Off the Wagon
CATEGORIES:Asheville Area,Live Music
GEO:41.4302231;-81.3909542
END:VEVENT
BEGIN:VEVENT
DTSTART;TZID=America/New_York:20251031T193000
DTEND;TZID=America/New_York:20251031T213000
DTSTAMP:20260419T201843
CREATED:20251029T101629Z
LAST-MODIFIED:20251029T101629Z
UID:10023125-1761939000-1761946200@livemusicasheville.com
SUMMARY:Land of the Sky Symphonic Band – Annual Halloween Spooktacular Concert
DESCRIPTION:
URL:https://livemusicasheville.com/calendar/land-of-the-sky-symphonic-band-annual-halloween-spooktacular-concert/
LOCATION:White Horse Black Mountain
CATEGORIES:Asheville Area,Black Mountain,Live Music
GEO:35.6178579;-82.3211924
END:VEVENT
BEGIN:VEVENT
DTSTART;TZID=America/New_York:20251031T200000
DTEND;TZID=America/New_York:20251031T230000
DTSTAMP:20260419T201843
CREATED:20250312T152601Z
LAST-MODIFIED:20251028T090200Z
UID:10009869-1761940800-1761951600@livemusicasheville.com
SUMMARY:The John Keck Band
DESCRIPTION:
URL:https://livemusicasheville.com/calendar/the-john-keck-band/
LOCATION:Hickory Tavern Biltmore Park
CATEGORIES:Asheville Area,Live Music,South Asheville/Arden/Fletcher
END:VEVENT
BEGIN:VEVENT
DTSTART;TZID=America/New_York:20251031T200000
DTEND;TZID=America/New_York:20251031T230000
DTSTAMP:20260419T201843
CREATED:20250711T192233Z
LAST-MODIFIED:20260116T152048Z
UID:10028196-1761940800-1761951600@livemusicasheville.com
SUMMARY:Commodore Fox Band
DESCRIPTION:
URL:https://livemusicasheville.com/calendar/commodore-fox-band-2/2025-10-31/
LOCATION:Wild Wing Cafe South
CATEGORIES:Live Music,South Asheville/Arden/Fletcher
END:VEVENT
BEGIN:VEVENT
DTSTART;TZID=America/New_York:20251031T200000
DTEND;TZID=America/New_York:20251031T230000
DTSTAMP:20260419T201843
CREATED:20250916T143335Z
LAST-MODIFIED:20251027T151136Z
UID:10021189-1761940800-1761951600@livemusicasheville.com
SUMMARY:Clouds of Delusion Halloween Show
DESCRIPTION:Friday October 31 // Doors: 7pm // Show: 8pm // Free Show // Costumes Encouraged \nClouds of Delusion is a band centered around Grateful Dead music and the wider catalog of jam band influence. A 5-piece band\, they are fascinated by the improv\, smitten with the songs and dedicated to the dance party! Come out and shake it!Band Members: Garrett Andrews\, Luke Shriver\, Jackson Chisholm\, Ian Taylor & Ryan Ptasnik. \n  \nFounded in 2005\, Pisgah is known for producing some of the most sought after craft ales in Western North Carolina. Pisgah Brewing Company currently operates the new indoor taproom & deli\, with live music several days a week\, plus an open air outdoor bar in the summer and fall months. Check out our upcoming schedule at pisgahbrewing.com/events
URL:https://livemusicasheville.com/calendar/clouds-of-delusion-halloween-show/
LOCATION:Pisgah Brewing Company Black Mountain\, 2948 US-70\, Black Mountain\, NC\, 28711
CATEGORIES:Asheville Area,Black Mountain,Live Music
GEO:35.6068069;-82.3568213
X-APPLE-STRUCTURED-LOCATION;VALUE=URI;X-ADDRESS=Pisgah Brewing Company Black Mountain 2948 US-70 Black Mountain NC 28711;X-APPLE-RADIUS=500;X-TITLE=2948 US-70:geo:-82.3568213,35.6068069
END:VEVENT
BEGIN:VEVENT
DTSTART;TZID=America/New_York:20251031T200000
DTEND;TZID=America/New_York:20251031T230000
DTSTAMP:20260419T201843
CREATED:20251029T100254Z
LAST-MODIFIED:20251029T100254Z
UID:10023121-1761940800-1761951600@livemusicasheville.com
SUMMARY:Live Band Karaoke w/ Patrick Lopez & The Mix
DESCRIPTION:
URL:https://livemusicasheville.com/calendar/live-band-karaoke-w-patrick-lopez-the-mix/
LOCATION:Mudpuppies Arden
CATEGORIES:Asheville Area,Karaoke,Live Music
GEO:35.4440387;-82.5322387
END:VEVENT
BEGIN:VEVENT
DTSTART;TZID=America/New_York:20251031T200000
DTEND;TZID=America/New_York:20251031T230000
DTSTAMP:20260419T201843
CREATED:20251029T181306Z
LAST-MODIFIED:20251029T181306Z
UID:10023269-1761940800-1761951600@livemusicasheville.com
SUMMARY:Kitchen Dwellers w/ Fireside Collective
DESCRIPTION:
URL:https://livemusicasheville.com/calendar/kitchen-dwellers-w-fireside-collective/2025-10-31/
LOCATION:The Orange Peel
CATEGORIES:Asheville Area,Live Music
GEO:35.5914061;-82.5510137
END:VEVENT
BEGIN:VEVENT
DTSTART;TZID=America/New_York:20251031T200000
DTEND;TZID=America/New_York:20251031T230000
DTSTAMP:20260419T201843
CREATED:20251029T182256Z
LAST-MODIFIED:20251029T182256Z
UID:10023275-1761940800-1761951600@livemusicasheville.com
SUMMARY:Nick Shoulders with Chris Acker
DESCRIPTION:
URL:https://livemusicasheville.com/calendar/nick-shoulders-with-chris-acker/
LOCATION:The Grey Eagle\, 185 Clingman Ave\, Asheville\, NC\, United States
CATEGORIES:Asheville Area,Live Music
GEO:35.5870871;-82.5643936
X-APPLE-STRUCTURED-LOCATION;VALUE=URI;X-ADDRESS=The Grey Eagle 185 Clingman Ave Asheville NC United States;X-APPLE-RADIUS=500;X-TITLE=185 Clingman Ave:geo:-82.5643936,35.5870871
END:VEVENT
BEGIN:VEVENT
DTSTART;TZID=America/New_York:20251031T200000
DTEND;TZID=America/New_York:20251101T000000
DTSTAMP:20260419T201843
CREATED:20251029T122603Z
LAST-MODIFIED:20251029T122603Z
UID:10023140-1761940800-1761955200@livemusicasheville.com
SUMMARY:Holler & Crow / The Mourning Belles / Kit Kin
DESCRIPTION:
URL:https://livemusicasheville.com/calendar/holler-crow-the-mourning-belles-kit-kin/
LOCATION:Burger Bar Asheville
CATEGORIES:Asheville Area,Live Music
GEO:35.5975104;-82.5460563
END:VEVENT
BEGIN:VEVENT
DTSTART;TZID=America/New_York:20251031T200000
DTEND;TZID=America/New_York:20251101T020000
DTSTAMP:20260419T201843
CREATED:20251029T150720Z
LAST-MODIFIED:20251029T150720Z
UID:10023234-1761940800-1761962400@livemusicasheville.com
SUMMARY:Bruschetta Delorean / Black Diamond Empress / Abito Nero / DJ Neckroft
DESCRIPTION:
URL:https://livemusicasheville.com/calendar/bruschetta-delorean-black-diamond-empress-abito-nero-dj-neckroft/
LOCATION:27 Club Asheville
CATEGORIES:Asheville Area,DJ/Electronic,Live Music
GEO:35.5933012;-82.5592961
END:VEVENT
BEGIN:VEVENT
DTSTART;TZID=America/New_York:20251031T203000
DTEND;TZID=America/New_York:20251031T233000
DTSTAMP:20260419T201843
CREATED:20251027T150219Z
LAST-MODIFIED:20251027T150219Z
UID:10023041-1761942600-1761953400@livemusicasheville.com
SUMMARY:Whitney Monge’ Halloween Party
DESCRIPTION:
URL:https://livemusicasheville.com/calendar/whitney-monge-halloween-party/
LOCATION:Jack Of The Wood\, 95 Patton Ave\, asheville\, NC\, United States
CATEGORIES:Asheville Area,Live Music
GEO:35.5944492;-82.5558221
X-APPLE-STRUCTURED-LOCATION;VALUE=URI;X-ADDRESS=Jack Of The Wood 95 Patton Ave asheville NC United States;X-APPLE-RADIUS=500;X-TITLE=95 Patton Ave:geo:-82.5558221,35.5944492
END:VEVENT
BEGIN:VEVENT
DTSTART;TZID=America/New_York:20251031T203000
DTEND;TZID=America/New_York:20251101T010000
DTSTAMP:20260419T201843
CREATED:20241225T140756Z
LAST-MODIFIED:20251214T224332Z
UID:10001514-1761942600-1761958800@livemusicasheville.com
SUMMARY:Elaine’s Dueling Piano Bar
DESCRIPTION:
URL:https://livemusicasheville.com/calendar/elaines-dueling-piano-bar/2025-10-31/
LOCATION:The Omni Grove Park Inn
CATEGORIES:Asheville Area,Live Music
GEO:35.6206376;-82.5422977
END:VEVENT
BEGIN:VEVENT
DTSTART;TZID=America/New_York:20251031T210000
DTEND;TZID=America/New_York:20251101T000000
DTSTAMP:20260419T201843
CREATED:20250325T132758Z
LAST-MODIFIED:20251031T071055Z
UID:10011401-1761944400-1761955200@livemusicasheville.com
SUMMARY:Marcus White & Friends
DESCRIPTION:
URL:https://livemusicasheville.com/calendar/marcus-white-friends/
LOCATION:Town Pump Tavern Black Mountain
CATEGORIES:Asheville Area,Black Mountain,Live Music,Open MIc/Jam
GEO:35.6162458;-82.320259
END:VEVENT
BEGIN:VEVENT
DTSTART;TZID=America/New_York:20251031T210000
DTEND;TZID=America/New_York:20251101T000000
DTSTAMP:20260419T201843
CREATED:20250929T200230Z
LAST-MODIFIED:20250929T200231Z
UID:10021616-1761944400-1761955200@livemusicasheville.com
SUMMARY:🎃 Auspicious Golden Halloween: A Multimedia Psychedelic Halloween Experience 🎃
DESCRIPTION:WHEN: Friday October 31\, 2025 | DOORS: 8pm SHOW: 9pm | GENRE: jam / rock | TICKETS: $20+ Event Details and Tickets \nJoin us on Friday October 31st at Third Room in Asheville for a night of sound\, visuals and Halloween fun you won’t forget! \nKicking off the night: The J. Lloyd Mashups’ Tribute to Ozzy\, a dark and groovy homage to the Prince of Darkness. \nThen\, Asheville’s own Auspicious Golden Fish takes the stage with their high-energy instrumental psychedelia\, wrapped in immersive visuals\, lights and Halloween magic. \nCome dressed to impress for our Ozzy costume contest! We’re giving away prizes for the most epic\, over-the-top Ozzy looks of the night. Think leather\, eyeliner\, crosses\, bats… go wild. 🦇”
URL:https://livemusicasheville.com/calendar/%f0%9f%8e%83-auspicious-golden-halloween-a-multimedia-psychedelic-halloween-experience-%f0%9f%8e%83/
LOCATION:Third Room\, 46 Wall Street\, Asheville\, NC\, NC\, 28803\, United States
CATEGORIES:Asheville Area,Live Music
GEO:35.5943967;-82.5559625
X-APPLE-STRUCTURED-LOCATION;VALUE=URI;X-ADDRESS=Third Room 46 Wall Street Asheville NC NC 28803 United States;X-APPLE-RADIUS=500;X-TITLE=46 Wall Street:geo:-82.5559625,35.5943967
END:VEVENT
END:VCALENDAR