BEGIN:VCALENDAR
VERSION:2.0
PRODID:-//LiveMusicAsheville.com - ECPv6.15.20//NONSGML v1.0//EN
CALSCALE:GREGORIAN
METHOD:PUBLISH
X-WR-CALNAME:LiveMusicAsheville.com
X-ORIGINAL-URL:https://livemusicasheville.com
X-WR-CALDESC:Events for LiveMusicAsheville.com
REFRESH-INTERVAL;VALUE=DURATION:PT1H
X-Robots-Tag:noindex
X-PUBLISHED-TTL:PT1H
BEGIN:VTIMEZONE
TZID:America/New_York
BEGIN:DAYLIGHT
TZOFFSETFROM:-0500
TZOFFSETTO:-0400
TZNAME:EDT
DTSTART:20240310T070000
END:DAYLIGHT
BEGIN:STANDARD
TZOFFSETFROM:-0400
TZOFFSETTO:-0500
TZNAME:EST
DTSTART:20241103T060000
END:STANDARD
BEGIN:DAYLIGHT
TZOFFSETFROM:-0500
TZOFFSETTO:-0400
TZNAME:EDT
DTSTART:20250309T070000
END:DAYLIGHT
BEGIN:STANDARD
TZOFFSETFROM:-0400
TZOFFSETTO:-0500
TZNAME:EST
DTSTART:20251102T060000
END:STANDARD
BEGIN:DAYLIGHT
TZOFFSETFROM:-0500
TZOFFSETTO:-0400
TZNAME:EDT
DTSTART:20260308T070000
END:DAYLIGHT
BEGIN:STANDARD
TZOFFSETFROM:-0400
TZOFFSETTO:-0500
TZNAME:EST
DTSTART:20261101T060000
END:STANDARD
END:VTIMEZONE
BEGIN:VEVENT
DTSTART;TZID=America/New_York:20250502T210000
DTEND;TZID=America/New_York:20250503T010000
DTSTAMP:20260423T143747
CREATED:20250430T150144Z
LAST-MODIFIED:20250430T150144Z
UID:10013457-1746219600-1746234000@livemusicasheville.com
SUMMARY:Blistering Dissonance\, Red Die Number Nine\, Junk Punk\, Skewer Rat
DESCRIPTION:
URL:https://livemusicasheville.com/calendar/blistering-dissonance-red-die-number-nine-junk-punk-skewer-rat/
LOCATION:27 Club Asheville
CATEGORIES:Asheville Area,Live Music
GEO:35.5933012;-82.5592961
END:VEVENT
BEGIN:VEVENT
DTSTART;TZID=America/New_York:20250502T210000
DTEND;TZID=America/New_York:20250503T010000
DTSTAMP:20260423T143747
CREATED:20250429T144642Z
LAST-MODIFIED:20250429T144642Z
UID:10013427-1746219600-1746234000@livemusicasheville.com
SUMMARY:Bill's Garage // Chris McGinnis // Mawmaw's Angels
DESCRIPTION:
URL:https://livemusicasheville.com/calendar/bills-garage-chris-mcginnis-mawmaws-angels/
LOCATION:Fleetwood’s\, 496 Haywood Rd\, Asheville\, NC\, 28806\, United States
CATEGORIES:Asheville Area,Live Music
GEO:35.578126;-82.583757
X-APPLE-STRUCTURED-LOCATION;VALUE=URI;X-ADDRESS=Fleetwood’s 496 Haywood Rd Asheville NC 28806 United States;X-APPLE-RADIUS=500;X-TITLE=496 Haywood Rd:geo:-82.583757,35.578126
END:VEVENT
BEGIN:VEVENT
DTSTART;TZID=America/New_York:20250502T203000
DTEND;TZID=America/New_York:20250503T010000
DTSTAMP:20260423T143747
CREATED:20250430T151859Z
LAST-MODIFIED:20250430T151859Z
UID:10013459-1746217800-1746234000@livemusicasheville.com
SUMMARY:trust blinks / Nathanael Jordan / Liverr / imy3
DESCRIPTION:
URL:https://livemusicasheville.com/calendar/trust-blinks-nathanael-jordan-liverr-imy3/
LOCATION:Static Age Records
CATEGORIES:Asheville Area,Live Music
GEO:35.5985631;-82.5538043
END:VEVENT
BEGIN:VEVENT
DTSTART;TZID=America/New_York:20250502T203000
DTEND;TZID=America/New_York:20250503T010000
DTSTAMP:20260423T143747
CREATED:20241225T140756Z
LAST-MODIFIED:20251214T224332Z
UID:10001462-1746217800-1746234000@livemusicasheville.com
SUMMARY:Elaine’s Dueling Piano Bar
DESCRIPTION:
URL:https://livemusicasheville.com/calendar/elaines-dueling-piano-bar/2025-05-02/
LOCATION:The Omni Grove Park Inn
CATEGORIES:Asheville Area,Live Music
GEO:35.6206376;-82.5422977
END:VEVENT
BEGIN:VEVENT
DTSTART;TZID=America/New_York:20250502T203000
DTEND;TZID=America/New_York:20250502T233000
DTSTAMP:20260423T143747
CREATED:20241225T134115Z
LAST-MODIFIED:20250416T183734Z
UID:10012751-1746217800-1746228600@livemusicasheville.com
SUMMARY:Commodore Fox Band
DESCRIPTION:
URL:https://livemusicasheville.com/calendar/commodore-fox-band/2025-05-02/
LOCATION:Wild Wing Cafe South
CATEGORIES:Live Music,South Asheville/Arden/Fletcher
END:VEVENT
BEGIN:VEVENT
DTSTART;TZID=America/New_York:20250502T200000
DTEND;TZID=America/New_York:20250502T230000
DTSTAMP:20260423T143747
CREATED:20250501T015112Z
LAST-MODIFIED:20250501T015112Z
UID:10013478-1746216000-1746226800@livemusicasheville.com
SUMMARY:Improvement Movement
DESCRIPTION:
URL:https://livemusicasheville.com/calendar/improvement-movement/
LOCATION:French Broad River Brewery\, 101 Fairview Rd\, Asheville\, NC\, United States
CATEGORIES:Asheville Area,Live Music
GEO:35.5662722;-82.5374054
X-APPLE-STRUCTURED-LOCATION;VALUE=URI;X-ADDRESS=French Broad River Brewery 101 Fairview Rd Asheville NC United States;X-APPLE-RADIUS=500;X-TITLE=101 Fairview Rd:geo:-82.5374054,35.5662722
END:VEVENT
BEGIN:VEVENT
DTSTART;TZID=America/New_York:20250502T200000
DTEND;TZID=America/New_York:20250502T230000
DTSTAMP:20260423T143747
CREATED:20250501T013252Z
LAST-MODIFIED:20250501T013252Z
UID:10013471-1746216000-1746226800@livemusicasheville.com
SUMMARY:SOLD OUT | John Craigie with Cat Clyde
DESCRIPTION:
URL:https://livemusicasheville.com/calendar/sold-out-john-craigie-with-cat-clyde/
LOCATION:The Grey Eagle\, 185 Clingman Ave\, Asheville\, NC\, United States
CATEGORIES:Asheville Area,Live Music
GEO:35.5870871;-82.5643936
X-APPLE-STRUCTURED-LOCATION;VALUE=URI;X-ADDRESS=The Grey Eagle 185 Clingman Ave Asheville NC United States;X-APPLE-RADIUS=500;X-TITLE=185 Clingman Ave:geo:-82.5643936,35.5870871
END:VEVENT
BEGIN:VEVENT
DTSTART;TZID=America/New_York:20250502T200000
DTEND;TZID=America/New_York:20250502T230000
DTSTAMP:20260423T143747
CREATED:20250430T123336Z
LAST-MODIFIED:20250430T123336Z
UID:10013439-1746216000-1746226800@livemusicasheville.com
SUMMARY:The Polish Ambassador w/ Castanea
DESCRIPTION:
URL:https://livemusicasheville.com/calendar/the-polish-ambassador-w-castanea/
LOCATION:The Orange Peel
CATEGORIES:Asheville Area,Live Music
GEO:35.5914061;-82.5510137
END:VEVENT
BEGIN:VEVENT
DTSTART;TZID=America/New_York:20250502T200000
DTEND;TZID=America/New_York:20250502T230000
DTSTAMP:20260423T143747
CREATED:20250430T122630Z
LAST-MODIFIED:20250430T122630Z
UID:10013436-1746216000-1746226800@livemusicasheville.com
SUMMARY:John Moreland w/ Ramsey Thornton
DESCRIPTION:
URL:https://livemusicasheville.com/calendar/john-moreland-w-ramsey-thornton/
LOCATION:Eulogy\, 10 Buxton Ave\, Asheville\, NC\, 28801
CATEGORIES:Asheville Area,Live Music
GEO:35.5883468;-82.5539256
X-APPLE-STRUCTURED-LOCATION;VALUE=URI;X-ADDRESS=Eulogy 10 Buxton Ave Asheville NC 28801;X-APPLE-RADIUS=500;X-TITLE=10 Buxton Ave:geo:-82.5539256,35.5883468
END:VEVENT
BEGIN:VEVENT
DTSTART;TZID=America/New_York:20250502T200000
DTEND;TZID=America/New_York:20250502T230000
DTSTAMP:20260423T143747
CREATED:20250320T140853Z
LAST-MODIFIED:20250501T141023Z
UID:10009602-1746216000-1746226800@livemusicasheville.com
SUMMARY:Surf Rock Sounds w/ The Yard Sails
DESCRIPTION:
URL:https://livemusicasheville.com/calendar/surf-rock-sounds-w-the-yard-sails-2-2/
LOCATION:Eda’s Hide-a-Way Weaverville
CATEGORIES:Asheville Area,Live Music,Weaverville
GEO:35.6970547;-82.5606851
END:VEVENT
BEGIN:VEVENT
DTSTART;TZID=America/New_York:20250502T200000
DTEND;TZID=America/New_York:20250502T220000
DTSTAMP:20260423T143747
CREATED:20250501T111804Z
LAST-MODIFIED:20250502T215709Z
UID:10009879-1746216000-1746223200@livemusicasheville.com
SUMMARY:Alex Bazemore Duo
DESCRIPTION:
URL:https://livemusicasheville.com/calendar/alex-bazemore-duo-3/
LOCATION:Black Mountain Pizza & Ale House
CATEGORIES:Asheville Area,Black Mountain,Live Music
END:VEVENT
BEGIN:VEVENT
DTSTART;TZID=America/New_York:20250502T193000
DTEND;TZID=America/New_York:20250502T233000
DTSTAMP:20260423T143747
CREATED:20250501T014957Z
LAST-MODIFIED:20250501T014957Z
UID:10013477-1746214200-1746228600@livemusicasheville.com
SUMMARY:Bumpin Uglies w/ Sons of Paradise & Rockstead
DESCRIPTION:
URL:https://livemusicasheville.com/calendar/bumpin-uglies-w-sons-of-paradise-rockstead/
LOCATION:Asheville Music Hall\, 31 Patton Ave\, Asheville\, NC\, 28801\, United States
CATEGORIES:Asheville Area,Live Music
GEO:35.5949233;-82.5530398
X-APPLE-STRUCTURED-LOCATION;VALUE=URI;X-ADDRESS=Asheville Music Hall 31 Patton Ave Asheville NC 28801 United States;X-APPLE-RADIUS=500;X-TITLE=31 Patton Ave:geo:-82.5530398,35.5949233
END:VEVENT
BEGIN:VEVENT
DTSTART;TZID=America/New_York:20250502T193000
DTEND;TZID=America/New_York:20250502T210000
DTSTAMP:20260423T143748
CREATED:20250402T103924Z
LAST-MODIFIED:20250502T120445Z
UID:10011707-1746214200-1746219600@livemusicasheville.com
SUMMARY:Asheville Chamber Music Series presents: The Isidore String Quartet
DESCRIPTION:The final concert in our 2024-5 series is coming up! The Isidore String Quartet is a young New York City-based ensemble formed in 2019 with a vision to revisit\, rediscover\, and reinvigorate the repertory. All Juilliard graduates\, the group seeks to cultivate joyful experiences\, impact the world\, and inspire others through the honored tradition of the string quartet in collaborative and playful ways.\n\n\nCelebrate the mastery of Mozart in this performance presented in partnership with the Asheville Amadeus festival.\n\n\nWhen: Friday\, May 2nd at 7:30pm\n\n\nWhere: Central United Methodist Church of Asheville\n27 Church Street
URL:https://livemusicasheville.com/calendar/asheville-chamber-music-series-presents-aspen-string-trio/
LOCATION:Central United Methodist Church of Asheville
CATEGORIES:Asheville Area,Live Music
END:VEVENT
BEGIN:VEVENT
DTSTART;TZID=America/New_York:20250502T190000
DTEND;TZID=America/New_York:20250503T020000
DTSTAMP:20260423T143748
CREATED:20241225T123126Z
LAST-MODIFIED:20251122T132355Z
UID:10000562-1746212400-1746237600@livemusicasheville.com
SUMMARY:Dueling Piano Show
DESCRIPTION:
URL:https://livemusicasheville.com/calendar/dueling-piano-show/2025-05-02/
LOCATION:Off the Wagon
CATEGORIES:Asheville Area,Live Music
GEO:41.4302231;-81.3909542
END:VEVENT
BEGIN:VEVENT
DTSTART;TZID=America/New_York:20250502T190000
DTEND;TZID=America/New_York:20250503T010000
DTSTAMP:20260423T143748
CREATED:20241225T141623Z
LAST-MODIFIED:20260416T110217Z
UID:10056286-1746212400-1746234000@livemusicasheville.com
SUMMARY:Friday Karaoke
DESCRIPTION:  \n7-10pm – Mal’s Bar Marshall (February 20) \n7-10pm- Noble Cider (April 10) \n8pm-12am – Silverados Black Mountain \n8-11pm – Dalton Distillery (April 17) \n8-11pm – T Birds Weaverville \n8:30-11pm – The Village Porch Woodfin (April 17) \n8pm-1am – Fleetwoods (Feb 27) \n9pm-12am – Brewskies Fairview   \n9pm-12am – Little Creek Tavern Fletcher  \n9pm-1am – Handlebar & Grill \n9pm- 1am – O’Henrys \n9:30pm-1:30am – The Crowbar Downtown \n10pm – 2am – Shakeys \nVerify time and KJ with The Venue. \n  \n  \n\n 
URL:https://livemusicasheville.com/calendar/friday-weekly-karaoke/2025-05-02/
LOCATION:Asheville Area
CATEGORIES:Asheville Area,Black Mountain,Fairview,Karaoke,Madison County,Weaverville
END:VEVENT
BEGIN:VEVENT
DTSTART;TZID=America/New_York:20250502T190000
DTEND;TZID=America/New_York:20250502T210000
DTSTAMP:20260423T143748
CREATED:20250416T152725Z
LAST-MODIFIED:20250515T133152Z
UID:10012621-1746212400-1746219600@livemusicasheville.com
SUMMARY:Grass Is Back!
DESCRIPTION:FRIDAYS-\n\n\n\nHarlin Country Grass\n\n\n5/16\n\n\nMulley Holler Bluegrass\n5/23
URL:https://livemusicasheville.com/calendar/grass-is-back/2025-05-02/
LOCATION:Feed and Seed Fletcher
CATEGORIES:Asheville Area,Live Music,South Asheville/Arden/Fletcher
END:VEVENT
BEGIN:VEVENT
DTSTART;TZID=America/New_York:20250502T190000
DTEND;TZID=America/New_York:20250502T210000
DTSTAMP:20260423T143748
CREATED:20250224T161050Z
LAST-MODIFIED:20250422T204450Z
UID:10008980-1746212400-1746219600@livemusicasheville.com
SUMMARY:Blue Ridge Orchestra: 25th Anniversary Season Finale
DESCRIPTION:
URL:https://livemusicasheville.com/calendar/blue-ridge-orchestra-march-melodrama-2/
LOCATION:Lipinsky Auditorium\, UNC Asheville
CATEGORIES:Asheville Area,Live Music
END:VEVENT
BEGIN:VEVENT
DTSTART;TZID=America/New_York:20250502T183000
DTEND;TZID=America/New_York:20250502T213000
DTSTAMP:20260423T143748
CREATED:20250429T140107Z
LAST-MODIFIED:20250429T140107Z
UID:10013424-1746210600-1746221400@livemusicasheville.com
SUMMARY:Drowning Leo
DESCRIPTION:
URL:https://livemusicasheville.com/calendar/drowning-leo/
LOCATION:Mills River Brewing Co.\, 336 Banner Farm Rd\,\, Mills River\, NC\, 28759
CATEGORIES:Asheville Area,Live Music,Mills River
GEO:35.380515;-82.5654984
X-APPLE-STRUCTURED-LOCATION;VALUE=URI;X-ADDRESS=Mills River Brewing Co. 336 Banner Farm Rd Mills River NC 28759;X-APPLE-RADIUS=500;X-TITLE=336 Banner Farm Rd\,:geo:-82.5654984,35.380515
END:VEVENT
BEGIN:VEVENT
DTSTART;TZID=America/New_York:20250502T180000
DTEND;TZID=America/New_York:20250503T020000
DTSTAMP:20260423T143748
CREATED:20241225T134450Z
LAST-MODIFIED:20260415T173808Z
UID:10021369-1746208800-1746237600@livemusicasheville.com
SUMMARY:Friday Weekly DJ's
DESCRIPTION:Although we are primarily a Live Music Calendar\, we often come across Electronic & DJ events in the area and list them for you as we find out about them. Please verify the DJ\, times and cover charges with the venue. \nLA Pizza Party Rooftop – 6-9pm \nThe Radical – 6-11pm \nPotential New Boyfriend – 7:30-11pm \nCapella On 9 – 8-11pm \nBen’s Tune Up – 8-11pm \nAntidote – 9-11pm \nBanks Ave – 9-11:30pm \nVOWL – 9pm-1am \nDouble Crown – 9pm-2am \nHavana Miami – 9pm-2am \nStatic Age Loft – 9pm-2am \nWaterstreet – 9pm-2am \nLa Pizza Party – 10pm-2am \nThe Barksdale – 10pm-2am \nLazy Diamond – 10pm-2am \nSticks On Broadway – 10pm-2am \nStrange Magic Bar – 10pm-2am \nShakeys – 10pm-2am \n  \nVerify with the venue on times\, cover charges and tonight’s DJ.
URL:https://livemusicasheville.com/calendar/friday-weekly-dj-schedule/2025-05-02/
LOCATION:Asheville Area
CATEGORIES:Asheville Area,DJ/Electronic
END:VEVENT
BEGIN:VEVENT
DTSTART;TZID=America/New_York:20250502T180000
DTEND;TZID=America/New_York:20250502T230000
DTSTAMP:20260423T143748
CREATED:20250207T164158Z
LAST-MODIFIED:20260422T131528Z
UID:10025984-1746208800-1746226800@livemusicasheville.com
SUMMARY:Friday Open Mic/Jam
DESCRIPTION:Flora Asheville – 5:30-7:30pm (April 17) \nTurgua Brewing Fairview – 6-8pm (2nd & 4th Fridays) \nCoffee\, Art\, Music type Place – 6-8pm (First Fridays) \nWagWorld Pub Fletcher – 6:30-9:30pm \nElevated Kava Downtown – 8-11
URL:https://livemusicasheville.com/calendar/friday-open-mic-jam/2025-05-02/
LOCATION:Asheville Area
CATEGORIES:Asheville Area,Madison County,Open MIc/Jam,South Asheville/Arden/Fletcher
END:VEVENT
BEGIN:VEVENT
DTSTART;TZID=America/New_York:20250502T180000
DTEND;TZID=America/New_York:20250502T220000
DTSTAMP:20260423T143748
CREATED:20250329T135201Z
LAST-MODIFIED:20250329T135201Z
UID:10011591-1746208800-1746223200@livemusicasheville.com
SUMMARY:The Friday Drum Circle
DESCRIPTION:
URL:https://livemusicasheville.com/calendar/the-friday-drum-circle/2025-05-02/
LOCATION:Pritchard Park Downtown\, 67 Patton Avenue\, Asheville\, NC\, 28801
CATEGORIES:Asheville Area,Live Music,Open MIc/Jam
GEO:35.5947402;-82.5543431
X-APPLE-STRUCTURED-LOCATION;VALUE=URI;X-ADDRESS=Pritchard Park Downtown 67 Patton Avenue Asheville NC 28801;X-APPLE-RADIUS=500;X-TITLE=67 Patton Avenue:geo:-82.5543431,35.5947402
END:VEVENT
BEGIN:VEVENT
DTSTART;TZID=America/New_York:20250502T180000
DTEND;TZID=America/New_York:20250502T210000
DTSTAMP:20260423T143748
CREATED:20250226T170851Z
LAST-MODIFIED:20250227T204352Z
UID:10009327-1746208800-1746219600@livemusicasheville.com
SUMMARY:Friday Jazz Jam
DESCRIPTION:Starting February 28th
URL:https://livemusicasheville.com/calendar/friday-jazz-jam/2025-05-02/
LOCATION:LEAF Global Arts\, 19 Eagle St\, Asheville\, NC\, 28801
CATEGORIES:Asheville Area,Live Music,Open MIc/Jam
GEO:35.5938244;-82.5505196
X-APPLE-STRUCTURED-LOCATION;VALUE=URI;X-ADDRESS=LEAF Global Arts 19 Eagle St Asheville NC 28801;X-APPLE-RADIUS=500;X-TITLE=19 Eagle St:geo:-82.5505196,35.5938244
END:VEVENT
BEGIN:VEVENT
DTSTART;TZID=America/New_York:20250502T180000
DTEND;TZID=America/New_York:20250502T200000
DTSTAMP:20260423T143748
CREATED:20250502T020743Z
LAST-MODIFIED:20250502T020743Z
UID:10013501-1746208800-1746216000@livemusicasheville.com
SUMMARY:Alvita’s Way
DESCRIPTION:
URL:https://livemusicasheville.com/calendar/alvitas-way/
LOCATION:The One Stop
CATEGORIES:Asheville Area,Live Music
END:VEVENT
BEGIN:VEVENT
DTSTART;TZID=America/New_York:20250502T180000
DTEND;TZID=America/New_York:20250502T200000
DTSTAMP:20260423T143748
CREATED:20250421T190535Z
LAST-MODIFIED:20250421T190535Z
UID:10012986-1746208800-1746216000@livemusicasheville.com
SUMMARY:May Music at Zadie’s
DESCRIPTION:
URL:https://livemusicasheville.com/calendar/may-music-at-zadies/2025-05-02/
LOCATION:Zadies Market at The Old Marshall Jail Hotel
CATEGORIES:Live Music,Madison County
END:VEVENT
BEGIN:VEVENT
DTSTART;TZID=America/New_York:20250502T173000
DTEND;TZID=America/New_York:20250502T193000
DTSTAMP:20260423T143748
CREATED:20250115T170305Z
LAST-MODIFIED:20251214T223120Z
UID:10006437-1746207000-1746214200@livemusicasheville.com
SUMMARY:Hank and Vollie
DESCRIPTION:
URL:https://livemusicasheville.com/calendar/hank-and-vollie/2025-05-02/
LOCATION:Battery Park Book Exchange & Champagne Bar
CATEGORIES:Asheville Area,Live Music
GEO:35.5951042;-82.556633
END:VEVENT
BEGIN:VEVENT
DTSTART;TZID=America/New_York:20250502T170000
DTEND;TZID=America/New_York:20250502T210000
DTSTAMP:20260423T143748
CREATED:20250502T014922Z
LAST-MODIFIED:20250502T015958Z
UID:10013500-1746205200-1746219600@livemusicasheville.com
SUMMARY:Grand Opening w/ Jeff Anderson + Reedy River String Band
DESCRIPTION:
URL:https://livemusicasheville.com/calendar/jeff-anderson/
LOCATION:Elkhorn Canna Co. West Asheville\, Asheville\, NC
CATEGORIES:Asheville Area,Live Music
GEO:35.5975104;-82.5460563
END:VEVENT
BEGIN:VEVENT
DTSTART;TZID=America/New_York:20250502T170000
DTEND;TZID=America/New_York:20250502T210000
DTSTAMP:20260423T143748
CREATED:20250501T021654Z
LAST-MODIFIED:20250501T021654Z
UID:10013489-1746205200-1746219600@livemusicasheville.com
SUMMARY:Art Fashion Show w/ Anne Coombs
DESCRIPTION:
URL:https://livemusicasheville.com/calendar/art-fashion-show-w-anne-coombs/
LOCATION:Resurrection Studios Collective\, 160 Broadway Street\, Asheville\, NC\, 28801
CATEGORIES:Asheville Area,Live Music
GEO:35.6001815;-82.5545654
X-APPLE-STRUCTURED-LOCATION;VALUE=URI;X-ADDRESS=Resurrection Studios Collective 160 Broadway Street Asheville NC 28801;X-APPLE-RADIUS=500;X-TITLE=160 Broadway Street:geo:-82.5545654,35.6001815
END:VEVENT
BEGIN:VEVENT
DTSTART;TZID=America/New_York:20250502T170000
DTEND;TZID=America/New_York:20250502T200000
DTSTAMP:20260423T143748
CREATED:20250409T130302Z
LAST-MODIFIED:20250409T130304Z
UID:10008265-1746205200-1746216000@livemusicasheville.com
SUMMARY:Blues with Mr Jimmy
DESCRIPTION:
URL:https://livemusicasheville.com/calendar/blues-with-mr-jimmy-2-2/2025-05-02/
LOCATION:The Station Black Mountain
CATEGORIES:Asheville Area,Black Mountain,Live Music
END:VEVENT
BEGIN:VEVENT
DTSTART;TZID=America/New_York:20250502T170000
DTEND;TZID=America/New_York:20250502T200000
DTSTAMP:20260423T143748
CREATED:20250402T150222Z
LAST-MODIFIED:20251203T152703Z
UID:10011895-1746205200-1746216000@livemusicasheville.com
SUMMARY:Mars Hill First Fridays
DESCRIPTION:First Fridays 5-8pm Mars Hill NC April thru December Music • Art • Food • Gifts • Prizes \n\n\nMUSIC & ENTERTAINMENT LINEUP!\nFind live music\, dancing\, and holiday cheer all around downtown Mars Hill:\n\n\n\nCollege Street\nWNC Brass Quintet\n\n\n\nMoore Auditorium\nBailey Mountain Cloggers Christmas Performance 7 PM\n\n\n\nMars Landing Galleries\nTina and Her Pony\n\n\n\nMars Theatre Brewery\nElvis Tribute Christmas at 7 PM\n\n\n\nModern Local Art Soup\nYAWNi\n__\n\n\nPLUS → come sing carols with us at the Tree Lighting \nLet’s fill the town with music and magic!
URL:https://livemusicasheville.com/calendar/mars-hill-first-fridays/2025-05-02/
LOCATION:NC
CATEGORIES:Live Music,Madison County
ATTACH;FMTTYPE=image/jpeg:https://livemusicasheville.com/wp-content/uploads/2025/04/500761937_634522602975866_8471641799035921081_n-e1748987709766.jpg
END:VEVENT
BEGIN:VEVENT
DTSTART;TZID=America/New_York:20250502T163000
DTEND;TZID=America/New_York:20250502T201500
DTSTAMP:20260423T143748
CREATED:20250409T211642Z
LAST-MODIFIED:20250625T214015Z
UID:10013293-1746203400-1746216900@livemusicasheville.com
SUMMARY:Live Music at the Bandstand
DESCRIPTION:Friday\, June 27\, 2025 Not From Here Jazz Fusion\nSaturday\, June 28\, 2025 Not From Here Jazz Fusion \nTo enjoy this complimentary event\, guest must have a daytime ticket\, a Biltmore Annual Pass\, or a stay at one of the estate’s splendid overnight properties. 
URL:https://livemusicasheville.com/calendar/live-music-at-the-bandstand/2025-05-02/
LOCATION:Antler Hill Village\, Biltmore Estate
CATEGORIES:Asheville Area,Live Music
END:VEVENT
END:VCALENDAR