BEGIN:VCALENDAR
VERSION:2.0
PRODID:-//LiveMusicAsheville.com - ECPv6.15.20//NONSGML v1.0//EN
CALSCALE:GREGORIAN
METHOD:PUBLISH
X-WR-CALNAME:LiveMusicAsheville.com
X-ORIGINAL-URL:https://livemusicasheville.com
X-WR-CALDESC:Events for LiveMusicAsheville.com
REFRESH-INTERVAL;VALUE=DURATION:PT1H
X-Robots-Tag:noindex
X-PUBLISHED-TTL:PT1H
BEGIN:VTIMEZONE
TZID:America/New_York
BEGIN:DAYLIGHT
TZOFFSETFROM:-0500
TZOFFSETTO:-0400
TZNAME:EDT
DTSTART:20250309T070000
END:DAYLIGHT
BEGIN:STANDARD
TZOFFSETFROM:-0400
TZOFFSETTO:-0500
TZNAME:EST
DTSTART:20251102T060000
END:STANDARD
BEGIN:DAYLIGHT
TZOFFSETFROM:-0500
TZOFFSETTO:-0400
TZNAME:EDT
DTSTART:20260308T070000
END:DAYLIGHT
BEGIN:STANDARD
TZOFFSETFROM:-0400
TZOFFSETTO:-0500
TZNAME:EST
DTSTART:20261101T060000
END:STANDARD
BEGIN:DAYLIGHT
TZOFFSETFROM:-0500
TZOFFSETTO:-0400
TZNAME:EDT
DTSTART:20270314T070000
END:DAYLIGHT
BEGIN:STANDARD
TZOFFSETFROM:-0400
TZOFFSETTO:-0500
TZNAME:EST
DTSTART:20271107T060000
END:STANDARD
END:VTIMEZONE
BEGIN:VEVENT
DTSTART;TZID=America/New_York:20260328T203000
DTEND;TZID=America/New_York:20260328T233000
DTSTAMP:20260424T175751
CREATED:20260325T151023Z
LAST-MODIFIED:20260325T151023Z
UID:10052319-1774729800-1774740600@livemusicasheville.com
SUMMARY:Americanagrass w/ His & Hers
DESCRIPTION:
URL:https://livemusicasheville.com/calendar/americanagrass-w-his-hers/
LOCATION:Jack Of The Wood\, 95 Patton Ave\, asheville\, NC\, United States
CATEGORIES:Asheville Area,Live Music
GEO:35.5944492;-82.5558221
X-APPLE-STRUCTURED-LOCATION;VALUE=URI;X-ADDRESS=Jack Of The Wood 95 Patton Ave asheville NC United States;X-APPLE-RADIUS=500;X-TITLE=95 Patton Ave:geo:-82.5558221,35.5944492
END:VEVENT
BEGIN:VEVENT
DTSTART;TZID=America/New_York:20260328T203000
DTEND;TZID=America/New_York:20260328T233000
DTSTAMP:20260424T175751
CREATED:20251203T151504Z
LAST-MODIFIED:20260325T134444Z
UID:10026464-1774729800-1774740600@livemusicasheville.com
SUMMARY:Sirius B.
DESCRIPTION:
URL:https://livemusicasheville.com/calendar/sirius-b/
LOCATION:Crow and Quill
CATEGORIES:Asheville Area,Live Music
GEO:35.5984495;-82.5537921
END:VEVENT
BEGIN:VEVENT
DTSTART;TZID=America/New_York:20260328T200000
DTEND;TZID=America/New_York:20260328T230000
DTSTAMP:20260424T175751
CREATED:20260325T192624Z
LAST-MODIFIED:20260325T192624Z
UID:10052663-1774728000-1774738800@livemusicasheville.com
SUMMARY:Nick Lutsko & The $100k Band
DESCRIPTION:
URL:https://livemusicasheville.com/calendar/nick-lutsko-the-100k-band/
LOCATION:Revival\, 66 Asheland Avenue\, Asheville\, NC\, 28801\, United States
CATEGORIES:Asheville Area,Live Music
GEO:35.5917821;-82.555861
X-APPLE-STRUCTURED-LOCATION;VALUE=URI;X-ADDRESS=Revival 66 Asheland Avenue Asheville NC 28801 United States;X-APPLE-RADIUS=500;X-TITLE=66 Asheland Avenue:geo:-82.555861,35.5917821
END:VEVENT
BEGIN:VEVENT
DTSTART;TZID=America/New_York:20260328T200000
DTEND;TZID=America/New_York:20260328T230000
DTSTAMP:20260424T175751
CREATED:20260325T185805Z
LAST-MODIFIED:20260325T185805Z
UID:10052658-1774728000-1774738800@livemusicasheville.com
SUMMARY:Motel Pearl
DESCRIPTION:
URL:https://livemusicasheville.com/calendar/motel-pearl-2/
LOCATION:Eda’s Hide-a-Way Weaverville
CATEGORIES:Asheville Area,Live Music,Weaverville
GEO:35.6970547;-82.5606851
END:VEVENT
BEGIN:VEVENT
DTSTART;TZID=America/New_York:20260328T200000
DTEND;TZID=America/New_York:20260328T230000
DTSTAMP:20260424T175751
CREATED:20260325T170602Z
LAST-MODIFIED:20260325T170707Z
UID:10052326-1774728000-1774738800@livemusicasheville.com
SUMMARY:Hurrikane DaKatt EP release party
DESCRIPTION:
URL:https://livemusicasheville.com/calendar/hurrikane-dakatt/
LOCATION:Sovereign Kava
CATEGORIES:Asheville Area,DJ/Electronic,Live Music
GEO:35.5854657;-82.5513352
END:VEVENT
BEGIN:VEVENT
DTSTART;TZID=America/New_York:20260328T200000
DTEND;TZID=America/New_York:20260328T230000
DTSTAMP:20260424T175751
CREATED:20260316T195653Z
LAST-MODIFIED:20260329T061250Z
UID:10049658-1774728000-1774738800@livemusicasheville.com
SUMMARY:TONIGHT | LowDown Brass Band w/sg Rebekah Todd
DESCRIPTION:Saturday\, March 28 // Doors: 7 pm // Show: 8 pm // $22.14 adv. Event Details and Tickets \nChicago’s Lowdown Brass Band is back in town on March 28 at Grey Eagle. Rebekah Todd is also on the show to kick off the night. \n\n\n\n\n\n\n\n\n\nEmbodying the vibrant Chicago music culture\, LowDown Brass Band is a one-of-a-kind horn ensemble weaving the rhythm of the streets with conscious hip hop\, reggae\, and soul.  Rigorously touring\, LowDown has performed on the most unique stages\, from the Montreal Jazz Fest to the Cotai Jazz Fest. \nDespite the last four years\, LowDown has stayed busy\, releasing Three albums\, “The Reel Sessions\, LowDown Nights and $itizens of the World”\, which showcase their unique sound and further push the boundaries of their genre.  \nLeaning on their talent and unconventional style\, LowDown Brass Band continues to carve out a path\, defying convention and charting their own course in the ever-evolving landscape of music. lowdownbrassband.com \nRebekah Todd’s brand of “Cosmic Soul Rock” is a force to be reckoned with! Now based out of Asheville\, Rebekah brings a fresh energy to each performance\, which carries fans to a place that can only be described as unforgettable. Pulling from a wide range of influences from Hiatus Kaiyote to Tedeschi Trucks Band\, Todd focuses on the art of expression\, above all else. rebekahtodd.com \nCurrently touring full time as the female vocalist of the mighty Dumpstaphunk out of New Orleans as well as local powerhouse quartet\, New Dawn Starkestra. “It has been over a year since I’ve had time to do a solo run to test out new originals. I’ll also be playing some of the older material and will have all of my merchandise with me for those of you who have been asking about my hoodies and vinyl.” – Rebekah Todd \n\n\n\n\n\n\n\n\n\n\n\n\n\n 
URL:https://livemusicasheville.com/calendar/lowdown-brass-band-w-sg-rebekah-todd/
LOCATION:The Grey Eagle\, 185 Clingman Ave\, Asheville\, NC\, United States
CATEGORIES:Asheville Area,Live Music
GEO:35.5870871;-82.5643936
X-APPLE-STRUCTURED-LOCATION;VALUE=URI;X-ADDRESS=The Grey Eagle 185 Clingman Ave Asheville NC United States;X-APPLE-RADIUS=500;X-TITLE=185 Clingman Ave:geo:-82.5643936,35.5870871
END:VEVENT
BEGIN:VEVENT
DTSTART;TZID=America/New_York:20260328T200000
DTEND;TZID=America/New_York:20260328T230000
DTSTAMP:20260424T175751
CREATED:20260226T163035Z
LAST-MODIFIED:20260323T144322Z
UID:10046897-1774728000-1774738800@livemusicasheville.com
SUMMARY:Adam Rose Trio
DESCRIPTION:Adam Rose draws on a diverse background in jazz\, classical\, indie-rock and Americana genres. He learned to play jazz at the Philadelphia Clef Club\, then worked as a producer and film composer in NYC before moving to Durham NC. There he continued his studies as a graduate assistant in composition and arranging. Since moving to Asheville in 2022 he’s collaborated with the areas finest musicians to create music that is evocative of both urban + Appalachian landscapes. Joining him are Steve LaSpina on bass and Ryan Ptasnik on drums. \n$15 at the door (all ticket proceeds are 100% passed to the band\, backed by a living wage guarantee from Hotel Eve) \n*Reserve a table in advance\, or join us impromptu the night of the show. Reservations/advance tickets are recommended for preferred seating\, but not required. Tickets are available at the door on a first-come\, first-served basis.  Event Details and Tickets \nHotel Eve is your locally rooted\, speakeasy jazz club & cocktail bar\, hidden in the heart of Downtown Asheville. Mysteriously not a hotel…check in for spirits\, souls and jazz! We’re tucked away\, on purpose. You’ll find us behind the gate nestled between Virtue Boutique and Dane Wells Gallery at 56 N Lexington Avenue in downtown Asheville. Step through\, take a left into the courtyard\, check in for Spirits\, Souls & Jazz. We’ll be waiting on the other side. hotelevejazz.com \n 
URL:https://livemusicasheville.com/calendar/adam-rose-trio/
LOCATION:Hotel Eve Jazz\, 56 N Lexington Avenue\, Asheville\, NC\, 28801\, United States
CATEGORIES:Asheville Area,Live Music
GEO:35.5967716;-82.5530826
X-APPLE-STRUCTURED-LOCATION;VALUE=URI;X-ADDRESS=Hotel Eve Jazz 56 N Lexington Avenue Asheville NC 28801 United States;X-APPLE-RADIUS=500;X-TITLE=56 N Lexington Avenue:geo:-82.5530826,35.5967716
END:VEVENT
BEGIN:VEVENT
DTSTART;TZID=America/New_York:20260328T200000
DTEND;TZID=America/New_York:20260328T230000
DTSTAMP:20260424T175751
CREATED:20251125T224700Z
LAST-MODIFIED:20260325T104415Z
UID:10025791-1774728000-1774738800@livemusicasheville.com
SUMMARY:Company Funk!
DESCRIPTION:
URL:https://livemusicasheville.com/calendar/company-funk-live/
LOCATION:Shamrock Irons Irish Pub\, 4 College St\, Asheville\, NC\, 28801\, United States
CATEGORIES:Asheville Area,Live Music
GEO:35.9844236;-80.0221361
X-APPLE-STRUCTURED-LOCATION;VALUE=URI;X-ADDRESS=Shamrock Irons Irish Pub 4 College St Asheville NC 28801 United States;X-APPLE-RADIUS=500;X-TITLE=4 College St:geo:-80.0221361,35.9844236
END:VEVENT
BEGIN:VEVENT
DTSTART;TZID=America/New_York:20260328T200000
DTEND;TZID=America/New_York:20260328T230000
DTSTAMP:20260424T175751
CREATED:20250402T195029Z
LAST-MODIFIED:20260325T171622Z
UID:10011926-1774728000-1774738800@livemusicasheville.com
SUMMARY:Somewhat Petty
DESCRIPTION:
URL:https://livemusicasheville.com/calendar/somewhat-petty/
LOCATION:Third Room\, 46 Wall Street\, Asheville\, NC\, NC\, 28803\, United States
CATEGORIES:Asheville Area,Live Music
GEO:35.5943967;-82.5559625
X-APPLE-STRUCTURED-LOCATION;VALUE=URI;X-ADDRESS=Third Room 46 Wall Street Asheville NC NC 28803 United States;X-APPLE-RADIUS=500;X-TITLE=46 Wall Street:geo:-82.5559625,35.5943967
END:VEVENT
BEGIN:VEVENT
DTSTART;TZID=America/New_York:20260328T200000
DTEND;TZID=America/New_York:20260328T223000
DTSTAMP:20260424T175751
CREATED:20260325T150637Z
LAST-MODIFIED:20260325T150637Z
UID:10052318-1774728000-1774737000@livemusicasheville.com
SUMMARY:Rodney Sutton w/ The Barely Hardly Enough Boys
DESCRIPTION:
URL:https://livemusicasheville.com/calendar/rodney-sutton-w-the-barely-hardly-enough-boys/
LOCATION:Cork & Keg
CATEGORIES:Asheville Area,Live Music
END:VEVENT
BEGIN:VEVENT
DTSTART;TZID=America/New_York:20260328T200000
DTEND;TZID=America/New_York:20260328T220000
DTSTAMP:20260424T175751
CREATED:20260325T210227Z
LAST-MODIFIED:20260325T210227Z
UID:10052674-1774728000-1774735200@livemusicasheville.com
SUMMARY:Making Music in the Mountains ft. Melissa McKinney\, Whitney Moore\, Shana Tucker & Liz Williams
DESCRIPTION:Join singer-songwriter\, “ChamberSoul” cellist\, and Asheville transplant Shana Tucker in conversation with a group of Asheville music makers. We’ll share music\, the stories behind the songs\, and the perspectives of people making Asheville’s unique creative scene thrive. Event Details
URL:https://livemusicasheville.com/calendar/making-music-in-the-mountains-ft-melissa-mckinney-whitney-moore-shana-tucker-liz-williams/
LOCATION:Asheville Masonic Temple
CATEGORIES:Asheville Area,Live Music
END:VEVENT
BEGIN:VEVENT
DTSTART;TZID=America/New_York:20260328T200000
DTEND;TZID=America/New_York:20260328T220000
DTSTAMP:20260424T175751
CREATED:20260121T124807Z
LAST-MODIFIED:20260325T125934Z
UID:10012058-1774728000-1774735200@livemusicasheville.com
SUMMARY:Saturday Open Mic/Jam
DESCRIPTION:Haywood Famous – 8-10pm
URL:https://livemusicasheville.com/calendar/saturday-open-mic-jam-3/
CATEGORIES:Asheville Area,Open MIc/Jam
END:VEVENT
BEGIN:VEVENT
DTSTART;TZID=America/New_York:20260328T193000
DTEND;TZID=America/New_York:20260328T213000
DTSTAMP:20260424T175751
CREATED:20250120T163822Z
LAST-MODIFIED:20260324T003151Z
UID:10006696-1774726200-1774733400@livemusicasheville.com
SUMMARY:Alien Music Club Presents: The Doors Unhinged
DESCRIPTION:With an intoxicating\, genre-blending sound\, provocative and uncompromising songs\, and the mesmerizing power of singer Jim Morrison’s poetry and presence\, The Doors had a transformative impact not only on popular music but on popular culture. \nThis Asheville-based quintet\, fronted by the charismatic and electrifying Reggie Headen\, features an all-star\, highly sought after group of musicians: Jonathan Pearlman (Musical Director and guitarist)\, Taylor Pierson (keyboards)\, Zack Page (bass) and Vic Stafford (drums). \nPearlman says\, “There’s something very daring\, dangerous and dark about the Doors’\nmusic. We’ve tried to capture that. We found it challenging to approximate their chemistry and alchemy. I believe that we got it right!” \nWe want everyone to access the healing power of music! Perhaps you can only afford a few dollars\, or maybe you have resources to cover the cost for others. Donate What You Can! Event Details and Tickets
URL:https://livemusicasheville.com/calendar/nearby-notable-the-doors-unhinged/
LOCATION:White Horse at The Monte Vista Black Mountain
CATEGORIES:Asheville Area,Black Mountain,Live Music
ATTACH;FMTTYPE=image/jpeg:https://livemusicasheville.com/wp-content/uploads/2025/01/AMCDoors-no-date-scaled-e1774312074350.jpg
END:VEVENT
BEGIN:VEVENT
DTSTART;TZID=America/New_York:20260328T193000
DTEND;TZID=America/New_York:20260328T210000
DTSTAMP:20260424T175751
CREATED:20260327T100210Z
LAST-MODIFIED:20260327T100210Z
UID:10053509-1774726200-1774731600@livemusicasheville.com
SUMMARY:The Warren Wilson College Music Department presents: Bob Strain Piano Recital
DESCRIPTION:Come out for a night of classical music with Bob Strain\, our Piano faculty member.
URL:https://livemusicasheville.com/calendar/the-warren-wilson-college-music-department-presents-bob-strain-piano-recital/
LOCATION:Warren Wilson Presbyterian Church
CATEGORIES:Asheville Area,Black Mountain,Live Music
END:VEVENT
BEGIN:VEVENT
DTSTART;TZID=America/New_York:20260328T190000
DTEND;TZID=America/New_York:20260328T233000
DTSTAMP:20260424T175751
CREATED:20250322T150845Z
LAST-MODIFIED:20251214T215054Z
UID:10027457-1774724400-1774740600@livemusicasheville.com
SUMMARY:Save Our Website to Your Home Screen 📲
DESCRIPTION:As an interactive calendar\, we often add events to our calendar as we find out about them\, sometimes even from our phone while we are out supporting local live music. By adding our website\, LiveMusicAsheville.com to your home screen\, we will always be right at your fingertips. Here’s how:\n\n\n\n\niPhone (using Safari):\n\n\n\nOpen Safari and navigate to the website: you want to add as a shortcut. \n\n\n\n\n\n\n\n\nTap the Share button: (a square with an arrow pointing out of the top). \n\n\n\n\n\n\n\n\nScroll down and tap “Add to Home Screen” . \n\n\n\n\n\n\n\n\nChoose a name for the shortcut: and tap “Add”. \n\n\n\n\n\n\n\n\nThe shortcut will appear on your home screen as an icon. \n\n\n\n\n\n\n\n\n\n\n\nAndroid (using Chrome or other browsers):\n\n\n\nOpen Chrome (or your preferred browser) and navigate to the website: you want to add.\nTap the three-dot menu icon: (usually in the top right corner).\nSelect “Add to Home Screen” .\nCustomize the name of the shortcut: if desired\, and then tap “Add”.\nThe shortcut will appear on your home screen as an icon. 
URL:https://livemusicasheville.com/calendar/add-our-website-to-your-home-screen/2026-03-28/
CATEGORIES:Asheville Area
END:VEVENT
BEGIN:VEVENT
DTSTART;TZID=America/New_York:20260328T190000
DTEND;TZID=America/New_York:20260328T230000
DTSTAMP:20260424T175751
CREATED:20260223T204100Z
LAST-MODIFIED:20260327T211457Z
UID:10046472-1774724400-1774738800@livemusicasheville.com
SUMMARY:Kyle Kelly | Honky Tonk & Barn Burners
DESCRIPTION:Classic country never really left. It just needed the right voice.\nNorth Carolina native Kyle Kelly brings a throwback sound shaped by the grit of the 70s and 80s\, with stories about trucks\, friends\, and the kind of nights you do not forget. After a career ending baseball injury in college\, he doubled down on music\, teaching himself to play and turning real life into songs that feel honest and lived in. His debut record Lake Weekend built serious momentum\, and he has been chasing it down the highway ever since.\nThe Showroom gives this one room to breathe. Big sound\, bright lights\, and a crowd that knows every word by the second chorus. Grab a drink\, claim your spot\, and let the nostalgia roll.\nMusic at 7. See you on the floor.\n  \n$10 covers both the Showroom and Palm Room music. \nFitz\, she’s the party. Wolfe\, he’s the epicure. 2 levels\, 3 vibes. 🎶 Live Music |🍸Sips & Noms 🥪 | 🕹️ Artcade | 🗝️Speakeasy | Private Events \nFitz and the Wolfe is a cocktail and music venue shaped by the spirit of improvisation\, storytelling\, and the kind of nights that feel too good to end. Here\, every night brings a new soundtrack. Jazz\, swing\, honky-tonk\, and sometimes things a little more esoteric—if it moves people\, we book it. The music fills the space like a second heartbeat\, sometimes rowdy\, sometimes intimate\, always memorable. It’s not background noise. It’s the reason you’re here. fitzandthewolfe.com
URL:https://livemusicasheville.com/calendar/kyle-kelly-the-showroom/
LOCATION:Fitz and the Wolfe\, 1 Battery Park Ave\, Asheville\, NC\, 28801\, United States
CATEGORIES:Asheville Area,Live Music
GEO:35.5954515;-82.5548502
X-APPLE-STRUCTURED-LOCATION;VALUE=URI;X-ADDRESS=Fitz and the Wolfe 1 Battery Park Ave Asheville NC 28801 United States;X-APPLE-RADIUS=500;X-TITLE=1 Battery Park Ave:geo:-82.5548502,35.5954515
END:VEVENT
BEGIN:VEVENT
DTSTART;TZID=America/New_York:20260328T190000
DTEND;TZID=America/New_York:20260328T220000
DTSTAMP:20260424T175751
CREATED:20260321T203926Z
LAST-MODIFIED:20260327T002625Z
UID:10053247-1774724400-1774735200@livemusicasheville.com
SUMMARY:Mr Jimmy Blues
DESCRIPTION:
URL:https://livemusicasheville.com/calendar/mr-jimmy-blues-2-2-2-2-2-2/2026-03-28/
LOCATION:The Asheville Club
CATEGORIES:Asheville Area,Live Music
GEO:35.5952143;-82.554524
END:VEVENT
BEGIN:VEVENT
DTSTART;TZID=America/New_York:20260328T190000
DTEND;TZID=America/New_York:20260328T220000
DTSTAMP:20260424T175751
CREATED:20260304T121008Z
LAST-MODIFIED:20260325T105604Z
UID:10047741-1774724400-1774735200@livemusicasheville.com
SUMMARY:Brooks Butler & Friends
DESCRIPTION:
URL:https://livemusicasheville.com/calendar/brooks-butler/
LOCATION:One World Brewing Downtown\, 10 Patton Ave\, Asheville\, NC\, 28801
CATEGORIES:Asheville Area,Live Music
GEO:35.5947396;-82.5522724
X-APPLE-STRUCTURED-LOCATION;VALUE=URI;X-ADDRESS=One World Brewing Downtown 10 Patton Ave Asheville NC 28801;X-APPLE-RADIUS=500;X-TITLE=10 Patton Ave:geo:-82.5522724,35.5947396
END:VEVENT
BEGIN:VEVENT
DTSTART;TZID=America/New_York:20260328T190000
DTEND;TZID=America/New_York:20260328T220000
DTSTAMP:20260424T175751
CREATED:20251223T180111Z
LAST-MODIFIED:20260204T220353Z
UID:10042972-1774724400-1774735200@livemusicasheville.com
SUMMARY:Solo Piano in The Great Hall w/ Jamar A. Woods
DESCRIPTION:
URL:https://livemusicasheville.com/calendar/solo-piano-in-the-great-hall-w-jamar-a-woods-3/2026-03-28/
LOCATION:The Omni Grove Park Inn
CATEGORIES:Asheville Area,Live Music
GEO:35.6206376;-82.5422977
END:VEVENT
BEGIN:VEVENT
DTSTART;TZID=America/New_York:20260328T190000
DTEND;TZID=America/New_York:20260328T220000
DTSTAMP:20260424T175751
CREATED:20241227T110644Z
LAST-MODIFIED:20260325T143532Z
UID:10008147-1774724400-1774735200@livemusicasheville.com
SUMMARY:Billy "The Kid" Litz
DESCRIPTION:
URL:https://livemusicasheville.com/calendar/billy-the-kid-litz/
LOCATION:Bear’s Smokehouse South Slope\, 135 Coxe Avenue\, Asheville\, NC\, 28801
CATEGORIES:Asheville Area,Live Music
GEO:35.5898681;-82.5552613
X-APPLE-STRUCTURED-LOCATION;VALUE=URI;X-ADDRESS=Bear’s Smokehouse South Slope 135 Coxe Avenue Asheville NC 28801;X-APPLE-RADIUS=500;X-TITLE=135 Coxe Avenue:geo:-82.5552613,35.5898681
END:VEVENT
BEGIN:VEVENT
DTSTART;TZID=America/New_York:20260328T190000
DTEND;TZID=America/New_York:20260328T210000
DTSTAMP:20260424T175751
CREATED:20260325T183527Z
LAST-MODIFIED:20260325T183546Z
UID:10052650-1774724400-1774731600@livemusicasheville.com
SUMMARY:Performance: Jazz Bassist Hilliard Greene returns w/ Steinway pianist Lenore Raphael
DESCRIPTION:
URL:https://livemusicasheville.com/calendar/performance-jazz-bassist-hilliard-greene-returns-w-steinway-pianist-lenore-raphael/
LOCATION:The Listening Room at Mars Landing Mars Hill
CATEGORIES:Asheville Area,Live Music,Madison County
END:VEVENT
BEGIN:VEVENT
DTSTART;TZID=America/New_York:20260328T190000
DTEND;TZID=America/New_York:20260328T210000
DTSTAMP:20260424T175751
CREATED:20260221T162039Z
LAST-MODIFIED:20260221T162041Z
UID:10030406-1774724400-1774731600@livemusicasheville.com
SUMMARY:Will Hartz
DESCRIPTION:
URL:https://livemusicasheville.com/calendar/will-hartz-3-2-2-2-2-2-2/2026-03-28/
LOCATION:5 Walnut Wine Bar
CATEGORIES:Asheville Area,Live Music
GEO:35.596654;-82.5525389
END:VEVENT
BEGIN:VEVENT
DTSTART;TZID=America/New_York:20260328T190000
DTEND;TZID=America/New_York:20260328T210000
DTSTAMP:20260424T175751
CREATED:20251223T144555Z
LAST-MODIFIED:20260325T181153Z
UID:10028944-1774724400-1774731600@livemusicasheville.com
SUMMARY:Dustin Furlow
DESCRIPTION:
URL:https://livemusicasheville.com/calendar/dustin-furlow-2-2/
LOCATION:Blue Mountain Pizza Weaverville
CATEGORIES:Asheville Area,Live Music,Weaverville
GEO:35.698228;-82.560231
END:VEVENT
BEGIN:VEVENT
DTSTART;TZID=America/New_York:20260328T183000
DTEND;TZID=America/New_York:20260328T213000
DTSTAMP:20260424T175751
CREATED:20250922T183655Z
LAST-MODIFIED:20260325T132320Z
UID:10021537-1774722600-1774733400@livemusicasheville.com
SUMMARY:Cody Hale Trio
DESCRIPTION:
URL:https://livemusicasheville.com/calendar/cody-hale/
LOCATION:Mills River Brewing Co.\, 336 Banner Farm Rd\,\, Mills River\, NC\, 28759
CATEGORIES:Asheville Area,Live Music,Mills River
GEO:35.380515;-82.5654984
X-APPLE-STRUCTURED-LOCATION;VALUE=URI;X-ADDRESS=Mills River Brewing Co. 336 Banner Farm Rd Mills River NC 28759;X-APPLE-RADIUS=500;X-TITLE=336 Banner Farm Rd\,:geo:-82.5654984,35.380515
END:VEVENT
BEGIN:VEVENT
DTSTART;TZID=America/New_York:20260328T180000
DTEND;TZID=America/New_York:20260328T230000
DTSTAMP:20260424T175751
CREATED:20250131T150536Z
LAST-MODIFIED:20251214T224624Z
UID:10028468-1774720800-1774738800@livemusicasheville.com
SUMMARY:The Depot Live Music Show
DESCRIPTION:The Original Marshall Depot washed away in the flood HELENE. Until the New Depot is up and running\, we will continue to have a live music show at the New Depot Twist Again Dance Barn at 439 Cody Road\, Marshall\, NC. A live music show featuring local bands\, dance\, cakewalk\, and fellowship. Admission is FREE\, and Donations are appreciated to help pay the light bill.
URL:https://livemusicasheville.com/calendar/the-depot-live-music-show/2026-03-28/
LOCATION:New Depot Twist Again Dance Barn\, 439 Cody Road\, Marshall\, NC
CATEGORIES:Live Music,Madison County
GEO:35.8317019;-82.6256424
X-APPLE-STRUCTURED-LOCATION;VALUE=URI;X-ADDRESS=New Depot Twist Again Dance Barn 439 Cody Road Marshall NC;X-APPLE-RADIUS=500;X-TITLE=439 Cody Road:geo:-82.6256424,35.8317019
END:VEVENT
BEGIN:VEVENT
DTSTART;TZID=America/New_York:20260328T180000
DTEND;TZID=America/New_York:20260328T220000
DTSTAMP:20260424T175751
CREATED:20260325T152212Z
LAST-MODIFIED:20260325T152442Z
UID:10052321-1774720800-1774735200@livemusicasheville.com
SUMMARY:Wrath of Sirens w/ Below 7 opening
DESCRIPTION:
URL:https://livemusicasheville.com/calendar/wrath-of-sirens/
LOCATION:Mars Theatre Brewing Company Mars Hill
CATEGORIES:Asheville Area,Live Music,Madison County
GEO:35.8279363;-82.5483211
END:VEVENT
BEGIN:VEVENT
DTSTART;TZID=America/New_York:20260328T180000
DTEND;TZID=America/New_York:20260328T210000
DTSTAMP:20260424T175751
CREATED:20260223T170638Z
LAST-MODIFIED:20260328T182745Z
UID:10046239-1774720800-1774731600@livemusicasheville.com
SUMMARY:Chirp
DESCRIPTION:Chirp is a four-piece genre-hopping band based out of Ann Arbor\, MI. Often playing in the styles of progressive rock/funk and jazz-fusion\, their sound maintains a melodic center. The group features a wide array of originals and covers in their live sets and puts together dynamic\, high-energy shows. \nThough their music ties in many technical elements\, an equal emphasis is put on grooving and keeping people moving. Chirp takes influence from Snarky Puppy\, Steely Dan\, Led Zeppelin\, James Brown\, Yes\, Daft Punk\, Vulfpeck\, and The Beatles\, to name a few. Chirp has been hard at work since their formation in 2015\, touring and recording consistently since the project began. Their fresh sound has taken them touring across the Midwest to play a large variety of venues and festivals. \n  \nFounded in 2005\, Pisgah is known for producing some of the most sought after craft ales in Western North Carolina. Pisgah Brewing Company currently operates the new indoor taproom & deli\, with live music several days a week\, plus an open air outdoor bar in the summer and fall months. Check out our upcoming schedule at pisgahbrewing.com/events
URL:https://livemusicasheville.com/calendar/chirp/
LOCATION:Pisgah Brewing Company Black Mountain\, 2948 US-70\, Black Mountain\, NC\, 28711
CATEGORIES:Asheville Area,Black Mountain,Live Music
GEO:35.6068069;-82.3568213
X-APPLE-STRUCTURED-LOCATION;VALUE=URI;X-ADDRESS=Pisgah Brewing Company Black Mountain 2948 US-70 Black Mountain NC 28711;X-APPLE-RADIUS=500;X-TITLE=2948 US-70:geo:-82.3568213,35.6068069
END:VEVENT
BEGIN:VEVENT
DTSTART;TZID=America/New_York:20260328T180000
DTEND;TZID=America/New_York:20260328T210000
DTSTAMP:20260424T175751
CREATED:20250107T213841Z
LAST-MODIFIED:20260325T105247Z
UID:10051924-1774720800-1774731600@livemusicasheville.com
SUMMARY:The Pubsters
DESCRIPTION:
URL:https://livemusicasheville.com/calendar/the-pubsters/2026-03-28/
LOCATION:Pillar Rooftop Bar
CATEGORIES:Asheville Area,Live Music
GEO:35.5970115;-82.5461959
END:VEVENT
BEGIN:VEVENT
DTSTART;TZID=America/New_York:20260328T180000
DTEND;TZID=America/New_York:20260328T200000
DTSTAMP:20260424T175751
CREATED:20260324T135340Z
LAST-MODIFIED:20260324T135340Z
UID:10051124-1774720800-1774728000@livemusicasheville.com
SUMMARY:The Tuxedo Junction Quartet
DESCRIPTION:
URL:https://livemusicasheville.com/calendar/the-tuxedo-junction-quartet/
LOCATION:Old Town District Black Mountain\, 110 Black Mountain Ave\, Black Mountain\, NC\, 28711\, United States
CATEGORIES:Asheville Area,Black Mountain,Live Music
GEO:35.6144382;-82.320515
X-APPLE-STRUCTURED-LOCATION;VALUE=URI;X-ADDRESS=Old Town District Black Mountain 110 Black Mountain Ave Black Mountain NC 28711 United States;X-APPLE-RADIUS=500;X-TITLE=110 Black Mountain Ave:geo:-82.320515,35.6144382
END:VEVENT
BEGIN:VEVENT
DTSTART;TZID=America/New_York:20260328T180000
DTEND;TZID=America/New_York:20260328T200000
DTSTAMP:20260424T175751
CREATED:20260318T152501Z
LAST-MODIFIED:20260318T152501Z
UID:10049705-1774720800-1774728000@livemusicasheville.com
SUMMARY:Artist ReLEAF concert with Kass Blount
DESCRIPTION:
URL:https://livemusicasheville.com/calendar/artist-releaf-concert-with-kass-blount/
LOCATION:LEAF Global Arts\, 19 Eagle St\, Asheville\, NC\, 28801
CATEGORIES:Asheville Area,Live Music
GEO:35.5938244;-82.5505196
X-APPLE-STRUCTURED-LOCATION;VALUE=URI;X-ADDRESS=LEAF Global Arts 19 Eagle St Asheville NC 28801;X-APPLE-RADIUS=500;X-TITLE=19 Eagle St:geo:-82.5505196,35.5938244
END:VEVENT
END:VCALENDAR