BEGIN:VCALENDAR
VERSION:2.0
PRODID:-//LiveMusicAsheville.com - ECPv6.15.20//NONSGML v1.0//EN
CALSCALE:GREGORIAN
METHOD:PUBLISH
X-WR-CALNAME:LiveMusicAsheville.com
X-ORIGINAL-URL:https://livemusicasheville.com
X-WR-CALDESC:Events for LiveMusicAsheville.com
REFRESH-INTERVAL;VALUE=DURATION:PT1H
X-Robots-Tag:noindex
X-PUBLISHED-TTL:PT1H
BEGIN:VTIMEZONE
TZID:America/New_York
BEGIN:DAYLIGHT
TZOFFSETFROM:-0500
TZOFFSETTO:-0400
TZNAME:EDT
DTSTART:20250309T070000
END:DAYLIGHT
BEGIN:STANDARD
TZOFFSETFROM:-0400
TZOFFSETTO:-0500
TZNAME:EST
DTSTART:20251102T060000
END:STANDARD
BEGIN:DAYLIGHT
TZOFFSETFROM:-0500
TZOFFSETTO:-0400
TZNAME:EDT
DTSTART:20260308T070000
END:DAYLIGHT
BEGIN:STANDARD
TZOFFSETFROM:-0400
TZOFFSETTO:-0500
TZNAME:EST
DTSTART:20261101T060000
END:STANDARD
BEGIN:DAYLIGHT
TZOFFSETFROM:-0500
TZOFFSETTO:-0400
TZNAME:EDT
DTSTART:20270314T070000
END:DAYLIGHT
BEGIN:STANDARD
TZOFFSETFROM:-0400
TZOFFSETTO:-0500
TZNAME:EST
DTSTART:20271107T060000
END:STANDARD
END:VTIMEZONE
BEGIN:VEVENT
DTSTART;TZID=America/New_York:20260308T200000
DTEND;TZID=America/New_York:20260308T230000
DTSTAMP:20260424T181139
CREATED:20260304T203734Z
LAST-MODIFIED:20260304T203734Z
UID:10048540-1773000000-1773010800@livemusicasheville.com
SUMMARY:Grateful Dub
DESCRIPTION:
URL:https://livemusicasheville.com/calendar/grateful-dub/
LOCATION:Asheville Music Hall\, 31 Patton Ave\, Asheville\, NC\, 28801\, United States
CATEGORIES:Asheville Area,Live Music
GEO:35.5949233;-82.5530398
X-APPLE-STRUCTURED-LOCATION;VALUE=URI;X-ADDRESS=Asheville Music Hall 31 Patton Ave Asheville NC 28801 United States;X-APPLE-RADIUS=500;X-TITLE=31 Patton Ave:geo:-82.5530398,35.5949233
END:VEVENT
BEGIN:VEVENT
DTSTART;TZID=America/New_York:20260308T200000
DTEND;TZID=America/New_York:20260308T230000
DTSTAMP:20260424T181139
CREATED:20260304T142857Z
LAST-MODIFIED:20260304T142857Z
UID:10047969-1773000000-1773010800@livemusicasheville.com
SUMMARY:DD Island // Claire Whall // Idle County
DESCRIPTION:
URL:https://livemusicasheville.com/calendar/dd-island-claire-whall-idle-county/
LOCATION:Fleetwood’s\, 496 Haywood Rd\, Asheville\, NC\, 28806\, United States
CATEGORIES:Asheville Area,Live Music
GEO:35.578126;-82.583757
X-APPLE-STRUCTURED-LOCATION;VALUE=URI;X-ADDRESS=Fleetwood’s 496 Haywood Rd Asheville NC 28806 United States;X-APPLE-RADIUS=500;X-TITLE=496 Haywood Rd:geo:-82.583757,35.578126
END:VEVENT
BEGIN:VEVENT
DTSTART;TZID=America/New_York:20260308T190000
DTEND;TZID=America/New_York:20260308T233000
DTSTAMP:20260424T181139
CREATED:20260304T205432Z
LAST-MODIFIED:20260304T205432Z
UID:10048546-1772996400-1773012600@livemusicasheville.com
SUMMARY:William Hinson\, Bedroom Division\, Wilmot
DESCRIPTION:
URL:https://livemusicasheville.com/calendar/william-hinson-bedroom-division-wilmot/
LOCATION:Sly Grog Lounge
CATEGORIES:Asheville Area,Live Music
GEO:35.5942606;-82.5628302
END:VEVENT
BEGIN:VEVENT
DTSTART;TZID=America/New_York:20260308T190000
DTEND;TZID=America/New_York:20260308T233000
DTSTAMP:20260424T181139
CREATED:20250322T150845Z
LAST-MODIFIED:20251214T215054Z
UID:10010559-1772996400-1773012600@livemusicasheville.com
SUMMARY:Save Our Website to Your Home Screen 📲
DESCRIPTION:As an interactive calendar\, we often add events to our calendar as we find out about them\, sometimes even from our phone while we are out supporting local live music. By adding our website\, LiveMusicAsheville.com to your home screen\, we will always be right at your fingertips. Here’s how:\n\n\n\n\niPhone (using Safari):\n\n\n\nOpen Safari and navigate to the website: you want to add as a shortcut. \n\n\n\n\n\n\n\n\nTap the Share button: (a square with an arrow pointing out of the top). \n\n\n\n\n\n\n\n\nScroll down and tap “Add to Home Screen” . \n\n\n\n\n\n\n\n\nChoose a name for the shortcut: and tap “Add”. \n\n\n\n\n\n\n\n\nThe shortcut will appear on your home screen as an icon. \n\n\n\n\n\n\n\n\n\n\n\nAndroid (using Chrome or other browsers):\n\n\n\nOpen Chrome (or your preferred browser) and navigate to the website: you want to add.\nTap the three-dot menu icon: (usually in the top right corner).\nSelect “Add to Home Screen” .\nCustomize the name of the shortcut: if desired\, and then tap “Add”.\nThe shortcut will appear on your home screen as an icon. 
URL:https://livemusicasheville.com/calendar/add-our-website-to-your-home-screen/2026-03-08/
CATEGORIES:Asheville Area
END:VEVENT
BEGIN:VEVENT
DTSTART;TZID=America/New_York:20260308T190000
DTEND;TZID=America/New_York:20260308T220000
DTSTAMP:20260424T181139
CREATED:20260112T140127Z
LAST-MODIFIED:20260308T081103Z
UID:10041990-1772996400-1773007200@livemusicasheville.com
SUMMARY:Sunday Weekly DJ Events
DESCRIPTION:Although we are primarily a Live Music Calendar\, we often come across Electronic & DJ events in the area and list them for you as we find out about them. Please verify the DJ\, times and cover charges with the venue. \nOne World Brewing West – 7-10pm \nVOWL – 8-11pm \nCheck with the venue for the DJ and cover charges.
URL:https://livemusicasheville.com/calendar/sunday-weekly-dj-2/2026-03-08/
LOCATION:Asheville Area
CATEGORIES:Asheville Area,DJ/Electronic
END:VEVENT
BEGIN:VEVENT
DTSTART;TZID=America/New_York:20260308T190000
DTEND;TZID=America/New_York:20260308T220000
DTSTAMP:20260424T181139
CREATED:20251222T160824Z
LAST-MODIFIED:20251222T160824Z
UID:10029372-1772996400-1773007200@livemusicasheville.com
SUMMARY:Bruce Lang in The Great Hall
DESCRIPTION:
URL:https://livemusicasheville.com/calendar/bruce-lang-in-the-great-hall/2026-03-08/
LOCATION:The Omni Grove Park Inn
CATEGORIES:Asheville Area,Live Music
GEO:35.6206376;-82.5422977
END:VEVENT
BEGIN:VEVENT
DTSTART;TZID=America/New_York:20260308T190000
DTEND;TZID=America/New_York:20260308T210000
DTSTAMP:20260424T181139
CREATED:20250326T205245Z
LAST-MODIFIED:20260308T220755Z
UID:10011486-1772996400-1773003600@livemusicasheville.com
SUMMARY:Fancy Marie duo w/ Elizabeth McCorvey
DESCRIPTION:
URL:https://livemusicasheville.com/calendar/fancy-marie-and-chris-norred/
LOCATION:5 Walnut Wine Bar
CATEGORIES:Asheville Area,Live Music
GEO:35.596654;-82.5525389
END:VEVENT
BEGIN:VEVENT
DTSTART;TZID=America/New_York:20260308T183000
DTEND;TZID=America/New_York:20260308T210000
DTSTAMP:20260424T181139
CREATED:20260105T173153Z
LAST-MODIFIED:20260302T163735Z
UID:10007299-1772994600-1773003600@livemusicasheville.com
SUMMARY:Pisgah Sunday Jam - Kyle Travers & Friends
DESCRIPTION:Every Sunday | Bar: 2PM | Music: 6:30PM\nSunday. A special time with friends and musicians alike and with what has become a Sunday tradition\, Pisgah Brewing Company hosts the Pisgah Sunday Jam – an open jam every Sunday evening (with a few exceptions) on the taproom stage.\nAny and all musicians are welcome to come sit in! Some of America’s finest\, touring artists will be featured each week. Jam starts at 6:30pm and is free to the public. This week the jam will be hosted by our pals\, Spiro & Friends.\n  \nFounded in 2005\, Pisgah is known for producing some of the most sought after craft ales in Western North Carolina. Pisgah Brewing Company currently operates an indoor taproom and deli\, and an open air outdoor bar in the summer and fall months with live music several days a week. Check out our upcoming schedule at pisgahbrewing.com/events
URL:https://livemusicasheville.com/calendar/pisgah-sunday-jam-2-2-2-3/
LOCATION:Pisgah Brewing Company Black Mountain\, 2948 US-70\, Black Mountain\, NC\, 28711
CATEGORIES:Asheville Area,Black Mountain,Live Music
ATTACH;FMTTYPE=image/jpeg:https://livemusicasheville.com/wp-content/uploads/2025/05/608114548_1344589087695264_6286876769526443319_n-e1767634274968.jpg
GEO:35.6068069;-82.3568213
X-APPLE-STRUCTURED-LOCATION;VALUE=URI;X-ADDRESS=Pisgah Brewing Company Black Mountain 2948 US-70 Black Mountain NC 28711;X-APPLE-RADIUS=500;X-TITLE=2948 US-70:geo:-82.3568213,35.6068069
END:VEVENT
BEGIN:VEVENT
DTSTART;TZID=America/New_York:20260308T170000
DTEND;TZID=America/New_York:20260308T200000
DTSTAMP:20260424T181139
CREATED:20260302T151329Z
LAST-MODIFIED:20260304T222741Z
UID:10047439-1772989200-1773000000@livemusicasheville.com
SUMMARY:Bryce Hensley’s Hellhounds
DESCRIPTION: It’s Sunday Funday\, Country Style! 🍻🎶 \nBryce Hensley’s Hellhounds are bringing straight-up fire originals and hard-hitting country covers. Come support one of our favorite Appalachian cowboys.. it’s always a good time when these boys roll through 🔥🐺 \nSunday 3/8\n🕓 Doors at 4PM\n🎸 Band 5–8PM \nNO COVER! \nWe’re opening up during SoCon Championship Sunday\, so swing by between and after the games and keep the Sunday Funday rolling with cold drinks and live country music. \n  \nFitz\, she’s the party. Wolfe\, he’s the epicure. 2 levels\, 3 vibes. 🎶 Live Music |🍸Sips & Noms 🥪 | 🕹️ Artcade | 🗝️Speakeasy | Private Events \nFitz and the Wolfe is a cocktail and music venue shaped by the spirit of improvisation\, storytelling\, and the kind of nights that feel too good to end. Here\, every night brings a new soundtrack. Jazz\, swing\, honky-tonk\, and sometimes things a little more esoteric—if it moves people\, we book it. The music fills the space like a second heartbeat\, sometimes rowdy\, sometimes intimate\, always memorable. It’s not background noise. It’s the reason you’re here. fitzandthewolfe.com
URL:https://livemusicasheville.com/calendar/bryce-hensley/
LOCATION:Fitz and the Wolfe\, 1 Battery Park Ave\, Asheville\, NC\, 28801\, United States
CATEGORIES:Asheville Area,Live Music
GEO:35.5954515;-82.5548502
X-APPLE-STRUCTURED-LOCATION;VALUE=URI;X-ADDRESS=Fitz and the Wolfe 1 Battery Park Ave Asheville NC 28801 United States;X-APPLE-RADIUS=500;X-TITLE=1 Battery Park Ave:geo:-82.5548502,35.5954515
END:VEVENT
BEGIN:VEVENT
DTSTART;TZID=America/New_York:20260308T170000
DTEND;TZID=America/New_York:20260308T190000
DTSTAMP:20260424T181139
CREATED:20260304T141801Z
LAST-MODIFIED:20260304T141801Z
UID:10047966-1772989200-1772996400@livemusicasheville.com
SUMMARY:Singer Songwriter Sundays with Dave Desmelik
DESCRIPTION:
URL:https://livemusicasheville.com/calendar/singer-songwriter-sundays-with-dave-desmelik/
LOCATION:Lookout Brewing Company Black Mountain
CATEGORIES:Asheville Area,Black Mountain,Live Music
GEO:35.6193199;-82.3178787
END:VEVENT
BEGIN:VEVENT
DTSTART;TZID=America/New_York:20260308T163000
DTEND;TZID=America/New_York:20260308T230000
DTSTAMP:20260424T181139
CREATED:20260208T161244Z
LAST-MODIFIED:20260412T125251Z
UID:10056240-1772987400-1773010800@livemusicasheville.com
SUMMARY:Sunday Open Mic/Jams
DESCRIPTION:  \nBluegrass & Jam @ Zillacoah Beer Co –  4:30-7:30pm (every other Sunday) \nOpen Bluegrass Circle @ The Hound Lounge – 6-9pm (discontinued til spring) \nStory Parlor – 6-9pm (1st Sundays of the month) \nPisgah Brewing Sunday Jam 6:30-9pm \nElevated Kava Lounge – 8-11pm \n 
URL:https://livemusicasheville.com/calendar/sunday-open-mic-2-2/2026-03-08/
LOCATION:Asheville Area
CATEGORIES:Asheville Area,Black Mountain,Madison County,Open MIc/Jam,Weaverville
END:VEVENT
BEGIN:VEVENT
DTSTART;TZID=America/New_York:20260308T163000
DTEND;TZID=America/New_York:20260308T193000
DTSTAMP:20260424T181139
CREATED:20260124T141302Z
LAST-MODIFIED:20260204T201517Z
UID:10020565-1772987400-1772998200@livemusicasheville.com
SUMMARY:Sunday Bluegrass & Jam On The River
DESCRIPTION:A rotating local host band will play from 4:30 to 5:30\, and then an open bluegrass jam from 5:30 to 7:30.
URL:https://livemusicasheville.com/calendar/sunday-bluegrass-jam-on-the-river-2/2026-03-08/
LOCATION:Zillicoah Beer Company
CATEGORIES:Asheville Area,Live Music,Open MIc/Jam
END:VEVENT
BEGIN:VEVENT
DTSTART;TZID=America/New_York:20260308T160000
DTEND;TZID=America/New_York:20260308T190000
DTSTAMP:20260424T181139
CREATED:20250910T114037Z
LAST-MODIFIED:20260107T124932Z
UID:10031563-1772985600-1772996400@livemusicasheville.com
SUMMARY:Line Dancing with Steppin' Out
DESCRIPTION:
URL:https://livemusicasheville.com/calendar/line-dancing-with-steppin-out/2026-03-08/
LOCATION:The Event Center at Hi Wire Biltmore Village
CATEGORIES:Asheville Area,DJ/Electronic
END:VEVENT
BEGIN:VEVENT
DTSTART;TZID=America/New_York:20260308T153000
DTEND;TZID=America/New_York:20260308T200000
DTSTAMP:20260424T181139
CREATED:20260125T153905Z
LAST-MODIFIED:20260125T153907Z
UID:10039188-1772983800-1773000000@livemusicasheville.com
SUMMARY:Jack’s Traditional Irish/Celtic Jam Session
DESCRIPTION:Stop in for the pub’s long running Traditional Irish Session each Sunday afternoon beginning around 3:30pm. Many talented local musicians come from WNC to jam away into the night – all on our pub stage! Sunday is a perfect day to enjoy a pint or afternoon Irish coffee! Slaínte! \nJack Of The Wood is still a downtown hot spot for food\, brews and drink since 1997 and founders Joan and Joe Eckert who still own it\, have maintained the original lively English and Irish vibe. The old-time mountain and Irish music jams continue\, including a hot bluegrass jam Thursdays and brunch every Sunday. The venue extends a welcoming feeling to regulars and newcomers to this day. https://jackofthewood.com/
URL:https://livemusicasheville.com/calendar/jacks-traditional-irish-celtic-jam-session-2-2-2/2026-03-08/
LOCATION:Jack Of The Wood\, 95 Patton Ave\, asheville\, NC\, United States
CATEGORIES:Asheville Area,Live Music,Open MIc/Jam
ATTACH;FMTTYPE=image/jpeg:https://livemusicasheville.com/wp-content/uploads/2025/02/520234226_634124486372464_8974916319488110849_n-e1754135686660.jpg
GEO:35.5944492;-82.5558221
X-APPLE-STRUCTURED-LOCATION;VALUE=URI;X-ADDRESS=Jack Of The Wood 95 Patton Ave asheville NC United States;X-APPLE-RADIUS=500;X-TITLE=95 Patton Ave:geo:-82.5558221,35.5944492
END:VEVENT
BEGIN:VEVENT
DTSTART;TZID=America/New_York:20260308T150000
DTEND;TZID=America/New_York:20260308T180000
DTSTAMP:20260424T181139
CREATED:20260125T195817Z
LAST-MODIFIED:20260125T195819Z
UID:10036926-1772982000-1772992800@livemusicasheville.com
SUMMARY:Iggy Radio
DESCRIPTION:
URL:https://livemusicasheville.com/calendar/iggy-radio-6-2/2026-03-08/
LOCATION:Asheville Yacht Club
CATEGORIES:Asheville Area,Live Music
GEO:35.5944176;-82.5554715
END:VEVENT
BEGIN:VEVENT
DTSTART;TZID=America/New_York:20260308T150000
DTEND;TZID=America/New_York:20260308T180000
DTSTAMP:20260424T181139
CREATED:20260124T204451Z
LAST-MODIFIED:20260124T204452Z
UID:10013181-1772982000-1772992800@livemusicasheville.com
SUMMARY:Reggae Sunday w/ CHALWA
DESCRIPTION:This 8-member Mountain Reggae powerhouse packs it full of roots meditations and high grade jams that awaken your spirit and soul! Chalwa’s high energy shows are one of a kind\, featuring smooth vocals\, percussion\, bass\, lead guitar\, keys and saxophone. Their extensive collection of original music is interlaced with music from some of the Greats including\, Bob Marley\, Peter Tosh\, Burning Spear\, Bunny Wailer and even Jerry Garcia and the Grateful Dead. \nFrench Broad River Brewery is more than just a place to enjoy a drink—it’s a community hub where great beer\, delicious pizza\, live music\, and good times come together. Just minutes from the Biltmore Estate & Downtown\, our taproom is a gathering spot for locals and visitors alike. We regularly host live music and entertainment in our taproom\, making French Broad River Brewery a lively hub of local activity. From bluegrass to reggae\, there’s always something happening. Check out our Events Page to see what’s coming up next! \nNo brewery experience is complete without great food. That’s why we offer French Broad River Pizza\, serving up hot\, hand-tossed pizzas made to order. Whether you’re here for a quick slice or a full meal\, our pizza perfectly complements our craft beers and the lively atmosphere of our taproom. frenchbroadbrewery.com/pizza \n 
URL:https://livemusicasheville.com/calendar/chalwa-returns-2-2-2/2026-03-08/
LOCATION:French Broad River Brewery\, 101 Fairview Rd\, Asheville\, NC\, United States
CATEGORIES:Asheville Area,Live Music
ATTACH;FMTTYPE=image/png:https://livemusicasheville.com/wp-content/uploads/2025/10/Screenshot-2025-12-20-214144-e1766285002169.png
GEO:35.5662722;-82.5374054
X-APPLE-STRUCTURED-LOCATION;VALUE=URI;X-ADDRESS=French Broad River Brewery 101 Fairview Rd Asheville NC United States;X-APPLE-RADIUS=500;X-TITLE=101 Fairview Rd:geo:-82.5374054,35.5662722
END:VEVENT
BEGIN:VEVENT
DTSTART;TZID=America/New_York:20260308T150000
DTEND;TZID=America/New_York:20260308T170000
DTSTAMP:20260424T181139
CREATED:20260109T142128Z
LAST-MODIFIED:20260109T142340Z
UID:10034175-1772982000-1772989200@livemusicasheville.com
SUMMARY:Vintage Swing w/ Parker’s Back
DESCRIPTION:
URL:https://livemusicasheville.com/calendar/vintage-swing-w-parkers-back-2-2/2026-03-08/
LOCATION:Battery Park Book Exchange & Champagne Bar
CATEGORIES:Asheville Area,Live Music
GEO:35.5951042;-82.556633
END:VEVENT
BEGIN:VEVENT
DTSTART;TZID=America/New_York:20260308T150000
DTEND;TZID=America/New_York:20260308T163000
DTSTAMP:20260424T181139
CREATED:20260219T195107Z
LAST-MODIFIED:20260219T195107Z
UID:10045892-1772982000-1772987400@livemusicasheville.com
SUMMARY:Pan Harmonia AFTERMATH Trilogy Concert - WONDER
DESCRIPTION:AFTERMATH Trilogy Spring 2026 · WONDERSunday\, March 8\, 3 pm · First Presbyterian Asheville\nKate Steinbeck flute · Jessica Schaeffer harp · Daphne Bickley viola\nAs ever\, PAN HARMONIA offers Donation-based\, Pay-as-You-Can Community Concerts. All are welcome!
URL:https://livemusicasheville.com/calendar/pan-harmonia-aftermath-trilogy-concert-wonder-2/
LOCATION:First Presbyterian Asheville
CATEGORIES:Asheville Area,Black Mountain,Live Music
END:VEVENT
BEGIN:VEVENT
DTSTART;TZID=America/New_York:20260308T143000
DTEND;TZID=America/New_York:20260308T163000
DTSTAMP:20260424T181139
CREATED:20260107T162234Z
LAST-MODIFIED:20260125T153810Z
UID:10039810-1772980200-1772987400@livemusicasheville.com
SUMMARY:Sunday Jazz Jam
DESCRIPTION:
URL:https://livemusicasheville.com/calendar/sunday-jazz-jam-2-2/2026-03-08/
LOCATION:Ginger’s Revenge
CATEGORIES:Asheville Area,Live Music,Open MIc/Jam
END:VEVENT
BEGIN:VEVENT
DTSTART;TZID=America/New_York:20260308T140000
DTEND;TZID=America/New_York:20260308T180000
DTSTAMP:20260424T181139
CREATED:20260304T192924Z
LAST-MODIFIED:20260304T193243Z
UID:10048525-1772978400-1772992800@livemusicasheville.com
SUMMARY:Mountain Valley's Benefit Concert ft. The 40\,20\,10's\, Paint Rock\, and Pierce Edens
DESCRIPTION:Mountain Valleys Resource Conservation and Development Council is a 501(c)3 nonprofit established in 1974 to develop\, improve\, and conserve natural resources and to provide employment and other economic opportunities to the people of an eight-county area of Western North Carolina. \nWe have been working non-stop since Helene to assist our neighbors with natural resource recovery with a focus on streambank stabilization and wildfire mitigation and preparedness. \nWe invite you to hear some amazing local musicians\, learn more about our programs\, and show support for our continued work on recovering with resilience.
URL:https://livemusicasheville.com/calendar/mountain-valleys-benefit-concert-ft-the-402010s-paint-rock-and-pierce-edens/
LOCATION:Eulogy\, 10 Buxton Ave\, Asheville\, NC\, 28801
CATEGORIES:Asheville Area,Live Music
GEO:35.5883468;-82.5539256
X-APPLE-STRUCTURED-LOCATION;VALUE=URI;X-ADDRESS=Eulogy 10 Buxton Ave Asheville NC 28801;X-APPLE-RADIUS=500;X-TITLE=10 Buxton Ave:geo:-82.5539256,35.5883468
END:VEVENT
BEGIN:VEVENT
DTSTART;TZID=America/New_York:20260308T140000
DTEND;TZID=America/New_York:20260308T170000
DTSTAMP:20260424T181139
CREATED:20260304T143854Z
LAST-MODIFIED:20260304T143854Z
UID:10047972-1772978400-1772989200@livemusicasheville.com
SUMMARY:Brian Peters Duo
DESCRIPTION:
URL:https://livemusicasheville.com/calendar/brian-peters-duo/
LOCATION:Mills River Brewing Co.\, 336 Banner Farm Rd\,\, Mills River\, NC\, 28759
CATEGORIES:Asheville Area,Live Music,Mills River
GEO:35.380515;-82.5654984
X-APPLE-STRUCTURED-LOCATION;VALUE=URI;X-ADDRESS=Mills River Brewing Co. 336 Banner Farm Rd Mills River NC 28759;X-APPLE-RADIUS=500;X-TITLE=336 Banner Farm Rd\,:geo:-82.5654984,35.380515
END:VEVENT
BEGIN:VEVENT
DTSTART;TZID=America/New_York:20260308T140000
DTEND;TZID=America/New_York:20260308T170000
DTSTAMP:20260424T181139
CREATED:20260125T153731Z
LAST-MODIFIED:20260322T210622Z
UID:10024220-1772978400-1772989200@livemusicasheville.com
SUMMARY:Suns of Stars
DESCRIPTION:Orbiting around Asheville’s grateful music scene since late 2023\, Suns Of Stars blends contemporary and traditional bluegrass with a high energy jam style. Suns Of Stars members are all hometown heros in various musical projects around town which has led to great turnout at their shows. At its core lies the trio of Alex Bazemore (guitar)\, and Asheville’s own Jackson Chisholm (upright bass) and Johnny Humphries (mandolin)\, son of local Bluegrass legend Don Humphries. As Suns Of Stars has been gathering momentum they’ve picked up Alex Ball (fiddle) and Jason Flournoy (banjo). Suns Of Stars members are all hometown heroes in various musical projects around town which has led to great turnout at their shows. That\, along with a massive song repertoire and growing list of original music make for a unique performance each time. \nThe West Asheville taproom hosts a wide variety of special and regular events\, from yoga to an electronic music & beer festival\, and everything in between. Check out our upcoming schedule: click here
URL:https://livemusicasheville.com/calendar/bears-50th-birthday-bash-suns-of-stars-phuncle-sam-2-2-2-2/2026-03-08/
LOCATION:One World Brewing – West\, 520 Haywood Rd\, Asheville\, North Carolina\, 28806
CATEGORIES:Asheville Area,Live Music
ATTACH;FMTTYPE=image/jpeg:https://livemusicasheville.com/wp-content/uploads/2026/01/IMG_4589-e1774203094467.jpeg
GEO:35.5783642;-82.5848526
X-APPLE-STRUCTURED-LOCATION;VALUE=URI;X-ADDRESS=One World Brewing – West 520 Haywood Rd Asheville North Carolina 28806;X-APPLE-RADIUS=500;X-TITLE=520 Haywood Rd:geo:-82.5848526,35.5783642
END:VEVENT
BEGIN:VEVENT
DTSTART;TZID=America/New_York:20260308T140000
DTEND;TZID=America/New_York:20260308T170000
DTSTAMP:20260424T181139
CREATED:20250716T145703Z
LAST-MODIFIED:20260304T210133Z
UID:10017823-1772978400-1772989200@livemusicasheville.com
SUMMARY:M A R and the Marmeladies
DESCRIPTION:
URL:https://livemusicasheville.com/calendar/m-a-r-and-the-marmeladies/
LOCATION:Highland Brewing
CATEGORIES:Asheville Area,Live Music
END:VEVENT
BEGIN:VEVENT
DTSTART;TZID=America/New_York:20260308T140000
DTEND;TZID=America/New_York:20260308T170000
DTSTAMP:20260424T181139
CREATED:20250625T111654Z
LAST-MODIFIED:20260304T221049Z
UID:10016191-1772978400-1772989200@livemusicasheville.com
SUMMARY:Mountaineer Mingle w/ Eric Barnes
DESCRIPTION:
URL:https://livemusicasheville.com/calendar/eric-barnes/
LOCATION:Peri Social House Black Mountain\, 406 W State\, Black Mountain\, NC
CATEGORIES:Asheville Area,Black Mountain,Live Music
GEO:35.6148509;-82.3247138
X-APPLE-STRUCTURED-LOCATION;VALUE=URI;X-ADDRESS=Peri Social House Black Mountain 406 W State Black Mountain NC;X-APPLE-RADIUS=500;X-TITLE=406 W State:geo:-82.3247138,35.6148509
END:VEVENT
BEGIN:VEVENT
DTSTART;TZID=America/New_York:20260308T140000
DTEND;TZID=America/New_York:20260308T170000
DTSTAMP:20260424T181139
CREATED:20250604T181523Z
LAST-MODIFIED:20260306T202344Z
UID:10015444-1772978400-1772989200@livemusicasheville.com
SUMMARY:Allison Hager
DESCRIPTION:
URL:https://livemusicasheville.com/calendar/allison-hager-2/
LOCATION:The Whale :: South Slope
CATEGORIES:Asheville Area,Live Music
END:VEVENT
BEGIN:VEVENT
DTSTART;TZID=America/New_York:20260308T140000
DTEND;TZID=America/New_York:20260308T170000
DTSTAMP:20260424T181139
CREATED:20250326T211433Z
LAST-MODIFIED:20260305T163836Z
UID:10005605-1772978400-1772989200@livemusicasheville.com
SUMMARY:Riyen Roots
DESCRIPTION:
URL:https://livemusicasheville.com/calendar/riyen-roots-3-2-2/
LOCATION:Sparky’s Bardega Downtown\, 23 Broadway\, ASHEVILLE\, NC\, 28801\, United States
CATEGORIES:Asheville Area,Live Music
GEO:35.596126;-82.5523443
X-APPLE-STRUCTURED-LOCATION;VALUE=URI;X-ADDRESS=Sparky’s Bardega Downtown 23 Broadway ASHEVILLE NC 28801 United States;X-APPLE-RADIUS=500;X-TITLE=23 Broadway:geo:-82.5523443,35.596126
END:VEVENT
BEGIN:VEVENT
DTSTART;TZID=America/New_York:20260308T140000
DTEND;TZID=America/New_York:20260308T160000
DTSTAMP:20260424T181139
CREATED:20260128T124425Z
LAST-MODIFIED:20260304T140138Z
UID:10041994-1772978400-1772985600@livemusicasheville.com
SUMMARY:Asheville Jazz Orchestra
DESCRIPTION:
URL:https://livemusicasheville.com/calendar/asheville-jazz-orchestra-4/
LOCATION:White Horse at The Monte Vista Black Mountain
CATEGORIES:Asheville Area,Black Mountain,Live Music
END:VEVENT
BEGIN:VEVENT
DTSTART;TZID=America/New_York:20260308T140000
DTEND;TZID=America/New_York:20260308T160000
DTSTAMP:20260424T181139
CREATED:20250115T212857Z
LAST-MODIFIED:20260122T163914Z
UID:10006555-1772978400-1772985600@livemusicasheville.com
SUMMARY:BMCA Instructors Concert
DESCRIPTION:Appearing in this year’s concert will be Clarke Williams\, Maddy Mullaney\, Travis Stuart\, Nathan Vargos and Cary Fridley from our Junior Appalachian Musicians program\, as well as private lesson instructors Alison Adams (voice)\, Joel Ragan (piano)\, and Evan Martin (guitar). Join us in celebrating the wonderful musicianship that lives here at BMCA. Grab some friends and get your tickets now!
URL:https://livemusicasheville.com/calendar/bmca-instructors-concert/
LOCATION:Black Mountain Center for the Arts
CATEGORIES:Black Mountain,Live Music
GEO:35.6161175;-82.321505
END:VEVENT
BEGIN:VEVENT
DTSTART;TZID=America/New_York:20260308T130000
DTEND;TZID=America/New_York:20260308T160000
DTSTAMP:20260424T181139
CREATED:20250312T210210Z
LAST-MODIFIED:20260304T115407Z
UID:10010013-1772974800-1772985600@livemusicasheville.com
SUMMARY:Celtic/Old Timey Tunes with Trippin' Up the Stairs
DESCRIPTION:
URL:https://livemusicasheville.com/calendar/irish-tunes-w-trippin-up-the-stairs/
LOCATION:Shamrock Irons Irish Pub\, 4 College St\, Asheville\, NC\, 28801\, United States
CATEGORIES:Asheville Area,Live Music
GEO:35.9844236;-80.0221361
X-APPLE-STRUCTURED-LOCATION;VALUE=URI;X-ADDRESS=Shamrock Irons Irish Pub 4 College St Asheville NC 28801 United States;X-APPLE-RADIUS=500;X-TITLE=4 College St:geo:-80.0221361,35.9844236
END:VEVENT
BEGIN:VEVENT
DTSTART;TZID=America/New_York:20260308T120000
DTEND;TZID=America/New_York:20260308T150000
DTSTAMP:20260424T181139
CREATED:20260125T153435Z
LAST-MODIFIED:20260125T153436Z
UID:10026477-1772971200-1772982000@livemusicasheville.com
SUMMARY:Bluegrass Brunch Is Back!!
DESCRIPTION:Y’ALL! The best dang BLUEGRASS BRUNCH in town is BACK AT JACK — with our own BLUEGRASS BRUNCH BOYS taking the stage at NOON! 🎻🍳 \nWhether you’re in the mood for a FRIED CHICKEN BISCUIT topped with our house-made blackberry jam or spicy SHRIMP & CHEDDAR GRITS with a side of collards or that perfect BURGER (beef OR veggie) with hand-cut pub fries\, you’ll find exactly what you’re craving at — and did we mention our brunch beverage specials from the bar? 🥂🍊 \nBrunch is served until 3pm (or until we run out!)\, with our pub fare menu starting immediately after. \nAnd to round out your SUNDAY FUNDAY\, our TRADITIONAL IRISH MUSIC SESSION starts at 3:30 — and goes until close! 🍺🍀\n \n\nJack Of The Wood still a downtown hot spot for food\, brews and drink since 1997 and founders Joan and Joe Eckert who still own it\, have maintained the original lively English and Irish vibe. The old-time mountain and Irish music jams continue\, including a hot bluegrass jam Thursdays and brunch every Sunday. The venue extends a welcoming feeling to regulars and newcomers to this day. https://jackofthewood.com/
URL:https://livemusicasheville.com/calendar/the-bluegrass-boys-2/2026-03-08/
LOCATION:Jack Of The Wood\, 95 Patton Ave\, asheville\, NC\, United States
CATEGORIES:Asheville Area,Live Music
ATTACH;FMTTYPE=image/jpeg:https://livemusicasheville.com/wp-content/uploads/2024/12/521057437_1508890810466928_6057889169935657981_n-e1754136196712.jpg
GEO:35.5944492;-82.5558221
X-APPLE-STRUCTURED-LOCATION;VALUE=URI;X-ADDRESS=Jack Of The Wood 95 Patton Ave asheville NC United States;X-APPLE-RADIUS=500;X-TITLE=95 Patton Ave:geo:-82.5558221,35.5944492
END:VEVENT
END:VCALENDAR