BEGIN:VCALENDAR
VERSION:2.0
PRODID:-//LiveMusicAsheville.com - ECPv6.15.20//NONSGML v1.0//EN
CALSCALE:GREGORIAN
METHOD:PUBLISH
X-WR-CALNAME:LiveMusicAsheville.com
X-ORIGINAL-URL:https://livemusicasheville.com
X-WR-CALDESC:Events for LiveMusicAsheville.com
REFRESH-INTERVAL;VALUE=DURATION:PT1H
X-Robots-Tag:noindex
X-PUBLISHED-TTL:PT1H
BEGIN:VTIMEZONE
TZID:America/New_York
BEGIN:DAYLIGHT
TZOFFSETFROM:-0500
TZOFFSETTO:-0400
TZNAME:EDT
DTSTART:20250309T070000
END:DAYLIGHT
BEGIN:STANDARD
TZOFFSETFROM:-0400
TZOFFSETTO:-0500
TZNAME:EST
DTSTART:20251102T060000
END:STANDARD
BEGIN:DAYLIGHT
TZOFFSETFROM:-0500
TZOFFSETTO:-0400
TZNAME:EDT
DTSTART:20260308T070000
END:DAYLIGHT
BEGIN:STANDARD
TZOFFSETFROM:-0400
TZOFFSETTO:-0500
TZNAME:EST
DTSTART:20261101T060000
END:STANDARD
BEGIN:DAYLIGHT
TZOFFSETFROM:-0500
TZOFFSETTO:-0400
TZNAME:EDT
DTSTART:20270314T070000
END:DAYLIGHT
BEGIN:STANDARD
TZOFFSETFROM:-0400
TZOFFSETTO:-0500
TZNAME:EST
DTSTART:20271107T060000
END:STANDARD
END:VTIMEZONE
BEGIN:VEVENT
DTSTART;TZID=America/New_York:20260225T203000
DTEND;TZID=America/New_York:20260225T233000
DTSTAMP:20260424T162115
CREATED:20260218T162435Z
LAST-MODIFIED:20260218T162435Z
UID:10045459-1772051400-1772062200@livemusicasheville.com
SUMMARY:BEER / Lion Country Ferrari / Rocco and His Bones
DESCRIPTION:
URL:https://livemusicasheville.com/calendar/beer-lion-country-ferrari-rocco-and-his-bones/
LOCATION:Static Age Records
CATEGORIES:Asheville Area,Live Music
GEO:35.5985631;-82.5538043
END:VEVENT
BEGIN:VEVENT
DTSTART;TZID=America/New_York:20260225T200000
DTEND;TZID=America/New_York:20260225T230000
DTSTAMP:20260424T162115
CREATED:20260218T185554Z
LAST-MODIFIED:20260218T185554Z
UID:10045468-1772049600-1772060400@livemusicasheville.com
SUMMARY:Wax Tailor w/ Napoleon da Legend
DESCRIPTION:
URL:https://livemusicasheville.com/calendar/wax-tailor-w-napoleon-da-legend/
LOCATION:The Orange Peel
CATEGORIES:Asheville Area,Live Music
GEO:35.5914061;-82.5510137
END:VEVENT
BEGIN:VEVENT
DTSTART;TZID=America/New_York:20260225T200000
DTEND;TZID=America/New_York:20260225T220000
DTSTAMP:20260424T162115
CREATED:20251216T130319Z
LAST-MODIFIED:20260223T133155Z
UID:10022777-1772049600-1772056800@livemusicasheville.com
SUMMARY:The Paper Crowns
DESCRIPTION:
URL:https://livemusicasheville.com/calendar/the-paper-crowns-4/2026-02-25/
LOCATION:Town Pump Tavern Black Mountain
CATEGORIES:Asheville Area,Black Mountain,Live Music
GEO:35.6162458;-82.320259
END:VEVENT
BEGIN:VEVENT
DTSTART;TZID=America/New_York:20260225T190000
DTEND;TZID=America/New_York:20260225T220000
DTSTAMP:20260424T162115
CREATED:20260202T151009Z
LAST-MODIFIED:20260223T154607Z
UID:10042331-1772046000-1772056800@livemusicasheville.com
SUMMARY:Peter Dimery Trio
DESCRIPTION:Peter Dimery is a freelance jazz tenor saxophonist and marketer known for his active presence in the South Carolina & North Carolina jazz scene. He draws creative inspiration from the rich\, multifaceted world of jazz and describes himself foremost as a jazz musician whose work revolves around deeply expressive\, improvisational musical traditions. Dimery’s journey with the saxophone began early and has led him to become a sought-after performer in ensembles and venues across the Upstate\, including his own groups. His musical style reflects a love for classic jazz influences and inventive modern expression\, and he regularly appears at local jazz festivals and collaborative events with fellow musicians. \n$10 at the door (all ticket proceeds are 100% passed to the band\, backed by a living wage guarantee from Hotel Eve) \nHotel Eve is your locally rooted\, speakeasy jazz club & cocktail bar\, hidden in the heart of Downtown Asheville. Mysteriously not a hotel…check in for spirits\, souls and jazz! We’re tucked away\, on purpose. You’ll find us behind the gate nestled between Virtue Boutique and Dane Wells Gallery at 56 N Lexington Avenue in downtown Asheville. Step through\, take a left into the courtyard\, check in for Spirits\, Souls & Jazz. We’ll be waiting on the other side. hotelevejazz.com \n 
URL:https://livemusicasheville.com/calendar/peter-dimery-trio-2/
LOCATION:Hotel Eve Jazz\, 56 N Lexington Avenue\, Asheville\, NC\, 28801\, United States
CATEGORIES:Asheville Area,Live Music
GEO:35.5967716;-82.5530826
X-APPLE-STRUCTURED-LOCATION;VALUE=URI;X-ADDRESS=Hotel Eve Jazz 56 N Lexington Avenue Asheville NC 28801 United States;X-APPLE-RADIUS=500;X-TITLE=56 N Lexington Avenue:geo:-82.5530826,35.5967716
END:VEVENT
BEGIN:VEVENT
DTSTART;TZID=America/New_York:20260225T190000
DTEND;TZID=America/New_York:20260225T220000
DTSTAMP:20260424T162115
CREATED:20251223T191607Z
LAST-MODIFIED:20260218T010054Z
UID:10029563-1772046000-1772056800@livemusicasheville.com
SUMMARY:Swing Asheville Live w/ The French Broads
DESCRIPTION:Special lesson at 7\, band plays at 8$15 includes the lesson/ $5 students with i.d.
URL:https://livemusicasheville.com/calendar/swing-asheville-live-w-broad-river-bounce/
LOCATION:Warren Wilson College Swannanoa\, 701 Warren Wilson Road\, Swannanoa\, NC
CATEGORIES:Asheville Area,Black Mountain,Live Music
GEO:35.611126;-82.4422791
X-APPLE-STRUCTURED-LOCATION;VALUE=URI;X-ADDRESS=Warren Wilson College Swannanoa 701 Warren Wilson Road Swannanoa NC;X-APPLE-RADIUS=500;X-TITLE=701 Warren Wilson Road:geo:-82.4422791,35.611126
END:VEVENT
BEGIN:VEVENT
DTSTART;TZID=America/New_York:20260225T190000
DTEND;TZID=America/New_York:20260225T220000
DTSTAMP:20260424T162115
CREATED:20251222T160644Z
LAST-MODIFIED:20251222T160644Z
UID:10029229-1772046000-1772056800@livemusicasheville.com
SUMMARY:The B's Trio in The Great Hall
DESCRIPTION:
URL:https://livemusicasheville.com/calendar/the-bs-trio-in-the-great-hall-2/2026-02-25/
LOCATION:The Omni Grove Park Inn
CATEGORIES:Asheville Area,Live Music
GEO:35.6206376;-82.5422977
END:VEVENT
BEGIN:VEVENT
DTSTART;TZID=America/New_York:20260225T190000
DTEND;TZID=America/New_York:20260225T210000
DTSTAMP:20260424T162115
CREATED:20260214T160231Z
LAST-MODIFIED:20260318T160058Z
UID:10049842-1772046000-1772053200@livemusicasheville.com
SUMMARY:Larry Dolamore
DESCRIPTION:
URL:https://livemusicasheville.com/calendar/larry-dolamore-3/2026-02-25/
LOCATION:Blue Mountain Pizza Weaverville
CATEGORIES:Asheville Area,Live Music,Weaverville
GEO:35.698228;-82.560231
END:VEVENT
BEGIN:VEVENT
DTSTART;TZID=America/New_York:20260225T190000
DTEND;TZID=America/New_York:20260225T210000
DTSTAMP:20260424T162115
CREATED:20260204T175641Z
LAST-MODIFIED:20260204T175642Z
UID:10030089-1772046000-1772053200@livemusicasheville.com
SUMMARY:Bam-A Lam with Jason Krekel & Craig Kellberg
DESCRIPTION:
URL:https://livemusicasheville.com/calendar/bam-a-lam-with-jason-krekel-craig-kellberg-2-2-2-2-2-2/2026-02-25/
LOCATION:5 Walnut Wine Bar
CATEGORIES:Asheville Area,Live Music
GEO:35.596654;-82.5525389
END:VEVENT
BEGIN:VEVENT
DTSTART;TZID=America/New_York:20260225T183000
DTEND;TZID=America/New_York:20260225T203000
DTSTAMP:20260424T162115
CREATED:20250521T124649Z
LAST-MODIFIED:20260225T192306Z
UID:10005386-1772044200-1772051400@livemusicasheville.com
SUMMARY:Jam > Grass > Jam: The Saylor Brothers w/sg Drew Matulich (mandolin) & Branson Raines (fiddle)
DESCRIPTION:The Saylor Brothers are a jamgrass fusion group from Asheville\, fronted by brothers Will & Ben Saylor\, of Brushfire Stankgrass. This project is a foray further into the realm of bluegrass jam\, with more emphasis on improvisation piled on top of a structure of traditional bluegrass and innovative original songwriting. As a trio with Greg Stiglets on bass\, the band packs a large sound coming from three acoustic instruments\, and often adds a fourth player for further improvisational and bluegrass firepower.\n\nJam > Grass > Jam is not an open bluegrass jam but is a residency featuring a rotating casts of special guests from Asheville’s bluegrass/jamband scene.\n\nFrench Broad River Brewery is more than just a place to enjoy a drink—it’s a community hub where great beer\, delicious pizza\, live music\, and good times come together. Just minutes from the Biltmore Estate & Downtown\, our taproom is a gathering spot for locals and visitors alike. We regularly host live music and entertainment in our taproom\, making French Broad River Brewery a lively hub of local activity. From bluegrass to reggae\, there’s always something happening. Check out our Events Page to see what’s coming up next! \nNo brewery experience is complete without great food. That’s why we offer French Broad River Pizza\, serving up hot\, hand-tossed pizzas made to order. Whether you’re here for a quick slice or a full meal\, our pizza perfectly complements our craft beers and the lively atmosphere of our taproom. frenchbroadbrewery.com/pizza \n 
URL:https://livemusicasheville.com/calendar/jam-grass-jam-the-saylor-brothers-4/
LOCATION:French Broad River Brewery\, 101 Fairview Rd\, Asheville\, NC\, United States
CATEGORIES:Asheville Area,Live Music
ATTACH;FMTTYPE=image/jpeg:https://livemusicasheville.com/wp-content/uploads/2023/03/IMG_7061-e1746972805618.jpeg
GEO:35.5662722;-82.5374054
X-APPLE-STRUCTURED-LOCATION;VALUE=URI;X-ADDRESS=French Broad River Brewery 101 Fairview Rd Asheville NC United States;X-APPLE-RADIUS=500;X-TITLE=101 Fairview Rd:geo:-82.5374054,35.5662722
END:VEVENT
BEGIN:VEVENT
DTSTART;TZID=America/New_York:20260225T180000
DTEND;TZID=America/New_York:20260225T230000
DTSTAMP:20260424T162115
CREATED:20260218T194512Z
LAST-MODIFIED:20260218T194512Z
UID:10045482-1772042400-1772060400@livemusicasheville.com
SUMMARY:Üga Büga / Hempire / Sunbearer
DESCRIPTION:
URL:https://livemusicasheville.com/calendar/uga-buga-hempire-sunbearer/
LOCATION:Sly Grog Lounge
CATEGORIES:Asheville Area,Live Music
GEO:35.5942606;-82.5628302
END:VEVENT
BEGIN:VEVENT
DTSTART;TZID=America/New_York:20260225T180000
DTEND;TZID=America/New_York:20260225T210000
DTSTAMP:20260424T162115
CREATED:20260114T160602Z
LAST-MODIFIED:20260114T160604Z
UID:10022408-1772042400-1772053200@livemusicasheville.com
SUMMARY:Country Line Dance Lessons and Dancing
DESCRIPTION:
URL:https://livemusicasheville.com/calendar/country-line-dance-lessons-and-dancing-2/2026-02-25/
LOCATION:Eda’s Hide-a-Way Weaverville
CATEGORIES:Asheville Area,DJ/Electronic,Weaverville
GEO:35.6970547;-82.5606851
END:VEVENT
BEGIN:VEVENT
DTSTART;TZID=America/New_York:20260225T180000
DTEND;TZID=America/New_York:20260225T200000
DTSTAMP:20260424T162115
CREATED:20260225T204616Z
LAST-MODIFIED:20260225T204616Z
UID:10046888-1772042400-1772049600@livemusicasheville.com
SUMMARY:West Henderson High School Jazz Band
DESCRIPTION:
URL:https://livemusicasheville.com/calendar/west-henderson-high-school-jazz-band/
LOCATION:Mills River Brewing Co.\, 336 Banner Farm Rd\,\, Mills River\, NC\, 28759
CATEGORIES:Asheville Area,Live Music,Mills River
GEO:35.380515;-82.5654984
X-APPLE-STRUCTURED-LOCATION;VALUE=URI;X-ADDRESS=Mills River Brewing Co. 336 Banner Farm Rd Mills River NC 28759;X-APPLE-RADIUS=500;X-TITLE=336 Banner Farm Rd\,:geo:-82.5654984,35.380515
END:VEVENT
BEGIN:VEVENT
DTSTART;TZID=America/New_York:20260225T180000
DTEND;TZID=America/New_York:20260225T200000
DTSTAMP:20260424T162115
CREATED:20260126T205152Z
LAST-MODIFIED:20260224T163512Z
UID:10041557-1772042400-1772049600@livemusicasheville.com
SUMMARY:Eternally Grateful Duo
DESCRIPTION:Eternally Grateful DuoWednesday February 25Free Show – 6pmEternally Grateful is an Americana Duo\, Trio\, Acoustic Band\, and Electric Band\, revolving around the core duo of Ben Williams and Cooper Pearce. Having played over 500 shows since 2023\, they have risen to be among the most sought after bands in the NC music scene.\n\nThe style is best defined as “Jamericana” with Indie\, Bluegrass\, Jazz\, and more mixed in through the prolific songwriting and prodigious guitar work of Cooper Pearce\, and the Eclectic Mastery of Ben Williams on the upright bass\, garnered from 50+ years experience in Jazz\, Blues\, and Southern Rock. Eternally Grateful strives to make a true\, energetic connection with their audiences\, and is a must see act for any live music lover.\n  \nFounded in 2005\, Pisgah is known for producing some of the most sought after craft ales in Western North Carolina. Pisgah Brewing Company currently operates the new indoor taproom & deli\, with live music several days a week\, plus an open air outdoor bar in the summer and fall months. Check out our upcoming schedule at pisgahbrewing.com/events
URL:https://livemusicasheville.com/calendar/eternally-grateful-duo/
LOCATION:Pisgah Brewing Company Black Mountain\, 2948 US-70\, Black Mountain\, NC\, 28711
CATEGORIES:Asheville Area,Black Mountain,Live Music
GEO:35.6068069;-82.3568213
X-APPLE-STRUCTURED-LOCATION;VALUE=URI;X-ADDRESS=Pisgah Brewing Company Black Mountain 2948 US-70 Black Mountain NC 28711;X-APPLE-RADIUS=500;X-TITLE=2948 US-70:geo:-82.3568213,35.6068069
END:VEVENT
BEGIN:VEVENT
DTSTART;TZID=America/New_York:20260225T180000
DTEND;TZID=America/New_York:20260225T200000
DTSTAMP:20260424T162115
CREATED:20260107T185729Z
LAST-MODIFIED:20260401T151556Z
UID:10023695-1772042400-1772049600@livemusicasheville.com
SUMMARY:Well Crafted Music Series with Matt Smith
DESCRIPTION:  \n4/1- Amanda Anne Platt\n4/8- A. Lee Edwards w Zack Page\n4/15- Datrian Johnson w Duane Simpson\, Tony Black and Mike Rhodes\n4/22- Silas Hamilton w Zach Smith and Evan Martin\n4/29- Lyndsay Pruett w Rick Cooper and Zach Smith \nCheck with the venue for Matt’s upcoming guest(s).
URL:https://livemusicasheville.com/calendar/well-crafted-wednesday-with-matt-smith-2-2-2-2-2-2/2026-02-25/
LOCATION:Highland Brewing
CATEGORIES:Asheville Area,Live Music
END:VEVENT
BEGIN:VEVENT
DTSTART;TZID=America/New_York:20260225T180000
DTEND;TZID=America/New_York:20260225T200000
DTSTAMP:20260424T162115
CREATED:20250602T201723Z
LAST-MODIFIED:20260114T215511Z
UID:10036404-1772042400-1772049600@livemusicasheville.com
SUMMARY:Guitar & Vocal Jazz w/ Linda Mitchell
DESCRIPTION:
URL:https://livemusicasheville.com/calendar/guitar-vocal-jazz-w-linda-mitchell/2026-02-25/
LOCATION:The Bush Farmhouse Black Mountain
CATEGORIES:Asheville Area,Black Mountain,Live Music
GEO:35.6171865;-82.3170606
END:VEVENT
BEGIN:VEVENT
DTSTART;TZID=America/New_York:20260225T173000
DTEND;TZID=America/New_York:20260225T193000
DTSTAMP:20260424T162115
CREATED:20251231T135204Z
LAST-MODIFIED:20260204T195847Z
UID:10042679-1772040600-1772047800@livemusicasheville.com
SUMMARY:The Candleers
DESCRIPTION:weather dependent
URL:https://livemusicasheville.com/calendar/the-candleers-4-2/2026-02-25/
LOCATION:Eluvium Brewing Company Weaverville
CATEGORIES:Asheville Area,Live Music,Weaverville
END:VEVENT
BEGIN:VEVENT
DTSTART;TZID=America/New_York:20260225T170000
DTEND;TZID=America/New_York:20260225T210000
DTSTAMP:20260424T162115
CREATED:20260211T135505Z
LAST-MODIFIED:20260224T220301Z
UID:10026998-1772038800-1772053200@livemusicasheville.com
SUMMARY:Jack’s Old-Time Jam
DESCRIPTION:Grab some dinner and a pint while enjoying our long-running Old-Time Jam! Featuring many talented musicians from the local WNC area\, our traditional Appalachian mountain music jam runs from 5-9pm every Wednesday night at Jack of the Wood! \nJack Of The Wood is still a downtown hot spot for food\, brews and drink since 1997 and founders Joan and Joe Eckert who still own it\, have maintained the original lively English and Irish vibe. The old-time mountain and Irish music jams continue\, including a hot bluegrass jam Thursdays and brunch every Sunday. The venue extends a welcoming feeling to regulars and newcomers to this day. https://jackofthewood.com/
URL:https://livemusicasheville.com/calendar/jacks-old-time-jam-2/2026-02-25/
LOCATION:Jack Of The Wood\, 95 Patton Ave\, asheville\, NC\, United States
CATEGORIES:Asheville Area,Live Music,Open MIc/Jam
ATTACH;FMTTYPE=image/jpeg:https://livemusicasheville.com/wp-content/uploads/2026/02/JOTW_WED-OldTimeJam_2025-RollingStoneQuote_IG_1080x1350-e1771970572897.jpg
GEO:35.5944492;-82.5558221
X-APPLE-STRUCTURED-LOCATION;VALUE=URI;X-ADDRESS=Jack Of The Wood 95 Patton Ave asheville NC United States;X-APPLE-RADIUS=500;X-TITLE=95 Patton Ave:geo:-82.5558221,35.5944492
END:VEVENT
BEGIN:VEVENT
DTSTART;TZID=America/New_York:20260225T160000
DTEND;TZID=America/New_York:20260225T230000
DTSTAMP:20260424T162115
CREATED:20241226T150904Z
LAST-MODIFIED:20260420T201126Z
UID:10027050-1772035200-1772060400@livemusicasheville.com
SUMMARY:Wednesday Open Mics/Jams
DESCRIPTION:Bluegrass/Old Time Jam @ Riverside Rhapsody Brewing – 5-8pm  \nBlunt Pretzels Swannanoa – 5-8pm \nElkhorn  Canna Co – 6-9pm (Feb 25) \nOpen Mic @ Twin Leaf Brewery – 6-8pm \nOpen Mic @ Auction House Fletcher (first Wednesdays) 6-9pm \nOpen Mic @ Camden’s Coffee House Mars Hill – 6:30-8:30pm \nOpen Mic @ Papertown Billiards Canton – 7-9pm \nWhite Horse Black Mountain – 7-9:30pm (2nd & 4th Wednesdays) \nOpen Jam w/ Hamza @ Silverados Black Mountain – 7-10pm \nOpen Mic & Decks @ Sly Grog Lounge -7-11pm \nJam Night @ Elevated Kava Lounge – 8-11pm  \nAll Genre Open Mic @ Sovereign Kava – 8:30-11pm \n 
URL:https://livemusicasheville.com/calendar/wednesday-open-mics-jams/2026-02-25/
LOCATION:Asheville Area
CATEGORIES:Asheville Area,Black Mountain,Open MIc/Jam
ATTACH;FMTTYPE=image/jpeg:https://livemusicasheville.com/wp-content/uploads/2024/12/IMG_9400-e1743027161179.jpeg
END:VEVENT
BEGIN:VEVENT
DTSTART;TZID=America/New_York:20260224T213000
DTEND;TZID=America/New_York:20260224T233000
DTSTAMP:20260424T162115
CREATED:20250306T145855Z
LAST-MODIFIED:20251214T220551Z
UID:10008671-1771968600-1771975800@livemusicasheville.com
SUMMARY:Feature Your Event Here
DESCRIPTION:Our Featured Listings really STAND OUT among the dozens on events on the calendar every day creating a better opportunity for a successful event.
URL:https://livemusicasheville.com/calendar/feature-your-event-here-2-2/2026-02-24/
CATEGORIES:Asheville Area,Black Mountain,Fairview,Live Music,Madison County,Mills River,South Asheville/Arden/Fletcher,Weaverville
ATTACH;FMTTYPE=image/jpeg:https://livemusicasheville.com/wp-content/uploads/2025/01/IMG_8324-e1737476634895.jpeg
END:VEVENT
BEGIN:VEVENT
DTSTART;TZID=America/New_York:20260224T203000
DTEND;TZID=America/New_York:20260224T233000
DTSTAMP:20260424T162115
CREATED:20260218T162336Z
LAST-MODIFIED:20260218T162336Z
UID:10045458-1771965000-1771975800@livemusicasheville.com
SUMMARY:Advance Base / Moontype / i26connector
DESCRIPTION:
URL:https://livemusicasheville.com/calendar/advance-base-moontype-i26connector/
LOCATION:Static Age Records
CATEGORIES:Asheville Area,Live Music
GEO:35.5985631;-82.5538043
END:VEVENT
BEGIN:VEVENT
DTSTART;TZID=America/New_York:20260224T200000
DTEND;TZID=America/New_York:20260224T220000
DTSTAMP:20260424T162115
CREATED:20251023T142458Z
LAST-MODIFIED:20260406T181605Z
UID:10054850-1771963200-1771970400@livemusicasheville.com
SUMMARY:Hot Jazz w/ The John Henrys
DESCRIPTION:
URL:https://livemusicasheville.com/calendar/hot-jazz-w-the-john-henrys-2-2/2026-02-24/
LOCATION:5 Walnut Wine Bar
CATEGORIES:Asheville Area,Live Music
GEO:35.596654;-82.5525389
END:VEVENT
BEGIN:VEVENT
DTSTART;TZID=America/New_York:20260224T190000
DTEND;TZID=America/New_York:20260225T020000
DTSTAMP:20260424T162115
CREATED:20241226T144543Z
LAST-MODIFIED:20260224T090529Z
UID:10046526-1771959600-1771984800@livemusicasheville.com
SUMMARY:Tuesday Weekly DJ Schedule
DESCRIPTION:Although we are primarily a Live Music Calendar\, we often come across Electronic & DJ events in the area and list them for you as we find out about them. Please verify the DJ\, times and cover charges with the venue. \nPotential New Boyfriend – 7-11pm \nThird Room (open decks) – 8pm-12am \nThe Double Crown – 10pm-2am \nLazy Diamond – 10pm-2am \nShakeys – 10pm-2am
URL:https://livemusicasheville.com/calendar/tuesday-weekly-dj-schedule/2026-02-24/
CATEGORIES:Asheville Area,DJ/Electronic
END:VEVENT
BEGIN:VEVENT
DTSTART;TZID=America/New_York:20260224T190000
DTEND;TZID=America/New_York:20260224T233000
DTSTAMP:20260424T162115
CREATED:20250322T150845Z
LAST-MODIFIED:20251214T215054Z
UID:10010552-1771959600-1771975800@livemusicasheville.com
SUMMARY:Save Our Website to Your Home Screen 📲
DESCRIPTION:As an interactive calendar\, we often add events to our calendar as we find out about them\, sometimes even from our phone while we are out supporting local live music. By adding our website\, LiveMusicAsheville.com to your home screen\, we will always be right at your fingertips. Here’s how:\n\n\n\n\niPhone (using Safari):\n\n\n\nOpen Safari and navigate to the website: you want to add as a shortcut. \n\n\n\n\n\n\n\n\nTap the Share button: (a square with an arrow pointing out of the top). \n\n\n\n\n\n\n\n\nScroll down and tap “Add to Home Screen” . \n\n\n\n\n\n\n\n\nChoose a name for the shortcut: and tap “Add”. \n\n\n\n\n\n\n\n\nThe shortcut will appear on your home screen as an icon. \n\n\n\n\n\n\n\n\n\n\n\nAndroid (using Chrome or other browsers):\n\n\n\nOpen Chrome (or your preferred browser) and navigate to the website: you want to add.\nTap the three-dot menu icon: (usually in the top right corner).\nSelect “Add to Home Screen” .\nCustomize the name of the shortcut: if desired\, and then tap “Add”.\nThe shortcut will appear on your home screen as an icon. 
URL:https://livemusicasheville.com/calendar/add-our-website-to-your-home-screen/2026-02-24/
CATEGORIES:Asheville Area
END:VEVENT
BEGIN:VEVENT
DTSTART;TZID=America/New_York:20260224T190000
DTEND;TZID=America/New_York:20260224T220000
DTSTAMP:20260424T162115
CREATED:20260210T190606Z
LAST-MODIFIED:20260210T190608Z
UID:10043232-1771959600-1771970400@livemusicasheville.com
SUMMARY:Clouds of Delusion
DESCRIPTION:
URL:https://livemusicasheville.com/calendar/clouds-of-delusion-5-4-2-2/2026-02-24/
LOCATION:One World Brewing – West\, 520 Haywood Rd\, Asheville\, North Carolina\, 28806
CATEGORIES:Asheville Area,Live Music
GEO:35.5783642;-82.5848526
X-APPLE-STRUCTURED-LOCATION;VALUE=URI;X-ADDRESS=One World Brewing – West 520 Haywood Rd Asheville North Carolina 28806;X-APPLE-RADIUS=500;X-TITLE=520 Haywood Rd:geo:-82.5848526,35.5783642
END:VEVENT
BEGIN:VEVENT
DTSTART;TZID=America/New_York:20260224T190000
DTEND;TZID=America/New_York:20260224T220000
DTSTAMP:20260424T162115
CREATED:20260121T144511Z
LAST-MODIFIED:20260218T145703Z
UID:10014051-1771959600-1771970400@livemusicasheville.com
SUMMARY:Live Jazz Tuesday: Jay Sanders\, Will Boyd\, Zack Page & Alan Hall
DESCRIPTION:Sanders\, Boyd\, Page & Hall distill the pure essence of improvisational expression\, converging as alchemists of sound\, transmuting musical elements into their most essential forms. This quartet embodies the philosophical concept of quintessence—the fifth element beyond earth\, air\, fire\, and water—representing the fundamental substance from which all musical reality springs. \n\nTheir original compositions crystallize the essential qualities of diverse influences\, oscillating between through-composed musical themes\, groove-based soul explorations\, traditional jazz-influenced pieces\, Americana-inspired peaceful melodicism\, world music influences\, free jazz adventures\, and occasional forays into cacophonous noise music. Through years of improvisational study\, they’ve learned to access that rarefied space where genres dissolve into pure creative energy. \nIn this musical laboratory\, Sanders’ guitar becomes a conduit for universal vibration\, Boyd’s reeds channel the breath of consciousness itself\, Page’s bass provides the fundamental frequency of existence\, while Hall’s percussion creates the rhythmic heartbeat of the cosmos. \n\n\nWill Boyd – Sax\, Flute\, Clarinet\, EWI\nZack Page – Acoustic & Electric Bass\nAlan Hall – Drums\nJay Sanders – Guitar and Effects\n\nEvery Monday and Tuesday\, Little Jumbo brings live jazz to your ears. littlejumbobar.com \n“Simply put\, Little Jumbo should be at the top of your list of places for cocktails in Asheville. The drinks and service are both top-notch\, and the atmosphere is reminiscent of a relaxed speakeasy\, without a trace of the pretention that can sometimes be found in such places.” ~ The SmokyMountains.com Local Expert Team \n 
URL:https://livemusicasheville.com/calendar/live-jazz-tuesday-jay-sanders-will-boyd-zack-page-alan-hall-4-2-2-2-2-2-2-2-2/2026-02-24/
LOCATION:Little Jumbo\, 241 Broadway St\, Asheville\, NC\, 28801
CATEGORIES:Asheville Area,Live Music
ATTACH;FMTTYPE=image/png:https://livemusicasheville.com/wp-content/uploads/2025/03/SBPH-e1748765814293.png
GEO:35.6024336;-82.5568463
X-APPLE-STRUCTURED-LOCATION;VALUE=URI;X-ADDRESS=Little Jumbo 241 Broadway St Asheville NC 28801;X-APPLE-RADIUS=500;X-TITLE=241 Broadway St:geo:-82.5568463,35.6024336
END:VEVENT
BEGIN:VEVENT
DTSTART;TZID=America/New_York:20260224T190000
DTEND;TZID=America/New_York:20260224T213000
DTSTAMP:20260424T162115
CREATED:20260218T183735Z
LAST-MODIFIED:20260218T183735Z
UID:10045463-1771959600-1771968600@livemusicasheville.com
SUMMARY:Makaya McCraven
DESCRIPTION:
URL:https://livemusicasheville.com/calendar/makaya-mccraven/
LOCATION:AyurPrana Listening Room\, 312 Haywood Rd\, Asheville\, NC\, 28806
CATEGORIES:Asheville Area,Live Music
GEO:35.5775962;-82.5760261
X-APPLE-STRUCTURED-LOCATION;VALUE=URI;X-ADDRESS=AyurPrana Listening Room 312 Haywood Rd Asheville NC 28806;X-APPLE-RADIUS=500;X-TITLE=312 Haywood Rd:geo:-82.5760261,35.5775962
END:VEVENT
BEGIN:VEVENT
DTSTART;TZID=America/New_York:20260224T190000
DTEND;TZID=America/New_York:20260224T210000
DTSTAMP:20260424T162115
CREATED:20260225T151339Z
LAST-MODIFIED:20260318T160013Z
UID:10049709-1771959600-1771966800@livemusicasheville.com
SUMMARY:Mark Bumgarner
DESCRIPTION:
URL:https://livemusicasheville.com/calendar/mark-bumgarner-2-2-2-3-2-2/2026-02-24/
LOCATION:Blue Mountain Pizza Weaverville
CATEGORIES:Asheville Area,Live Music,Weaverville
GEO:35.698228;-82.560231
END:VEVENT
BEGIN:VEVENT
DTSTART;TZID=America/New_York:20260224T190000
DTEND;TZID=America/New_York:20260224T210000
DTSTAMP:20260424T162115
CREATED:20260218T123742Z
LAST-MODIFIED:20260218T123742Z
UID:10045430-1771959600-1771966800@livemusicasheville.com
SUMMARY:Jenny’s Bday Party Curated Fourth Tuesdays ft. Jason Curtis and the Black Sheep
DESCRIPTION:
URL:https://livemusicasheville.com/calendar/jennys-bday-party-curated-fourth-tuesdays-ft-jason-curtis-and-the-black-sheep/
LOCATION:River Arts District Brewing\, 13 Mystery St\, Asheville\, NC\, 28801\, United States
CATEGORIES:Asheville Area,Live Music
GEO:35.5846876;-82.5649928
X-APPLE-STRUCTURED-LOCATION;VALUE=URI;X-ADDRESS=River Arts District Brewing 13 Mystery St Asheville NC 28801 United States;X-APPLE-RADIUS=500;X-TITLE=13 Mystery St:geo:-82.5649928,35.5846876
END:VEVENT
BEGIN:VEVENT
DTSTART;TZID=America/New_York:20260224T190000
DTEND;TZID=America/New_York:20260224T210000
DTSTAMP:20260424T162115
CREATED:20260218T121543Z
LAST-MODIFIED:20260218T121543Z
UID:10045426-1771959600-1771966800@livemusicasheville.com
SUMMARY:Asheville Symphony presents ALT ASO
DESCRIPTION:
URL:https://livemusicasheville.com/calendar/asheville-symphony-presents-alt-aso/
LOCATION:Wortham Center for the Performing Arts
CATEGORIES:Asheville Area,Live Music
GEO:35.5943091;-82.5509521
END:VEVENT
BEGIN:VEVENT
DTSTART;TZID=America/New_York:20260224T183000
DTEND;TZID=America/New_York:20260224T210000
DTSTAMP:20260424T162115
CREATED:20241226T154248Z
LAST-MODIFIED:20251214T220310Z
UID:10027774-1771957800-1771966800@livemusicasheville.com
SUMMARY:Mountain Shag Club
DESCRIPTION:
URL:https://livemusicasheville.com/calendar/mountain-shag-club/2026-02-24/
LOCATION:Chophouse Restaurant at the 4 Points Hotel by Sheraton
CATEGORIES:Asheville Area,DJ/Electronic
END:VEVENT
END:VCALENDAR