BEGIN:VCALENDAR
VERSION:2.0
PRODID:-//LiveMusicAsheville.com - ECPv6.15.20//NONSGML v1.0//EN
CALSCALE:GREGORIAN
METHOD:PUBLISH
X-ORIGINAL-URL:https://livemusicasheville.com
X-WR-CALDESC:Events for LiveMusicAsheville.com
REFRESH-INTERVAL;VALUE=DURATION:PT1H
X-Robots-Tag:noindex
X-PUBLISHED-TTL:PT1H
BEGIN:VTIMEZONE
TZID:America/New_York
BEGIN:DAYLIGHT
TZOFFSETFROM:-0500
TZOFFSETTO:-0400
TZNAME:EDT
DTSTART:20250309T070000
END:DAYLIGHT
BEGIN:STANDARD
TZOFFSETFROM:-0400
TZOFFSETTO:-0500
TZNAME:EST
DTSTART:20251102T060000
END:STANDARD
BEGIN:DAYLIGHT
TZOFFSETFROM:-0500
TZOFFSETTO:-0400
TZNAME:EDT
DTSTART:20260308T070000
END:DAYLIGHT
BEGIN:STANDARD
TZOFFSETFROM:-0400
TZOFFSETTO:-0500
TZNAME:EST
DTSTART:20261101T060000
END:STANDARD
BEGIN:DAYLIGHT
TZOFFSETFROM:-0500
TZOFFSETTO:-0400
TZNAME:EDT
DTSTART:20270314T070000
END:DAYLIGHT
BEGIN:STANDARD
TZOFFSETFROM:-0400
TZOFFSETTO:-0500
TZNAME:EST
DTSTART:20271107T060000
END:STANDARD
END:VTIMEZONE
BEGIN:VEVENT
DTSTART;VALUE=DATE:20260316
DTEND;VALUE=DATE:20260318
DTSTAMP:20260425T114825
CREATED:20250111T092959Z
LAST-MODIFIED:20260316T200127Z
UID:10008724-1773630000-1773716399@livemusicasheville.com
SUMMARY:Double Check With The Venue On Tonight’s Shows
DESCRIPTION:
URL:https://livemusicasheville.com/calendar/check-with-the-venue-on-the-saturday-show/
LOCATION:Asheville Area
CATEGORIES:Asheville Area,Black Mountain,DJ/Electronic,Fairview,Live Music,Madison County,Mills River,South Asheville/Arden/Fletcher,Weaverville
ATTACH;FMTTYPE=image/jpeg:https://livemusicasheville.com/wp-content/uploads/2025/01/596610246_1400576054767311_1159857922949342097_n-e1771869228478.jpg
END:VEVENT
BEGIN:VEVENT
DTSTART;VALUE=DATE:20260318
DTEND;VALUE=DATE:20260320
DTSTAMP:20260425T114825
CREATED:20250309T145031Z
LAST-MODIFIED:20260310T140019Z
UID:10027819-1773802800-1773889199@livemusicasheville.com
SUMMARY:Ask About Our Featured Listings
DESCRIPTION:Established in February 2019\, LiveMusicAsheville.com now reaches thousands of people every week actively searching for live music in the Asheville area. Roughly 60% of our traffic comes from Google Search as we dominate the top of the results for queries such as “Asheville live music” & “live music Asheville”. Meanwhile our direct traffic is experiencing explosive growth\, proving more locals are now using us as their go-to music calendar. \nOur free listings include just the basics of Who’s Playin’ Where & When. We offer Descriptive Listings at just $5 per event to help you guide viewers to your event. These listings include up to 30 words but do not include links.  \nOur Featured Listings really stand out among the dozens of events on the calendar every day. While we update every Wednesday for the following Friday thru Thursday\, these Featured Listings are published much sooner and include your picture or poster\, a description of the event and the venue\, website/ticket links and a Google map. We also share these events on our social media stories to help further promote your show. \n 
URL:https://livemusicasheville.com/calendar/ask-about-our-featured-listings/2026-03-18/
LOCATION:LiveMusicAsheville.com\, ASHEVILLE\, NC\, 28803\, United States
CATEGORIES:Asheville Area,Black Mountain,Fairview,Live Music,Madison County,Mills River,South Asheville/Arden/Fletcher,Weaverville
ATTACH;FMTTYPE=image/jpeg:https://livemusicasheville.com/wp-content/uploads/2026/02/IMG_4145-e1770855289327.jpeg
ORGANIZER;CN="LiveMusicAsheville.com":MAILTO:livemusicasheville@gmail.com
GEO:35.5671423;-82.5437614
END:VEVENT
BEGIN:VEVENT
DTSTART;TZID=America/New_York:20260319T173000
DTEND;TZID=America/New_York:20260319T193000
DTSTAMP:20260425T114825
CREATED:20250611T205958Z
LAST-MODIFIED:20260311T163019Z
UID:10015799-1773941400-1773948600@livemusicasheville.com
SUMMARY:Frances Eliza
DESCRIPTION:
URL:https://livemusicasheville.com/calendar/frances-eliza-3/
LOCATION:12 Bones Brewing
CATEGORIES:Asheville Area,Live Music,South Asheville/Arden/Fletcher
END:VEVENT
BEGIN:VEVENT
DTSTART;TZID=America/New_York:20260319T180000
DTEND;TZID=America/New_York:20260319T210000
DTSTAMP:20260425T114825
CREATED:20260122T191302Z
LAST-MODIFIED:20260122T191304Z
UID:10025476-1773943200-1773954000@livemusicasheville.com
SUMMARY:Aaron LaFalce
DESCRIPTION:
URL:https://livemusicasheville.com/calendar/aaron-lafalce-2-2-2-2/2026-03-19/
LOCATION:131 Main Biltmore Park
CATEGORIES:Live Music,South Asheville/Arden/Fletcher
END:VEVENT
BEGIN:VEVENT
DTSTART;TZID=America/New_York:20260319T190000
DTEND;TZID=America/New_York:20260320T020000
DTSTAMP:20260425T114825
CREATED:20251121T203604Z
LAST-MODIFIED:20260422T115043Z
UID:10033306-1773946800-1773972000@livemusicasheville.com
SUMMARY:Thursday Karaoke
DESCRIPTION:Please verify times and KJ with the venue! \n  \nTurgua Brewing Fairview – 6-8pm (April 16) \nAsheville Sports Club – 7-10pm \nThe Social East Asheville – 7-11pm \nDaddy Mac’s Downhome Dive – 8-11pm \nShiloh and Gaines – 8-11pm \nVOWL – 8-11pm  \nFleetwoods – 8pm-12am (April 23 indie/punk) \nStatic Age Loft 10pm-2am \nShakeys Dive Bar 9pm-2am
URL:https://livemusicasheville.com/calendar/thursday-weekly-karaoke-2/2026-03-19/
LOCATION:Asheville Area
CATEGORIES:Asheville Area,Karaoke,Madison County,South Asheville/Arden/Fletcher
END:VEVENT
BEGIN:VEVENT
DTSTART;TZID=America/New_York:20260320T180000
DTEND;TZID=America/New_York:20260320T210000
DTSTAMP:20260425T114825
CREATED:20250507T131254Z
LAST-MODIFIED:20260318T160355Z
UID:10013870-1774029600-1774040400@livemusicasheville.com
SUMMARY:Live Music: Jay Dee Gee
DESCRIPTION:
URL:https://livemusicasheville.com/calendar/live-music-jay-dee/
LOCATION:Auction House Food Hall Fletcher
CATEGORIES:Asheville Area,Live Music,South Asheville/Arden/Fletcher
GEO:35.4306652;-82.5019658
END:VEVENT
BEGIN:VEVENT
DTSTART;TZID=America/New_York:20260320T180000
DTEND;TZID=America/New_York:20260320T230000
DTSTAMP:20260425T114825
CREATED:20250207T164158Z
LAST-MODIFIED:20260422T131528Z
UID:10028141-1774029600-1774047600@livemusicasheville.com
SUMMARY:Friday Open Mic/Jam
DESCRIPTION:Flora Asheville – 5:30-7:30pm (April 17) \nTurgua Brewing Fairview – 6-8pm (2nd & 4th Fridays) \nCoffee\, Art\, Music type Place – 6-8pm (First Fridays) \nWagWorld Pub Fletcher – 6:30-9:30pm \nElevated Kava Downtown – 8-11
URL:https://livemusicasheville.com/calendar/friday-open-mic-jam/2026-03-20/
LOCATION:Asheville Area
CATEGORIES:Asheville Area,Madison County,Open MIc/Jam,South Asheville/Arden/Fletcher
END:VEVENT
BEGIN:VEVENT
DTSTART;TZID=America/New_York:20260320T190000
DTEND;TZID=America/New_York:20260320T210000
DTSTAMP:20260425T114825
CREATED:20251029T132808Z
LAST-MODIFIED:20260415T133603Z
UID:10056849-1774033200-1774040400@livemusicasheville.com
SUMMARY:Grass Is Back!
DESCRIPTION:No Cover – Donations accepted!\n\n\n\n\nApril 17 – Lynn Goldsmith & The Jeter Mountain Band\nApril 24 – New Carolina Connection Band\nMay 1 – Harlan County Grass\nMay 8 – Mulley Holler Band\nMay 15- Travis Watts & Mountain Blessings\nMay 22 – Hit or Miss Bluegrass & Country Band
URL:https://livemusicasheville.com/calendar/grass-is-back-3/2026-03-20/
LOCATION:Feed and Seed Fletcher
CATEGORIES:Asheville Area,Live Music,South Asheville/Arden/Fletcher
END:VEVENT
BEGIN:VEVENT
DTSTART;TZID=America/New_York:20260320T200000
DTEND;TZID=America/New_York:20260320T220000
DTSTAMP:20260425T114825
CREATED:20250806T231218Z
LAST-MODIFIED:20260318T195753Z
UID:10018650-1774036800-1774044000@livemusicasheville.com
SUMMARY:Raphael Graves
DESCRIPTION:
URL:https://livemusicasheville.com/calendar/raphael-graves-2/
LOCATION:Mudpuppies Arden
CATEGORIES:Asheville Area,Live Music,South Asheville/Arden/Fletcher
GEO:35.4440387;-82.5322387
END:VEVENT
BEGIN:VEVENT
DTSTART;TZID=America/New_York:20260320T200000
DTEND;TZID=America/New_York:20260320T230000
DTSTAMP:20260425T114825
CREATED:20250711T192233Z
LAST-MODIFIED:20260116T152048Z
UID:10028216-1774036800-1774047600@livemusicasheville.com
SUMMARY:Commodore Fox Band
DESCRIPTION:
URL:https://livemusicasheville.com/calendar/commodore-fox-band-2/2026-03-20/
LOCATION:Wild Wing Cafe South
CATEGORIES:Live Music,South Asheville/Arden/Fletcher
END:VEVENT
BEGIN:VEVENT
DTSTART;TZID=America/New_York:20260321T140000
DTEND;TZID=America/New_York:20260321T170000
DTSTAMP:20260425T114825
CREATED:20250421T193849Z
LAST-MODIFIED:20260318T131131Z
UID:10012996-1774101600-1774112400@livemusicasheville.com
SUMMARY:Aaron LaFalce Live
DESCRIPTION:
URL:https://livemusicasheville.com/calendar/outdoor-business-alliance-get-in-gear-fest-w-aaron-lafalce/
LOCATION:Souther Williams Vineyard Fletcher
CATEGORIES:Asheville Area,Live Music,South Asheville/Arden/Fletcher
GEO:35.4412197;-82.4387393
END:VEVENT
BEGIN:VEVENT
DTSTART;TZID=America/New_York:20260321T140000
DTEND;TZID=America/New_York:20260321T170000
DTSTAMP:20260425T114825
CREATED:20250903T135246Z
LAST-MODIFIED:20260418T132522Z
UID:10020551-1774101600-1774112400@livemusicasheville.com
SUMMARY:Eric Congdon
DESCRIPTION:
URL:https://livemusicasheville.com/calendar/eric-congdon-2/
LOCATION:Souther Williams Vineyard Fletcher
CATEGORIES:Asheville Area,Live Music,South Asheville/Arden/Fletcher
GEO:35.4412197;-82.4387393
END:VEVENT
BEGIN:VEVENT
DTSTART;TZID=America/New_York:20260322T140000
DTEND;TZID=America/New_York:20260322T170000
DTSTAMP:20260425T114825
CREATED:20260318T131239Z
LAST-MODIFIED:20260318T131239Z
UID:10049700-1774188000-1774198800@livemusicasheville.com
SUMMARY:Highway 52
DESCRIPTION:
URL:https://livemusicasheville.com/calendar/highway-52-2/
LOCATION:Souther Williams Vineyard Fletcher
CATEGORIES:Asheville Area,Live Music,South Asheville/Arden/Fletcher
GEO:35.4412197;-82.4387393
END:VEVENT
BEGIN:VEVENT
DTSTART;TZID=America/New_York:20260322T160000
DTEND;TZID=America/New_York:20260323T020000
DTSTAMP:20260425T114825
CREATED:20260125T153955Z
LAST-MODIFIED:20260412T125122Z
UID:10026766-1774195200-1774231200@livemusicasheville.com
SUMMARY:Sunday Karaoke
DESCRIPTION:T Birds Weaverville – 4-8pm \nStatic Age Loft – 6-9pm (April 12) \nEda’s Hideaway Weaverville – 7-10pm \nBanks Ave – 9pm-12am \nThe Social East Asheville – 9pm-12am (exclude Feb 8) \nThe Double Crown – 10pm-2am \nPlease verify with the venue on times and KJ. \n 
URL:https://livemusicasheville.com/calendar/sunday-karaoke-2/2026-03-22/
LOCATION:Asheville Area
CATEGORIES:Asheville Area,Black Mountain,Karaoke,South Asheville/Arden/Fletcher,Weaverville
END:VEVENT
BEGIN:VEVENT
DTSTART;VALUE=DATE:20260325
DTEND;VALUE=DATE:20260327
DTSTAMP:20260425T114825
CREATED:20250309T145031Z
LAST-MODIFIED:20260310T140019Z
UID:10027820-1774407600-1774493999@livemusicasheville.com
SUMMARY:Ask About Our Featured Listings
DESCRIPTION:Established in February 2019\, LiveMusicAsheville.com now reaches thousands of people every week actively searching for live music in the Asheville area. Roughly 60% of our traffic comes from Google Search as we dominate the top of the results for queries such as “Asheville live music” & “live music Asheville”. Meanwhile our direct traffic is experiencing explosive growth\, proving more locals are now using us as their go-to music calendar. \nOur free listings include just the basics of Who’s Playin’ Where & When. We offer Descriptive Listings at just $5 per event to help you guide viewers to your event. These listings include up to 30 words but do not include links.  \nOur Featured Listings really stand out among the dozens of events on the calendar every day. While we update every Wednesday for the following Friday thru Thursday\, these Featured Listings are published much sooner and include your picture or poster\, a description of the event and the venue\, website/ticket links and a Google map. We also share these events on our social media stories to help further promote your show. \n 
URL:https://livemusicasheville.com/calendar/ask-about-our-featured-listings/2026-03-25/
LOCATION:LiveMusicAsheville.com\, ASHEVILLE\, NC\, 28803\, United States
CATEGORIES:Asheville Area,Black Mountain,Fairview,Live Music,Madison County,Mills River,South Asheville/Arden/Fletcher,Weaverville
ATTACH;FMTTYPE=image/jpeg:https://livemusicasheville.com/wp-content/uploads/2026/02/IMG_4145-e1770855289327.jpeg
ORGANIZER;CN="LiveMusicAsheville.com":MAILTO:livemusicasheville@gmail.com
GEO:35.5671423;-82.5437614
END:VEVENT
BEGIN:VEVENT
DTSTART;TZID=America/New_York:20260326T180000
DTEND;TZID=America/New_York:20260326T210000
DTSTAMP:20260425T114825
CREATED:20260122T191302Z
LAST-MODIFIED:20260122T191304Z
UID:10025477-1774548000-1774558800@livemusicasheville.com
SUMMARY:Aaron LaFalce
DESCRIPTION:
URL:https://livemusicasheville.com/calendar/aaron-lafalce-2-2-2-2/2026-03-26/
LOCATION:131 Main Biltmore Park
CATEGORIES:Live Music,South Asheville/Arden/Fletcher
END:VEVENT
BEGIN:VEVENT
DTSTART;TZID=America/New_York:20260326T190000
DTEND;TZID=America/New_York:20260327T020000
DTSTAMP:20260425T114825
CREATED:20251121T203604Z
LAST-MODIFIED:20260422T115043Z
UID:10033307-1774551600-1774576800@livemusicasheville.com
SUMMARY:Thursday Karaoke
DESCRIPTION:Please verify times and KJ with the venue! \n  \nTurgua Brewing Fairview – 6-8pm (April 16) \nAsheville Sports Club – 7-10pm \nThe Social East Asheville – 7-11pm \nDaddy Mac’s Downhome Dive – 8-11pm \nShiloh and Gaines – 8-11pm \nVOWL – 8-11pm  \nFleetwoods – 8pm-12am (April 23 indie/punk) \nStatic Age Loft 10pm-2am \nShakeys Dive Bar 9pm-2am
URL:https://livemusicasheville.com/calendar/thursday-weekly-karaoke-2/2026-03-26/
LOCATION:Asheville Area
CATEGORIES:Asheville Area,Karaoke,Madison County,South Asheville/Arden/Fletcher
END:VEVENT
BEGIN:VEVENT
DTSTART;TZID=America/New_York:20260327T180000
DTEND;TZID=America/New_York:20260327T203000
DTSTAMP:20260425T114825
CREATED:20260318T154627Z
LAST-MODIFIED:20260318T154627Z
UID:10049708-1774634400-1774643400@livemusicasheville.com
SUMMARY:Larry Keel & Jon Stickley Duo
DESCRIPTION:
URL:https://livemusicasheville.com/calendar/larry-keel-jon-stickley-duo-2/
LOCATION:Sierra Nevada Mills River\, 100 Sierra Nevada Way\, Mills River\, NC\, 28732
CATEGORIES:Asheville Area,Live Music,Mills River,South Asheville/Arden/Fletcher
GEO:35.4308568;-82.5535594
X-APPLE-STRUCTURED-LOCATION;VALUE=URI;X-ADDRESS=Sierra Nevada Mills River 100 Sierra Nevada Way Mills River NC 28732;X-APPLE-RADIUS=500;X-TITLE=100 Sierra Nevada Way:geo:-82.5535594,35.4308568
END:VEVENT
BEGIN:VEVENT
DTSTART;TZID=America/New_York:20260327T180000
DTEND;TZID=America/New_York:20260327T210000
DTSTAMP:20260425T114825
CREATED:20260325T181459Z
LAST-MODIFIED:20260325T181459Z
UID:10052643-1774634400-1774645200@livemusicasheville.com
SUMMARY:Uncle Bruce
DESCRIPTION:
URL:https://livemusicasheville.com/calendar/uncle-bruce/
LOCATION:Auction House Food Hall Fletcher
CATEGORIES:Asheville Area,Live Music,South Asheville/Arden/Fletcher
GEO:35.4306652;-82.5019658
END:VEVENT
BEGIN:VEVENT
DTSTART;TZID=America/New_York:20260327T180000
DTEND;TZID=America/New_York:20260327T230000
DTSTAMP:20260425T114825
CREATED:20250207T164158Z
LAST-MODIFIED:20260422T131528Z
UID:10028142-1774634400-1774652400@livemusicasheville.com
SUMMARY:Friday Open Mic/Jam
DESCRIPTION:Flora Asheville – 5:30-7:30pm (April 17) \nTurgua Brewing Fairview – 6-8pm (2nd & 4th Fridays) \nCoffee\, Art\, Music type Place – 6-8pm (First Fridays) \nWagWorld Pub Fletcher – 6:30-9:30pm \nElevated Kava Downtown – 8-11
URL:https://livemusicasheville.com/calendar/friday-open-mic-jam/2026-03-27/
LOCATION:Asheville Area
CATEGORIES:Asheville Area,Madison County,Open MIc/Jam,South Asheville/Arden/Fletcher
END:VEVENT
BEGIN:VEVENT
DTSTART;TZID=America/New_York:20260327T190000
DTEND;TZID=America/New_York:20260327T210000
DTSTAMP:20260425T114825
CREATED:20251029T132808Z
LAST-MODIFIED:20260415T133603Z
UID:10056850-1774638000-1774645200@livemusicasheville.com
SUMMARY:Grass Is Back!
DESCRIPTION:No Cover – Donations accepted!\n\n\n\n\nApril 17 – Lynn Goldsmith & The Jeter Mountain Band\nApril 24 – New Carolina Connection Band\nMay 1 – Harlan County Grass\nMay 8 – Mulley Holler Band\nMay 15- Travis Watts & Mountain Blessings\nMay 22 – Hit or Miss Bluegrass & Country Band
URL:https://livemusicasheville.com/calendar/grass-is-back-3/2026-03-27/
LOCATION:Feed and Seed Fletcher
CATEGORIES:Asheville Area,Live Music,South Asheville/Arden/Fletcher
END:VEVENT
BEGIN:VEVENT
DTSTART;TZID=America/New_York:20260327T200000
DTEND;TZID=America/New_York:20260327T220000
DTSTAMP:20260425T114825
CREATED:20260325T192752Z
LAST-MODIFIED:20260325T192752Z
UID:10052664-1774641600-1774648800@livemusicasheville.com
SUMMARY:Blue Stump
DESCRIPTION:
URL:https://livemusicasheville.com/calendar/blue-stump/
LOCATION:Mudpuppies Arden
CATEGORIES:Asheville Area,Live Music,South Asheville/Arden/Fletcher
GEO:35.4440387;-82.5322387
END:VEVENT
BEGIN:VEVENT
DTSTART;TZID=America/New_York:20260327T200000
DTEND;TZID=America/New_York:20260327T230000
DTSTAMP:20260425T114825
CREATED:20250711T192233Z
LAST-MODIFIED:20260116T152048Z
UID:10028217-1774641600-1774652400@livemusicasheville.com
SUMMARY:Commodore Fox Band
DESCRIPTION:
URL:https://livemusicasheville.com/calendar/commodore-fox-band-2/2026-03-27/
LOCATION:Wild Wing Cafe South
CATEGORIES:Live Music,South Asheville/Arden/Fletcher
END:VEVENT
BEGIN:VEVENT
DTSTART;TZID=America/New_York:20260328T140000
DTEND;TZID=America/New_York:20260328T170000
DTSTAMP:20260425T114825
CREATED:20251022T135633Z
LAST-MODIFIED:20260325T150139Z
UID:10022952-1774706400-1774717200@livemusicasheville.com
SUMMARY:Raphael Graves
DESCRIPTION:
URL:https://livemusicasheville.com/calendar/raphael-graves-and-dylan-hannan/
LOCATION:Souther Williams Vineyard Fletcher
CATEGORIES:Asheville Area,Live Music,South Asheville/Arden/Fletcher
GEO:35.4412197;-82.4387393
END:VEVENT
BEGIN:VEVENT
DTSTART;TZID=America/New_York:20260329T140000
DTEND;TZID=America/New_York:20260329T170000
DTSTAMP:20260425T114825
CREATED:20250205T154034Z
LAST-MODIFIED:20260325T150214Z
UID:10007711-1774792800-1774803600@livemusicasheville.com
SUMMARY:Dan Lane
DESCRIPTION:
URL:https://livemusicasheville.com/calendar/dan-lane/
LOCATION:Souther Williams Vineyard Fletcher
CATEGORIES:Asheville Area,Live Music,South Asheville/Arden/Fletcher
GEO:35.4412197;-82.4387393
END:VEVENT
BEGIN:VEVENT
DTSTART;TZID=America/New_York:20260329T160000
DTEND;TZID=America/New_York:20260330T020000
DTSTAMP:20260425T114825
CREATED:20260125T153955Z
LAST-MODIFIED:20260412T125122Z
UID:10026767-1774800000-1774836000@livemusicasheville.com
SUMMARY:Sunday Karaoke
DESCRIPTION:T Birds Weaverville – 4-8pm \nStatic Age Loft – 6-9pm (April 12) \nEda’s Hideaway Weaverville – 7-10pm \nBanks Ave – 9pm-12am \nThe Social East Asheville – 9pm-12am (exclude Feb 8) \nThe Double Crown – 10pm-2am \nPlease verify with the venue on times and KJ. \n 
URL:https://livemusicasheville.com/calendar/sunday-karaoke-2/2026-03-29/
LOCATION:Asheville Area
CATEGORIES:Asheville Area,Black Mountain,Karaoke,South Asheville/Arden/Fletcher,Weaverville
END:VEVENT
BEGIN:VEVENT
DTSTART;VALUE=DATE:20260401
DTEND;VALUE=DATE:20260403
DTSTAMP:20260425T114825
CREATED:20250309T145031Z
LAST-MODIFIED:20260310T140019Z
UID:10027821-1775012400-1775098799@livemusicasheville.com
SUMMARY:Ask About Our Featured Listings
DESCRIPTION:Established in February 2019\, LiveMusicAsheville.com now reaches thousands of people every week actively searching for live music in the Asheville area. Roughly 60% of our traffic comes from Google Search as we dominate the top of the results for queries such as “Asheville live music” & “live music Asheville”. Meanwhile our direct traffic is experiencing explosive growth\, proving more locals are now using us as their go-to music calendar. \nOur free listings include just the basics of Who’s Playin’ Where & When. We offer Descriptive Listings at just $5 per event to help you guide viewers to your event. These listings include up to 30 words but do not include links.  \nOur Featured Listings really stand out among the dozens of events on the calendar every day. While we update every Wednesday for the following Friday thru Thursday\, these Featured Listings are published much sooner and include your picture or poster\, a description of the event and the venue\, website/ticket links and a Google map. We also share these events on our social media stories to help further promote your show. \n 
URL:https://livemusicasheville.com/calendar/ask-about-our-featured-listings/2026-04-01/
LOCATION:LiveMusicAsheville.com\, ASHEVILLE\, NC\, 28803\, United States
CATEGORIES:Asheville Area,Black Mountain,Fairview,Live Music,Madison County,Mills River,South Asheville/Arden/Fletcher,Weaverville
ATTACH;FMTTYPE=image/jpeg:https://livemusicasheville.com/wp-content/uploads/2026/02/IMG_4145-e1770855289327.jpeg
ORGANIZER;CN="LiveMusicAsheville.com":MAILTO:livemusicasheville@gmail.com
GEO:35.5671423;-82.5437614
END:VEVENT
BEGIN:VEVENT
DTSTART;TZID=America/New_York:20260402T173000
DTEND;TZID=America/New_York:20260402T193000
DTSTAMP:20260425T114825
CREATED:20260325T183759Z
LAST-MODIFIED:20260325T183759Z
UID:10052651-1775151000-1775158200@livemusicasheville.com
SUMMARY:Michael Corwin
DESCRIPTION:
URL:https://livemusicasheville.com/calendar/michael-corwin-4/
LOCATION:12 Bones Brewing
CATEGORIES:Asheville Area,Live Music,South Asheville/Arden/Fletcher
END:VEVENT
BEGIN:VEVENT
DTSTART;TZID=America/New_York:20260402T180000
DTEND;TZID=America/New_York:20260402T210000
DTSTAMP:20260425T114825
CREATED:20260122T191302Z
LAST-MODIFIED:20260122T191304Z
UID:10025478-1775152800-1775163600@livemusicasheville.com
SUMMARY:Aaron LaFalce
DESCRIPTION:
URL:https://livemusicasheville.com/calendar/aaron-lafalce-2-2-2-2/2026-04-02/
LOCATION:131 Main Biltmore Park
CATEGORIES:Live Music,South Asheville/Arden/Fletcher
END:VEVENT
BEGIN:VEVENT
DTSTART;TZID=America/New_York:20260402T190000
DTEND;TZID=America/New_York:20260403T020000
DTSTAMP:20260425T114825
CREATED:20251121T203604Z
LAST-MODIFIED:20260422T115043Z
UID:10033308-1775156400-1775181600@livemusicasheville.com
SUMMARY:Thursday Karaoke
DESCRIPTION:Please verify times and KJ with the venue! \n  \nTurgua Brewing Fairview – 6-8pm (April 16) \nAsheville Sports Club – 7-10pm \nThe Social East Asheville – 7-11pm \nDaddy Mac’s Downhome Dive – 8-11pm \nShiloh and Gaines – 8-11pm \nVOWL – 8-11pm  \nFleetwoods – 8pm-12am (April 23 indie/punk) \nStatic Age Loft 10pm-2am \nShakeys Dive Bar 9pm-2am
URL:https://livemusicasheville.com/calendar/thursday-weekly-karaoke-2/2026-04-02/
LOCATION:Asheville Area
CATEGORIES:Asheville Area,Karaoke,Madison County,South Asheville/Arden/Fletcher
END:VEVENT
END:VCALENDAR