BEGIN:VCALENDAR
VERSION:2.0
PRODID:-//LiveMusicAsheville.com - ECPv6.15.20//NONSGML v1.0//EN
CALSCALE:GREGORIAN
METHOD:PUBLISH
X-ORIGINAL-URL:https://livemusicasheville.com
X-WR-CALDESC:Events for LiveMusicAsheville.com
REFRESH-INTERVAL;VALUE=DURATION:PT1H
X-Robots-Tag:noindex
X-PUBLISHED-TTL:PT1H
BEGIN:VTIMEZONE
TZID:America/New_York
BEGIN:DAYLIGHT
TZOFFSETFROM:-0500
TZOFFSETTO:-0400
TZNAME:EDT
DTSTART:20250309T070000
END:DAYLIGHT
BEGIN:STANDARD
TZOFFSETFROM:-0400
TZOFFSETTO:-0500
TZNAME:EST
DTSTART:20251102T060000
END:STANDARD
BEGIN:DAYLIGHT
TZOFFSETFROM:-0500
TZOFFSETTO:-0400
TZNAME:EDT
DTSTART:20260308T070000
END:DAYLIGHT
BEGIN:STANDARD
TZOFFSETFROM:-0400
TZOFFSETTO:-0500
TZNAME:EST
DTSTART:20261101T060000
END:STANDARD
BEGIN:DAYLIGHT
TZOFFSETFROM:-0500
TZOFFSETTO:-0400
TZNAME:EDT
DTSTART:20270314T070000
END:DAYLIGHT
BEGIN:STANDARD
TZOFFSETFROM:-0400
TZOFFSETTO:-0500
TZNAME:EST
DTSTART:20271107T060000
END:STANDARD
END:VTIMEZONE
BEGIN:VEVENT
DTSTART;TZID=America/New_York:20260416T180000
DTEND;TZID=America/New_York:20260416T210000
DTSTAMP:20260419T093850
CREATED:20260408T134344Z
LAST-MODIFIED:20260408T134344Z
UID:10055704-1776362400-1776373200@livemusicasheville.com
SUMMARY:Trent Rash
DESCRIPTION:
URL:https://livemusicasheville.com/calendar/trent-rash/
LOCATION:Mad Co. Brew House Marshall
CATEGORIES:Asheville Area,Live Music,Madison County
END:VEVENT
BEGIN:VEVENT
DTSTART;TZID=America/New_York:20260416T190000
DTEND;TZID=America/New_York:20260417T020000
DTSTAMP:20260419T093850
CREATED:20251121T203604Z
LAST-MODIFIED:20260408T185204Z
UID:10033310-1776366000-1776391200@livemusicasheville.com
SUMMARY:Thursday Karaoke
DESCRIPTION:Please verify times and KJ with the venue! \n  \nTurgua Brewing Fairview – 6-8pm (April 16) \nAsheville Sports Club – 7-10pm \nThe Social East Asheville – 7-11pm \nDaddy Mac’s Downhome Dive – 8-11pm \nShiloh and Gaines – 8-11pm \nVOWL – 8-11pm \nPapertown Billiards Canton – 8-11pm  \nStatic Age Loft 10pm-2am \nShakeys Dive Bar 9pm-2am
URL:https://livemusicasheville.com/calendar/thursday-weekly-karaoke-2/2026-04-16/
LOCATION:Asheville Area
CATEGORIES:Asheville Area,Karaoke,Madison County,South Asheville/Arden/Fletcher
END:VEVENT
BEGIN:VEVENT
DTSTART;TZID=America/New_York:20260417T180000
DTEND;TZID=America/New_York:20260417T200000
DTSTAMP:20260419T093850
CREATED:20250611T142955Z
LAST-MODIFIED:20260417T134955Z
UID:10015755-1776448800-1776456000@livemusicasheville.com
SUMMARY:Bonnie Leigh
DESCRIPTION:
URL:https://livemusicasheville.com/calendar/bonnie-leigh/
LOCATION:Twin Willows Mars Hill
CATEGORIES:Asheville Area,Live Music,Madison County
END:VEVENT
BEGIN:VEVENT
DTSTART;TZID=America/New_York:20260417T180000
DTEND;TZID=America/New_York:20260417T210000
DTSTAMP:20260419T093850
CREATED:20250108T163353Z
LAST-MODIFIED:20260415T150342Z
UID:10005477-1776448800-1776459600@livemusicasheville.com
SUMMARY:Kevin Dolan & Paul Koptak
DESCRIPTION:
URL:https://livemusicasheville.com/calendar/kevin-dolan-paul-koptak/
LOCATION:Mad Co. Brew House Marshall
CATEGORIES:Asheville Area,Live Music,Madison County
END:VEVENT
BEGIN:VEVENT
DTSTART;TZID=America/New_York:20260417T180000
DTEND;TZID=America/New_York:20260417T210000
DTSTAMP:20260419T093850
CREATED:20250402T150806Z
LAST-MODIFIED:20260415T141013Z
UID:10011904-1776448800-1776459600@livemusicasheville.com
SUMMARY:Laurel Canyon East
DESCRIPTION:
URL:https://livemusicasheville.com/calendar/laurel-canyon-east-2/
LOCATION:Mars Theatre Brewing Company Mars Hill
CATEGORIES:Asheville Area,Live Music,Madison County
GEO:35.8279363;-82.5483211
END:VEVENT
BEGIN:VEVENT
DTSTART;TZID=America/New_York:20260417T180000
DTEND;TZID=America/New_York:20260417T230000
DTSTAMP:20260419T093850
CREATED:20250207T164158Z
LAST-MODIFIED:20260415T204956Z
UID:10028145-1776448800-1776466800@livemusicasheville.com
SUMMARY:Friday Open Mic/Jam
DESCRIPTION:Flora Asheville – 5:30-7:30pm (April 17) \nTurgua Brewing Fairview – 6-8pm (2nd & 4th Fridays) \nCoffee\, Art\, Music type Place – 6-8pm (First Fridays) \nElevated Kava Downtown – 8-11
URL:https://livemusicasheville.com/calendar/friday-open-mic-jam/2026-04-17/
LOCATION:Asheville Area
CATEGORIES:Asheville Area,Madison County,Open MIc/Jam,South Asheville/Arden/Fletcher
END:VEVENT
BEGIN:VEVENT
DTSTART;TZID=America/New_York:20260417T190000
DTEND;TZID=America/New_York:20260418T010000
DTSTAMP:20260419T093850
CREATED:20241225T141623Z
LAST-MODIFIED:20260416T110217Z
UID:10056336-1776452400-1776474000@livemusicasheville.com
SUMMARY:Friday Karaoke
DESCRIPTION:  \n7-10pm – Mal’s Bar Marshall (February 20) \n7-10pm- Noble Cider (April 10) \n8pm-12am – Silverados Black Mountain \n8-11pm – Dalton Distillery (April 17) \n8-11pm – T Birds Weaverville \n8:30-11pm – The Village Porch Woodfin (April 17) \n8pm-1am – Fleetwoods (Feb 27) \n9pm-12am – Brewskies Fairview   \n9pm-12am – Little Creek Tavern Fletcher  \n9pm-1am – Handlebar & Grill \n9pm- 1am – O’Henrys \n9:30pm-1:30am – The Crowbar Downtown \n10pm – 2am – Shakeys \nVerify time and KJ with The Venue. \n  \n  \n\n 
URL:https://livemusicasheville.com/calendar/friday-weekly-karaoke/2026-04-17/
LOCATION:Asheville Area
CATEGORIES:Asheville Area,Black Mountain,Fairview,Karaoke,Madison County,Weaverville
END:VEVENT
BEGIN:VEVENT
DTSTART;TZID=America/New_York:20260418T120000
DTEND;TZID=America/New_York:20260419T020000
DTSTAMP:20260419T093850
CREATED:20241227T141307Z
LAST-MODIFIED:20260418T155914Z
UID:10004001-1776513600-1776564000@livemusicasheville.com
SUMMARY:More Saturday Electronic/DJs
DESCRIPTION:Although we are primarily a Live Music Calendar\, we often come across Electronic & DJ events in the area and list them as we find out about them. Please verify the DJ\, times and cover charges with the venue. \nThe Mule At Devils Foot Beverages – 12-5pm \nDSSOLVR – 12-6pm \nHarvest Records – 1-5pm (Record Store Day) \nPlant Bar/ Nightshade South Slope – 1pm-2am \nMills River Brewing – 7-11pm \nThe LowDown West Asheville – 9pm-12am \nLittle Jumbo – 9pm-12am \nBarley’s Upstairs 10pm-1am \n 
URL:https://livemusicasheville.com/calendar/additional-saturday-electronic-djs/
LOCATION:Asheville Area
CATEGORIES:Asheville Area,Black Mountain,DJ/Electronic,Madison County
END:VEVENT
BEGIN:VEVENT
DTSTART;TZID=America/New_York:20260418T160000
DTEND;TZID=America/New_York:20260418T190000
DTSTAMP:20260419T093850
CREATED:20260415T203036Z
LAST-MODIFIED:20260415T203036Z
UID:10057439-1776528000-1776538800@livemusicasheville.com
SUMMARY:Beacon of Hope Empty Bowls Dinner w/ Rooster & Pierce Edens
DESCRIPTION:Join us THIS SATURDAY\, April 18th\, 4-7pm at the Marshall High Studios auditorium for a delicious community meal\, including a selection of hearty soups\, home-baked bread and yummy desserts!! (Gluten-free and vegan/vegetarian options will be available.\n\n\nWe’ll have LIVE MUSIC from Rooster & Pierce Edens\, along with a silent auction with so many amazing items!!\nEvent Details and Tickets
URL:https://livemusicasheville.com/calendar/beacon-of-hope-empty-bowls-dinner-w-rooster-pierce-edens/
LOCATION:Marshall High Studios Auditorium
CATEGORIES:Asheville Area,Live Music,Madison County
ATTACH;FMTTYPE=image/jpeg:https://livemusicasheville.com/wp-content/uploads/2026/04/670283732_1358951042927455_56815016786852708_n-e1776285030782.jpg
END:VEVENT
BEGIN:VEVENT
DTSTART;TZID=America/New_York:20260418T180000
DTEND;TZID=America/New_York:20260418T230000
DTSTAMP:20260419T093850
CREATED:20250131T150536Z
LAST-MODIFIED:20251214T224624Z
UID:10028471-1776535200-1776553200@livemusicasheville.com
SUMMARY:The Depot Live Music Show
DESCRIPTION:The Original Marshall Depot washed away in the flood HELENE. Until the New Depot is up and running\, we will continue to have a live music show at the New Depot Twist Again Dance Barn at 439 Cody Road\, Marshall\, NC. A live music show featuring local bands\, dance\, cakewalk\, and fellowship. Admission is FREE\, and Donations are appreciated to help pay the light bill.
URL:https://livemusicasheville.com/calendar/the-depot-live-music-show/2026-04-18/
LOCATION:New Depot Twist Again Dance Barn\, 439 Cody Road\, Marshall\, NC
CATEGORIES:Live Music,Madison County
GEO:35.8317019;-82.6256424
X-APPLE-STRUCTURED-LOCATION;VALUE=URI;X-ADDRESS=New Depot Twist Again Dance Barn 439 Cody Road Marshall NC;X-APPLE-RADIUS=500;X-TITLE=439 Cody Road:geo:-82.6256424,35.8317019
END:VEVENT
BEGIN:VEVENT
DTSTART;TZID=America/New_York:20260418T183000
DTEND;TZID=America/New_York:20260418T203000
DTSTAMP:20260419T093850
CREATED:20260413T164140Z
LAST-MODIFIED:20260413T164140Z
UID:10056668-1776537000-1776544200@livemusicasheville.com
SUMMARY:Wayne Buckner & Shooting Creek
DESCRIPTION:
URL:https://livemusicasheville.com/calendar/wayne-buckner-shooting-creek/
LOCATION:Twin Willows Mars Hill
CATEGORIES:Asheville Area,Live Music,Madison County
END:VEVENT
BEGIN:VEVENT
DTSTART;TZID=America/New_York:20260419T163000
DTEND;TZID=America/New_York:20260419T230000
DTSTAMP:20260419T093850
CREATED:20260208T161244Z
LAST-MODIFIED:20260412T125251Z
UID:10056246-1776616200-1776639600@livemusicasheville.com
SUMMARY:Sunday Open Mic/Jams
DESCRIPTION:  \nBluegrass & Jam @ Zillacoah Beer Co –  4:30-7:30pm (every other Sunday) \nOpen Bluegrass Circle @ The Hound Lounge – 6-9pm (discontinued til spring) \nStory Parlor – 6-9pm (1st Sundays of the month) \nPisgah Brewing Sunday Jam 6:30-9pm \nElevated Kava Lounge – 8-11pm \n 
URL:https://livemusicasheville.com/calendar/sunday-open-mic-2-2/2026-04-19/
LOCATION:Asheville Area
CATEGORIES:Asheville Area,Black Mountain,Madison County,Open MIc/Jam,Weaverville
END:VEVENT
BEGIN:VEVENT
DTSTART;VALUE=DATE:20260422
DTEND;VALUE=DATE:20260424
DTSTAMP:20260419T093850
CREATED:20250309T145031Z
LAST-MODIFIED:20260310T140019Z
UID:10027824-1776826800-1776913199@livemusicasheville.com
SUMMARY:Ask About Our Featured Listings
DESCRIPTION:Established in February 2019\, LiveMusicAsheville.com now reaches thousands of people every week actively searching for live music in the Asheville area. Roughly 60% of our traffic comes from Google Search as we dominate the top of the results for queries such as “Asheville live music” & “live music Asheville”. Meanwhile our direct traffic is experiencing explosive growth\, proving more locals are now using us as their go-to music calendar. \nOur free listings include just the basics of Who’s Playin’ Where & When. We offer Descriptive Listings at just $5 per event to help you guide viewers to your event. These listings include up to 30 words but do not include links.  \nOur Featured Listings really stand out among the dozens of events on the calendar every day. While we update every Wednesday for the following Friday thru Thursday\, these Featured Listings are published much sooner and include your picture or poster\, a description of the event and the venue\, website/ticket links and a Google map. We also share these events on our social media stories to help further promote your show. \n 
URL:https://livemusicasheville.com/calendar/ask-about-our-featured-listings/2026-04-22/
LOCATION:LiveMusicAsheville.com\, ASHEVILLE\, NC\, 28803\, United States
CATEGORIES:Asheville Area,Black Mountain,Fairview,Live Music,Madison County,Mills River,South Asheville/Arden/Fletcher,Weaverville
ATTACH;FMTTYPE=image/jpeg:https://livemusicasheville.com/wp-content/uploads/2026/02/IMG_4145-e1770855289327.jpeg
ORGANIZER;CN="LiveMusicAsheville.com":MAILTO:livemusicasheville@gmail.com
GEO:35.5671423;-82.5437614
END:VEVENT
BEGIN:VEVENT
DTSTART;TZID=America/New_York:20260423T170000
DTEND;TZID=America/New_York:20260423T190000
DTSTAMP:20260419T093850
CREATED:20260314T125134Z
LAST-MODIFIED:20260314T125135Z
UID:10045634-1776963600-1776970800@livemusicasheville.com
SUMMARY:The Candleers
DESCRIPTION:
URL:https://livemusicasheville.com/calendar/the-candleers-2-2-3-2/2026-04-23/
LOCATION:Twin Willows Mars Hill
CATEGORIES:Asheville Area,Live Music,Madison County
END:VEVENT
BEGIN:VEVENT
DTSTART;TZID=America/New_York:20260423T180000
DTEND;TZID=America/New_York:20260423T200000
DTSTAMP:20260419T093850
CREATED:20260415T190425Z
LAST-MODIFIED:20260415T190425Z
UID:10057411-1776967200-1776974400@livemusicasheville.com
SUMMARY:Daniel Shearin
DESCRIPTION:
URL:https://livemusicasheville.com/calendar/daniel-shearin-3/
LOCATION:Zadies Market at The Old Marshall Jail Hotel
CATEGORIES:Asheville Area,Live Music,Madison County
END:VEVENT
BEGIN:VEVENT
DTSTART;TZID=America/New_York:20260423T190000
DTEND;TZID=America/New_York:20260424T020000
DTSTAMP:20260419T093850
CREATED:20251121T203604Z
LAST-MODIFIED:20260408T185204Z
UID:10033311-1776970800-1776996000@livemusicasheville.com
SUMMARY:Thursday Karaoke
DESCRIPTION:Please verify times and KJ with the venue! \n  \nTurgua Brewing Fairview – 6-8pm (April 16) \nAsheville Sports Club – 7-10pm \nThe Social East Asheville – 7-11pm \nDaddy Mac’s Downhome Dive – 8-11pm \nShiloh and Gaines – 8-11pm \nVOWL – 8-11pm \nPapertown Billiards Canton – 8-11pm  \nStatic Age Loft 10pm-2am \nShakeys Dive Bar 9pm-2am
URL:https://livemusicasheville.com/calendar/thursday-weekly-karaoke-2/2026-04-23/
LOCATION:Asheville Area
CATEGORIES:Asheville Area,Karaoke,Madison County,South Asheville/Arden/Fletcher
END:VEVENT
BEGIN:VEVENT
DTSTART;TZID=America/New_York:20260424T180000
DTEND;TZID=America/New_York:20260424T230000
DTSTAMP:20260419T093850
CREATED:20250207T164158Z
LAST-MODIFIED:20260415T204956Z
UID:10028146-1777053600-1777071600@livemusicasheville.com
SUMMARY:Friday Open Mic/Jam
DESCRIPTION:Flora Asheville – 5:30-7:30pm (April 17) \nTurgua Brewing Fairview – 6-8pm (2nd & 4th Fridays) \nCoffee\, Art\, Music type Place – 6-8pm (First Fridays) \nElevated Kava Downtown – 8-11
URL:https://livemusicasheville.com/calendar/friday-open-mic-jam/2026-04-24/
LOCATION:Asheville Area
CATEGORIES:Asheville Area,Madison County,Open MIc/Jam,South Asheville/Arden/Fletcher
END:VEVENT
BEGIN:VEVENT
DTSTART;TZID=America/New_York:20260424T190000
DTEND;TZID=America/New_York:20260425T010000
DTSTAMP:20260419T093850
CREATED:20241225T141623Z
LAST-MODIFIED:20260416T110217Z
UID:10056337-1777057200-1777078800@livemusicasheville.com
SUMMARY:Friday Karaoke
DESCRIPTION:  \n7-10pm – Mal’s Bar Marshall (February 20) \n7-10pm- Noble Cider (April 10) \n8pm-12am – Silverados Black Mountain \n8-11pm – Dalton Distillery (April 17) \n8-11pm – T Birds Weaverville \n8:30-11pm – The Village Porch Woodfin (April 17) \n8pm-1am – Fleetwoods (Feb 27) \n9pm-12am – Brewskies Fairview   \n9pm-12am – Little Creek Tavern Fletcher  \n9pm-1am – Handlebar & Grill \n9pm- 1am – O’Henrys \n9:30pm-1:30am – The Crowbar Downtown \n10pm – 2am – Shakeys \nVerify time and KJ with The Venue. \n  \n  \n\n 
URL:https://livemusicasheville.com/calendar/friday-weekly-karaoke/2026-04-24/
LOCATION:Asheville Area
CATEGORIES:Asheville Area,Black Mountain,Fairview,Karaoke,Madison County,Weaverville
END:VEVENT
BEGIN:VEVENT
DTSTART;TZID=America/New_York:20260425T180000
DTEND;TZID=America/New_York:20260425T230000
DTSTAMP:20260419T093850
CREATED:20250131T150536Z
LAST-MODIFIED:20251214T224624Z
UID:10028472-1777140000-1777158000@livemusicasheville.com
SUMMARY:The Depot Live Music Show
DESCRIPTION:The Original Marshall Depot washed away in the flood HELENE. Until the New Depot is up and running\, we will continue to have a live music show at the New Depot Twist Again Dance Barn at 439 Cody Road\, Marshall\, NC. A live music show featuring local bands\, dance\, cakewalk\, and fellowship. Admission is FREE\, and Donations are appreciated to help pay the light bill.
URL:https://livemusicasheville.com/calendar/the-depot-live-music-show/2026-04-25/
LOCATION:New Depot Twist Again Dance Barn\, 439 Cody Road\, Marshall\, NC
CATEGORIES:Live Music,Madison County
GEO:35.8317019;-82.6256424
X-APPLE-STRUCTURED-LOCATION;VALUE=URI;X-ADDRESS=New Depot Twist Again Dance Barn 439 Cody Road Marshall NC;X-APPLE-RADIUS=500;X-TITLE=439 Cody Road:geo:-82.6256424,35.8317019
END:VEVENT
BEGIN:VEVENT
DTSTART;TZID=America/New_York:20260426T163000
DTEND;TZID=America/New_York:20260426T230000
DTSTAMP:20260419T093850
CREATED:20260208T161244Z
LAST-MODIFIED:20260412T125251Z
UID:10056247-1777221000-1777244400@livemusicasheville.com
SUMMARY:Sunday Open Mic/Jams
DESCRIPTION:  \nBluegrass & Jam @ Zillacoah Beer Co –  4:30-7:30pm (every other Sunday) \nOpen Bluegrass Circle @ The Hound Lounge – 6-9pm (discontinued til spring) \nStory Parlor – 6-9pm (1st Sundays of the month) \nPisgah Brewing Sunday Jam 6:30-9pm \nElevated Kava Lounge – 8-11pm \n 
URL:https://livemusicasheville.com/calendar/sunday-open-mic-2-2/2026-04-26/
LOCATION:Asheville Area
CATEGORIES:Asheville Area,Black Mountain,Madison County,Open MIc/Jam,Weaverville
END:VEVENT
BEGIN:VEVENT
DTSTART;VALUE=DATE:20260429
DTEND;VALUE=DATE:20260501
DTSTAMP:20260419T093850
CREATED:20250309T145031Z
LAST-MODIFIED:20260310T140019Z
UID:10027825-1777431600-1777517999@livemusicasheville.com
SUMMARY:Ask About Our Featured Listings
DESCRIPTION:Established in February 2019\, LiveMusicAsheville.com now reaches thousands of people every week actively searching for live music in the Asheville area. Roughly 60% of our traffic comes from Google Search as we dominate the top of the results for queries such as “Asheville live music” & “live music Asheville”. Meanwhile our direct traffic is experiencing explosive growth\, proving more locals are now using us as their go-to music calendar. \nOur free listings include just the basics of Who’s Playin’ Where & When. We offer Descriptive Listings at just $5 per event to help you guide viewers to your event. These listings include up to 30 words but do not include links.  \nOur Featured Listings really stand out among the dozens of events on the calendar every day. While we update every Wednesday for the following Friday thru Thursday\, these Featured Listings are published much sooner and include your picture or poster\, a description of the event and the venue\, website/ticket links and a Google map. We also share these events on our social media stories to help further promote your show. \n 
URL:https://livemusicasheville.com/calendar/ask-about-our-featured-listings/2026-04-29/
LOCATION:LiveMusicAsheville.com\, ASHEVILLE\, NC\, 28803\, United States
CATEGORIES:Asheville Area,Black Mountain,Fairview,Live Music,Madison County,Mills River,South Asheville/Arden/Fletcher,Weaverville
ATTACH;FMTTYPE=image/jpeg:https://livemusicasheville.com/wp-content/uploads/2026/02/IMG_4145-e1770855289327.jpeg
ORGANIZER;CN="LiveMusicAsheville.com":MAILTO:livemusicasheville@gmail.com
GEO:35.5671423;-82.5437614
END:VEVENT
BEGIN:VEVENT
DTSTART;TZID=America/New_York:20260430T170000
DTEND;TZID=America/New_York:20260430T190000
DTSTAMP:20260419T093850
CREATED:20260314T125134Z
LAST-MODIFIED:20260314T125135Z
UID:10045635-1777568400-1777575600@livemusicasheville.com
SUMMARY:The Candleers
DESCRIPTION:
URL:https://livemusicasheville.com/calendar/the-candleers-2-2-3-2/2026-04-30/
LOCATION:Twin Willows Mars Hill
CATEGORIES:Asheville Area,Live Music,Madison County
END:VEVENT
BEGIN:VEVENT
DTSTART;TZID=America/New_York:20260430T190000
DTEND;TZID=America/New_York:20260501T020000
DTSTAMP:20260419T093850
CREATED:20251121T203604Z
LAST-MODIFIED:20260408T185204Z
UID:10033312-1777575600-1777600800@livemusicasheville.com
SUMMARY:Thursday Karaoke
DESCRIPTION:Please verify times and KJ with the venue! \n  \nTurgua Brewing Fairview – 6-8pm (April 16) \nAsheville Sports Club – 7-10pm \nThe Social East Asheville – 7-11pm \nDaddy Mac’s Downhome Dive – 8-11pm \nShiloh and Gaines – 8-11pm \nVOWL – 8-11pm \nPapertown Billiards Canton – 8-11pm  \nStatic Age Loft 10pm-2am \nShakeys Dive Bar 9pm-2am
URL:https://livemusicasheville.com/calendar/thursday-weekly-karaoke-2/2026-04-30/
LOCATION:Asheville Area
CATEGORIES:Asheville Area,Karaoke,Madison County,South Asheville/Arden/Fletcher
END:VEVENT
BEGIN:VEVENT
DTSTART;TZID=America/New_York:20260501T180000
DTEND;TZID=America/New_York:20260501T230000
DTSTAMP:20260419T093850
CREATED:20250207T164158Z
LAST-MODIFIED:20260415T204956Z
UID:10028147-1777658400-1777676400@livemusicasheville.com
SUMMARY:Friday Open Mic/Jam
DESCRIPTION:Flora Asheville – 5:30-7:30pm (April 17) \nTurgua Brewing Fairview – 6-8pm (2nd & 4th Fridays) \nCoffee\, Art\, Music type Place – 6-8pm (First Fridays) \nElevated Kava Downtown – 8-11
URL:https://livemusicasheville.com/calendar/friday-open-mic-jam/2026-05-01/
LOCATION:Asheville Area
CATEGORIES:Asheville Area,Madison County,Open MIc/Jam,South Asheville/Arden/Fletcher
END:VEVENT
BEGIN:VEVENT
DTSTART;TZID=America/New_York:20260501T190000
DTEND;TZID=America/New_York:20260502T010000
DTSTAMP:20260419T093850
CREATED:20241225T141623Z
LAST-MODIFIED:20260416T110217Z
UID:10056338-1777662000-1777683600@livemusicasheville.com
SUMMARY:Friday Karaoke
DESCRIPTION:  \n7-10pm – Mal’s Bar Marshall (February 20) \n7-10pm- Noble Cider (April 10) \n8pm-12am – Silverados Black Mountain \n8-11pm – Dalton Distillery (April 17) \n8-11pm – T Birds Weaverville \n8:30-11pm – The Village Porch Woodfin (April 17) \n8pm-1am – Fleetwoods (Feb 27) \n9pm-12am – Brewskies Fairview   \n9pm-12am – Little Creek Tavern Fletcher  \n9pm-1am – Handlebar & Grill \n9pm- 1am – O’Henrys \n9:30pm-1:30am – The Crowbar Downtown \n10pm – 2am – Shakeys \nVerify time and KJ with The Venue. \n  \n  \n\n 
URL:https://livemusicasheville.com/calendar/friday-weekly-karaoke/2026-05-01/
LOCATION:Asheville Area
CATEGORIES:Asheville Area,Black Mountain,Fairview,Karaoke,Madison County,Weaverville
END:VEVENT
BEGIN:VEVENT
DTSTART;TZID=America/New_York:20260502T180000
DTEND;TZID=America/New_York:20260502T230000
DTSTAMP:20260419T093850
CREATED:20250131T150536Z
LAST-MODIFIED:20251214T224624Z
UID:10028473-1777744800-1777762800@livemusicasheville.com
SUMMARY:The Depot Live Music Show
DESCRIPTION:The Original Marshall Depot washed away in the flood HELENE. Until the New Depot is up and running\, we will continue to have a live music show at the New Depot Twist Again Dance Barn at 439 Cody Road\, Marshall\, NC. A live music show featuring local bands\, dance\, cakewalk\, and fellowship. Admission is FREE\, and Donations are appreciated to help pay the light bill.
URL:https://livemusicasheville.com/calendar/the-depot-live-music-show/2026-05-02/
LOCATION:New Depot Twist Again Dance Barn\, 439 Cody Road\, Marshall\, NC
CATEGORIES:Live Music,Madison County
GEO:35.8317019;-82.6256424
X-APPLE-STRUCTURED-LOCATION;VALUE=URI;X-ADDRESS=New Depot Twist Again Dance Barn 439 Cody Road Marshall NC;X-APPLE-RADIUS=500;X-TITLE=439 Cody Road:geo:-82.6256424,35.8317019
END:VEVENT
BEGIN:VEVENT
DTSTART;TZID=America/New_York:20260503T163000
DTEND;TZID=America/New_York:20260503T230000
DTSTAMP:20260419T093850
CREATED:20260208T161244Z
LAST-MODIFIED:20260412T125251Z
UID:10056248-1777825800-1777849200@livemusicasheville.com
SUMMARY:Sunday Open Mic/Jams
DESCRIPTION:  \nBluegrass & Jam @ Zillacoah Beer Co –  4:30-7:30pm (every other Sunday) \nOpen Bluegrass Circle @ The Hound Lounge – 6-9pm (discontinued til spring) \nStory Parlor – 6-9pm (1st Sundays of the month) \nPisgah Brewing Sunday Jam 6:30-9pm \nElevated Kava Lounge – 8-11pm \n 
URL:https://livemusicasheville.com/calendar/sunday-open-mic-2-2/2026-05-03/
LOCATION:Asheville Area
CATEGORIES:Asheville Area,Black Mountain,Madison County,Open MIc/Jam,Weaverville
END:VEVENT
BEGIN:VEVENT
DTSTART;VALUE=DATE:20260506
DTEND;VALUE=DATE:20260508
DTSTAMP:20260419T093850
CREATED:20250309T145031Z
LAST-MODIFIED:20260310T140019Z
UID:10027826-1778036400-1778122799@livemusicasheville.com
SUMMARY:Ask About Our Featured Listings
DESCRIPTION:Established in February 2019\, LiveMusicAsheville.com now reaches thousands of people every week actively searching for live music in the Asheville area. Roughly 60% of our traffic comes from Google Search as we dominate the top of the results for queries such as “Asheville live music” & “live music Asheville”. Meanwhile our direct traffic is experiencing explosive growth\, proving more locals are now using us as their go-to music calendar. \nOur free listings include just the basics of Who’s Playin’ Where & When. We offer Descriptive Listings at just $5 per event to help you guide viewers to your event. These listings include up to 30 words but do not include links.  \nOur Featured Listings really stand out among the dozens of events on the calendar every day. While we update every Wednesday for the following Friday thru Thursday\, these Featured Listings are published much sooner and include your picture or poster\, a description of the event and the venue\, website/ticket links and a Google map. We also share these events on our social media stories to help further promote your show. \n 
URL:https://livemusicasheville.com/calendar/ask-about-our-featured-listings/2026-05-06/
LOCATION:LiveMusicAsheville.com\, ASHEVILLE\, NC\, 28803\, United States
CATEGORIES:Asheville Area,Black Mountain,Fairview,Live Music,Madison County,Mills River,South Asheville/Arden/Fletcher,Weaverville
ATTACH;FMTTYPE=image/jpeg:https://livemusicasheville.com/wp-content/uploads/2026/02/IMG_4145-e1770855289327.jpeg
ORGANIZER;CN="LiveMusicAsheville.com":MAILTO:livemusicasheville@gmail.com
GEO:35.5671423;-82.5437614
END:VEVENT
BEGIN:VEVENT
DTSTART;TZID=America/New_York:20260507T170000
DTEND;TZID=America/New_York:20260507T190000
DTSTAMP:20260419T093850
CREATED:20260314T125134Z
LAST-MODIFIED:20260314T125135Z
UID:10045636-1778173200-1778180400@livemusicasheville.com
SUMMARY:The Candleers
DESCRIPTION:
URL:https://livemusicasheville.com/calendar/the-candleers-2-2-3-2/2026-05-07/
LOCATION:Twin Willows Mars Hill
CATEGORIES:Asheville Area,Live Music,Madison County
END:VEVENT
BEGIN:VEVENT
DTSTART;TZID=America/New_York:20260507T190000
DTEND;TZID=America/New_York:20260508T020000
DTSTAMP:20260419T093850
CREATED:20251121T203604Z
LAST-MODIFIED:20260408T185204Z
UID:10033313-1778180400-1778205600@livemusicasheville.com
SUMMARY:Thursday Karaoke
DESCRIPTION:Please verify times and KJ with the venue! \n  \nTurgua Brewing Fairview – 6-8pm (April 16) \nAsheville Sports Club – 7-10pm \nThe Social East Asheville – 7-11pm \nDaddy Mac’s Downhome Dive – 8-11pm \nShiloh and Gaines – 8-11pm \nVOWL – 8-11pm \nPapertown Billiards Canton – 8-11pm  \nStatic Age Loft 10pm-2am \nShakeys Dive Bar 9pm-2am
URL:https://livemusicasheville.com/calendar/thursday-weekly-karaoke-2/2026-05-07/
LOCATION:Asheville Area
CATEGORIES:Asheville Area,Karaoke,Madison County,South Asheville/Arden/Fletcher
END:VEVENT
END:VCALENDAR