BEGIN:VCALENDAR
VERSION:2.0
PRODID:-//LiveMusicAsheville.com - ECPv6.15.20//NONSGML v1.0//EN
CALSCALE:GREGORIAN
METHOD:PUBLISH
X-WR-CALNAME:LiveMusicAsheville.com
X-ORIGINAL-URL:https://livemusicasheville.com
X-WR-CALDESC:Events for LiveMusicAsheville.com
REFRESH-INTERVAL;VALUE=DURATION:PT1H
X-Robots-Tag:noindex
X-PUBLISHED-TTL:PT1H
BEGIN:VTIMEZONE
TZID:America/New_York
BEGIN:DAYLIGHT
TZOFFSETFROM:-0500
TZOFFSETTO:-0400
TZNAME:EDT
DTSTART:20250309T070000
END:DAYLIGHT
BEGIN:STANDARD
TZOFFSETFROM:-0400
TZOFFSETTO:-0500
TZNAME:EST
DTSTART:20251102T060000
END:STANDARD
BEGIN:DAYLIGHT
TZOFFSETFROM:-0500
TZOFFSETTO:-0400
TZNAME:EDT
DTSTART:20260308T070000
END:DAYLIGHT
BEGIN:STANDARD
TZOFFSETFROM:-0400
TZOFFSETTO:-0500
TZNAME:EST
DTSTART:20261101T060000
END:STANDARD
BEGIN:DAYLIGHT
TZOFFSETFROM:-0500
TZOFFSETTO:-0400
TZNAME:EDT
DTSTART:20270314T070000
END:DAYLIGHT
BEGIN:STANDARD
TZOFFSETFROM:-0400
TZOFFSETTO:-0500
TZNAME:EST
DTSTART:20271107T060000
END:STANDARD
END:VTIMEZONE
BEGIN:VEVENT
DTSTART;VALUE=DATE:20260414
DTEND;VALUE=DATE:20260416
DTSTAMP:20260420T043232
CREATED:20260411T144316Z
LAST-MODIFIED:20260411T144317Z
UID:10053546-1776135600-1776221999@livemusicasheville.com
SUMMARY:COMING Saturday May 9th | You Can Call Me Paul (A Paul Simon Tribute)
DESCRIPTION:You Can Call Me Paul | May 9\, 2026 7:00 PM | $31+ Event Details and Tickets\nBenjamin Falcon formed a love of the Simon & Garfunkel songbook while growing up outside of DC\, in Alexandria\, VA\, through his parents fondness and nostalgia for Simon’s early work\, as well as Falcon’s frequent exposure to the music in radio and media. In college\, Falcon began to explore the larger catalogue of both Simon’s early and solo material.\n“You can call me Paul” has since sold out venues and attracted the collaboration of nationally touring musicians of note\, including Jason Hann (The String Cheese Incident)\, Justin Ray (Michael Bublé)\, Justin Stanton (Snarky Puppy).\nThis twelve-member band was assembled to authentically recreate the experience of seeing Simon’s solo work through the eras\, in a live setting\, with all the power and emotion that drew you to start.\n  \nFounded in 2005\, Pisgah is known for producing some of the most sought after craft ales in Western North Carolina. Pisgah Brewing Company currently operates the new indoor taproom & deli\, with live music several days a week\, plus an open air outdoor bar in the summer and fall months. Check out our upcoming schedule at pisgahbrewing.com/events
URL:https://livemusicasheville.com/calendar/coming-saturday-may-9th-you-can-call-me-paul-a-paul-simon-tribute-2/2026-04-14/
LOCATION:Pisgah Brewing Company Black Mountain\, 2948 US-70\, Black Mountain\, NC\, 28711
CATEGORIES:Asheville Area,Black Mountain,Live Music
ATTACH;FMTTYPE=image/jpeg:https://livemusicasheville.com/wp-content/uploads/2026/03/657258735_1413883220765850_5372182365295250927_n-e1774645194201.jpg
GEO:35.6068069;-82.3568213
X-APPLE-STRUCTURED-LOCATION;VALUE=URI;X-ADDRESS=Pisgah Brewing Company Black Mountain 2948 US-70 Black Mountain NC 28711;X-APPLE-RADIUS=500;X-TITLE=2948 US-70:geo:-82.3568213,35.6068069
END:VEVENT
BEGIN:VEVENT
DTSTART;TZID=America/New_York:20260414T140000
DTEND;TZID=America/New_York:20260414T150000
DTSTAMP:20260420T043232
CREATED:20260414T152457Z
LAST-MODIFIED:20260414T152457Z
UID:10056673-1776175200-1776178800@livemusicasheville.com
SUMMARY:Free Cone Day benefit for Save the Woods w/ Jackson Chisolm & Luke Shriver (bluegrass)
DESCRIPTION:
URL:https://livemusicasheville.com/calendar/free-cone-day-benefit-for-save-the-woods-w-jackson-chisolm-luke-shriver-bluegrass/
LOCATION:Ben & Jerry’s Downtown
CATEGORIES:Asheville Area,Live Music
END:VEVENT
BEGIN:VEVENT
DTSTART;TZID=America/New_York:20260414T140000
DTEND;TZID=America/New_York:20260414T170000
DTSTAMP:20260420T043232
CREATED:20251016T155042Z
LAST-MODIFIED:20260413T144245Z
UID:10021802-1776175200-1776186000@livemusicasheville.com
SUMMARY:The Sawtooth Troubadours
DESCRIPTION:
URL:https://livemusicasheville.com/calendar/the-sawtooth-troubadours-4-3-2/
LOCATION:Sparky’s Bardega Downtown\, 23 Broadway\, ASHEVILLE\, NC\, 28801\, United States
CATEGORIES:Asheville Area,Live Music
GEO:35.596126;-82.5523443
X-APPLE-STRUCTURED-LOCATION;VALUE=URI;X-ADDRESS=Sparky’s Bardega Downtown 23 Broadway ASHEVILLE NC 28801 United States;X-APPLE-RADIUS=500;X-TITLE=23 Broadway:geo:-82.5523443,35.596126
END:VEVENT
BEGIN:VEVENT
DTSTART;TZID=America/New_York:20260414T153000
DTEND;TZID=America/New_York:20260414T183000
DTSTAMP:20260420T043232
CREATED:20260406T170531Z
LAST-MODIFIED:20260406T170531Z
UID:10054817-1776180600-1776191400@livemusicasheville.com
SUMMARY:Live Music at The Market
DESCRIPTION:Every Tuesday afternoon\, enjoy live music while stocking up on fresh produce and goodies from local favorites.
URL:https://livemusicasheville.com/calendar/live-music-at-the-market/2026-04-14/
LOCATION:West Asheville Tailgate Market.\, 718 Haywood Rd\, Asheville\, NC\, United States
CATEGORIES:Asheville Area,Live Music
ATTACH;FMTTYPE=image/jpeg:https://livemusicasheville.com/wp-content/uploads/2026/04/658860598_18577196326005885_7368238720050299296_n-e1775495083903.jpg
GEO:35.5770686;-82.5923882
X-APPLE-STRUCTURED-LOCATION;VALUE=URI;X-ADDRESS=West Asheville Tailgate Market. 718 Haywood Rd Asheville NC United States;X-APPLE-RADIUS=500;X-TITLE=718 Haywood Rd:geo:-82.5923882,35.5770686
END:VEVENT
BEGIN:VEVENT
DTSTART;TZID=America/New_York:20260414T170000
DTEND;TZID=America/New_York:20260414T193000
DTSTAMP:20260420T043232
CREATED:20260324T141721Z
LAST-MODIFIED:20260407T121153Z
UID:10055120-1776186000-1776195000@livemusicasheville.com
SUMMARY:Daniel Shearin
DESCRIPTION:
URL:https://livemusicasheville.com/calendar/april-residency-daniel-shearin-3/2026-04-14/
LOCATION:New Belgium Brewing
CATEGORIES:Asheville Area,Live Music
END:VEVENT
BEGIN:VEVENT
DTSTART;TZID=America/New_York:20260414T180000
DTEND;TZID=America/New_York:20260414T200000
DTSTAMP:20260420T043232
CREATED:20260304T182634Z
LAST-MODIFIED:20260304T182634Z
UID:10048259-1776189600-1776196800@livemusicasheville.com
SUMMARY:Black Mountain Bluegrass Jam "unplugged"
DESCRIPTION:Pisgah Brewing’s unplugged bluegrass jam is hosted on Tuesdays at 6pm in the taproom. Bring your instruments and join in. It’ll be held on the patio on nicer days.\nAll levels welcome.\n\n\nFounded in 2005\, Pisgah is known for producing some of the most sought after craft ales in Western North Carolina. Pisgah Brewing Company currently operates the new indoor taproom & deli\, with live music several days a week\, plus an open air outdoor bar in the summer and fall months. Check out our upcoming schedule at pisgahbrewing.com/events
URL:https://livemusicasheville.com/calendar/black-mountain-bluegrass-jam-unplugged/2026-04-14/
LOCATION:Pisgah Brewing Company Black Mountain\, 2948 US-70\, Black Mountain\, NC\, 28711
CATEGORIES:Asheville Area,Black Mountain,Live Music
ATTACH;FMTTYPE=image/jpeg:https://livemusicasheville.com/wp-content/uploads/2026/03/645631663_1394670986020407_5217295838333578307_n-e1773067467855.jpg
GEO:35.6068069;-82.3568213
X-APPLE-STRUCTURED-LOCATION;VALUE=URI;X-ADDRESS=Pisgah Brewing Company Black Mountain 2948 US-70 Black Mountain NC 28711;X-APPLE-RADIUS=500;X-TITLE=2948 US-70:geo:-82.3568213,35.6068069
END:VEVENT
BEGIN:VEVENT
DTSTART;TZID=America/New_York:20260414T180000
DTEND;TZID=America/New_York:20260414T200000
DTSTAMP:20260420T043232
CREATED:20260317T214747Z
LAST-MODIFIED:20260317T214748Z
UID:10015941-1776189600-1776196800@livemusicasheville.com
SUMMARY:Tuesdays w/ Ashley Heath
DESCRIPTION:
URL:https://livemusicasheville.com/calendar/ashley-heath-7-2-2-2/2026-04-14/
LOCATION:The Bush Farmhouse Black Mountain
CATEGORIES:Asheville Area,Black Mountain,Live Music
GEO:35.6171865;-82.3170606
END:VEVENT
BEGIN:VEVENT
DTSTART;TZID=America/New_York:20260414T180000
DTEND;TZID=America/New_York:20260414T203000
DTSTAMP:20260420T043232
CREATED:20250727T143910Z
LAST-MODIFIED:20260408T112242Z
UID:10018289-1776189600-1776198600@livemusicasheville.com
SUMMARY:Moon Hunter
DESCRIPTION:
URL:https://livemusicasheville.com/calendar/moonbeatz-w-sg-ruthie-andy-hunter/
LOCATION:The Joint Next Door Fairview
CATEGORIES:Asheville Area,Fairview,Live Music
GEO:35.5251372;-82.424797
END:VEVENT
BEGIN:VEVENT
DTSTART;TZID=America/New_York:20260414T183000
DTEND;TZID=America/New_York:20260414T203000
DTSTAMP:20260420T043232
CREATED:20260107T190148Z
LAST-MODIFIED:20260318T214243Z
UID:10050020-1776191400-1776198600@livemusicasheville.com
SUMMARY:Gypsy Jazz w/ Dinah's Daydream
DESCRIPTION:
URL:https://livemusicasheville.com/calendar/gypsy-jazz-w-dinahs-daydream-3-2/2026-04-14/
LOCATION:The Lobster Trap
CATEGORIES:Asheville Area,Live Music
GEO:33.3427223;-118.3257271
END:VEVENT
BEGIN:VEVENT
DTSTART;TZID=America/New_York:20260414T190000
DTEND;TZID=America/New_York:20260414T210000
DTSTAMP:20260420T043232
CREATED:20260401T141843Z
LAST-MODIFIED:20260401T141844Z
UID:10049712-1776193200-1776200400@livemusicasheville.com
SUMMARY:Mark Bumgarner
DESCRIPTION:
URL:https://livemusicasheville.com/calendar/mark-bumgarner-2-2-2-3-2-2-2/2026-04-14/
LOCATION:Blue Mountain Pizza Weaverville
CATEGORIES:Asheville Area,Live Music,Weaverville
GEO:35.698228;-82.560231
END:VEVENT
BEGIN:VEVENT
DTSTART;TZID=America/New_York:20260414T190000
DTEND;TZID=America/New_York:20260414T220000
DTSTAMP:20260420T043232
CREATED:20260210T190606Z
LAST-MODIFIED:20260210T190608Z
UID:10043239-1776193200-1776204000@livemusicasheville.com
SUMMARY:Clouds of Delusion
DESCRIPTION:
URL:https://livemusicasheville.com/calendar/clouds-of-delusion-5-4-2-2/2026-04-14/
LOCATION:One World Brewing – West\, 520 Haywood Rd\, Asheville\, North Carolina\, 28806
CATEGORIES:Asheville Area,Live Music
GEO:35.5783642;-82.5848526
X-APPLE-STRUCTURED-LOCATION;VALUE=URI;X-ADDRESS=One World Brewing – West 520 Haywood Rd Asheville North Carolina 28806;X-APPLE-RADIUS=500;X-TITLE=520 Haywood Rd:geo:-82.5848526,35.5783642
END:VEVENT
BEGIN:VEVENT
DTSTART;TZID=America/New_York:20260414T190000
DTEND;TZID=America/New_York:20260414T220000
DTSTAMP:20260420T043232
CREATED:20260401T124712Z
LAST-MODIFIED:20260401T124713Z
UID:10014057-1776193200-1776204000@livemusicasheville.com
SUMMARY:Live Jazz Tuesday: Jay Sanders\, Will Boyd\, Zack Page & Alan Hall
DESCRIPTION:Sanders\, Boyd\, Page & Hall distill the pure essence of improvisational expression\, converging as alchemists of sound\, transmuting musical elements into their most essential forms. This quartet embodies the philosophical concept of quintessence—the fifth element beyond earth\, air\, fire\, and water—representing the fundamental substance from which all musical reality springs. \n\nTheir original compositions crystallize the essential qualities of diverse influences\, oscillating between through-composed musical themes\, groove-based soul explorations\, traditional jazz-influenced pieces\, Americana-inspired peaceful melodicism\, world music influences\, free jazz adventures\, and occasional forays into cacophonous noise music. Through years of improvisational study\, they’ve learned to access that rarefied space where genres dissolve into pure creative energy. \nIn this musical laboratory\, Sanders’ guitar becomes a conduit for universal vibration\, Boyd’s reeds channel the breath of consciousness itself\, Page’s bass provides the fundamental frequency of existence\, while Hall’s percussion creates the rhythmic heartbeat of the cosmos. \n\n\nWill Boyd – Sax\, Flute\, Clarinet\, EWI\nZack Page – Acoustic & Electric Bass\nAlan Hall – Drums\nJay Sanders – Guitar and Effects\n\nEvery Monday and Tuesday\, Little Jumbo brings live jazz to your ears. littlejumbobar.com \n“Simply put\, Little Jumbo should be at the top of your list of places for cocktails in Asheville. The drinks and service are both top-notch\, and the atmosphere is reminiscent of a relaxed speakeasy\, without a trace of the pretention that can sometimes be found in such places.” ~ The SmokyMountains.com Local Expert Team \n 
URL:https://livemusicasheville.com/calendar/live-jazz-tuesday-jay-sanders-will-boyd-zack-page-alan-hall-4-2-2-2-2-2-2-2-2-2/
LOCATION:Little Jumbo\, 241 Broadway St\, Asheville\, NC\, 28801
CATEGORIES:Asheville Area,Live Music
ATTACH;FMTTYPE=image/png:https://livemusicasheville.com/wp-content/uploads/2025/03/SBPH-e1748765814293.png
GEO:35.6024336;-82.5568463
X-APPLE-STRUCTURED-LOCATION;VALUE=URI;X-ADDRESS=Little Jumbo 241 Broadway St Asheville NC 28801;X-APPLE-RADIUS=500;X-TITLE=241 Broadway St:geo:-82.5568463,35.6024336
END:VEVENT
BEGIN:VEVENT
DTSTART;TZID=America/New_York:20260414T193000
DTEND;TZID=America/New_York:20260414T223000
DTSTAMP:20260420T043232
CREATED:20260401T143334Z
LAST-MODIFIED:20260401T143334Z
UID:10054487-1776195000-1776205800@livemusicasheville.com
SUMMARY:Waxahatchee & MJ Lenderman with s/g Brennan Wedl
DESCRIPTION:
URL:https://livemusicasheville.com/calendar/waxahatchee-mj-lenderman-with-s-g-brennan-wedl/
LOCATION:Harrah’s Cherokee Center – Asheville
CATEGORIES:Asheville Area,Live Music
GEO:35.5975104;-82.5460563
END:VEVENT
BEGIN:VEVENT
DTSTART;TZID=America/New_York:20260414T200000
DTEND;TZID=America/New_York:20260414T220000
DTSTAMP:20260420T043232
CREATED:20250221T215702Z
LAST-MODIFIED:20260414T171432Z
UID:10008861-1776196800-1776204000@livemusicasheville.com
SUMMARY:Rahm Mandelkorn\, Daniel Iannucci & Joe Enright Trio
DESCRIPTION:
URL:https://livemusicasheville.com/calendar/nightshade-ft-rahm-mandelkorn-caromia-and-daniel-iannucci/
LOCATION:Town Pump Tavern Black Mountain
CATEGORIES:Asheville Area,Black Mountain,Live Music
GEO:35.6162458;-82.320259
END:VEVENT
BEGIN:VEVENT
DTSTART;TZID=America/New_York:20260414T200000
DTEND;TZID=America/New_York:20260414T220000
DTSTAMP:20260420T043232
CREATED:20251023T142458Z
LAST-MODIFIED:20260406T181605Z
UID:10054857-1776196800-1776204000@livemusicasheville.com
SUMMARY:Hot Jazz w/ The John Henrys
DESCRIPTION:
URL:https://livemusicasheville.com/calendar/hot-jazz-w-the-john-henrys-2-2/2026-04-14/
LOCATION:5 Walnut Wine Bar
CATEGORIES:Asheville Area,Live Music
GEO:35.596654;-82.5525389
END:VEVENT
BEGIN:VEVENT
DTSTART;TZID=America/New_York:20260414T200000
DTEND;TZID=America/New_York:20260414T230000
DTSTAMP:20260420T043232
CREATED:20260408T153802Z
LAST-MODIFIED:20260408T153802Z
UID:10055720-1776196800-1776207600@livemusicasheville.com
SUMMARY:Band of Heathens w/ The Last Jimenez
DESCRIPTION:
URL:https://livemusicasheville.com/calendar/band-of-heathens-w-the-last-jimenez/
LOCATION:Revival\, 66 Asheland Avenue\, Asheville\, NC\, 28801\, United States
CATEGORIES:Asheville Area,Live Music
GEO:35.5917821;-82.555861
X-APPLE-STRUCTURED-LOCATION;VALUE=URI;X-ADDRESS=Revival 66 Asheland Avenue Asheville NC 28801 United States;X-APPLE-RADIUS=500;X-TITLE=66 Asheland Avenue:geo:-82.555861,35.5917821
END:VEVENT
BEGIN:VEVENT
DTSTART;TZID=America/New_York:20260414T200000
DTEND;TZID=America/New_York:20260414T230000
DTSTAMP:20260420T043232
CREATED:20260408T171346Z
LAST-MODIFIED:20260408T171346Z
UID:10055726-1776196800-1776207600@livemusicasheville.com
SUMMARY:Dead Meadow
DESCRIPTION:
URL:https://livemusicasheville.com/calendar/dead-meadow/
LOCATION:Eulogy\, 10 Buxton Ave\, Asheville\, NC\, 28801
CATEGORIES:Asheville Area,Live Music
GEO:35.5883468;-82.5539256
X-APPLE-STRUCTURED-LOCATION;VALUE=URI;X-ADDRESS=Eulogy 10 Buxton Ave Asheville NC 28801;X-APPLE-RADIUS=500;X-TITLE=10 Buxton Ave:geo:-82.5539256,35.5883468
END:VEVENT
BEGIN:VEVENT
DTSTART;TZID=America/New_York:20260414T200000
DTEND;TZID=America/New_York:20260414T230000
DTSTAMP:20260420T043232
CREATED:20260408T172835Z
LAST-MODIFIED:20260408T172835Z
UID:10055737-1776196800-1776207600@livemusicasheville.com
SUMMARY:Martha Scanlan and Jon Neufeld
DESCRIPTION:
URL:https://livemusicasheville.com/calendar/martha-scanlan-and-jon-neufeld/
LOCATION:The Grey Eagle\, 185 Clingman Ave\, Asheville\, NC\, United States
CATEGORIES:Asheville Area,Live Music
GEO:35.5870871;-82.5643936
X-APPLE-STRUCTURED-LOCATION;VALUE=URI;X-ADDRESS=The Grey Eagle 185 Clingman Ave Asheville NC United States;X-APPLE-RADIUS=500;X-TITLE=185 Clingman Ave:geo:-82.5643936,35.5870871
END:VEVENT
BEGIN:VEVENT
DTSTART;TZID=America/New_York:20260414T210000
DTEND;TZID=America/New_York:20260414T230000
DTSTAMP:20260420T043232
CREATED:20251203T132039Z
LAST-MODIFIED:20260414T161328Z
UID:10026451-1776200400-1776207600@livemusicasheville.com
SUMMARY:Live Music w/ Braelyn Grooms
DESCRIPTION:
URL:https://livemusicasheville.com/calendar/live-music-w-braelyn-grooms-2/
LOCATION:Liondog Lounge Weaverville
CATEGORIES:Asheville Area,Live Music,Weaverville
END:VEVENT
BEGIN:VEVENT
DTSTART;VALUE=DATE:20260415
DTEND;VALUE=DATE:20260417
DTSTAMP:20260420T043232
CREATED:20250309T145031Z
LAST-MODIFIED:20260310T140019Z
UID:10027823-1776222000-1776308399@livemusicasheville.com
SUMMARY:Ask About Our Featured Listings
DESCRIPTION:Established in February 2019\, LiveMusicAsheville.com now reaches thousands of people every week actively searching for live music in the Asheville area. Roughly 60% of our traffic comes from Google Search as we dominate the top of the results for queries such as “Asheville live music” & “live music Asheville”. Meanwhile our direct traffic is experiencing explosive growth\, proving more locals are now using us as their go-to music calendar. \nOur free listings include just the basics of Who’s Playin’ Where & When. We offer Descriptive Listings at just $5 per event to help you guide viewers to your event. These listings include up to 30 words but do not include links.  \nOur Featured Listings really stand out among the dozens of events on the calendar every day. While we update every Wednesday for the following Friday thru Thursday\, these Featured Listings are published much sooner and include your picture or poster\, a description of the event and the venue\, website/ticket links and a Google map. We also share these events on our social media stories to help further promote your show. \n 
URL:https://livemusicasheville.com/calendar/ask-about-our-featured-listings/2026-04-15/
LOCATION:LiveMusicAsheville.com\, ASHEVILLE\, NC\, 28803\, United States
CATEGORIES:Asheville Area,Black Mountain,Fairview,Live Music,Madison County,Mills River,South Asheville/Arden/Fletcher,Weaverville
ATTACH;FMTTYPE=image/jpeg:https://livemusicasheville.com/wp-content/uploads/2026/02/IMG_4145-e1770855289327.jpeg
ORGANIZER;CN="LiveMusicAsheville.com":MAILTO:livemusicasheville@gmail.com
GEO:35.5671423;-82.5437614
END:VEVENT
BEGIN:VEVENT
DTSTART;TZID=America/New_York:20260415T150000
DTEND;TZID=America/New_York:20260415T180000
DTSTAMP:20260420T043232
CREATED:20251208T175900Z
LAST-MODIFIED:20260413T170131Z
UID:10023502-1776265200-1776276000@livemusicasheville.com
SUMMARY:Frances Eliza
DESCRIPTION:
URL:https://livemusicasheville.com/calendar/frances-eliza-5-2-2/
LOCATION:RAD Farmers Market at New Belgium
CATEGORIES:Asheville Area,Live Music
END:VEVENT
BEGIN:VEVENT
DTSTART;TZID=America/New_York:20260415T170000
DTEND;TZID=America/New_York:20260415T210000
DTSTAMP:20260420T043232
CREATED:20260211T135505Z
LAST-MODIFIED:20260224T220301Z
UID:10027005-1776272400-1776286800@livemusicasheville.com
SUMMARY:Jack’s Old-Time Jam
DESCRIPTION:Grab some dinner and a pint while enjoying our long-running Old-Time Jam! Featuring many talented musicians from the local WNC area\, our traditional Appalachian mountain music jam runs from 5-9pm every Wednesday night at Jack of the Wood! \nJack Of The Wood is still a downtown hot spot for food\, brews and drink since 1997 and founders Joan and Joe Eckert who still own it\, have maintained the original lively English and Irish vibe. The old-time mountain and Irish music jams continue\, including a hot bluegrass jam Thursdays and brunch every Sunday. The venue extends a welcoming feeling to regulars and newcomers to this day. https://jackofthewood.com/
URL:https://livemusicasheville.com/calendar/jacks-old-time-jam-2/2026-04-15/
LOCATION:Jack Of The Wood\, 95 Patton Ave\, asheville\, NC\, United States
CATEGORIES:Asheville Area,Live Music,Open MIc/Jam
ATTACH;FMTTYPE=image/jpeg:https://livemusicasheville.com/wp-content/uploads/2026/02/JOTW_WED-OldTimeJam_2025-RollingStoneQuote_IG_1080x1350-e1771970572897.jpg
GEO:35.5944492;-82.5558221
X-APPLE-STRUCTURED-LOCATION;VALUE=URI;X-ADDRESS=Jack Of The Wood 95 Patton Ave asheville NC United States;X-APPLE-RADIUS=500;X-TITLE=95 Patton Ave:geo:-82.5558221,35.5944492
END:VEVENT
BEGIN:VEVENT
DTSTART;TZID=America/New_York:20260415T173000
DTEND;TZID=America/New_York:20260415T193000
DTSTAMP:20260420T043232
CREATED:20251231T135204Z
LAST-MODIFIED:20260204T195847Z
UID:10042686-1776274200-1776281400@livemusicasheville.com
SUMMARY:The Candleers
DESCRIPTION:weather dependent
URL:https://livemusicasheville.com/calendar/the-candleers-4-2/2026-04-15/
LOCATION:Eluvium Brewing Company Weaverville
CATEGORIES:Asheville Area,Live Music,Weaverville
END:VEVENT
BEGIN:VEVENT
DTSTART;TZID=America/New_York:20260415T180000
DTEND;TZID=America/New_York:20260415T200000
DTSTAMP:20260420T043232
CREATED:20241225T140309Z
LAST-MODIFIED:20260408T110213Z
UID:10001425-1776276000-1776283200@livemusicasheville.com
SUMMARY:Taps + Tunes w/ Myron Hyman
DESCRIPTION:
URL:https://livemusicasheville.com/calendar/moonshine-state-and-brad-curtioff/
LOCATION:White Labs Brewing Co – Asheville Kitchen & Tap
CATEGORIES:Asheville Area,Live Music
END:VEVENT
BEGIN:VEVENT
DTSTART;TZID=America/New_York:20260415T180000
DTEND;TZID=America/New_York:20260415T200000
DTSTAMP:20260420T043232
CREATED:20251118T151618Z
LAST-MODIFIED:20260406T174613Z
UID:10024672-1776276000-1776283200@livemusicasheville.com
SUMMARY:Cuberow
DESCRIPTION:CUBEROWWednesday\, April 15BAR: 4PM | DELI: 4PM | SHOW: 6PMCuberow (Coo-bur-oh) is a duo comprised of Billy Presnell and Melissa Autumn Raines. Their musical journey began in 2015 on the roof of a fellow musician’s house playing songs and improvising. Space for co-creation and musical conversation have been at the core of Cuberow’s music ever since. Their music spans genres but can best be described as Soulful Indie Acoustic with layers of Funk and Americana. Both players come together\, blending haunting harmonies and rich vocals over Presnell’s dynamic and percussive guitar style\, to produce an array of heartfelt originals and covers. Authentic and humorous banter between Raines and Presnell complete the experience that is a Cuberow show. \n  \nFounded in 2005\, Pisgah is known for producing some of the most sought after craft ales in Western North Carolina. Pisgah Brewing Company currently operates the new indoor taproom & deli\, with live music several days a week\, plus an open air outdoor bar in the summer and fall months. Check out our upcoming schedule at pisgahbrewing.com/events
URL:https://livemusicasheville.com/calendar/cuberow-2/
LOCATION:Pisgah Brewing Company Black Mountain\, 2948 US-70\, Black Mountain\, NC\, 28711
CATEGORIES:Asheville Area,Black Mountain,Live Music
ATTACH;FMTTYPE=image/jpeg:https://livemusicasheville.com/wp-content/uploads/2025/11/658862006_18568753819014434_4403732508629394939_n-e1775497567545.jpg
GEO:35.6068069;-82.3568213
X-APPLE-STRUCTURED-LOCATION;VALUE=URI;X-ADDRESS=Pisgah Brewing Company Black Mountain 2948 US-70 Black Mountain NC 28711;X-APPLE-RADIUS=500;X-TITLE=2948 US-70:geo:-82.3568213,35.6068069
END:VEVENT
BEGIN:VEVENT
DTSTART;TZID=America/New_York:20260415T180000
DTEND;TZID=America/New_York:20260415T200000
DTSTAMP:20260420T043232
CREATED:20260107T185729Z
LAST-MODIFIED:20260401T151556Z
UID:10023702-1776276000-1776283200@livemusicasheville.com
SUMMARY:Well Crafted Music Series with Matt Smith
DESCRIPTION:  \n4/1- Amanda Anne Platt\n4/8- A. Lee Edwards w Zack Page\n4/15- Datrian Johnson w Duane Simpson\, Tony Black and Mike Rhodes\n4/22- Silas Hamilton w Zach Smith and Evan Martin\n4/29- Lyndsay Pruett w Rick Cooper and Zach Smith \nCheck with the venue for Matt’s upcoming guest(s).
URL:https://livemusicasheville.com/calendar/well-crafted-wednesday-with-matt-smith-2-2-2-2-2-2/2026-04-15/
LOCATION:Highland Brewing
CATEGORIES:Asheville Area,Live Music
END:VEVENT
BEGIN:VEVENT
DTSTART;TZID=America/New_York:20260415T180000
DTEND;TZID=America/New_York:20260415T210000
DTSTAMP:20260420T043232
CREATED:20251107T144905Z
LAST-MODIFIED:20260106T211229Z
UID:10030712-1776276000-1776286800@livemusicasheville.com
SUMMARY:Artist ReLeaf Jam Wednesdays
DESCRIPTION:Hey Friends\, Lovers of Jazz\, & Beyond. Come Jam with Isaac & friends every Wednesday at LEAF Global in downtown AVL. They play an hour set and then it opens for a jam. We would love to see ya’ll there starting off a New Year with some great music. The community is invited to listen\, explore\, and find your voice within the Jazz Idiom and all branches of the musical web. $5.00 suggested donation. Drinks available for purchase.
URL:https://livemusicasheville.com/calendar/leaf-jam-wednesdays/2026-04-15/
LOCATION:LEAF Global Arts\, 19 Eagle St\, Asheville\, NC\, 28801
CATEGORIES:Asheville Area,Live Music,Open MIc/Jam
GEO:35.5938244;-82.5505196
X-APPLE-STRUCTURED-LOCATION;VALUE=URI;X-ADDRESS=LEAF Global Arts 19 Eagle St Asheville NC 28801;X-APPLE-RADIUS=500;X-TITLE=19 Eagle St:geo:-82.5505196,35.5938244
END:VEVENT
BEGIN:VEVENT
DTSTART;TZID=America/New_York:20260415T183000
DTEND;TZID=America/New_York:20260415T203000
DTSTAMP:20260420T043232
CREATED:20260225T192422Z
LAST-MODIFIED:20260408T164051Z
UID:10013081-1776277800-1776285000@livemusicasheville.com
SUMMARY:Jam > Grass > Jam: The Saylor Brothers
DESCRIPTION:The Saylor Brothers are a jamgrass fusion group from Asheville\, fronted by brothers Will & Ben Saylor\, of Brushfire Stankgrass. This project is a foray further into the realm of bluegrass jam\, with more emphasis on improvisation piled on top of a structure of traditional bluegrass and innovative original songwriting. As a trio with Greg Stiglets on bass\, the band packs a large sound coming from three acoustic instruments\, and often adds a fourth player for further improvisational and bluegrass firepower.\n\nJam > Grass > Jam is not an open bluegrass jam but is a residency featuring a rotating casts of special guests from Asheville’s bluegrass/jamband scene.\n\nFrench Broad River Brewery is more than just a place to enjoy a drink—it’s a community hub where great beer\, delicious pizza\, live music\, and good times come together. Just minutes from the Biltmore Estate & Downtown\, our taproom is a gathering spot for locals and visitors alike. We regularly host live music and entertainment in our taproom\, making French Broad River Brewery a lively hub of local activity. From bluegrass to reggae\, there’s always something happening. Check out our Events Page to see what’s coming up next! \nNo brewery experience is complete without great food. That’s why we offer French Broad River Pizza\, serving up hot\, hand-tossed pizzas made to order. Whether you’re here for a quick slice or a full meal\, our pizza perfectly complements our craft beers and the lively atmosphere of our taproom. frenchbroadbrewery.com/pizza \n 
URL:https://livemusicasheville.com/calendar/jam-grass-jam-the-saylor-brothers-3-2-2/2026-04-15/
LOCATION:French Broad River Brewery\, 101 Fairview Rd\, Asheville\, NC\, United States
CATEGORIES:Asheville Area,Live Music
ATTACH;FMTTYPE=image/jpeg:https://livemusicasheville.com/wp-content/uploads/2023/03/IMG_7061-e1746972805618.jpeg
GEO:35.5662722;-82.5374054
X-APPLE-STRUCTURED-LOCATION;VALUE=URI;X-ADDRESS=French Broad River Brewery 101 Fairview Rd Asheville NC United States;X-APPLE-RADIUS=500;X-TITLE=101 Fairview Rd:geo:-82.5374054,35.5662722
END:VEVENT
BEGIN:VEVENT
DTSTART;TZID=America/New_York:20260415T183000
DTEND;TZID=America/New_York:20260415T203000
DTSTAMP:20260420T043232
CREATED:20260415T185413Z
LAST-MODIFIED:20260415T185413Z
UID:10057146-1776277800-1776285000@livemusicasheville.com
SUMMARY:Acoustic Evenings w/ Eric Hood
DESCRIPTION:
URL:https://livemusicasheville.com/calendar/acoustic-evenings-w-eric-hood/2026-04-15/
LOCATION:Creekside Taphouse Haw Creek
CATEGORIES:Asheville Area,Live Music
END:VEVENT
BEGIN:VEVENT
DTSTART;TZID=America/New_York:20260415T190000
DTEND;TZID=America/New_York:20260415T210000
DTSTAMP:20260420T043232
CREATED:20250312T182926Z
LAST-MODIFIED:20260408T133734Z
UID:10009884-1776279600-1776286800@livemusicasheville.com
SUMMARY:Jana Fox
DESCRIPTION:
URL:https://livemusicasheville.com/calendar/jana-fox/
LOCATION:Blue Mountain Pizza Weaverville
CATEGORIES:Asheville Area,Live Music,Weaverville
GEO:35.698228;-82.560231
END:VEVENT
END:VCALENDAR