BEGIN:VCALENDAR
VERSION:2.0
PRODID:-//LiveMusicAsheville.com - ECPv6.15.20//NONSGML v1.0//EN
CALSCALE:GREGORIAN
METHOD:PUBLISH
X-ORIGINAL-URL:https://livemusicasheville.com
X-WR-CALDESC:Events for LiveMusicAsheville.com
REFRESH-INTERVAL;VALUE=DURATION:PT1H
X-Robots-Tag:noindex
X-PUBLISHED-TTL:PT1H
BEGIN:VTIMEZONE
TZID:America/New_York
BEGIN:DAYLIGHT
TZOFFSETFROM:-0500
TZOFFSETTO:-0400
TZNAME:EDT
DTSTART:20250309T070000
END:DAYLIGHT
BEGIN:STANDARD
TZOFFSETFROM:-0400
TZOFFSETTO:-0500
TZNAME:EST
DTSTART:20251102T060000
END:STANDARD
BEGIN:DAYLIGHT
TZOFFSETFROM:-0500
TZOFFSETTO:-0400
TZNAME:EDT
DTSTART:20260308T070000
END:DAYLIGHT
BEGIN:STANDARD
TZOFFSETFROM:-0400
TZOFFSETTO:-0500
TZNAME:EST
DTSTART:20261101T060000
END:STANDARD
BEGIN:DAYLIGHT
TZOFFSETFROM:-0500
TZOFFSETTO:-0400
TZNAME:EDT
DTSTART:20270314T070000
END:DAYLIGHT
BEGIN:STANDARD
TZOFFSETFROM:-0400
TZOFFSETTO:-0500
TZNAME:EST
DTSTART:20271107T060000
END:STANDARD
END:VTIMEZONE
BEGIN:VEVENT
DTSTART;TZID=America/New_York:20260410T180000
DTEND;TZID=America/New_York:20260410T210000
DTSTAMP:20260419T235235
CREATED:20250828T210211Z
LAST-MODIFIED:20260408T151803Z
UID:10020382-1775844000-1775854800@livemusicasheville.com
SUMMARY:Brent Riddle Jazz Trio
DESCRIPTION:
URL:https://livemusicasheville.com/calendar/brent-riddle-jazz-trio/
LOCATION:All Day Darling Cafe Montford
CATEGORIES:Asheville Area,Live Music
END:VEVENT
BEGIN:VEVENT
DTSTART;TZID=America/New_York:20260410T180000
DTEND;TZID=America/New_York:20260410T210000
DTSTAMP:20260419T235235
CREATED:20251112T122327Z
LAST-MODIFIED:20260408T134239Z
UID:10024409-1775844000-1775854800@livemusicasheville.com
SUMMARY:Scott Stetson
DESCRIPTION:
URL:https://livemusicasheville.com/calendar/scott-stetson-4/
LOCATION:Mad Co. Brew House Marshall
CATEGORIES:Asheville Area,Live Music,Madison County
END:VEVENT
BEGIN:VEVENT
DTSTART;TZID=America/New_York:20260410T180000
DTEND;TZID=America/New_York:20260410T210000
DTSTAMP:20260419T235235
CREATED:20260407T214912Z
LAST-MODIFIED:20260407T214912Z
UID:10055127-1775844000-1775854800@livemusicasheville.com
SUMMARY:Writer’s Round: Dave Desmelik\, Laura Blackley & Joshua Singleton
DESCRIPTION:We’re very excited to welcome this local trio to the taproom stage! \nDave Desmelik is a singer-songwriter and instrumentalist whose musical focus is on original compositions. What attracts listeners to Desmelik’s tunes\, old and new\, is the element of authenticity incorporated in them. There is no sugar coating involved. His songs are not wrapped in false smiles\, rather they are stark and open and tend to settle on the pulse of everyday life. \nLaura Blackley has been making music in Western North Carolina for several years. She’s a singer\, songwriter and guitarist who specializes in country\, blues and rock with an emphasis on songwriting. Blackley plays in several bands and she and her band the Wildflowers won first prize in the 2016 North Carolina Piedmont Blues Preservation Society’s Blues Challenge. This win sent them to Memphis\, TN to perform in the International Blues Competition. \nSinger-songwriter Joshua Singleton explodes the Americana genre with high-value tunes that blend roots rock\, blues\, country\, and soul into something that’s entirely his own. Based in Asheville\, North Carolina\, Singleton is an outstanding vocalist\, songwriter\, and guitarist. He’s one of those rare performers who intuitively blur the lines between his influences. He shifts easily from rock to funk to acoustic songs in the same set\, painting space with all the colors American music has to offer. \nEvent Details  \n  \nFrench Broad River Brewery is more than just a place to enjoy a drink—it’s a community hub where great beer\, delicious pizza\, live music\, and good times come together. Just minutes from the Biltmore Estate & Downtown\, our taproom is a gathering spot for locals and visitors alike. We regularly host live music and entertainment in our taproom\, making French Broad River Brewery a lively hub of local activity. From bluegrass to reggae\, there’s always something happening. Check out our Events Page to see what’s coming up next! \nNo brewery experience is complete without great food. That’s why we offer French Broad River Pizza\, serving up hot\, hand-tossed pizzas made to order. Whether you’re here for a quick slice or a full meal\, our pizza perfectly complements our craft beers and the lively atmosphere of our taproom. frenchbroadbrewery.com/pizza
URL:https://livemusicasheville.com/calendar/writers-round-dave-desmelik-laura-blackley-joshua-singleton/
LOCATION:French Broad River Brewery\, 101 Fairview Rd\, Asheville\, NC\, United States
CATEGORIES:Asheville Area,Live Music
ATTACH;FMTTYPE=image/png:https://livemusicasheville.com/wp-content/uploads/2026/04/April-10-e1775598543784.png
GEO:35.5662722;-82.5374054
X-APPLE-STRUCTURED-LOCATION;VALUE=URI;X-ADDRESS=French Broad River Brewery 101 Fairview Rd Asheville NC United States;X-APPLE-RADIUS=500;X-TITLE=101 Fairview Rd:geo:-82.5374054,35.5662722
END:VEVENT
BEGIN:VEVENT
DTSTART;TZID=America/New_York:20260410T180000
DTEND;TZID=America/New_York:20260410T210000
DTSTAMP:20260419T235235
CREATED:20260408T101128Z
LAST-MODIFIED:20260408T101128Z
UID:10055681-1775844000-1775854800@livemusicasheville.com
SUMMARY:Honeycutt and Co.
DESCRIPTION:
URL:https://livemusicasheville.com/calendar/honeycutt-and-co/
LOCATION:One World Brewing Downtown\, 10 Patton Ave\, Asheville\, NC\, 28801
CATEGORIES:Asheville Area,Live Music
GEO:35.5947396;-82.5522724
X-APPLE-STRUCTURED-LOCATION;VALUE=URI;X-ADDRESS=One World Brewing Downtown 10 Patton Ave Asheville NC 28801;X-APPLE-RADIUS=500;X-TITLE=10 Patton Ave:geo:-82.5522724,35.5947396
END:VEVENT
BEGIN:VEVENT
DTSTART;TZID=America/New_York:20260410T180000
DTEND;TZID=America/New_York:20260410T210000
DTSTAMP:20260419T235235
CREATED:20260408T105005Z
LAST-MODIFIED:20260408T105005Z
UID:10055688-1775844000-1775854800@livemusicasheville.com
SUMMARY:Tina Collins
DESCRIPTION:
URL:https://livemusicasheville.com/calendar/tina-collins-3/
LOCATION:Cellarest Beer Project
CATEGORIES:Asheville Area,Live Music
GEO:35.5780646;-82.5794685
END:VEVENT
BEGIN:VEVENT
DTSTART;TZID=America/New_York:20260410T183000
DTEND;TZID=America/New_York:20260410T213000
DTSTAMP:20260419T235235
CREATED:20260408T111451Z
LAST-MODIFIED:20260408T111451Z
UID:10055694-1775845800-1775856600@livemusicasheville.com
SUMMARY:Crimson Moon
DESCRIPTION:
URL:https://livemusicasheville.com/calendar/crimson-moon-2/
LOCATION:Mills River Brewing Co.\, 336 Banner Farm Rd\,\, Mills River\, NC\, 28759
CATEGORIES:Asheville Area,Live Music,Mills River
GEO:35.380515;-82.5654984
X-APPLE-STRUCTURED-LOCATION;VALUE=URI;X-ADDRESS=Mills River Brewing Co. 336 Banner Farm Rd Mills River NC 28759;X-APPLE-RADIUS=500;X-TITLE=336 Banner Farm Rd\,:geo:-82.5654984,35.380515
END:VEVENT
BEGIN:VEVENT
DTSTART;TZID=America/New_York:20260410T190000
DTEND;TZID=America/New_York:20260410T210000
DTSTAMP:20260419T235235
CREATED:20250402T200751Z
LAST-MODIFIED:20260408T224100Z
UID:10011936-1775847600-1775854800@livemusicasheville.com
SUMMARY:Old Sap
DESCRIPTION:
URL:https://livemusicasheville.com/calendar/patio-old-sap/
LOCATION:The Whale :: West Asheville
CATEGORIES:Asheville Area,Live Music
GEO:35.5779408;-82.5827733
END:VEVENT
BEGIN:VEVENT
DTSTART;TZID=America/New_York:20260410T190000
DTEND;TZID=America/New_York:20260410T210000
DTSTAMP:20260419T235235
CREATED:20250903T161059Z
LAST-MODIFIED:20260408T133526Z
UID:10017187-1775847600-1775854800@livemusicasheville.com
SUMMARY:Acoustic Three
DESCRIPTION:
URL:https://livemusicasheville.com/calendar/acoustic-three-3/
LOCATION:Blue Mountain Pizza Weaverville
CATEGORIES:Asheville Area,Live Music,Weaverville
GEO:35.698228;-82.560231
END:VEVENT
BEGIN:VEVENT
DTSTART;TZID=America/New_York:20260410T190000
DTEND;TZID=America/New_York:20260410T210000
DTSTAMP:20260419T235235
CREATED:20251029T132808Z
LAST-MODIFIED:20260415T133603Z
UID:10056852-1775847600-1775854800@livemusicasheville.com
SUMMARY:Grass Is Back!
DESCRIPTION:No Cover – Donations accepted!\n\n\n\n\nApril 17 – Lynn Goldsmith & The Jeter Mountain Band\nApril 24 – New Carolina Connection Band\nMay 1 – Harlan County Grass\nMay 8 – Mulley Holler Band\nMay 15- Travis Watts & Mountain Blessings\nMay 22 – Hit or Miss Bluegrass & Country Band
URL:https://livemusicasheville.com/calendar/grass-is-back-3/2026-04-10/
LOCATION:Feed and Seed Fletcher
CATEGORIES:Asheville Area,Live Music,South Asheville/Arden/Fletcher
END:VEVENT
BEGIN:VEVENT
DTSTART;TZID=America/New_York:20260410T190000
DTEND;TZID=America/New_York:20260410T210000
DTSTAMP:20260419T235235
CREATED:20260401T185548Z
LAST-MODIFIED:20260401T185548Z
UID:10054550-1775847600-1775854800@livemusicasheville.com
SUMMARY:PAN HARMONIA: GRIEF leads to GRATITUDE
DESCRIPTION:  \nFramed with instrumental works by Pierre Max Dubois (Petite Suite) and Fratres by famed Estonian minimalist composer Arvo Pärt\, the centerpiece of this special\, very intimate program is the world-premier of Asheville-based composer Carolina Perez’s song cycle: Matilda: A Mother’s Grief Journey After Stillbirth.\n\nKrista Tortora voice · Kate Steinbeck flute · Rosalind Buda bassoon · Jessica Schaeffer harp · Daphne Waggener violin · Claudia Malchow viola ·Patrick O’Neil cello\nPost-Concert Discussions with Dr. Katherine Hyde Hensley\, grief counselor\nAs ever\, PAN HARMONIA offers Donation-based\, Pay-as-You-Can Community Concerts. All are welcome\, advanced reservations encouraged.\nBoth intimate venues have limited seating\, offering 3 shows : 1 afternoon\, 2 evenings. Reservations and more: https://panharmonia.org/shop/
URL:https://livemusicasheville.com/calendar/pan-harmonia-grief-leads-to-gratitude-2/
LOCATION:Black Mountain Presbyterian Church
CATEGORIES:Asheville Area,Black Mountain,Live Music
END:VEVENT
BEGIN:VEVENT
DTSTART;TZID=America/New_York:20260410T190000
DTEND;TZID=America/New_York:20260410T210000
DTSTAMP:20260419T235235
CREATED:20260408T185705Z
LAST-MODIFIED:20260409T145016Z
UID:10055966-1775847600-1775854800@livemusicasheville.com
SUMMARY:Lucille Klement
DESCRIPTION:
URL:https://livemusicasheville.com/calendar/lucille-klement/
LOCATION:Highland Brewing
CATEGORIES:Asheville Area,Live Music
END:VEVENT
BEGIN:VEVENT
DTSTART;TZID=America/New_York:20260410T190000
DTEND;TZID=America/New_York:20260410T213000
DTSTAMP:20260419T235235
CREATED:20250701T220835Z
LAST-MODIFIED:20260407T073034Z
UID:10016550-1775847600-1775856600@livemusicasheville.com
SUMMARY:Funk Friday w/ Tru Phonic
DESCRIPTION:The original music of Jake Salter & a unique group of talented musicians come together in Tru Phonic. Sounds of Jam\, Funk\, Blues\, Rock\, Soul\, Jazz and Hip-Hop & more can be heard when seeing the band Live or on their Studio Albums. Established in 2017\, Tru Phonic includes Multiple veterans in the Central Florida music scene who have worked with many other great bands and musicians in the area. The group has an ever-changing\, high-energy live show that makes you wanna MOVE! Tru Phonic’s original sound is characterized by high skill-level shown on each instrument\, talented vocal harmonies\, powerful lyrics\, expanding grooves\, unique guitar playing & a tight horn section. \nFounded in 2005\, Pisgah is known for producing some of the most sought after craft ales in Western North Carolina. Pisgah Brewing Company currently operates an indoor taproom and an open air outdoor bar in the summer and fall months with live music several days a week. Check out our upcoming schedule at pisgahbrewing.com/events
URL:https://livemusicasheville.com/calendar/tru-phonic-live/
LOCATION:Pisgah Brewing Company Black Mountain\, 2948 US-70\, Black Mountain\, NC\, 28711
CATEGORIES:Asheville Area,Black Mountain,Live Music
GEO:35.6068069;-82.3568213
X-APPLE-STRUCTURED-LOCATION;VALUE=URI;X-ADDRESS=Pisgah Brewing Company Black Mountain 2948 US-70 Black Mountain NC 28711;X-APPLE-RADIUS=500;X-TITLE=2948 US-70:geo:-82.3568213,35.6068069
END:VEVENT
BEGIN:VEVENT
DTSTART;TZID=America/New_York:20260410T190000
DTEND;TZID=America/New_York:20260410T213000
DTSTAMP:20260419T235235
CREATED:20260128T152744Z
LAST-MODIFIED:20260408T130454Z
UID:10042058-1775847600-1775856600@livemusicasheville.com
SUMMARY:Southern Shine (Wayne Buckner and Julie Wynne)
DESCRIPTION:
URL:https://livemusicasheville.com/calendar/southern-shine/
LOCATION:Mars Theatre Brewing Company Mars Hill
CATEGORIES:Asheville Area,Live Music,Madison County
GEO:35.8279363;-82.5483211
END:VEVENT
BEGIN:VEVENT
DTSTART;TZID=America/New_York:20260410T190000
DTEND;TZID=America/New_York:20260410T213000
DTSTAMP:20260419T235235
CREATED:20260402T182459Z
LAST-MODIFIED:20260406T181858Z
UID:10054559-1775847600-1775856600@livemusicasheville.com
SUMMARY:Donna De Lory
DESCRIPTION:APLR Presents: Donna De Lory | Friday\, April 10th\, 2026 | Doors 6PM || Show 7PM | $29.21adv. Event Details and Tickets \nAn evening of inspirational song and Mantra with Donna De Lory! A performance that weaves myriad strands of world music\, contemporary pop\, sacred sounds and introspective song craft into a mesmerizing musical experience. Come be in celebration as we share sound vibration in community\, open our voices\, and dance! \nDonna De Lory is a singer\, songwriter and producer whose artistry encompasses pop\, electronic\, world and devotional music. Her voice has graced recordings by Bette Midler\, Carly Simon\, Leonard Cohen\, Selena\, Belinda Carlisle and many others. Between 1987 and 2006\, De Lory crisscrossed the globe numerous times as a touring back-up vocalist and dancer for Madonna. \n  \nThe AyurPrana Listening Room was constructed within the walls of a former church and built to compliment and expand upon the natural acoustics of the room by way of fresh audio equipment and extraordinary sound treatment. Interplaced between acoustic panels and rustically braced arches\, sliding panels adorn the windows and upstage walls allowing the ability to fine-tune the liveliness of the room. The AyurPrana Listening Room is part of a wellness village that seeks to elevate consciousness through music\, movement\, education and healing. ayurpranalisteningroom.com
URL:https://livemusicasheville.com/calendar/donna-de-lory/
LOCATION:AyurPrana Listening Room\, 312 Haywood Rd\, Asheville\, NC\, 28806
CATEGORIES:Asheville Area,Live Music
ATTACH;FMTTYPE=image/jpeg:https://livemusicasheville.com/wp-content/uploads/2026/04/660396274_18001355906913124_3874351412930785534_n-e1775499522805.jpg
GEO:35.5775962;-82.5760261
X-APPLE-STRUCTURED-LOCATION;VALUE=URI;X-ADDRESS=AyurPrana Listening Room 312 Haywood Rd Asheville NC 28806;X-APPLE-RADIUS=500;X-TITLE=312 Haywood Rd:geo:-82.5760261,35.5775962
END:VEVENT
BEGIN:VEVENT
DTSTART;TZID=America/New_York:20260410T190000
DTEND;TZID=America/New_York:20260410T220000
DTSTAMP:20260419T235235
CREATED:20250122T205111Z
LAST-MODIFIED:20260408T112124Z
UID:10006875-1775847600-1775858400@livemusicasheville.com
SUMMARY:The Pubsters
DESCRIPTION:
URL:https://livemusicasheville.com/calendar/the-pubsters-2/
LOCATION:The Joint Next Door Fairview
CATEGORIES:Asheville Area,Fairview,Live Music
GEO:35.5251372;-82.424797
END:VEVENT
BEGIN:VEVENT
DTSTART;TZID=America/New_York:20260410T190000
DTEND;TZID=America/New_York:20260410T220000
DTSTAMP:20260419T235235
CREATED:20251113T101742Z
LAST-MODIFIED:20260327T002508Z
UID:10052988-1775847600-1775858400@livemusicasheville.com
SUMMARY:Blues with Mr Jimmy
DESCRIPTION:
URL:https://livemusicasheville.com/calendar/blues-with-mr-jimmy-2-2-2/2026-04-10/
LOCATION:The Station Black Mountain
CATEGORIES:Asheville Area,Black Mountain,Live Music
END:VEVENT
BEGIN:VEVENT
DTSTART;TZID=America/New_York:20260410T190000
DTEND;TZID=America/New_York:20260410T220000
DTSTAMP:20260419T235235
CREATED:20251222T160644Z
LAST-MODIFIED:20251222T160644Z
UID:10029249-1775847600-1775858400@livemusicasheville.com
SUMMARY:The B's Trio in The Great Hall
DESCRIPTION:
URL:https://livemusicasheville.com/calendar/the-bs-trio-in-the-great-hall-2/2026-04-10/
LOCATION:The Omni Grove Park Inn
CATEGORIES:Asheville Area,Live Music
GEO:35.6206376;-82.5422977
END:VEVENT
BEGIN:VEVENT
DTSTART;TZID=America/New_York:20260410T190000
DTEND;TZID=America/New_York:20260410T220000
DTSTAMP:20260419T235235
CREATED:20260408T102546Z
LAST-MODIFIED:20260408T102546Z
UID:10055685-1775847600-1775858400@livemusicasheville.com
SUMMARY:Kevin Smith w/ Kristoffer Emanuelsson
DESCRIPTION:
URL:https://livemusicasheville.com/calendar/kevin-smith-w-kristoffer-emanuelsson/
LOCATION:River Arts District Brewing\, 13 Mystery St\, Asheville\, NC\, 28801\, United States
CATEGORIES:Asheville Area,Live Music
GEO:35.5846876;-82.5649928
X-APPLE-STRUCTURED-LOCATION;VALUE=URI;X-ADDRESS=River Arts District Brewing 13 Mystery St Asheville NC 28801 United States;X-APPLE-RADIUS=500;X-TITLE=13 Mystery St:geo:-82.5649928,35.5846876
END:VEVENT
BEGIN:VEVENT
DTSTART;TZID=America/New_York:20260410T190000
DTEND;TZID=America/New_York:20260410T230000
DTSTAMP:20260419T235235
CREATED:20260401T143224Z
LAST-MODIFIED:20260401T143224Z
UID:10054486-1775847600-1775862000@livemusicasheville.com
SUMMARY:An Evening With Goose
DESCRIPTION:
URL:https://livemusicasheville.com/calendar/an-evening-with-goose/
LOCATION:Harrah’s Cherokee Center – Asheville
CATEGORIES:Asheville Area,Live Music
GEO:35.5975104;-82.5460563
END:VEVENT
BEGIN:VEVENT
DTSTART;TZID=America/New_York:20260410T190000
DTEND;TZID=America/New_York:20260411T000000
DTSTAMP:20260419T235235
CREATED:20260408T202956Z
LAST-MODIFIED:20260408T202956Z
UID:10055968-1775847600-1775865600@livemusicasheville.com
SUMMARY:Filth\, Two Piece\, Resistor\, Inferious\, Dark Hand
DESCRIPTION:
URL:https://livemusicasheville.com/calendar/filth-two-piece-resistor-inferious-dark-hand/
LOCATION:Sly Grog Lounge
CATEGORIES:Asheville Area,Live Music
GEO:35.5942606;-82.5628302
END:VEVENT
BEGIN:VEVENT
DTSTART;TZID=America/New_York:20260410T190000
DTEND;TZID=America/New_York:20260411T020000
DTSTAMP:20260419T235235
CREATED:20241225T123126Z
LAST-MODIFIED:20251122T132355Z
UID:10025544-1775847600-1775872800@livemusicasheville.com
SUMMARY:Dueling Piano Show
DESCRIPTION:
URL:https://livemusicasheville.com/calendar/dueling-piano-show/2026-04-10/
LOCATION:Off the Wagon
CATEGORIES:Asheville Area,Live Music
GEO:41.4302231;-81.3909542
END:VEVENT
BEGIN:VEVENT
DTSTART;TZID=America/New_York:20260410T193000
DTEND;TZID=America/New_York:20260410T213000
DTSTAMP:20260419T235235
CREATED:20250514T153453Z
LAST-MODIFIED:20260408T131913Z
UID:10014274-1775849400-1775856600@livemusicasheville.com
SUMMARY:An Evening of Classical Guitar
DESCRIPTION:Saul De La Cruz Jr. | Daniel Keller | Marc Garvin
URL:https://livemusicasheville.com/calendar/an-evening-of-classical-guitar/
LOCATION:Story Parlor
CATEGORIES:Asheville Area,Live Music
END:VEVENT
BEGIN:VEVENT
DTSTART;TZID=America/New_York:20260410T200000
DTEND;TZID=America/New_York:20260410T220000
DTSTAMP:20260419T235235
CREATED:20250212T152622Z
LAST-MODIFIED:20260401T141115Z
UID:10054351-1775851200-1775858400@livemusicasheville.com
SUMMARY:Will Hartz
DESCRIPTION:
URL:https://livemusicasheville.com/calendar/will-hartz-4/2026-04-10/
LOCATION:The Whale Outpost Haw Creek
CATEGORIES:Asheville Area,Live Music
GEO:35.5919991;-82.5054695
END:VEVENT
BEGIN:VEVENT
DTSTART;TZID=America/New_York:20260410T200000
DTEND;TZID=America/New_York:20260410T220000
DTSTAMP:20260419T235235
CREATED:20260204T164421Z
LAST-MODIFIED:20260406T180954Z
UID:10024875-1775851200-1775858400@livemusicasheville.com
SUMMARY:Julianna Jade Trio
DESCRIPTION:
URL:https://livemusicasheville.com/calendar/julianna-jade-2-2/
LOCATION:5 Walnut Wine Bar
CATEGORIES:Asheville Area,Live Music
GEO:35.596654;-82.5525389
END:VEVENT
BEGIN:VEVENT
DTSTART;TZID=America/New_York:20260410T200000
DTEND;TZID=America/New_York:20260410T220000
DTSTAMP:20260419T235235
CREATED:20260408T152724Z
LAST-MODIFIED:20260408T152724Z
UID:10055717-1775851200-1775858400@livemusicasheville.com
SUMMARY:Third Wife Jenney
DESCRIPTION:
URL:https://livemusicasheville.com/calendar/third-wife-jenney/
LOCATION:Mudpuppies Arden
CATEGORIES:Asheville Area,Live Music,South Asheville/Arden/Fletcher
GEO:35.4440387;-82.5322387
END:VEVENT
BEGIN:VEVENT
DTSTART;TZID=America/New_York:20260410T200000
DTEND;TZID=America/New_York:20260410T230000
DTSTAMP:20260419T235235
CREATED:20250402T202426Z
LAST-MODIFIED:20260406T183149Z
UID:10011942-1775851200-1775862000@livemusicasheville.com
SUMMARY:Will Franke's "Space Fiddle"
DESCRIPTION:
URL:https://livemusicasheville.com/calendar/space-fiddle/
LOCATION:Sovereign Kava
CATEGORIES:Asheville Area,DJ/Electronic,Live Music
GEO:35.5854657;-82.5513352
END:VEVENT
BEGIN:VEVENT
DTSTART;TZID=America/New_York:20260410T200000
DTEND;TZID=America/New_York:20260410T230000
DTSTAMP:20260419T235235
CREATED:20250508T130926Z
LAST-MODIFIED:20260410T132437Z
UID:10013930-1775851200-1775862000@livemusicasheville.com
SUMMARY:Rich Manz Band
DESCRIPTION:
URL:https://livemusicasheville.com/calendar/rich-manz-trio/
LOCATION:Papertown Billiards Canton
CATEGORIES:Asheville Area,Canton/Candler,Live Music
END:VEVENT
BEGIN:VEVENT
DTSTART;TZID=America/New_York:20260410T200000
DTEND;TZID=America/New_York:20260410T230000
DTSTAMP:20260419T235235
CREATED:20250711T192233Z
LAST-MODIFIED:20260116T152048Z
UID:10028219-1775851200-1775862000@livemusicasheville.com
SUMMARY:Commodore Fox Band
DESCRIPTION:
URL:https://livemusicasheville.com/calendar/commodore-fox-band-2/2026-04-10/
LOCATION:Wild Wing Cafe South
CATEGORIES:Live Music,South Asheville/Arden/Fletcher
END:VEVENT
BEGIN:VEVENT
DTSTART;TZID=America/New_York:20260410T200000
DTEND;TZID=America/New_York:20260410T230000
DTSTAMP:20260419T235235
CREATED:20251029T171242Z
LAST-MODIFIED:20260407T200836Z
UID:10023259-1775851200-1775862000@livemusicasheville.com
SUMMARY:Big Blue Jams
DESCRIPTION:
URL:https://livemusicasheville.com/calendar/big-blue-jams-3/
LOCATION:Afterglow at The Radical
CATEGORIES:Asheville Area,Live Music
END:VEVENT
BEGIN:VEVENT
DTSTART;TZID=America/New_York:20260410T200000
DTEND;TZID=America/New_York:20260410T230000
DTSTAMP:20260419T235235
CREATED:20251105T135505Z
LAST-MODIFIED:20260408T101838Z
UID:10023949-1775851200-1775862000@livemusicasheville.com
SUMMARY:Fringe Revival
DESCRIPTION:
URL:https://livemusicasheville.com/calendar/60s-rock-psychodelic-w-fringe-revival/
LOCATION:One World Brewing – West\, 520 Haywood Rd\, Asheville\, North Carolina\, 28806
CATEGORIES:Asheville Area,Live Music
GEO:35.5783642;-82.5848526
X-APPLE-STRUCTURED-LOCATION;VALUE=URI;X-ADDRESS=One World Brewing – West 520 Haywood Rd Asheville North Carolina 28806;X-APPLE-RADIUS=500;X-TITLE=520 Haywood Rd:geo:-82.5848526,35.5783642
END:VEVENT
END:VCALENDAR