BEGIN:VCALENDAR
VERSION:2.0
PRODID:-//LiveMusicAsheville.com - ECPv6.15.20//NONSGML v1.0//EN
CALSCALE:GREGORIAN
METHOD:PUBLISH
X-WR-CALNAME:LiveMusicAsheville.com
X-ORIGINAL-URL:https://livemusicasheville.com
X-WR-CALDESC:Events for LiveMusicAsheville.com
REFRESH-INTERVAL;VALUE=DURATION:PT1H
X-Robots-Tag:noindex
X-PUBLISHED-TTL:PT1H
BEGIN:VTIMEZONE
TZID:America/New_York
BEGIN:DAYLIGHT
TZOFFSETFROM:-0500
TZOFFSETTO:-0400
TZNAME:EDT
DTSTART:20250309T070000
END:DAYLIGHT
BEGIN:STANDARD
TZOFFSETFROM:-0400
TZOFFSETTO:-0500
TZNAME:EST
DTSTART:20251102T060000
END:STANDARD
BEGIN:DAYLIGHT
TZOFFSETFROM:-0500
TZOFFSETTO:-0400
TZNAME:EDT
DTSTART:20260308T070000
END:DAYLIGHT
BEGIN:STANDARD
TZOFFSETFROM:-0400
TZOFFSETTO:-0500
TZNAME:EST
DTSTART:20261101T060000
END:STANDARD
BEGIN:DAYLIGHT
TZOFFSETFROM:-0500
TZOFFSETTO:-0400
TZNAME:EDT
DTSTART:20270314T070000
END:DAYLIGHT
BEGIN:STANDARD
TZOFFSETFROM:-0400
TZOFFSETTO:-0500
TZNAME:EST
DTSTART:20271107T060000
END:STANDARD
END:VTIMEZONE
BEGIN:VEVENT
DTSTART;TZID=America/New_York:20260420T190000
DTEND;TZID=America/New_York:20260420T210000
DTSTAMP:20260420T122044
CREATED:20260126T214751Z
LAST-MODIFIED:20260418T133814Z
UID:10029742-1776711600-1776718800@livemusicasheville.com
SUMMARY:Music Mondays with host Ashley Heath
DESCRIPTION:  \n\n\n\n\n\n\n\n\n\n\n\n\n\n\n\n\n\n\n\n\n\n\n\n\nCheck with the venue on Ashley’s future guests.
URL:https://livemusicasheville.com/calendar/ashley-heath-mondays-2-2-2-2-2-2-2/2026-04-20/
LOCATION:Town Pump Tavern Black Mountain
CATEGORIES:Asheville Area,Black Mountain,Live Music
GEO:35.6162458;-82.320259
END:VEVENT
BEGIN:VEVENT
DTSTART;TZID=America/New_York:20260420T190000
DTEND;TZID=America/New_York:20260420T220000
DTSTAMP:20260420T122044
CREATED:20250212T135433Z
LAST-MODIFIED:20260415T141659Z
UID:10008136-1776711600-1776722400@livemusicasheville.com
SUMMARY:Free Jazz Monday w/ The Page Brothers
DESCRIPTION:
URL:https://livemusicasheville.com/calendar/free-jazz-monday-w-bill-bares-the-asheville-art-trio/
LOCATION:Little Jumbo\, 241 Broadway St\, Asheville\, NC\, 28801
CATEGORIES:Asheville Area,Live Music
GEO:35.6024336;-82.5568463
X-APPLE-STRUCTURED-LOCATION;VALUE=URI;X-ADDRESS=Little Jumbo 241 Broadway St Asheville NC 28801;X-APPLE-RADIUS=500;X-TITLE=241 Broadway St:geo:-82.5568463,35.6024336
END:VEVENT
BEGIN:VEVENT
DTSTART;TZID=America/New_York:20260420T190000
DTEND;TZID=America/New_York:20260420T220000
DTSTAMP:20260420T122044
CREATED:20260223T193302Z
LAST-MODIFIED:20260223T193303Z
UID:10026827-1776711600-1776722400@livemusicasheville.com
SUMMARY:Asheville Monday Night Contra Dance
DESCRIPTION:
URL:https://livemusicasheville.com/calendar/asheville-monday-night-contra-dance-2-2-2/2026-04-20/
LOCATION:The Ivy Building at AB Tech
CATEGORIES:Asheville Area,Live Music
GEO:35.6104607;-82.5676894
END:VEVENT
BEGIN:VEVENT
DTSTART;TZID=America/New_York:20260420T193000
DTEND;TZID=America/New_York:20260420T210000
DTSTAMP:20260420T122044
CREATED:20260419T143740Z
LAST-MODIFIED:20260419T143814Z
UID:10057832-1776713400-1776718800@livemusicasheville.com
SUMMARY:Warren Wilson Spring Choir Concert
DESCRIPTION:Come enjoy a program of traditional world music vocal harmonies from around the world presented by the WWC Choir. This playful and expressive group of singers will get you singing along and bring a musical treat to your ears. Directed by Susannah Park\, you can join us in the Warren Wilson Chapel at 7:30 pm on Monday\, April 20th.
URL:https://livemusicasheville.com/calendar/warren-wilson-spring-choir-concert/
LOCATION:Warren Wilson College Swannanoa\, 701 Warren Wilson Road\, Swannanoa\, NC
CATEGORIES:Asheville Area,Black Mountain,Live Music
GEO:35.611126;-82.4422791
X-APPLE-STRUCTURED-LOCATION;VALUE=URI;X-ADDRESS=Warren Wilson College Swannanoa 701 Warren Wilson Road Swannanoa NC;X-APPLE-RADIUS=500;X-TITLE=701 Warren Wilson Road:geo:-82.4422791,35.611126
END:VEVENT
BEGIN:VEVENT
DTSTART;TZID=America/New_York:20260420T200000
DTEND;TZID=America/New_York:20260420T220000
DTSTAMP:20260420T122044
CREATED:20250925T174110Z
LAST-MODIFIED:20260413T163229Z
UID:10021607-1776715200-1776722400@livemusicasheville.com
SUMMARY:The Backyard Revival
DESCRIPTION:
URL:https://livemusicasheville.com/calendar/the-backyard-revival/
LOCATION:5 Walnut Wine Bar
CATEGORIES:Asheville Area,Live Music
GEO:35.596654;-82.5525389
END:VEVENT
BEGIN:VEVENT
DTSTART;TZID=America/New_York:20260420T200000
DTEND;TZID=America/New_York:20260420T230000
DTSTAMP:20260420T122044
CREATED:20260410T145849Z
LAST-MODIFIED:20260410T145850Z
UID:10056218-1776715200-1776726000@livemusicasheville.com
SUMMARY:Arete/Mashup 420 Celebration w/sg Strong Fire Reggae
DESCRIPTION:Asheville’s Arete Hemp sponsors the night for a special 4/20 Celebration!\nFirst 100 people get in FREE\, courtesy of Arete!!\nPlus\, Arete is sponsoring special guests Strong Fire Reggae for a special mid set show!\nEvent at 8pmMusic starts at 8:30Going until 11:30!\nFirst 100 people free!Then $10 after.\nDon’t miss this special night!!
URL:https://livemusicasheville.com/calendar/arete-mashup-420-celebration-w-sg-strong-fire-reggae/
LOCATION:One World Brewing – West\, 520 Haywood Rd\, Asheville\, North Carolina\, 28806
CATEGORIES:Asheville Area,Live Music
ATTACH;FMTTYPE=image/jpeg:https://livemusicasheville.com/wp-content/uploads/2026/04/669684642_1277143847848784_5946076090385773524_n-e1775833081150.jpg
GEO:35.5783642;-82.5848526
X-APPLE-STRUCTURED-LOCATION;VALUE=URI;X-ADDRESS=One World Brewing – West 520 Haywood Rd Asheville North Carolina 28806;X-APPLE-RADIUS=500;X-TITLE=520 Haywood Rd:geo:-82.5848526,35.5783642
END:VEVENT
BEGIN:VEVENT
DTSTART;TZID=America/New_York:20260420T200000
DTEND;TZID=America/New_York:20260420T230000
DTSTAMP:20260420T122044
CREATED:20260415T185738Z
LAST-MODIFIED:20260420T093303Z
UID:10057408-1776715200-1776726000@livemusicasheville.com
SUMMARY:Holy F*ck w/ Gus Englehorn
DESCRIPTION:
URL:https://livemusicasheville.com/calendar/holy-fuck-w-gus-englehorn/
LOCATION:Eulogy\, 10 Buxton Ave\, Asheville\, NC\, 28801
CATEGORIES:Asheville Area,Live Music
GEO:35.5883468;-82.5539256
X-APPLE-STRUCTURED-LOCATION;VALUE=URI;X-ADDRESS=Eulogy 10 Buxton Ave Asheville NC 28801;X-APPLE-RADIUS=500;X-TITLE=10 Buxton Ave:geo:-82.5539256,35.5883468
END:VEVENT
BEGIN:VEVENT
DTSTART;TZID=America/New_York:20260420T200000
DTEND;TZID=America/New_York:20260420T230000
DTSTAMP:20260420T122044
CREATED:20260415T190929Z
LAST-MODIFIED:20260415T191011Z
UID:10057414-1776715200-1776726000@livemusicasheville.com
SUMMARY:Danny Brown w/ midwxst\, chase usa
DESCRIPTION:
URL:https://livemusicasheville.com/calendar/danny-brown-w-midwxst-chase-usa/
LOCATION:NC
CATEGORIES:Asheville Area,DJ/Electronic,Live Music
END:VEVENT
BEGIN:VEVENT
DTSTART;TZID=America/New_York:20260420T200000
DTEND;TZID=America/New_York:20260420T230000
DTSTAMP:20260420T122044
CREATED:20260415T192308Z
LAST-MODIFIED:20260415T192308Z
UID:10057424-1776715200-1776726000@livemusicasheville.com
SUMMARY:Jerry’s Dead
DESCRIPTION:
URL:https://livemusicasheville.com/calendar/jerrys-dead-2/
LOCATION:The Grey Eagle\, 185 Clingman Ave\, Asheville\, NC\, United States
CATEGORIES:Asheville Area,Live Music
GEO:35.5870871;-82.5643936
X-APPLE-STRUCTURED-LOCATION;VALUE=URI;X-ADDRESS=The Grey Eagle 185 Clingman Ave Asheville NC United States;X-APPLE-RADIUS=500;X-TITLE=185 Clingman Ave:geo:-82.5643936,35.5870871
END:VEVENT
BEGIN:VEVENT
DTSTART;VALUE=DATE:20260421
DTEND;VALUE=DATE:20260423
DTSTAMP:20260420T122044
CREATED:20260411T144316Z
LAST-MODIFIED:20260411T144317Z
UID:10056222-1776740400-1776826799@livemusicasheville.com
SUMMARY:COMING Saturday May 9th | You Can Call Me Paul (A Paul Simon Tribute)
DESCRIPTION:You Can Call Me Paul | May 9\, 2026 7:00 PM | $31+ Event Details and Tickets\nBenjamin Falcon formed a love of the Simon & Garfunkel songbook while growing up outside of DC\, in Alexandria\, VA\, through his parents fondness and nostalgia for Simon’s early work\, as well as Falcon’s frequent exposure to the music in radio and media. In college\, Falcon began to explore the larger catalogue of both Simon’s early and solo material.\n“You can call me Paul” has since sold out venues and attracted the collaboration of nationally touring musicians of note\, including Jason Hann (The String Cheese Incident)\, Justin Ray (Michael Bublé)\, Justin Stanton (Snarky Puppy).\nThis twelve-member band was assembled to authentically recreate the experience of seeing Simon’s solo work through the eras\, in a live setting\, with all the power and emotion that drew you to start.\n  \nFounded in 2005\, Pisgah is known for producing some of the most sought after craft ales in Western North Carolina. Pisgah Brewing Company currently operates the new indoor taproom & deli\, with live music several days a week\, plus an open air outdoor bar in the summer and fall months. Check out our upcoming schedule at pisgahbrewing.com/events
URL:https://livemusicasheville.com/calendar/coming-saturday-may-9th-you-can-call-me-paul-a-paul-simon-tribute-2/2026-04-21/
LOCATION:Pisgah Brewing Company Black Mountain\, 2948 US-70\, Black Mountain\, NC\, 28711
CATEGORIES:Asheville Area,Black Mountain,Live Music
ATTACH;FMTTYPE=image/jpeg:https://livemusicasheville.com/wp-content/uploads/2026/03/657258735_1413883220765850_5372182365295250927_n-e1774645194201.jpg
GEO:35.6068069;-82.3568213
X-APPLE-STRUCTURED-LOCATION;VALUE=URI;X-ADDRESS=Pisgah Brewing Company Black Mountain 2948 US-70 Black Mountain NC 28711;X-APPLE-RADIUS=500;X-TITLE=2948 US-70:geo:-82.3568213,35.6068069
END:VEVENT
BEGIN:VEVENT
DTSTART;TZID=America/New_York:20260421T153000
DTEND;TZID=America/New_York:20260421T183000
DTSTAMP:20260420T122044
CREATED:20260406T170531Z
LAST-MODIFIED:20260406T170531Z
UID:10054818-1776785400-1776796200@livemusicasheville.com
SUMMARY:Live Music at The Market
DESCRIPTION:Every Tuesday afternoon\, enjoy live music while stocking up on fresh produce and goodies from local favorites.
URL:https://livemusicasheville.com/calendar/live-music-at-the-market/2026-04-21/
LOCATION:West Asheville Tailgate Market.\, 718 Haywood Rd\, Asheville\, NC\, United States
CATEGORIES:Asheville Area,Live Music
ATTACH;FMTTYPE=image/jpeg:https://livemusicasheville.com/wp-content/uploads/2026/04/658860598_18577196326005885_7368238720050299296_n-e1775495083903.jpg
GEO:35.5770686;-82.5923882
X-APPLE-STRUCTURED-LOCATION;VALUE=URI;X-ADDRESS=West Asheville Tailgate Market. 718 Haywood Rd Asheville NC United States;X-APPLE-RADIUS=500;X-TITLE=718 Haywood Rd:geo:-82.5923882,35.5770686
END:VEVENT
BEGIN:VEVENT
DTSTART;TZID=America/New_York:20260421T170000
DTEND;TZID=America/New_York:20260421T193000
DTSTAMP:20260420T122044
CREATED:20260324T141721Z
LAST-MODIFIED:20260407T121153Z
UID:10055121-1776790800-1776799800@livemusicasheville.com
SUMMARY:Daniel Shearin
DESCRIPTION:
URL:https://livemusicasheville.com/calendar/april-residency-daniel-shearin-3/2026-04-21/
LOCATION:New Belgium Brewing
CATEGORIES:Asheville Area,Live Music
END:VEVENT
BEGIN:VEVENT
DTSTART;TZID=America/New_York:20260421T170000
DTEND;TZID=America/New_York:20260421T200000
DTSTAMP:20260420T122044
CREATED:20251112T021815Z
LAST-MODIFIED:20260316T114833Z
UID:10024346-1776790800-1776801600@livemusicasheville.com
SUMMARY:Acoustic Tuesday w/ Peter Townsend
DESCRIPTION:Peter Townsend is a road-tested guitarist\, mandolin player\, and solo musician blending Americana\, bluegrass\, and rock ’n’ roll into a dynamic\, roots-driven sound. Originally from Wisconsin\, he began his musical journey in Alaska in the late ’90s with The Photonz\, a jam band known for its energetic mix of bluegrass and rock. Now performing with Laron Huntley & The Gravely Brothers\, Peter brings a soulful\, expressive style shaped by years on the road and a deep love of live music.
URL:https://livemusicasheville.com/calendar/acoustic-tuesday-w-pete-townsend/2026-04-21/
LOCATION:Village Pub Biltmore Village
CATEGORIES:Asheville Area,Live Music
ATTACH;FMTTYPE=image/jpeg:https://livemusicasheville.com/wp-content/uploads/2025/11/IMG_7578-scaled-e1773661991752.jpeg
END:VEVENT
BEGIN:VEVENT
DTSTART;TZID=America/New_York:20260421T180000
DTEND;TZID=America/New_York:20260421T193000
DTSTAMP:20260420T122044
CREATED:20260415T174635Z
LAST-MODIFIED:20260415T174635Z
UID:10057142-1776794400-1776799800@livemusicasheville.com
SUMMARY:Rising Stars Concert with Andrew Ning
DESCRIPTION:$15 for Members; $18 for non-members \nRising Stars Concert is a collaboration between the Asheville Chamber Music Series and the Asheville Art Museum\, featuring North Carolina musicians embarking on a major concert career. The event is sponsored and made possible by Heidi DuBose.
URL:https://livemusicasheville.com/calendar/rising-stars-concert-with-andrew-ning/
LOCATION:Asheville Art Museum
CATEGORIES:Asheville Area,Live Music
GEO:35.5946714;-82.5512827
END:VEVENT
BEGIN:VEVENT
DTSTART;TZID=America/New_York:20260421T180000
DTEND;TZID=America/New_York:20260421T200000
DTSTAMP:20260420T122044
CREATED:20260304T182634Z
LAST-MODIFIED:20260304T182634Z
UID:10048260-1776794400-1776801600@livemusicasheville.com
SUMMARY:Black Mountain Bluegrass Jam "unplugged"
DESCRIPTION:Pisgah Brewing’s unplugged bluegrass jam is hosted on Tuesdays at 6pm in the taproom. Bring your instruments and join in. It’ll be held on the patio on nicer days.\nAll levels welcome.\n\n\nFounded in 2005\, Pisgah is known for producing some of the most sought after craft ales in Western North Carolina. Pisgah Brewing Company currently operates the new indoor taproom & deli\, with live music several days a week\, plus an open air outdoor bar in the summer and fall months. Check out our upcoming schedule at pisgahbrewing.com/events
URL:https://livemusicasheville.com/calendar/black-mountain-bluegrass-jam-unplugged/2026-04-21/
LOCATION:Pisgah Brewing Company Black Mountain\, 2948 US-70\, Black Mountain\, NC\, 28711
CATEGORIES:Asheville Area,Black Mountain,Live Music
ATTACH;FMTTYPE=image/jpeg:https://livemusicasheville.com/wp-content/uploads/2026/03/645631663_1394670986020407_5217295838333578307_n-e1773067467855.jpg
GEO:35.6068069;-82.3568213
X-APPLE-STRUCTURED-LOCATION;VALUE=URI;X-ADDRESS=Pisgah Brewing Company Black Mountain 2948 US-70 Black Mountain NC 28711;X-APPLE-RADIUS=500;X-TITLE=2948 US-70:geo:-82.3568213,35.6068069
END:VEVENT
BEGIN:VEVENT
DTSTART;TZID=America/New_York:20260421T180000
DTEND;TZID=America/New_York:20260421T200000
DTSTAMP:20260420T122044
CREATED:20260317T214747Z
LAST-MODIFIED:20260317T214748Z
UID:10015942-1776794400-1776801600@livemusicasheville.com
SUMMARY:Tuesdays w/ Ashley Heath
DESCRIPTION:
URL:https://livemusicasheville.com/calendar/ashley-heath-7-2-2-2/2026-04-21/
LOCATION:The Bush Farmhouse Black Mountain
CATEGORIES:Asheville Area,Black Mountain,Live Music
GEO:35.6171865;-82.3170606
END:VEVENT
BEGIN:VEVENT
DTSTART;TZID=America/New_York:20260421T180000
DTEND;TZID=America/New_York:20260421T200000
DTSTAMP:20260420T122044
CREATED:20260416T104339Z
LAST-MODIFIED:20260416T104339Z
UID:10057471-1776794400-1776801600@livemusicasheville.com
SUMMARY:Sonare Music Academy presents: Beethoven 32 Bicentennial Celebration Kick-Off
DESCRIPTION:Sonare Music Academy\, under the artistic direction of Dr. Hwa-Jin Kim\, proudly presents The Beethoven 32 Concert\, in collaboration with Freeburg Pianos. This landmark celebration brings together 32 pianists\, ages 14 to 88\, to perform all 32 Beethoven piano sonatas in one unforgettable week. The first event of its kind in North Carolina\, the festival honors Beethoven’s enduring spirit and the power of community through music. \nEvent Details and Tickets \nThe Schedule\nSunday\, April 19\, 3–6 PM – Freeburg Pianos\nOpening Reception and Piano Performance \nPerformers: Kevin Ayesh #11\, Op. 22 — Heather Lee #18\, Op. 31\, No. 3 — Tavenier #21\, Op. 53 —Polly Feitzinger #27\, Op. 90 — Deborah Belcher #30\, Op. 109 \nMonday\, April 20\, 6-8 PM – Piano Emporium\nPerformers: Elena Stephens #1\, Op. 2\, No. 1 — Matt Blanks #3\, Op. 2\, No. 3 — Judy Phillips #5\, Op. 10\, No. 1 — Monica Song #7\, Op. 10\, No. 3 — Melanie Thompson #12\, Op. 26 \nTuesday\, April 21\, 6-8 PM – Piano Emporium\nPerformers: Edward Lyrene (Eddie) #4\, Op. 7 — Carol McCollum #10\, Op. 14\, No. 2 — Odile Perrenoud #14\, Op. 27\, No. 2 — Randy Kern #15\, Op. 28 — Sharyn Edwards #23\, Op. 57 \nWednesday\, April 22\, 6-8 PM – Piano Emporium\nPerformers: Arabella Nienaber #6\, Op. 10\, No. 2 — Nolan Adcock #13\, Op. 27\, No. 1 — Victoria Fischer Faw #16\, Op. 31\, No. 1 — Ethan Abraham #25\, Op. 79 — Vance Reese #26\, Op. 81a \nThursday\, April 23\, 6-8 PM – Piano Emporium\nPerformers: Shirley Gruenhut #2\, Op. 2\, No. 2 — Katie Osborn #9\, Op. 14\, No. 1 — Elizabeth Child #17\, Op. 31\, No. 2 — Luccia Marguglio #19\, Op. 49\, No. 1 — Ashe Denny #20\, Op. 49\, No. 2 \nFriday\, April 24\, 6–8 PM – Freeburg Pianos\nPerformers: Renee Allsbrook #8\, Op. 13 — Leonidas Lagrimas #22\, Op. 54 — Muen Vanessa Wei #29\, Op. 106 — Hwa-Jin Kim #31\, Op. 110 \nSaturday\, April 25\, 4-7pm – Freeburg Pianos\nPerformers: Derek Parsons #24\, Op. 78 — Leslie Downs #28\, Op. 101 — John Cobb #32\, Op. 111 \n• 4–6 PM – Final Piano Performance at Freeburg Pianos \n• 6–7 PM – Raffle Winner Announcement and Closing Ceremony with Donors and Sponsors \nBeethoven Event Locations\nFreeburg Pianos: 2314 Asheville Hwy\, Hendersonville\, NC 28791 \nPiano Emporium: 828 Hendersonville Road\, Asheville\, NC 28803
URL:https://livemusicasheville.com/calendar/sonare-music-academy-presents-beethoven-32-bicentennial-celebration-kick-off-2/2026-04-21/
LOCATION:Piano Emporium\, 828 Hendersonville Road\, Asheville\, NC\, 28803\, United States
CATEGORIES:Asheville Area,Live Music
ATTACH;FMTTYPE=image/jpeg:https://livemusicasheville.com/wp-content/uploads/2026/04/671029481_122154903206976819_4573151486702976550_n-e1776335704321.jpg
GEO:35.5432964;-82.5327928
X-APPLE-STRUCTURED-LOCATION;VALUE=URI;X-ADDRESS=Piano Emporium 828 Hendersonville Road Asheville NC 28803 United States;X-APPLE-RADIUS=500;X-TITLE=828 Hendersonville Road:geo:-82.5327928,35.5432964
END:VEVENT
BEGIN:VEVENT
DTSTART;TZID=America/New_York:20260421T180000
DTEND;TZID=America/New_York:20260421T203000
DTSTAMP:20260420T122044
CREATED:20250604T125438Z
LAST-MODIFIED:20260415T130609Z
UID:10015420-1776794400-1776803400@livemusicasheville.com
SUMMARY:The BRUE
DESCRIPTION:
URL:https://livemusicasheville.com/calendar/the-brue/
LOCATION:The Joint Next Door Fairview
CATEGORIES:Asheville Area,Fairview,Live Music
GEO:35.5251372;-82.424797
END:VEVENT
BEGIN:VEVENT
DTSTART;TZID=America/New_York:20260421T183000
DTEND;TZID=America/New_York:20260421T203000
DTSTAMP:20260420T122044
CREATED:20260107T190148Z
LAST-MODIFIED:20260318T214243Z
UID:10050021-1776796200-1776803400@livemusicasheville.com
SUMMARY:Gypsy Jazz w/ Dinah's Daydream
DESCRIPTION:
URL:https://livemusicasheville.com/calendar/gypsy-jazz-w-dinahs-daydream-3-2/2026-04-21/
LOCATION:The Lobster Trap
CATEGORIES:Asheville Area,Live Music
GEO:33.3427223;-118.3257271
END:VEVENT
BEGIN:VEVENT
DTSTART;TZID=America/New_York:20260421T190000
DTEND;TZID=America/New_York:20260421T210000
DTSTAMP:20260420T122044
CREATED:20260415T145615Z
LAST-MODIFIED:20260420T150635Z
UID:10057118-1776798000-1776805200@livemusicasheville.com
SUMMARY:2 Far Gone duo
DESCRIPTION:
URL:https://livemusicasheville.com/calendar/sophia-phillips/
LOCATION:Blue Mountain Pizza Weaverville
CATEGORIES:Asheville Area,Live Music,Weaverville
GEO:35.698228;-82.560231
END:VEVENT
BEGIN:VEVENT
DTSTART;TZID=America/New_York:20260421T190000
DTEND;TZID=America/New_York:20260421T220000
DTSTAMP:20260420T122044
CREATED:20250624T071658Z
LAST-MODIFIED:20260415T141828Z
UID:10014015-1776798000-1776808800@livemusicasheville.com
SUMMARY:Live Jazz Tuesday: Jay Sanders' Empyrean Trio
DESCRIPTION:The Empyrean Trio ascends to the highest sphere of musical expression\, where Sanders\, Page\, and Hall commune in the celestial realm of pure improvisation. Like ancient philosophers who believed the empyrean was the highest heaven—a place of fire and light beyond the physical world—this trio inhabits the ethereal space where earthbound genres dissolve into transcendent musical dialogue. \nTheir original compositions float between the terrestrial and the sublime\, oscillating from groove-laden explorations that anchor listeners to the physical realm\, to free-form adventures that lift consciousness into the empyrean heights of pure sonic possibility. Through jazz\, rock\, blues\, and world music influences refined by years of improvisational alchemy\, the trio channels the luminous fire of creative spontaneity. \nIn this rarefied atmosphere\, Sanders’ guitar becomes a conduit between the material and immaterial\, Page’s bass provides the gravitational pull that keeps the music tethered to human experience\, while Hall’s percussion creates the rhythmic cosmos in which their empyrean visions unfold. \nThe Empyrean Trio: \n\nZack Page – Acoustic & Electric Bass\nAlan Hall – Drums\nJay Sanders – Guitar and Effects\n\n\nTogether: architecture in four dimensions. Three virtuosos deciding atmospheric constraints are suggestions that can be ignored with sufficient escape velocity.\n\n\n\n\n\nEvery Monday and Tuesday\, Little Jumbo brings live jazz to your ears. littlejumbobar.com \n“Simply put\, Little Jumbo should be at the top of your list of places for cocktails in Asheville. The drinks and service are both top-notch\, and the atmosphere is reminiscent of a relaxed speakeasy\, without a trace of the pretention that can sometimes be found in such places.” ~ The SmokyMountains.com Local Expert Team
URL:https://livemusicasheville.com/calendar/live-jazz-tuesday-jay-sanders-will-boyd-zack-page-alan-hall-4-2-3/
LOCATION:Little Jumbo\, 241 Broadway St\, Asheville\, NC\, 28801
CATEGORIES:Asheville Area,Live Music
ATTACH;FMTTYPE=image/jpeg:https://livemusicasheville.com/wp-content/uploads/2025/06/up9t0406qz0empgsjjx3dg6d9lm1-e1771426474902.jpg
GEO:35.6024336;-82.5568463
X-APPLE-STRUCTURED-LOCATION;VALUE=URI;X-ADDRESS=Little Jumbo 241 Broadway St Asheville NC 28801;X-APPLE-RADIUS=500;X-TITLE=241 Broadway St:geo:-82.5568463,35.6024336
END:VEVENT
BEGIN:VEVENT
DTSTART;TZID=America/New_York:20260421T190000
DTEND;TZID=America/New_York:20260421T220000
DTSTAMP:20260420T122044
CREATED:20260210T190606Z
LAST-MODIFIED:20260210T190608Z
UID:10043240-1776798000-1776808800@livemusicasheville.com
SUMMARY:Clouds of Delusion
DESCRIPTION:
URL:https://livemusicasheville.com/calendar/clouds-of-delusion-5-4-2-2/2026-04-21/
LOCATION:One World Brewing – West\, 520 Haywood Rd\, Asheville\, North Carolina\, 28806
CATEGORIES:Asheville Area,Live Music
GEO:35.5783642;-82.5848526
X-APPLE-STRUCTURED-LOCATION;VALUE=URI;X-ADDRESS=One World Brewing – West 520 Haywood Rd Asheville North Carolina 28806;X-APPLE-RADIUS=500;X-TITLE=520 Haywood Rd:geo:-82.5848526,35.5783642
END:VEVENT
BEGIN:VEVENT
DTSTART;TZID=America/New_York:20260421T193000
DTEND;TZID=America/New_York:20260421T213000
DTSTAMP:20260420T122044
CREATED:20260218T124702Z
LAST-MODIFIED:20260415T111758Z
UID:10045435-1776799800-1776807000@livemusicasheville.com
SUMMARY:The Blues Sessions with Peggy Ratusz
DESCRIPTION:
URL:https://livemusicasheville.com/calendar/the-blues-sessions-with-peggy-ratusz-special-guests-melissa-mckinney/
LOCATION:White Horse Black Mountain
CATEGORIES:Asheville Area,Black Mountain,Live Music
GEO:35.6178579;-82.3211924
END:VEVENT
BEGIN:VEVENT
DTSTART;TZID=America/New_York:20260421T200000
DTEND;TZID=America/New_York:20260421T220000
DTSTAMP:20260420T122044
CREATED:20251023T142458Z
LAST-MODIFIED:20260406T181605Z
UID:10054858-1776801600-1776808800@livemusicasheville.com
SUMMARY:Hot Jazz w/ The John Henrys
DESCRIPTION:
URL:https://livemusicasheville.com/calendar/hot-jazz-w-the-john-henrys-2-2/2026-04-21/
LOCATION:5 Walnut Wine Bar
CATEGORIES:Asheville Area,Live Music
GEO:35.596654;-82.5525389
END:VEVENT
BEGIN:VEVENT
DTSTART;TZID=America/New_York:20260421T200000
DTEND;TZID=America/New_York:20260421T220000
DTSTAMP:20260420T122044
CREATED:20260420T140527Z
LAST-MODIFIED:20260420T140612Z
UID:10057861-1776801600-1776808800@livemusicasheville.com
SUMMARY:Chew-Toy Jazz Trio
DESCRIPTION:Iannucci\, Enright & Hannan
URL:https://livemusicasheville.com/calendar/chew-toy-jazz-trio/
LOCATION:Town Pump Tavern Black Mountain
CATEGORIES:Asheville Area,Black Mountain,Live Music
GEO:35.6162458;-82.320259
END:VEVENT
BEGIN:VEVENT
DTSTART;TZID=America/New_York:20260421T200000
DTEND;TZID=America/New_York:20260421T230000
DTSTAMP:20260420T122044
CREATED:20260414T153145Z
LAST-MODIFIED:20260414T153145Z
UID:10056675-1776801600-1776812400@livemusicasheville.com
SUMMARY:JoJo Harnish Album Release Show w/sg Liliana Hudgens & Erika Lewis
DESCRIPTION:
URL:https://livemusicasheville.com/calendar/jojo-harnish-album-release-show-w-sg-liliana-hudgens-erika-lewis/
LOCATION:The Double Crown West Asheville\, 375 West Haywood Rd\, Asheville\, NC\, 28806
CATEGORIES:Asheville Area,Live Music
GEO:35.5780389;-82.5787972
X-APPLE-STRUCTURED-LOCATION;VALUE=URI;X-ADDRESS=The Double Crown West Asheville 375 West Haywood Rd Asheville NC 28806;X-APPLE-RADIUS=500;X-TITLE=375 West Haywood Rd:geo:-82.5787972,35.5780389
END:VEVENT
BEGIN:VEVENT
DTSTART;TZID=America/New_York:20260421T200000
DTEND;TZID=America/New_York:20260421T230000
DTSTAMP:20260420T122044
CREATED:20260415T192413Z
LAST-MODIFIED:20260415T192413Z
UID:10057425-1776801600-1776812400@livemusicasheville.com
SUMMARY:Todd Albright & Arthur Terembula
DESCRIPTION:
URL:https://livemusicasheville.com/calendar/todd-albright-arthur-terembula/
LOCATION:The Grey Eagle\, 185 Clingman Ave\, Asheville\, NC\, United States
CATEGORIES:Asheville Area,Live Music
GEO:35.5870871;-82.5643936
X-APPLE-STRUCTURED-LOCATION;VALUE=URI;X-ADDRESS=The Grey Eagle 185 Clingman Ave Asheville NC United States;X-APPLE-RADIUS=500;X-TITLE=185 Clingman Ave:geo:-82.5643936,35.5870871
END:VEVENT
BEGIN:VEVENT
DTSTART;TZID=America/New_York:20260421T200000
DTEND;TZID=America/New_York:20260421T233000
DTSTAMP:20260420T122044
CREATED:20260415T195349Z
LAST-MODIFIED:20260415T195349Z
UID:10057435-1776801600-1776814200@livemusicasheville.com
SUMMARY:Run Over by a Horse\, blowgun\, Dish\, Lily James
DESCRIPTION:
URL:https://livemusicasheville.com/calendar/run-over-by-a-horse-blowgun-dish-lily-james/
LOCATION:Sly Grog Lounge
CATEGORIES:Asheville Area,Live Music
GEO:35.5942606;-82.5628302
END:VEVENT
BEGIN:VEVENT
DTSTART;TZID=America/New_York:20260421T203000
DTEND;TZID=America/New_York:20260421T233000
DTSTAMP:20260420T122044
CREATED:20260415T164757Z
LAST-MODIFIED:20260415T164757Z
UID:10057130-1776803400-1776814200@livemusicasheville.com
SUMMARY:HIRS / Commitment / Harsh Realm / Survival Tactics
DESCRIPTION:
URL:https://livemusicasheville.com/calendar/hirs-commitment-harsh-realm-survival-tactics/
LOCATION:Static Age Records
CATEGORIES:Asheville Area,Live Music
GEO:35.5985631;-82.5538043
END:VEVENT
BEGIN:VEVENT
DTSTART;VALUE=DATE:20260422
DTEND;VALUE=DATE:20260424
DTSTAMP:20260420T122044
CREATED:20250309T145031Z
LAST-MODIFIED:20260310T140019Z
UID:10027824-1776826800-1776913199@livemusicasheville.com
SUMMARY:Ask About Our Featured Listings
DESCRIPTION:Established in February 2019\, LiveMusicAsheville.com now reaches thousands of people every week actively searching for live music in the Asheville area. Roughly 60% of our traffic comes from Google Search as we dominate the top of the results for queries such as “Asheville live music” & “live music Asheville”. Meanwhile our direct traffic is experiencing explosive growth\, proving more locals are now using us as their go-to music calendar. \nOur free listings include just the basics of Who’s Playin’ Where & When. We offer Descriptive Listings at just $5 per event to help you guide viewers to your event. These listings include up to 30 words but do not include links.  \nOur Featured Listings really stand out among the dozens of events on the calendar every day. While we update every Wednesday for the following Friday thru Thursday\, these Featured Listings are published much sooner and include your picture or poster\, a description of the event and the venue\, website/ticket links and a Google map. We also share these events on our social media stories to help further promote your show. \n 
URL:https://livemusicasheville.com/calendar/ask-about-our-featured-listings/2026-04-22/
LOCATION:LiveMusicAsheville.com\, ASHEVILLE\, NC\, 28803\, United States
CATEGORIES:Asheville Area,Black Mountain,Fairview,Live Music,Madison County,Mills River,South Asheville/Arden/Fletcher,Weaverville
ATTACH;FMTTYPE=image/jpeg:https://livemusicasheville.com/wp-content/uploads/2026/02/IMG_4145-e1770855289327.jpeg
ORGANIZER;CN="LiveMusicAsheville.com":MAILTO:livemusicasheville@gmail.com
GEO:35.5671423;-82.5437614
END:VEVENT
END:VCALENDAR