BEGIN:VCALENDAR
VERSION:2.0
PRODID:-//LiveMusicAsheville.com - ECPv6.15.20//NONSGML v1.0//EN
CALSCALE:GREGORIAN
METHOD:PUBLISH
X-ORIGINAL-URL:https://livemusicasheville.com
X-WR-CALDESC:Events for LiveMusicAsheville.com
REFRESH-INTERVAL;VALUE=DURATION:PT1H
X-Robots-Tag:noindex
X-PUBLISHED-TTL:PT1H
BEGIN:VTIMEZONE
TZID:America/New_York
BEGIN:DAYLIGHT
TZOFFSETFROM:-0500
TZOFFSETTO:-0400
TZNAME:EDT
DTSTART:20260308T070000
END:DAYLIGHT
BEGIN:STANDARD
TZOFFSETFROM:-0400
TZOFFSETTO:-0500
TZNAME:EST
DTSTART:20261101T060000
END:STANDARD
BEGIN:DAYLIGHT
TZOFFSETFROM:-0500
TZOFFSETTO:-0400
TZNAME:EDT
DTSTART:20270314T070000
END:DAYLIGHT
BEGIN:STANDARD
TZOFFSETFROM:-0400
TZOFFSETTO:-0500
TZNAME:EST
DTSTART:20271107T060000
END:STANDARD
BEGIN:DAYLIGHT
TZOFFSETFROM:-0500
TZOFFSETTO:-0400
TZNAME:EDT
DTSTART:20280312T070000
END:DAYLIGHT
BEGIN:STANDARD
TZOFFSETFROM:-0400
TZOFFSETTO:-0500
TZNAME:EST
DTSTART:20281105T060000
END:STANDARD
END:VTIMEZONE
BEGIN:VEVENT
DTSTART;VALUE=DATE:20270402
DTEND;VALUE=DATE:20270404
DTSTAMP:20260425T090259
CREATED:20251125T212109Z
LAST-MODIFIED:20260423T060843Z
UID:10058517-1806634800-1806721199@livemusicasheville.com
SUMMARY:We Update Our Calendar On Wednesdays
DESCRIPTION:That’s right folks\, other than our Featured Listings and repetitive events\, we update the calendar on Wednesdays for the coming Friday through next Thursday. This helps us bring you the most current and reliable information available. We also update throughout the week as we find out about music events that might interest you. \nWe suggest you save our calendar page to the Home Screen on your phone help you stay up to date on all the Asheville area music events.
URL:https://livemusicasheville.com/calendar/we-update-our-calendar-on-wednesdays/2027-04-02/
LOCATION:Asheville Area
CATEGORIES:Asheville Area,Live Music
ATTACH;FMTTYPE=image/jpeg:https://livemusicasheville.com/wp-content/uploads/2025/11/IMG_3224-e1764105623423.jpeg
END:VEVENT
BEGIN:VEVENT
DTSTART;TZID=America/New_York:20270402T173000
DTEND;TZID=America/New_York:20270402T213000
DTSTAMP:20260425T090259
CREATED:20260221T134837Z
LAST-MODIFIED:20260320T181747Z
UID:10050617-1806687000-1806701400@livemusicasheville.com
SUMMARY:The Friday Drum Circle
DESCRIPTION:Weather dependent
URL:https://livemusicasheville.com/calendar/the-friday-drum-circle-3/2027-04-02/
LOCATION:Pritchard Park Downtown\, 67 Patton Avenue\, Asheville\, NC\, 28801
CATEGORIES:Asheville Area,Live Music,Open MIc/Jam
GEO:35.5947402;-82.5543431
X-APPLE-STRUCTURED-LOCATION;VALUE=URI;X-ADDRESS=Pritchard Park Downtown 67 Patton Avenue Asheville NC 28801;X-APPLE-RADIUS=500;X-TITLE=67 Patton Avenue:geo:-82.5543431,35.5947402
END:VEVENT
BEGIN:VEVENT
DTSTART;TZID=America/New_York:20270402T190000
DTEND;TZID=America/New_York:20270402T210000
DTSTAMP:20260425T090259
CREATED:20251029T132808Z
LAST-MODIFIED:20260415T133603Z
UID:10056903-1806692400-1806699600@livemusicasheville.com
SUMMARY:Grass Is Back!
DESCRIPTION:No Cover – Donations accepted!\n\n\n\n\nApril 17 – Lynn Goldsmith & The Jeter Mountain Band\nApril 24 – New Carolina Connection Band\nMay 1 – Harlan County Grass\nMay 8 – Mulley Holler Band\nMay 15- Travis Watts & Mountain Blessings\nMay 22 – Hit or Miss Bluegrass & Country Band
URL:https://livemusicasheville.com/calendar/grass-is-back-3/2027-04-02/
LOCATION:Feed and Seed Fletcher
CATEGORIES:Asheville Area,Live Music,South Asheville/Arden/Fletcher
END:VEVENT
BEGIN:VEVENT
DTSTART;TZID=America/New_York:20270402T190000
DTEND;TZID=America/New_York:20270402T220000
DTSTAMP:20260425T090259
CREATED:20251113T101742Z
LAST-MODIFIED:20260327T002508Z
UID:10053039-1806692400-1806703200@livemusicasheville.com
SUMMARY:Blues with Mr Jimmy
DESCRIPTION:
URL:https://livemusicasheville.com/calendar/blues-with-mr-jimmy-2-2-2/2027-04-02/
LOCATION:The Station Black Mountain
CATEGORIES:Asheville Area,Black Mountain,Live Music
END:VEVENT
BEGIN:VEVENT
DTSTART;TZID=America/New_York:20270402T200000
DTEND;TZID=America/New_York:20270402T220000
DTSTAMP:20260425T090259
CREATED:20241226T143754Z
LAST-MODIFIED:20260331T121545Z
UID:10053924-1806696000-1806703200@livemusicasheville.com
SUMMARY:Jump Blues w/ Virginia and The Slims
DESCRIPTION:
URL:https://livemusicasheville.com/calendar/virginia-and-the-slims/2027-04-02/
LOCATION:5 Walnut Wine Bar
CATEGORIES:Asheville Area,Live Music
GEO:35.596654;-82.5525389
END:VEVENT
BEGIN:VEVENT
DTSTART;TZID=America/New_York:20270402T200000
DTEND;TZID=America/New_York:20270402T230000
DTSTAMP:20260425T090259
CREATED:20250210T151141Z
LAST-MODIFIED:20260206T025948Z
UID:10043537-1806696000-1806706800@livemusicasheville.com
SUMMARY:Lazybirds
DESCRIPTION:Lazybirds is a classic American roots band from the mountains of North Carolina. Specializing in good time music that is just about impossible not to move to\, there is also a depth to the band that faithful fans have treasured over the years. According to the legendary Doc Watson\, “Lazybirds play a good variety of blues\, jazz\, and that good old ragtime sound\, and you will hear the flavor of that in anything they play.” The ‘Birds cover a lot of musical ground\, from early American stringband music to Dylan classics\, as well as classic sounding originals\, but deep roots are what hold all of these sounds together. \nShiloh & Gaines – Your neighborhood bar……no matter where you live. \nCoffee ~ Spirits ~ Pool ~ Darts ~ Live Music ~ Dog Friendly ~ Karaoke & More! Find our music schedule and more at shilohandgaines.com
URL:https://livemusicasheville.com/calendar/dirty-dead/2027-04-02/
LOCATION:Shiloh & Gaines\, 700 Hendersonville Rd\, Asheville\, NC 28803\, NC\, 28803\, United States
CATEGORIES:Asheville Area,Live Music
ATTACH;FMTTYPE=image/jpeg:https://livemusicasheville.com/wp-content/uploads/2025/02/625670389_18336632440244125_2500204232696869257_n-e1770346779830.jpg
GEO:35.5471263;-82.533941
X-APPLE-STRUCTURED-LOCATION;VALUE=URI;X-ADDRESS=Shiloh & Gaines 700 Hendersonville Rd Asheville NC 28803 NC 28803 United States;X-APPLE-RADIUS=500;X-TITLE=700 Hendersonville Rd:geo:-82.533941,35.5471263
END:VEVENT
BEGIN:VEVENT
DTSTART;TZID=America/New_York:20270402T200000
DTEND;TZID=America/New_York:20270402T230000
DTSTAMP:20260425T090259
CREATED:20250711T192233Z
LAST-MODIFIED:20260116T152048Z
UID:10037983-1806696000-1806706800@livemusicasheville.com
SUMMARY:Commodore Fox Band
DESCRIPTION:
URL:https://livemusicasheville.com/calendar/commodore-fox-band-2/2027-04-02/
LOCATION:Wild Wing Cafe South
CATEGORIES:Live Music,South Asheville/Arden/Fletcher
END:VEVENT
END:VCALENDAR